Workbook

Sheet ICode太空探险挑战赛项
A1: 2025世界机器人大赛青少年机器人设计大赛-东莞市选拔赛-ICode太空探险挑战赛项获奖名单
A2: 报名编号 | B2: 激活码 | C2: 赛道 | D2: 赛项 | E2: 所属类别 | F2: 组别 | G2: 队伍名称 | H2: 参赛单位 | I2: 教练信息 | J2: 选手信息 | K2: 比赛分数 | L2: 成绩排名 | M2: 奖项
A3: 39983 | B3: rFc1ahv-56-015-hB-001-O24-067-1-w08-06-bcE | C3: ICode太空探险挑战赛项 | D3: 图形化 | E3: 普及类 | F3: 小学高龄组 | G3: 景贤小学C01队 | H3: 江门市江海区景贤小学 | I3: 曾仁超 | J3: 唐铭远 | K3: 86.0206 | L3: 1 | M3: 一等奖(冠军)
A4: 59620 | B4: rFc1ahf-56-015-Kd-001-Ple-067-1-oTm-06-dG1 | C4: ICode太空探险挑战赛项 | D4: 图形化 | E4: 普及类 | F4: 小学高龄组 | G4: 第二小学高5队 | H4: 东莞市桥头镇第二小学 | I4: 温博丽 | J4: 钟康杰 | K4: 86.0112 | L4: 2 | M4: 一等奖(亚军)
A5: 38001 | B5: rFc1aPN-56-015-Vy-001-jGT-067-1-jtt-06-JUM | C5: ICode太空探险挑战赛项 | D5: 图形化 | E5: 普及类 | F5: 小学高龄组 | G5: 天鹅湾小学01 | H5: 江门市江海区天鹅湾小学 | I5: 李淇琪 | J5: 廖浩睿 | K5: 81.0212 | L5: 3 | M5: 一等奖(季军)
A6: 41881 | B6: rFc1aPD-56-015-xk-001-cux-067-1-twx-06-4vh | C6: ICode太空探险挑战赛项 | D6: 图形化 | E6: 普及类 | F6: 小学高龄组 | G6: 景贤小学B09 | H6: 江门市江海区景贤小学 | I6: 韦金霞 | J6: 蔡雍丽 | K6: 79 | L6: 4 | M6: 一等奖
A7: 77753 | B7: rFc1a7W-56-015-HY-001-zI6-067-1-BU7-06-aD9 | C7: ICode太空探险挑战赛项 | D7: 图形化 | E7: 普及类 | F7: 小学高龄组 | G7: 傲熊编程队 | H7: 莞城步步高小学 | I7: 李智星 | J7: 李芊融 | K7: 78.0212 | L7: 5 | M7: 一等奖
A8: 77710 | B8: rFc1a7N-56-015-G9-001-U1L-067-1-JHj-06-j9o | C8: ICode太空探险挑战赛项 | D8: 图形化 | E8: 普及类 | F8: 小学高龄组 | G8: 傲熊少儿编程 | H8: 莞城中心小学 | I8: 李智星 | J8: 杨宸歆 | K8: 74 | L8: 6 | M8: 一等奖
A9: 59617 | B9: rFc1a7c-56-015-nb-001-AKI-067-1-13k-06-IWe | C9: ICode太空探险挑战赛项 | D9: 图形化 | E9: 普及类 | F9: 小学高龄组 | G9: 第二小学高4队 | H9: 东莞市桥头镇第二小学 | I9: 邵雪玲 | J9: 王治允 | K9: 73 | L9: 7 | M9: 一等奖
A10: 54496 | B10: rFc1ahH-56-015-21-001-MAh-067-1-pY8-06-hVl | C10: ICode太空探险挑战赛项 | D10: 图形化 | E10: 普及类 | F10: 小学高龄组 | G10: 谭逸轩 | H10: 韶关实验小学 | I10: 卢浩秉 | J10: 谭逸轩 | K10: 68 | L10: 8 | M10: 一等奖
A11: 29548 | B11: rFc1aPA-56-015-2G-001-Uej-067-1-Qd7-06-Fne | C11: ICode太空探险挑战赛项 | D11: 图形化 | E11: 普及类 | F11: 小学高龄组 | G11: 逻辑小纵队2 | H11: 东莞市桥头镇第三小学 | I11: 莫景瑜 | J11: 祝浩轩 | K11: 68 | L11: 9 | M11: 二等奖
A12: 39956 | B12: rFc1aP3-56-015-mX-001-39y-067-1-nFM-06-OOk | C12: ICode太空探险挑战赛项 | D12: 图形化 | E12: 普及类 | F12: 小学高龄组 | G12: 景贤小学B07 | H12: 江门市江海区景贤小学 | I12: 韦金霞 | J12: 胡宇轩 | K12: 64.0002 | L12: 10 | M12: 二等奖
A13: 39968 | B13: rFc1aPd-56-015-sU-001-NKo-067-1-kke-06-Qyd | C13: ICode太空探险挑战赛项 | D13: 图形化 | E13: 普及类 | F13: 小学高龄组 | G13: 景贤小学B08队 | H13: 江门市江海区景贤小学 | I13: 韦金霞 | J13: 林铭泽 | K13: 63 | L13: 11 | M13: 二等奖
A14: 39992 | B14: rFc1aPg-56-015-td-001-epO-067-1-Npj-06-Dyt | C14: ICode太空探险挑战赛项 | D14: 图形化 | E14: 普及类 | F14: 小学高龄组 | G14: 江南水之韵04 | H14: 江门市江海区江南小学 | I14: 张颖 | J14: 陈子豪 | K14: 61 | L14: 12 | M14: 二等奖
... A40: 66105 | B40: rFc1a7i-56-015-Vg-001-Xnz-067-1-G34-06-4nE | C40: ICode太空探险挑战赛项 | D40: 图形化 | E40: 普及类 | F40: 小学高龄组 | G40: 壹号机器人scratch五组 | H40: 石碣序伦小学 | I40: 陈炜筠 | J40: 袁子欢 | K40: 46 | L40: 38 | M40: 三等奖
A41: 60439 | B41: rFc1ahx-56-015-Ae-001-qkA-067-1-L3F-06-b9g | C41: ICode太空探险挑战赛项 | D41: 图形化 | E41: 普及类 | F41: 小学高龄组 | G41: 虎门六队 | H41: 虎门崇雅外国语小学 | I41: 曾露 | J41: 刘颂文 | K41: =VLOOKUP(J41,[1]查询结果!$E:$F,2,0) -> 45 | L41: 39 | M41: 三等奖
A42: 30317 | B42: rFc1aPb-56-015-Uj-001-NZp-067-1-86r-06-cmy | C42: ICode太空探险挑战赛项 | D42: 图形化 | E42: 普及类 | F42: 小学高龄组 | G42: 智码少年团2 | H42: 东莞市桥头镇第三小学 | I42: 罗倩影 | J42: 李沂潮 | K42: 44 | L42: 40 | M42: 三等奖
A43: 73802 | B43: rFc1a7o-56-015-sN-001-iIl-067-1-4t0-06-uPZ | C43: ICode太空探险挑战赛项 | D43: 图形化 | E43: 普及类 | F43: 小学高龄组 | G43: 荔园外国语01 | H43: 深圳市荔园外国语小学（香蜜湖） | I43: 李威 | J43: 郑均如 | K43: 44 | L43: 41 | M43: 三等奖
A44: 36651 | B44: rFc1aPH-56-015-dL-001-0TG-067-1-Dpg-06-ah9 | C44: ICode太空探险挑战赛项 | D44: 图形化 | E44: 普及类 | F44: 小学高龄组 | G44: 一键通关队 | H44: 深圳市原子同学教育培训中心 | I44: 邱泽宾 | J44: 汪易孺 | K44: 44 | L44: 42 | M44: 三等奖
A45: 36626 | B45: rFc1aPC-56-015-7J-001-qVz-067-1-EwI-06-JGY | C45: ICode太空探险挑战赛项 | D45: 图形化 | E45: 普及类 | F45: 小学高龄组 | G45: 破竹雷霆队 | H45: 深圳市原子同学教育培训中心 | I45: 邱泽宾 | J45: 张墨曦 | K45: 44 | L45: 43 | M45: 三等奖
A46: 29632 | B46: rFc1aPL-56-015-5c-001-ZJW-067-1-dJe-06-FeV | C46: ICode太空探险挑战赛项 | D46: 图形化 | E46: 普及类 | F46: 小学高龄组 | G46: 智码少年团1 | H46: 东莞市桥头镇第三小学 | I46: 罗倩影 | J46: 赵康钰 | K46: 43 | L46: 44 | M46: 三等奖
A47: 52443 | B47: rFc1ahn-56-015-Fv-001-igq-067-1-NOl-06-OfU | C47: ICode太空探险挑战赛项 | D47: 图形化 | E47: 普及类 | F47: 小学高龄组 | G47: 于金琪 | H47: 广东韶关实验小学 | I47: 卢浩秉 | J47: 于金琪 | K47: 42 | L47: 45 | M47: 三等奖
A48: 63122 | B48: rFc1a74-56-015-c7-001-vIR-067-1-dqZ-06-f4D | C48: ICode太空探险挑战赛项 | D48: 图形化 | E48: 普及类 | F48: 小学高龄组 | G48: 编程小超人 | H48: 东莞市麻涌镇古梅第一小学 | I48: 陈立武 | J48: 胡宸瑞 | K48: 42 | L48: 46 | M48: 三等奖
A49: 73538 | B49: rFc1a7a-56-015-pp-001-Ant-067-1-UvW-06-bRX | C49: ICode太空探险挑战赛项 | D49: 图形化 | E49: 普及类 | F49: 小学高龄组 | G49: 卓雅01 | H49: 深圳市南山区卓雅小学 | I49: 李威 | J49: 周致翔 | K49: 40 | L49: 47 | M49: 三等奖
A50: 67542 | B50: rFc1ahF-56-015-r1-001-ZDQ-067-1-wJg-06-ENl | C50: ICode太空探险挑战赛项 | D50: 图形化 | E50: 普及类 | F50: 小学高龄组 | G50: 黎禹廷 | H50: 东莞市东城第三小学 | I50: 黄言午 | J50: 黎禹廷 | K50: 40 | L50: 48 | M50: 三等奖
A51: 54514 | B51: rFc1ah1-56-015-GP-001-sqI-067-1-hPp-06-Yj9 | C51: ICode太空探险挑战赛项 | D51: 图形化 | E51: 普及类 | F51: 小学高龄组 | G51: 黄紫菲 | H51: 韶关实验小学 | I51: 邱志锦 | J51: 黄紫菲 | K51: 39 | L51: 49 | M51: 三等奖
A52: 30319 | B52: rFc1aPG-56-015-oU-001-9NF-067-1-z5n-06-NPD | C52: ICode太空探险挑战赛项 | D52: 图形化 | E52: 普及类 | F52: 小学高龄组 | G52: 逻辑小纵队1 | H52: 东莞市桥头镇第三小学 | I52: 莫景瑜 | J52: 欧阳宸熙 | K52: 36 | L52: 50 | M52: 三等奖
A53: 40047 | B53: rFc1aPE-56-015-ls-001-SKT-067-1-672-06-Nbq | C53: ICode太空探险挑战赛项 | D53: 图形化 | E53: 普及类 | F53: 小学高龄组 | G53: 香城4队 | H53: 东莞市寮步镇香城小学 | I53: 陈封灵 | J53: 张晨芮 | K53: 36 | L53: 51 | M53: 三等奖
... A76: 69171 | B76: rFc1XDm-56-015-88-001-M8M-067-1-93k-05-8kO | C76: ICode太空探险挑战赛项 | D76: 图形化 | E76: 普及类 | F76: 小学低龄组 | G76: 桃李三队 | H76: 香港中文大学（深圳）附属天健小学 | I76: 沈锐滨 | J76: 李恒宇 | K76: 70.0001 | L76: 20 | M76: 一等奖
A77: 61481 | B77: rFc1XdY-56-015-yP-001-6rP-067-1-vhT-05-9KO | C77: ICode太空探险挑战赛项 | D77: 图形化 | E77: 普及类 | F77: 小学低龄组 | G77: 南城XE | H77: 东莞市南城兴晨青少年编程培训中心 | I77: 黄鸿杰 | J77: 刘欣儿 | K77: =VLOOKUP(J77,[1]查询结果!$E:$F,2,0) -> 70 | L77: 21 | M77: 一等奖
A78: 64376 | B78: rFc1XBT-56-015-yG-001-jMD-067-1-jmY-05-L5x | C78: ICode太空探险挑战赛项 | D78: 图形化 | E78: 普及类 | F78: 小学低龄组 | G78: 双芯队 | H78: 东华小学生态园校区 | I78: 蔡子咏 | J78: 郭慧涵 | K78: =VLOOKUP(J78,[1]查询结果!$E:$F,2,0) -> 70 | L78: 22 | M78: 一等奖
A79: 42359 | B79: rFc1XrS-56-015-iy-001-Orm-067-1-7jT-05-STp | C79: ICode太空探险挑战赛项 | D79: 图形化 | E79: 普及类 | F79: 小学低龄组 | G79: 彭小凯 | H79: 东莞市莞城建设小学 | I79: 彭小凯 | J79: 袁梓淏 | K79: 68.03 | L79: 23 | M79: 一等奖
A80: 37635 | B80: rFc1XBu-56-015-Lc-001-oJO-067-1-sIa-05-mmQ | C80: ICode太空探险挑战赛项 | D80: 图形化 | E80: 普及类 | F80: 小学低龄组 | G80: 景贤小学A6队 | H80: 江门市江海区景贤小学 | I80: 曾仁超 | J80: 何俊熙 | K80: 68.0001 | L80: 24 | M80: 一等奖
A81: 73608 | B81: rFc1XkM-56-015-0F-001-Ijg-067-1-NUD-05-uzt | C81: ICode太空探险挑战赛项 | D81: 图形化 | E81: 普及类 | F81: 小学低龄组 | G81: 龙华中英文实验01 | H81: 深圳市龙华中英文实验学校 | I81: 李威 | J81: 伍泊毅 | K81: 68.0001 | L81: 25 | M81: 一等奖
A82: 56019 | B82: rFc1Xec-56-015-U8-001-QG5-067-1-j6S-05-bbh | C82: ICode太空探险挑战赛项 | D82: 图形化 | E82: 普及类 | F82: 小学低龄组 | G82: 张仕宏 | H82: 韶关市风度小学 | I82: 谢力 | J82: 张仕宏 | K82: 68.0001 | L82: 26 | M82: 二等奖
A83: 61463 | B83: rFc1XdR-56-015-Jt-001-EBO-067-1-jPk-05-hot | C83: ICode太空探险挑战赛项 | D83: 图形化 | E83: 普及类 | F83: 小学低龄组 | G83: 南城SY | H83: 东莞市南城兴晨青少年编程培训中心 | I83: 黄鸿杰 | J83: 蒋抒妤 | K83: 68 | L83: 27 | M83: 二等奖
A84: 53021 | B84: rFc1Xe7-56-015-0R-001-IN3-067-1-FOO-05-jSr | C84: ICode太空探险挑战赛项 | D84: 图形化 | E84: 普及类 | F84: 小学低龄组 | G84: 徐明琦 | H84: 韶关市武江区东岗太阳城小学 | I84: 刘相桃 | J84: 徐明琦 | K84: 67.01 | L84: 28 | M84: 二等奖
A85: 38117 | B85: rFc1XBF-56-015-cE-001-X9D-067-1-oSI-05-aCC | C85: ICode太空探险挑战赛项 | D85: 图形化 | E85: 普及类 | F85: 小学低龄组 | G85: 励吾 | H85: 江门市培英小学 | I85: 谢立俊 | J85: 梁靖哲 | K85: 67.0001 | L85: 29 | M85: 二等奖
A86: 61494 | B86: rFc1XdW-56-015-1h-001-vi6-067-1-uMg-05-yJ5 | C86: ICode太空探险挑战赛项 | D86: 图形化 | E86: 普及类 | F86: 小学低龄组 | G86: 南城HX | H86: 东莞市南城兴晨青少年编程培训中心 | I86: 黄鸿杰 | J86: 骆泓轩 | K86: 67 | L86: 30 | M86: 二等奖
A87: 56626 | B87: rFc1Xgg-56-015-Q3-001-eOb-067-1-zIj-05-Zke | C87: ICode太空探险挑战赛项 | D87: 图形化 | E87: 普及类 | F87: 小学低龄组 | G87: 郑梓皓 | H87: 田家炳小学 | I87: 秦创丰 | J87: 郑梓皓 | K87: 67 | L87: 31 | M87: 二等奖
A88: 52413 | B88: rFc1Xe9-56-015-ux-001-X4R-067-1-Ge9-05-YVu | C88: ICode太空探险挑战赛项 | D88: 图形化 | E88: 普及类 | F88: 小学低龄组 | G88: 黎哲鸣 | H88: 韶关市武江区东岗太阳城小学 | I88: 刘相桃 | J88: 黎哲鸣 | K88: 65.0001 | L88: 32 | M88: 二等奖
A89: 54794 | B89: rFc1Xe4-56-015-1r-001-zSr-067-1-LBc-05-NR7 | C89: ICode太空探险挑战赛项 | D89: 图形化 | E89: 普及类 | F89: 小学低龄组 | G89: 田博森 | H89: 韶关市风度小学 | I89: 谢力 | J89: 田博森 | K89: 65 | L89: 33 | M89: 二等奖
A90: 29180 | B90: rFc1X3j-56-015-Ff-001-W7O-067-1-ORM-05-Prj | C90: ICode太空探险挑战赛项 | D90: 图形化 | E90: 普及类 | F90: 小学低龄组 | G90: 丰泰外国语学校222 | H90: 丰泰外国语学校 | I90: 梁展晖 | J90: 梁柏浩 | K90: 64 | L90: 34 | M90: 二等奖
... A117: 56612 | B117: rFc1Xg1-56-015-C2-001-Nj1-067-1-wb5-05-rvT | C117: ICode太空探险挑战赛项 | D117: 图形化 | E117: 普及类 | F117: 小学低龄组 | G117: 陈子珅 | H117: 韶关市和平路小学 | I117: 秦创丰 | J117: 陈子珅 | K117: 55 | L117: 61 | M117: 二等奖
A118: 61296 | B118: rFc1Xdn-56-015-Ct-001-Q1g-067-1-hKo-05-cg4 | C118: ICode太空探险挑战赛项 | D118: 图形化 | E118: 普及类 | F118: 小学低龄组 | G118: 南城ZY | H118: 东莞市南城兴晨青少年编程培训中心 | I118: 黄鸿杰 | J118: 李梓岩 | K118: =VLOOKUP(J118,[1]查询结果!$E:$F,2,0) -> 55 | L118: 62 | M118: 二等奖
A119: 73559 | B119: rFc1Xk5-56-015-rx-001-P7m-067-1-PbB-05-fiu | C119: ICode太空探险挑战赛项 | D119: 图形化 | E119: 普及类 | F119: 小学低龄组 | G119: 明德实验01 | H119: 深圳市明德实验学校（集团）香蜜校区 | I119: 李威 | J119: 李析泽 | K119: 54.02 | L119: 63 | M119: 二等奖
A120: 64358 | B120: rFc1XB0-56-015-o0-001-I6E-067-1-lmG-05-gS7 | C120: ICode太空探险挑战赛项 | D120: 图形化 | E120: 普及类 | F120: 小学低龄组 | G120: 卓越队 | H120: 东莞市长安镇第一小学 | I120: 蔡子咏 | J120: 麦睿朗 | K120: 54.01 | L120: 64 | M120: 二等奖
A121: 76226 | B121: rFc1avs-56-015-cP-001-Eui-067-1-4dg-05-TR0 | C121: ICode太空探险挑战赛项 | D121: 图形化 | E121: 普及类 | F121: 小学低龄组 | G121: 芊芊未来 | H121: 深圳市龙岗区清林小学 | I121: 李智敏 | J121: 李芊妤 | K121: 54 | L121: 65 | M121: 二等奖
A122: 29217 | B122: rFc1X1f-56-015-jX-001-NJj-067-1-0WK-05-Zkg | C122: ICode太空探险挑战赛项 | D122: 图形化 | E122: 普及类 | F122: 小学低龄组 | G122: 虎门镇新湾小学22 | H122: 虎门镇新湾小学 | I122: 梁展晖 | J122: 梅晨熙 | K122: 53.0001 | L122: 66 | M122: 二等奖
A123: 64350 | B123: rFc1XBN-56-015-8t-001-g1v-067-1-QyY-05-UTw | C123: ICode太空探险挑战赛项 | D123: 图形化 | E123: 普及类 | F123: 小学低龄组 | G123: 飞翔队 | H123: 东莞市长安镇厦岗小学 | I123: 蔡子咏 | J123: 黄梓桐 | K123: =VLOOKUP(J123,[1]查询结果!$E:$F,2,0) -> 53 | L123: 67 | M123: 二等奖
A124: 52662 | B124: rFc1XeK-56-015-zk-001-rKU-067-1-WUO-05-n7y | C124: ICode太空探险挑战赛项 | D124: 图形化 | E124: 普及类 | F124: 小学低龄组 | G124: 汪宸磊 | H124: 韶关市南枫小学 | I124: 吴章威 | J124: 汪宸磊 | K124: 52.01 | L124: 68 | M124: 二等奖
A125: 64329 | B125: rFc1XBx-56-015-vh-001-x6T-067-1-6BP-05-LlF | C125: ICode太空探险挑战赛项 | D125: 图形化 | E125: 普及类 | F125: 小学低龄组 | G125: 小纵队 | H125: 东莞市海德实验学校 | I125: 蔡子咏 | J125: 张泽瑞 | K125: 52.01 | L125: 69 | M125: 二等奖
A126: 67591 | B126: rFc1XDy-56-015-Ob-001-vB0-067-1-2dB-05-Czx | C126: ICode太空探险挑战赛项 | D126: 图形化 | E126: 普及类 | F126: 小学低龄组 | G126: 谢启源 | H126: 东莞市东城一小学 | I126: 黄言午 | J126: 谢启源 | K126: 52.0001 | L126: 70 | M126: 二等奖
A127: 29224 | B127: rFc1X1X-56-015-BG-001-XOp-067-1-U6l-05-h15 | C127: ICode太空探险挑战赛项 | D127: 图形化 | E127: 普及类 | F127: 小学低龄组 | G127: 东莞市虎门镇大宁小学 | H127: 东莞市虎门镇大宁小学 | I127: 梁展晖 | J127: 刘骏宇 | K127: 52.0001 | L127: 71 | M127: 二等奖
A128: 53001 | B128: rFc1Xgu-56-015-eK-001-Q0f-067-1-aVi-05-hnt | C128: ICode太空探险挑战赛项 | D128: 图形化 | E128: 普及类 | F128: 小学低龄组 | G128: 骆煜程 | H128: 韶关市武江区东岗太阳城小学 | I128: 何红燕 | J128: 骆煜程 | K128: 51 | L128: 72 | M128: 二等奖
A129: 47843 | B129: rFc1XdG-56-015-Zr-001-3qu-067-1-3qK-05-fo7 | C129: ICode太空探险挑战赛项 | D129: 图形化 | E129: 普及类 | F129: 小学低龄组 | G129: 第二小学3队 | H129: 东莞市桥头镇第二小学 | I129: 黎汝洛 | J129: 莫竣添 | K129: 51 | L129: 73 | M129: 二等奖
A130: 29192 | B130: rFc1X31-56-015-wL-001-OUc-067-1-9r2-05-Em5 | C130: ICode太空探险挑战赛项 | D130: 图形化 | E130: 普及类 | F130: 小学低龄组 | G130: 虎门外国语学校666 | H130: 虎门外国语学校 | I130: 梁展晖 | J130: 蔡安桐 | K130: 50.01 | L130: 74 | M130: 二等奖
A131: 69180 | B131: rFc1XDB-56-015-Li-001-54l-067-1-zBQ-05-tO2 | C131: ICode太空探险挑战赛项 | D131: 图形化 | E131: 普及类 | F131: 小学低龄组 | G131: 桃李四队 | H131: 深圳市福田区梅华小学 | I131: 沈锐滨 | J131: 杨景越 | K131: 50.01 | L131: 75 | M131: 二等奖
A132: 58690 | B132: rFc1XrH-56-015-lk-001-dPU-067-1-ZvB-05-sEw | C132: ICode太空探险挑战赛项 | D132: 图形化 | E132: 普及类 | F132: 小学低龄组 | G132: 酷酷J | H132: 万江中心小学 | I132: 郑文锋 | J132: 吴彬豪 | K132: 50.0001 | L132: 76 | M132: 二等奖
A133: 40034 | B133: rFc1X1n-56-015-Pl-001-yLc-067-1-5YP-05-L4D | C133: ICode太空探险挑战赛项 | D133: 图形化 | E133: 普及类 | F133: 小学低龄组 | G133: 香城2队 | H133: 东莞市寮步镇香城小学 | I133: 陈封灵 | J133: 吴子棋 | K133: 50.0001 | L133: 77 | M133: 二等奖
A134: 60287 | B134: rFc1XgA-56-015-Y9-001-Vty-067-1-BUN-05-bBW | C134: ICode太空探险挑战赛项 | D134: 图形化 | E134: 普及类 | F134: 小学低龄组 | G134: 虎门二队 | H134: 东莞市虎门外语学校 | I134: 曾露 | J134: 张朔华 | K134: 50.0001 | L134: 78 | M134: 二等奖
A135: 29215 | B135: rFc1X1t-56-015-yZ-001-Oak-067-1-oON-05-imC | C135: ICode太空探险挑战赛项 | D135: 图形化 | E135: 普及类 | F135: 小学低龄组 | G135: 虎门中心小学 | H135: 虎门中心小学 | I135: 梁展晖 | J135: 黎倬玮 | K135: 50.0001 | L135: 79 | M135: 二等奖
... A174: 29222 | B174: rFc1X1i-56-015-6j-001-7rD-067-1-8hp-05-Tly | C174: ICode太空探险挑战赛项 | D174: 图形化 | E174: 普及类 | F174: 小学低龄组 | G174: 东莞市虎门博涌小学 | H174: 东莞市虎门博涌小学 | I174: 梁展晖 | J174: 徐荣超 | K174: 43 | L174: 118 | M174: 三等奖
A175: 64304 | B175: rFc1XBq-56-015-gk-001-fZ5-067-1-gB9-05-7VW | C175: ICode太空探险挑战赛项 | D175: 图形化 | E175: 普及类 | F175: 小学低龄组 | G175: 海底 | H175: 东华小学 | I175: 蔡子咏 | J175: 刘梓熙 | K175: =VLOOKUP(J175,[1]查询结果!$E:$F,2,0) -> 43 | L175: 119 | M175: 三等奖
A176: 66055 | B176: rFc1Xkh-56-015-Th-001-7Qq-067-1-eat-05-gtw | C176: ICode太空探险挑战赛项 | D176: 图形化 | E176: 普及类 | F176: 小学低龄组 | G176: 壹号机器人scratch二队 | H176: 石龙镇爱联小学 | I176: 陈炜筠 | J176: 朱晋磊 | K176: 42.0001 | L176: 120 | M176: 三等奖
A177: 37659 | B177: rFc1XrI-56-015-fq-001-SLV-067-1-WQ6-05-l9S | C177: ICode太空探险挑战赛项 | D177: 图形化 | E177: 普及类 | F177: 小学低龄组 | G177: 景贤小学A8队 | H177: 江门市江海区景贤小学 | I177: 曾仁超 | J177: 余思源 | K177: 42 | L177: 121 | M177: 三等奖
A178: 54465 | B178: rFc1XgT-56-015-dF-001-MKb-067-1-eRr-05-UWC | C178: ICode太空探险挑战赛项 | D178: 图形化 | E178: 普及类 | F178: 小学低龄组 | G178: 邱欢孟 | H178: 广东韶关实验小学 | I178: 邱志锦 | J178: 邱欢孟 | K178: 42 | L178: 122 | M178: 三等奖
A179: 54898 | B179: rFc1Xeh-56-015-b9-001-NWo-067-1-WOt-05-4Pb | C179: ICode太空探险挑战赛项 | D179: 图形化 | E179: 普及类 | F179: 小学低龄组 | G179: 李昊宸 | H179: 韶关市武江区金福园小学 | I179: 李坤燕 | J179: 李昊宸 | K179: 41 | L179: 123 | M179: 三等奖
A180: 29198 | B180: rFc1X3s-56-015-6j-001-miH-067-1-Il4-05-2Rs | C180: ICode太空探险挑战赛项 | D180: 图形化 | E180: 普及类 | F180: 小学低龄组 | G180: 虎门成才实验学校222 | H180: 虎门成才实验学校 | I180: 梁展晖 | J180: 胡子诺 | K180: 40.01 | L180: 124 | M180: 三等奖
A181: 64369 | B181: rFc1XBW-56-015-Y0-001-ugx-067-1-hol-05-psq | C181: ICode太空探险挑战赛项 | D181: 图形化 | E181: 普及类 | F181: 小学低龄组 | G181: 精良队 | H181: 深圳市宝安区潭头小学 | I181: 蔡子咏 | J181: 吴子轩 | K181: 40 | L181: 125 | M181: 三等奖
A182: 29228 | B182: rFc1X10-56-015-Ya-001-PB8-067-1-IFG-05-Trp | C182: ICode太空探险挑战赛项 | D182: 图形化 | E182: 普及类 | F182: 小学低龄组 | G182: 东莞市虎门实验小学55 | H182: 东莞市虎门实验小学 | I182: 梁展晖 | J182: 曾梓恒 | K182: 39 | L182: 126 | M182: 三等奖
A183: 40010 | B183: rFc1X1Q-56-015-zi-001-T29-067-1-mzh-05-XG1 | C183: ICode太空探险挑战赛项 | D183: 图形化 | E183: 普及类 | F183: 小学低龄组 | G183: 香城1队 | H183: 东莞市寮步镇香城小学 | I183: 吴茏 | J183: 吴子琟 | K183: 39 | L183: 127 | M183: 三等奖
A184: 59889 | B184: rFc1XDX-56-015-v1-001-OOO-067-1-exR-05-9kl | C184: ICode太空探险挑战赛项 | D184: 图形化 | E184: 普及类 | F184: 小学低龄组 | G184: 小创客 | H184: 东莞市光明小学 | I184: 陈立武 | J184: 周子皓 | K184: 39 | L184: 128 | M184: 三等奖
A185: 64362 | B185: rFc1XBO-56-015-MP-001-f0X-067-1-aWX-05-huf | C185: ICode太空探险挑战赛项 | D185: 图形化 | E185: 普及类 | F185: 小学低龄组 | G185: 什么都队 | H185: 东华小学 | I185: 蔡子咏 | J185: 欧阳子恩 | K185: =VLOOKUP(J185,[1]查询结果!$E:$F,2,0) -> 39 | L185: 129 | M185: 三等奖
A186: 38281 | B186: rFc1Xrv-56-015-4a-001-fai-067-1-fht-05-NWc | C186: ICode太空探险挑战赛项 | D186: 图形化 | E186: 普及类 | F186: 小学低龄组 | G186: 紫茶天福01 | H186: 江门市蓬江区紫茶天福小学 | I186: 张齐爱 | J186: 龙文筠 | K186: 38.0001 | L186: 130 | M186: 三等奖
A187: 63084 | B187: rFc1XDK-56-015-Jk-001-hKy-067-1-MqH-05-JiP | C187: ICode太空探险挑战赛项 | D187: 图形化 | E187: 普及类 | F187: 小学低龄组 | G187: 智慧小极客 | H187: 东莞市麻涌镇大步实验小学 | I187: 陈立武 | J187: 叶富煜 | K187: 38 | L187: 131 | M187: 三等奖
A188: 54506 | B188: rFc1XDv-56-015-mB-001-FCb-067-1-4GI-05-oaE | C188: ICode太空探险挑战赛项 | D188: 图形化 | E188: 普及类 | F188: 小学低龄组 | G188: 黄壹 | H188: 韶关实验小学 | I188: 邱志锦 | J188: 黄壹 | K188: 38 | L188: 132 | M188: 三等奖
A189: 59899 | B189: rFc1Xgw-56-015-WG-001-OOA-067-1-3WR-05-hfk | C189: ICode太空探险挑战赛项 | D189: 图形化 | E189: 普及类 | F189: 小学低龄组 | G189: 虎门一队 | H189: 东莞市沙田镇第一小学 | I189: 曾露 | J189: 易泓浩 | K189: 37.0001 | L189: 133 | M189: 三等奖
A190: 52564 | B190: rFc1Xg5-56-015-wF-001-LWV-067-1-YYQ-05-Gmy | C190: ICode太空探险挑战赛项 | D190: 图形化 | E190: 普及类 | F190: 小学低龄组 | G190: 钟语晞 | H190: 广东韶关实验小学 | I190: 卢浩秉 | J190: 钟语晞 | K190: 37 | L190: 134 | M190: 三等奖
A191: 53136 | B191: rFc1XgM-56-015-ZV-001-aam-067-1-M0t-05-AbF | C191: ICode太空探险挑战赛项 | D191: 图形化 | E191: 普及类 | F191: 小学低龄组 | G191: 张哲清 | H191: 韶关市武江区金福源小学 | I191: 李坤燕 | J191: 张哲清 | K191: 37 | L191: 135 | M191: 三等奖
A192: 54460 | B192: rFc1Xeq-56-015-W5-001-a0U-067-1-Lik-05-Wiy | C192: ICode太空探险挑战赛项 | D192: 图形化 | E192: 普及类 | F192: 小学低龄组 | G192: 邓均元 | H192: 韶关实验小学 | I192: 邱志锦 | J192: 邓均元 | K192: 37 | L192: 136 | M192: 三等奖
A193: 60376 | B193: rFc1XDW-56-015-8T-001-JRu-067-1-LyP-05-FQk | C193: ICode太空探险挑战赛项 | D193: 图形化 | E193: 普及类 | F193: 小学低龄组 | G193: 酷酷N | H193: 松山湖中心小学 | I193: 蒋彦江 | J193: 陈俊玮 | K193: 37 | L193: 137 | M193: 三等奖
A194: 54927 | B194: rFc1XeY-56-015-qu-001-kak-067-1-4fK-05-jKQ | C194: ICode太空探险挑战赛项 | D194: 图形化 | E194: 普及类 | F194: 小学低龄组 | G194: 唐杨智 | H194: 韶关市武江区金福园小学 | I194: 李坤燕 | J194: 唐杨智 | K194: 36.0001 | L194: 138 | M194: 三等奖
A195: 53025 | B195: rFc1Xen-56-015-OO-001-5bL-067-1-dEU-05-JcG | C195: ICode太空探险挑战赛项 | D195: 图形化 | E195: 普及类 | F195: 小学低龄组 | G195: 李奕兴 | H195: 广东韶关实验小学 | I195: 邱志锦 | J195: 李奕兴 | K195: 36.0001 | L195: 139 | M195: 三等奖
A196: 32288 | B196: rFc1XB2-56-015-FA-001-y83-067-1-UZz-05-R8P | C196: ICode太空探险挑战赛项 | D196: 图形化 | E196: 普及类 | F196: 小学低龄组 | G196: 编程星战队2 | H196: 东莞市桥头镇第三小学 | I196: 刘绮棋 | J196: 王彦希 | K196: 36 | L196: 140 | M196: 三等奖
A197: 67651 | B197: rFc1XDA-56-015-4X-001-Vwl-067-1-WGa-05-Blo | C197: ICode太空探险挑战赛项 | D197: 图形化 | E197: 普及类 | F197: 小学低龄组 | G197: 彭梓宸 | H197: 东莞市东城外国语小学 | I197: 黄言午 | J197: 彭梓宸 | K197: 35 | L197: 141 | M197: 三等奖
... A210: 29229 | B210: rFc1X1Y-56-015-gk-001-q0t-067-1-WN3-05-dNX | C210: ICode太空探险挑战赛项 | D210: 图形化 | E210: 普及类 | F210: 小学低龄组 | G210: 红旗小学 | H210: 红旗小学 | I210: 梁展晖 | J210: 尹俊谦 | K210: 28 | L210: 154 | M210: 三等奖
A211: 62757 | B211: rFc1XBt-56-015-lY-001-GQ9-067-1-UsC-05-kL6 | C211: ICode太空探险挑战赛项 | D211: 图形化 | E211: 普及类 | F211: 小学低龄组 | G211: coco | H211: 东莞市步步高实验学校 | I211: 蔡子咏 | J211: 赖可可 | K211: =VLOOKUP(J211,[1]查询结果!$E:$F,2,0) -> 28 | L211: 155 | M211: 三等奖
A212: 29189 | B212: rFc1X3u-56-015-j4-001-DsE-067-1-E8i-05-UXV | C212: ICode太空探险挑战赛项 | D212: 图形化 | E212: 普及类 | F212: 小学低龄组 | G212: 虎门外国语学校444 | H212: 虎门外国语学校 | I212: 梁展晖 | J212: 米军锦 | K212: 27.0001 | L212: 156 | M212: 三等奖
A213: 57647 | B213: rFc1XeF-56-015-vv-001-Yr4-067-1-SPE-05-7Z8 | C213: ICode太空探险挑战赛项 | D213: 图形化 | E213: 普及类 | F213: 小学低龄组 | G213: 谢宇岚 | H213: 广东韶关实验小学 | I213: 邱志锦 | J213: 谢宇岚 | K213: 27.0001 | L213: 157 | M213: 三等奖
A214: 34873 | B214: rFc1XB4-56-015-sT-001-SwC-067-1-7zv-05-PCW | C214: ICode太空探险挑战赛项 | D214: 图形化 | E214: 普及类 | F214: 小学低龄组 | G214: 编程小战士 | H214: 东莞市桥头镇第三小学 | I214: 贾齐 | J214: 李浚源 | K214: 25.0001 | L214: 158 | M214: 三等奖
A215: 60383 | B215: rFc1XgU-56-015-tN-001-s8h-067-1-zUE-05-UM0 | C215: ICode太空探险挑战赛项 | D215: 图形化 | E215: 普及类 | F215: 小学低龄组 | G215: 虎门开心队 | H215: 博罗六小 | I215: 曾露 | J215: 李梦璐 | K215: 25 | L215: 159 | M215: 三等奖
A216: 59544 | B216: rFc1Xdd-56-015-67-001-0ga-067-1-pWr-05-CI5 | C216: ICode太空探险挑战赛项 | D216: 图形化 | E216: 普及类 | F216: 小学低龄组 | G216: 新港战队6 | H216: 东莞市麻涌新港学校 | I216: 韩永红 | J216: 吴雅卉 | K216: 24.01 | L216: 160 | M216: 三等奖
A217: 61442 | B217: rFc1XD9-56-015-Gl-001-Asx-067-1-JVf-05-bnF | C217: ICode太空探险挑战赛项 | D217: 图形化 | E217: 普及类 | F217: 小学低龄组 | G217: 编程小精灵 | H217: 东莞市麻涌镇大盛小学 | I217: 陈立武 | J217: 黄泳希 | K217: 24.0001 | L217: 161 | M217: 三等奖
A218: 77570 | B218: rFc1XDf-56-015-QO-001-AMr-067-1-9oL-05-06u | C218: ICode太空探险挑战赛项 | D218: 图形化 | E218: 普及类 | F218: 小学低龄组 | G218: 维奥方程张语埕 | H218: 维奥方程机器人编程中心 | I218: 曾俊凯 | J218: 张语埕 | K218: 23 | L218: 162 | M218: 三等奖
A219: 34198 | B219: rFc1X1e-56-015-gl-001-7tq-067-1-BFw-05-uan | C219: ICode太空探险挑战赛项 | D219: 图形化 | E219: 普及类 | F219: 小学低龄组 | G219: 创梦队 | H219: 深圳市原子同学教育培训中心 | I219: 邱泽宾 | J219: 张希涵 | K219: 22 | L219: 163 | M219: 三等奖
A220: 64343 | B220: rFc1XBo-56-015-DK-001-TrX-067-1-6wJ-05-EGu | C220: ICode太空探险挑战赛项 | D220: 图形化 | E220: 普及类 | F220: 小学低龄组 | G220: 天天向上 | H220: 深圳市宝安区燕山学校 | I220: 蔡子咏 | J220: 赖子洋 | K220: 20.0001 | L220: 164 | M220: 三等奖
A221: 37965 | B221: rFc1XrK-56-015-LC-001-2PP-067-1-Rcu-05-ElA | C221: ICode太空探险挑战赛项 | D221: 图形化 | E221: 普及类 | F221: 小学低龄组 | G221: 景贤小学B02 | H221: 江门市江海区景贤小学 | I221: 韦金霞 | J221: 李皓朗 | K221: 20 | L221: 165 | M221: 三等奖
A222: 32257 | B222: rFc1XBA-56-015-mg-001-BlM-067-1-3je-05-oNm | C222: ICode太空探险挑战赛项 | D222: 图形化 | E222: 普及类 | F222: 小学低龄组 | G222: 编程星战队1 | H222: 东莞市桥头镇第三小学 | I222: 刘绮棋 | J222: 罗梓涛 | K222: 15 | L222: 166 | M222: 三等奖
A223: 61400 | B223: rFc1XD0-56-015-aW-001-IxS-067-1-wO5-05-B2r | C223: ICode太空探险挑战赛项 | D223: 图形化 | E223: 普及类 | F223: 小学低龄组 | G223: 小小编程家 | H223: 东莞市麻涌镇古梅中心小学 | I223: 陈立武 | J223: 汤心悦 | K223: 11 | L223: 167 | M223: 三等奖
...
