Workbook

Sheet ICode太空探险挑战赛项
A1: 2025世界机器人大赛青少年机器人设计大赛-东莞市选拔赛-ICode太空探险挑战赛项获奖名单
A2: 报名编号 | B2: 激活码 | C2: 赛道 | D2: 赛项 | E2: 所属类别 | F2: 组别 | G2: 队伍名称 | H2: 参赛单位 | I2: 教练信息 | J2: 选手信息 | K2: 比赛分数 | L2: 成绩排名 | M2: 奖项
A3: 39983 | B3: rFc1ahv-56-015-hB-001-O24-067-1-w08-06-bcE | C3: ICode太空探险挑战赛项 | D3: 图形化 | E3: 普及类 | F3: 小学高龄组 | G3: 景贤小学C01队 | H3: 江门市江海区景贤小学 | I3: 曾仁超 | J3: 唐铭远 | K3: 86.0206 | L3: 1 | M3: 一等奖(冠军)
A4: 59620 | B4: rFc1ahf-56-015-Kd-001-Ple-067-1-oTm-06-dG1 | C4: ICode太空探险挑战赛项 | D4: 图形化 | E4: 普及类 | F4: 小学高龄组 | G4: 第二小学高5队 | H4: 东莞市桥头镇第二小学 | I4: 温博丽 | J4: 钟康杰 | K4: 86.0112 | L4: 2 | M4: 一等奖(亚军)
A5: 38001 | B5: rFc1aPN-56-015-Vy-001-jGT-067-1-jtt-06-JUM | C5: ICode太空探险挑战赛项 | D5: 图形化 | E5: 普及类 | F5: 小学高龄组 | G5: 天鹅湾小学01 | H5: 江门市江海区天鹅湾小学 | I5: 李淇琪 | J5: 廖浩睿 | K5: 81.0212 | L5: 3 | M5: 一等奖(季军)
A6: 41881 | B6: rFc1aPD-56-015-xk-001-cux-067-1-twx-06-4vh | C6: ICode太空探险挑战赛项 | D6: 图形化 | E6: 普及类 | F6: 小学高龄组 | G6: 景贤小学B09 | H6: 江门市江海区景贤小学 | I6: 韦金霞 | J6: 蔡雍丽 | K6: 79 | L6: 4 | M6: 一等奖
A7: 77753 | B7: rFc1a7W-56-015-HY-001-zI6-067-1-BU7-06-aD9 | C7: ICode太空探险挑战赛项 | D7: 图形化 | E7: 普及类 | F7: 小学高龄组 | G7: 傲熊编程队 | H7: 莞城步步高小学 | I7: 李智星 | J7: 李芊融 | K7: 78.0212 | L7: 5 | M7: 一等奖
A8: 77710 | B8: rFc1a7N-56-015-G9-001-U1L-067-1-JHj-06-j9o | C8: ICode太空探险挑战赛项 | D8: 图形化 | E8: 普及类 | F8: 小学高龄组 | G8: 傲熊少儿编程 | H8: 莞城中心小学 | I8: 李智星 | J8: 杨宸歆 | K8: 74 | L8: 6 | M8: 一等奖
A9: 59617 | B9: rFc1a7c-56-015-nb-001-AKI-067-1-13k-06-IWe | C9: ICode太空探险挑战赛项 | D9: 图形化 | E9: 普及类 | F9: 小学高龄组 | G9: 第二小学高4队 | H9: 东莞市桥头镇第二小学 | I9: 邵雪玲 | J9: 王治允 | K9: 73 | L9: 7 | M9: 一等奖
A10: 54496 | B10: rFc1ahH-56-015-21-001-MAh-067-1-pY8-06-hVl | C10: ICode太空探险挑战赛项 | D10: 图形化 | E10: 普及类 | F10: 小学高龄组 | G10: 谭逸轩 | H10: 韶关实验小学 | I10: 卢浩秉 | J10: 谭逸轩 | K10: 68 | L10: 8 | M10: 一等奖
A11: 29548 | B11: rFc1aPA-56-015-2G-001-Uej-067-1-Qd7-06-Fne | C11: ICode太空探险挑战赛项 | D11: 图形化 | E11: 普及类 | F11: 小学高龄组 | G11: 逻辑小纵队2 | H11: 东莞市桥头镇第三小学 | I11: 莫景瑜 | J11: 祝浩轩 | K11: 68 | L11: 9 | M11: 二等奖
A12: 39956 | B12: rFc1aP3-56-015-mX-001-39y-067-1-nFM-06-OOk | C12: ICode太空探险挑战赛项 | D12: 图形化 | E12: 普及类 | F12: 小学高龄组 | G12: 景贤小学B07 | H12: 江门市江海区景贤小学 | I12: 韦金霞 | J12: 胡宇轩 | K12: 64.0002 | L12: 10 | M12: 二等奖
A13: 39968 | B13: rFc1aPd-56-015-sU-001-NKo-067-1-kke-06-Qyd | C13: ICode太空探险挑战赛项 | D13: 图形化 | E13: 普及类 | F13: 小学高龄组 | G13: 景贤小学B08队 | H13: 江门市江海区景贤小学 | I13: 韦金霞 | J13: 林铭泽 | K13: 63 | L13: 11 | M13: 二等奖
A14: 39992 | B14: rFc1aPg-56-015-td-001-epO-067-1-Npj-06-Dyt | C14: ICode太空探险挑战赛项 | D14: 图形化 | E14: 普及类 | F14: 小学高龄组 | G14: 江南水之韵04 | H14: 江门市江海区江南小学 | I14: 张颖 | J14: 陈子豪 | K14: 61 | L14: 12 | M14: 二等奖
... A40: 66105 | B40: rFc1a7i-56-015-Vg-001-Xnz-067-1-G34-06-4nE | C40: ICode太空探险挑战赛项 | D40: 图形化 | E40: 普及类 | F40: 小学高龄组 | G40: 壹号机器人scratch五组 | H40: 石碣序伦小学 | I40: 陈炜筠 | J40: 袁子欢 | K40: 46 | L40: 38 | M40: 三等奖
A41: 60439 | B41: rFc1ahx-56-015-Ae-001-qkA-067-1-L3F-06-b9g | C41: ICode太空探险挑战赛项 | D41: 图形化 | E41: 普及类 | F41: 小学高龄组 | G41: 虎门六队 | H41: 虎门崇雅外国语小学 | I41: 曾露 | J41: 刘颂文 | K41: =VLOOKUP(J41,[1]查询结果!$E:$F,2,0) -> 45 | L41: 39 | M41: 三等奖
A42: 30317 | B42: rFc1aPb-56-015-Uj-001-NZp-067-1-86r-06-cmy | C42: ICode太空探险挑战赛项 | D42: 图形化 | E42: 普及类 | F42: 小学高龄组 | G42: 智码少年团2 | H42: 东莞市桥头镇第三小学 | I42: 罗倩影 | J42: 李沂潮 | K42: 44 | L42: 40 | M42: 三等奖
A43: 73802 | B43: rFc1a7o-56-015-sN-001-iIl-067-1-4t0-06-uPZ | C43: ICode太空探险挑战赛项 | D43: 图形化 | E43: 普及类 | F43: 小学高龄组 | G43: 荔园外国语01 | H43: 深圳市荔园外国语小学（香蜜湖） | I43: 李威 | J43: 郑均如 | K43: 44 | L43: 41 | M43: 三等奖
A44: 36651 | B44: rFc1aPH-56-015-dL-001-0TG-067-1-Dpg-06-ah9 | C44: ICode太空探险挑战赛项 | D44: 图形化 | E44: 普及类 | F44: 小学高龄组 | G44: 一键通关队 | H44: 深圳市原子同学教育培训中心 | I44: 邱泽宾 | J44: 汪易孺 | K44: 44 | L44: 42 | M44: 三等奖
A45: 36626 | B45: rFc1aPC-56-015-7J-001-qVz-067-1-EwI-06-JGY | C45: ICode太空探险挑战赛项 | D45: 图形化 | E45: 普及类 | F45: 小学高龄组 | G45: 破竹雷霆队 | H45: 深圳市原子同学教育培训中心 | I45: 邱泽宾 | J45: 张墨曦 | K45: 44 | L45: 43 | M45: 三等奖
A46: 29632 | B46: rFc1aPL-56-015-5c-001-ZJW-067-1-dJe-06-FeV | C46: ICode太空探险挑战赛项 | D46: 图形化 | E46: 普及类 | F46: 小学高龄组 | G46: 智码少年团1 | H46: 东莞市桥头镇第三小学 | I46: 罗倩影 | J46: 赵康钰 | K46: 43 | L46: 44 | M46: 三等奖
A47: 52443 | B47: rFc1ahn-56-015-Fv-001-igq-067-1-NOl-06-OfU | C47: ICode太空探险挑战赛项 | D47: 图形化 | E47: 普及类 | F47: 小学高龄组 | G47: 于金琪 | H47: 广东韶关实验小学 | I47: 卢浩秉 | J47: 于金琪 | K47: 42 | L47: 45 | M47: 三等奖
A48: 63122 | B48: rFc1a74-56-015-c7-001-vIR-067-1-dqZ-06-f4D | C48: ICode太空探险挑战赛项 | D48: 图形化 | E48: 普及类 | F48: 小学高龄组 | G48: 编程小超人 | H48: 东莞市麻涌镇古梅第一小学 | I48: 陈立武 | J48: 胡宸瑞 | K48: 42 | L48: 46 | M48: 三等奖
A49: 73538 | B49: rFc1a7a-56-015-pp-001-Ant-067-1-UvW-06-bRX | C49: ICode太空探险挑战赛项 | D49: 图形化 | E49: 普及类 | F49: 小学高龄组 | G49: 卓雅01 | H49: 深圳市南山区卓雅小学 | I49: 李威 | J49: 周致翔 | K49: 40 | L49: 47 | M49: 三等奖
A50: 67542 | B50: rFc1ahF-56-015-r1-001-ZDQ-067-1-wJg-06-ENl | C50: ICode太空探险挑战赛项 | D50: 图形化 | E50: 普及类 | F50: 小学高龄组 | G50: 黎禹廷 | H50: 东莞市东城第三小学 | I50: 黄言午 | J50: 黎禹廷 | K50: 40 | L50: 48 | M50: 三等奖
A51: 54514 | B51: rFc1ah1-56-015-GP-001-sqI-067-1-hPp-06-Yj9 | C51: ICode太空探险挑战赛项 | D51: 图形化 | E51: 普及类 | F51: 小学高龄组 | G51: 黄紫菲 | H51: 韶关实验小学 | I51: 邱志锦 | J51: 黄紫菲 | K51: 39 | L51: 49 | M51: 三等奖
A52: 30319 | B52: rFc1aPG-56-015-oU-001-9NF-067-1-z5n-06-NPD | C52: ICode太空探险挑战赛项 | D52: 图形化 | E52: 普及类 | F52: 小学高龄组 | G52: 逻辑小纵队1 | H52: 东莞市桥头镇第三小学 | I52: 莫景瑜 | J52: 欧阳宸熙 | K52: 36 | L52: 50 | M52: 三等奖
A53: 40047 | B53: rFc1aPE-56-015-ls-001-SKT-067-1-672-06-Nbq | C53: ICode太空探险挑战赛项 | D53: 图形化 | E53: 普及类 | F53: 小学高龄组 | G53: 香城4队 | H53: 东莞市寮步镇香城小学 | I53: 陈封灵 | J53: 张晨芮 | K53: 36 | L53: 51 | M53: 三等奖
... A76: 69171 | B76: rFc1XDm-56-015-88-001-M8M-067-1-93k-05-8kO | C76: ICode太空探险挑战赛项 | D76: 图形化 | E76: 普及类 | F76: 小学低龄组 | G76: 桃李三队 | H76: 香港中文大学（深圳）附属天健小学 | I76: 沈锐滨 | J76: 李恒宇 | K76: 70.0001 | L76: 20 | M76: 一等奖
A77: 61481 | B77: rFc1XdY-56-015-yP-001-6rP-067-1-vhT-05-9KO | C77: ICode太空探险挑战赛项 | D77: 图形化 | E77: 普及类 | F77: 小学低龄组 | G77: 南城XE | H77: 东莞市南城兴晨青少年编程培训中心 | I77: 黄鸿杰 | J77: 刘欣儿 | K77: =VLOOKUP(J77,[1]查询结果!$E:$F,2,0) -> 70 | L77: 21 | M77: 一等奖
A78: 64376 | B78: rFc1XBT-56-015-yG-001-jMD-067-1-jmY-05-L5x | C78: ICode太空探险挑战赛项 | D78: 图形化 | E78: 普及类 | F78: 小学低龄组 | G78: 双芯队 | H78: 东华小学生态园校区 | I78: 蔡子咏 | J78: 郭慧涵 | K78: =VLOOKUP(J78,[1]查询结果!$E:$F,2,0) -> 70 | L78: 22 | M78: 一等奖
A79: 42359 | B79: rFc1XrS-56-015-iy-001-Orm-067-1-7jT-05-STp | C79: ICode太空探险挑战赛项 | D79: 图形化 | E79: 普及类 | F79: 小学低龄组 | G79: 彭小凯 | H79: 东莞市莞城建设小学 | I79: 彭小凯 | J79: 袁梓淏 | K79: 68.03 | L79: 23 | M79: 一等奖
A80: 37635 | B80: rFc1XBu-56-015-Lc-001-oJO-067-1-sIa-05-mmQ | C80: ICode太空探险挑战赛项 | D80: 图形化 | E80: 普及类 | F80: 小学低龄组 | G80: 景贤小学A6队 | H80: 江门市江海区景贤小学 | I80: 曾仁超 | J80: 何俊熙 | K80: 68.0001 | L80: 24 | M80: 一等奖
A81: 73608 | B81: rFc1XkM-56-015-0F-001-Ijg-067-1-NUD-05-uzt | C81: ICode太空探险挑战赛项 | D81: 图形化 | E81: 普及类 | F81: 小学低龄组 | G81: 龙华中英文实验01 | H81: 深圳市龙华中英文实验学校 | I81: 李威 | J81: 伍泊毅 | K81: 68.0001 | L81: 25 | M81: 一等奖
A82: 56019 | B82: rFc1Xec-56-015-U8-001-QG5-067-1-j6S-05-bbh | C82: ICode太空探险挑战赛项 | D82: 图形化 | E82: 普及类 | F82: 小学低龄组 | G82: 张仕宏 | H82: 韶关市风度小学 | I82: 谢力 | J82: 张仕宏 | K82: 68.0001 | L82: 26 | M82: 二等奖
A83: 61463 | B83: rFc1XdR-56-015-Jt-001-EBO-067-1-jPk-05-hot | C83: ICode太空探险挑战赛项 | D83: 图形化 | E83: 普及类 | F83: 小学低龄组 | G83: 南城SY | H83: 东莞市南城兴晨青少年编程培训中心 | I83: 黄鸿杰 | J83: 蒋抒妤 | K83: 68 | L83: 27 | M83: 二等奖
A84: 53021 | B84: rFc1Xe7-56-015-0R-001-IN3-067-1-FOO-05-jSr | C84: ICode太空探险挑战赛项 | D84: 图形化 | E84: 普及类 | F84: 小学低龄组 | G84: 徐明琦 | H84: 韶关市武江区东岗太阳城小学 | I84: 刘相桃 | J84: 徐明琦 | K84: 67.01 | L84: 28 | M84: 二等奖
A85: 38117 | B85: rFc1XBF-56-015-cE-001-X9D-067-1-oSI-05-aCC | C85: ICode太空探险挑战赛项 | D85: 图形化 | E85: 普及类 | F85: 小学低龄组 | G85: 励吾 | H85: 江门市培英小学 | I85: 谢立俊 | J85: 梁靖哲 | K85: 67.0001 | L85: 29 | M85: 二等奖
A86: 61494 | B86: rFc1XdW-56-015-1h-001-vi6-067-1-uMg-05-yJ5 | C86: ICode太空探险挑战赛项 | D86: 图形化 | E86: 普及类 | F86: 小学低龄组 | G86: 南城HX | H86: 东莞市南城兴晨青少年编程培训中心 | I86: 黄鸿杰 | J86: 骆泓轩 | K86: 67 | L86: 30 | M86: 二等奖
A87: 56626 | B87: rFc1Xgg-56-015-Q3-001-eOb-067-1-zIj-05-Zke | C87: ICode太空探险挑战赛项 | D87: 图形化 | E87: 普及类 | F87: 小学低龄组 | G87: 郑梓皓 | H87: 田家炳小学 | I87: 秦创丰 | J87: 郑梓皓 | K87: 67 | L87: 31 | M87: 二等奖
...
