Workbook

Sheet 全能奖
A1: 奖项等级 | B1: 组别 | C1: 队伍名称 | D1: 参赛教练 | E1: 参赛选手
A2: 全能奖 | B2: 初中组 | C2: 都江堰市外国语实验学校一队 | D2: 郭发|刘杰荣 | E2: 向洪桥|晏妙
A3: 全能奖 | B3: 高中/中职组 | C3: 大鹏ROC | D3: 杨刚|刘勤 | E3: 曹子昂|谌子乐
A4: 全能奖 | B4: 小学组 | C4: 深圳怎么玩机器人小学组 | D4: 罗丛礼 | E4: 聂郡江|曾诗瀚|张建诚
A5: 全能奖 | B5: 初中组 | C5: 东北育才学校代表队 | D5: 王奇 | E5: 王延赫|李曜成
A6: 全能奖 | B6: 高阶组 | C6: 暗影游猎 | D6: 赖弘婷 | E6: 伍建名|罗宇彬
A7: 全能奖 | B7: 高中\职高 | C7: 台州市青少年活动中心 | D7: 牟玲丽|毛权 | E7: 徐鹭航|林欣雨
A8: 全能奖 | B8: 初中组 | C8: 小海豚战队 | D8: =VLOOKUP(C8,[1]系统信息!$F:$U,9,0) -> 赵俊 | E8: 丁逸辰|陈贞源|赵亚璞
A9: 全能奖 | B9: 初中组 | C9: 芜湖市第二中学海鸥一队 | D9: =VLOOKUP(C9,[1]系统信息!$F:$U,9,0) -> 邓东|王俊 | E9: 薛明博|时欣阳
A10: 全能奖 | B10: 高中/中职组 | C10: SS-60066S | D10: =VLOOKUP(C10,[1]系统信息!$F:$U,9,0) -> 周嘉 | E10: 苏伟晋|吴雨桐|张启涵|黄政曦
A11: 全能奖 | B11: 高中组 | C11: 山师附中铭威小队 | D11: 杨梅 | E11: 张书铭|李骏威
A12: 全能奖 | B12: 中学组 | C12: 机械舞者 | D12: 李东琦 | E12: 龙科宇|赵则璇|张旸|何鑫鹏|封秉辰|张雯贻|王梓蘅|曾梓翔
A13: 全能奖 | B13: 高中/中职组 | C13: 尖刀梯队 | D13: 王建梅|王律飞 | E13: 曹展豪|乔熙智|耿永昊|迟岩

Sheet AI探索
A1: 赛项 | B1: 组别 | C1: 队伍名称 | D1: 注册单位 | E1: 参赛教练 | F1: 参赛选手 | G1: 奖项等级
A2: AI探索 | B2: 小学组 | C2: 创世先锋 | D2: 福州市晋安区校外体育活动中心 | E2: 张靖 | F2: 孙瑞阳|张芝然|林泰榕 | G2: 冠军
A3: AI探索 | B3: 小学组 | C3: 深圳怎么玩机器人小学组 | D3: 深圳怎么玩机器人俱乐部 | E3: 罗丛礼 | F3: 聂郡江|曾诗瀚|张建诚 | G3: 冠军
A4: AI探索 | B4: 小学组 | C4: 火箭 | D4: 福州市晋安区校外体育活动中心 | E4: 林祺 | F4: 孙林科|吴子轩 | G4: 亚军
A5: AI探索 | B5: 小学组 | C5: 水车园教育集团水车园小学 | D5: 兰州市城关区水车园小学 | E5: 李慧芳 | F5: 李佩亭|魏小千|毛心俞 | G5: 亚军
A6: AI探索 | B6: 小学组 | C6: 兰州市城关区民勤街小学 | D6: 兰州市城关区民勤街小学 | E6: 李育春 | F6: 薛文瑄|王晨溪|延晰玥 | G6: 季军
A7: AI探索 | B7: 小学组 | C7: 乐学空间1队 | D7: 甘肃乐学空间文化交流中心 | E7: 阮蔚 | F7: 陈宏洁|高楷清 | G7: 季军

Sheet VEX
A1: 赛项 | B1: 组别 | C1: 队伍名称 | D1: 注册单位 | E1: 参赛教练 | F1: 参赛选手 | H1: 奖项等级
A2: 'IQ-百发百中' | B2: 初中组 | C2: 21-22联盟校A队 | D2: 北京市第二十一中学 | E2: =VLOOKUP(C2,[1]系统信息!$F:$U,9,0) -> 洪业晔|张立 | F2: 陈紫彰|李正煜|李金昊 | G2: 冠军 | H2: 一等奖
A3: 'IQ-百发百中' | B3: 初中组 | C3: 30156A | D3: 广东省深圳市福田区红岭中学 | E3: =VLOOKUP(C3,[1]系统信息!$F:$U,9,0) -> 李貌|田俊 | F3: 王奕智|李佳慕 | G3: 冠军 | H3: 一等奖
A4: 'IQ-百发百中' | B4: 初中组 | C4: 教院附中战队 | D4: 北京教育学院附属中学 | E4: =VLOOKUP(C4,[1]系统信息!$F:$U,9,0) -> 强薇|马明杰 | F4: 陈铭章|卜亦龙|姚舒桐 | G4: 亚军 | H4: 二等奖
A5: 'IQ-百发百中' | B5: 初中组 | C5: 华侨实验学校7437B | D5: 兰州市城关区华侨实验学校 | E5: =VLOOKUP(C5,[1]系统信息!$F:$U,9,0) -> 叶晓霞|桑楠 | F5: 杨东烨|李政翰|杜秋沂 | G5: 亚军 | H5: 二等奖
A6: 'IQ-百发百中' | B6: 初中组 | C6: 陕西省平利县城关初中VEX机器人社团 | D6: 陕西省平利县城关初级中学 | E6: =VLOOKUP(C6,[1]系统信息!$F:$U,9,0) -> 洪军|黄开军 | F6: 凌铱辰|代金棋|陈敬宇 | G6: 季军 | H6: 二等奖
A7: 'IQ-百发百中' | B7: 初中组 | C7: TY-IQ-16008A | D7: 广州市铁一中学 | E7: =VLOOKUP(C7,[1]系统信息!$F:$U,9,0) -> 潘万洋|麦德平 | F7: 岑朗锋|陈彦希|杨焯烽 | G7: 季军 | H7: 二等奖
A8: 'IQ-百发百中' | B8: 初中组 | C8: 科创队 | D8: 北京市西城区青少年科技馆 | E8: =VLOOKUP(C8,[1]系统信息!$F:$U,9,0) -> 王昕 | F8: 刘皓晨|张孟熙 | G8: / | H8: 二等奖
A9: 'IQ-百发百中' | B9: 初中组 | C9: 兰州华侨实验学校7437A | D9: 兰州市城关区华侨实验学校 | E9: =VLOOKUP(C9,[1]系统信息!$F:$U,9,0) -> 张天龙|郑舒月 | F9: 刘沐钊|康景舟 | G9: / | H9: 三等奖
A10: 'IQ-百发百中' | B10: 初中组 | C10: 郑州科学技术馆1队 | D10: 郑州科学技术馆 | E10: =VLOOKUP(C10,[1]系统信息!$F:$U,9,0) -> 刘玉立|邵志伟 | F10: 张校邦|张伯伦 | G10: / | H10: 三等奖
A11: 'IQ-百发百中' | B11: 初中组 | C11: 科星队 | D11: =VLOOKUP(C11,[1]系统信息!$F:$U,5,0) -> 北京市西城区青少年科技馆 | E11: =VLOOKUP(C11,[1]系统信息!$F:$U,9,0) -> 王昕 | F11: 朱家源|靖子健|周景煊 | G11: / | H11: 三等奖
A12: 'IQ-百发百中' | B12: 初中组 | C12: 北京学生活动管理中心 | D12: =VLOOKUP(C12,[1]系统信息!$F:$U,5,0) -> 北京学生活动管理中心 | E12: =VLOOKUP(C12,[1]系统信息!$F:$U,9,0) -> 梁玉军 | F12: 罗祺涵|胡佰津|谢济潞 | G12: / | H12: 三等奖
A13: 'IQ-百发百中' | B13: 初中组 | C13: 兰州市城关区水车园小学 | D13: =VLOOKUP(C13,[1]系统信息!$F:$U,5,0) -> 兰州市城关区水车园小学 | E13: =VLOOKUP(C13,[1]系统信息!$F:$U,9,0) -> 李慧芳 | F13: 刘道一 | G13: / | H13: 三等奖
A14: 'IQ-百发百中' | B14: 初中组 | C14: 包头市青少年发展中心创世纪机器人战队 | D14: =VLOOKUP(C14,[1]系统信息!$F:$U,5,0) -> 包头市青少年发展中心 | E14: =VLOOKUP(C14,[1]系统信息!$F:$U,9,0) -> 范芸雁|唐贵杰 | F14: 沈宣霖|张佳倪|蒙泽昊 | G14: / | H14: 三等奖
A15: 'VRC-一触即发' | B15: 初中组 | C15: 西安铁一中分校2队 | D15: 西安铁一中分校 | E15: =VLOOKUP(C15,[1]系统信息!$F:$U,9,0) -> 耿小璐 |侯陌阳 | F15: 朱冠桥 | G15: 冠军 | H15: 一等奖
A16: 'VRC-一触即发' | B16: 初中组 | C16: 78781A白马湖一队 | D16: 杭二中白马湖学校 | E16: =VLOOKUP(C16,[1]系统信息!$F:$U,9,0) -> 程元元 | F16: 肖奕阳|范高源 | G16: 冠军 | H16: 一等奖
A17: 'VRC-一触即发' | B17: 初中组 | C17: PNP-X | D17: 广东省人工智能研究院 | E17: =VLOOKUP(C17,[1]系统信息!$F:$U,9,0) -> 吉湘|陈丹伟 | F17: 张鸣朗|周梓昊|缪子谦 | G17: 亚军 | H17: 二等奖
A18: 'VRC-一触即发' | B18: 初中组 | C18: 西安铁一中分校2队 | D18: 西安铁一中分校 | E18: =VLOOKUP(C18,[1]系统信息!$F:$U,9,0) -> 耿小璐 |侯陌阳 | F18: 王奕天 | G18: 亚军 | H18: 二等奖
A19: 'VRC-一触即发' | B19: 初中组 | C19: 光速 | D19: 福建省晋江市养正中学 | E19: =VLOOKUP(C19,[1]系统信息!$F:$U,9,0) -> 曾达颖|柯宏江 | F19: 陈紫翰|洪其威|高致远|陈婧绮 | G19: 季军 | H19: 二等奖
A20: 'VRC-一触即发' | B20: 初中组 | C20: 芜湖市第二中学海鸥一队 | D20: 芜湖市第二中学 | E20: =VLOOKUP(C20,[1]系统信息!$F:$U,9,0) -> 邓东|王俊 | F20: 薛明博|时欣阳 | G20: 季军 | H20: 一等奖
A21: 'VRC-一触即发' | B21: 初中组 | C21: WZ-VRC-4413A | D21: 广州市第五中学 | E21: =VLOOKUP(C21,[1]系统信息!$F:$U,9,0) -> 吴子轩 | F21: 李君睿|魏子博|朱沛琳|邱裕城 | G21: / | H21: 三等奖
A22: 'VRC-一触即发' | B22: 初中组 | C22: 苏州高新区实验初级中学 | D22: =VLOOKUP(C22,[1]系统信息!$F:$U,5,0) -> 苏州高新区实验初级中学 | E22: =VLOOKUP(C22,[1]系统信息!$F:$U,9,0) -> 徐子森|徐芸姣 | F22: =VLOOKUP(C22,[1]系统信息!$F:$P,11,0) -> 陈柯玮|倪宇轩|许震廷|何永奕 | G22: / | H22: 二等奖
A23: 'VRC-一触即发' | B23: 初中组 | C23: 包头市第二十九中学创世纪机器人战队 | D23: =VLOOKUP(C23,[1]系统信息!$F:$U,5,0) -> 包头市第二十九中学 | E23: =VLOOKUP(C23,[1]系统信息!$F:$U,9,0) -> 白兰波|闫婷 | F23: =VLOOKUP(C23,[1]系统信息!$F:$P,11,0) -> 刘沛伦|王竞颢|李宏雁 | G23: / | H23: 三等奖
A24: 'VRC-一触即发' | B24: 初中组 | C24: 3313D | D24: =VLOOKUP(C24,[1]系统信息!$F:$U,5,0) -> 台州市青少年活动中心 | E24: =VLOOKUP(C24,[1]系统信息!$F:$U,9,0) -> 卢文忠 | F24: 赵家齐 | G24: / | H24: 二等奖
A25: 'VRC-一触即发' | B25: 初中组 | C25: 3313C | D25: =VLOOKUP(C25,[1]系统信息!$F:$U,5,0) -> 台州市青少年活动中心 | E25: =VLOOKUP(C25,[1]系统信息!$F:$U,9,0) -> 臧明轩|任伟 | F25: 陶宏祥 | G25: / | H25: 二等奖
A26: 'VRC-一触即发' | B26: 初中组 | C26: 你说的 | D26: =VLOOKUP(C26,[1]系统信息!$F:$U,5,0) -> 广州市越秀区育才实验学校 | E26: =VLOOKUP(C26,[1]系统信息!$F:$U,9,0) -> 郭永健|周靖康 | F26: =VLOOKUP(C26,[1]系统信息!$F:$P,11,0) -> 钟纬滢|朱彦臻|白雅萱 | G26: / | H26: 三等奖
A27: 'VRC-一触即发' | B27: 初中组 | C27: 巡航舰战队 | D27: =VLOOKUP(C27,[1]系统信息!$F:$U,5,0) -> 北京景山学校 | E27: =VLOOKUP(C27,[1]系统信息!$F:$U,9,0) -> 李秋实 | F27: =VLOOKUP(C27,[1]系统信息!$F:$P,11,0) -> 李紫芊|杨堃|解济铭 | G27: / | H27: 三等奖
A28: 'VRC-一触即发' | B28: 初中组 | C28: 北京市海淀区青少年活动管理中心 | D28: =VLOOKUP(C28,[1]系统信息!$F:$U,5,0) -> 北京市海淀区青少年活动管理中心 | E28: =VLOOKUP(C28,[1]系统信息!$F:$U,9,0) -> 李彦超 | F28: =VLOOKUP(C28,[1]系统信息!$F:$P,11,0) -> 徐一欧|马志浩|李宇宸|赵泽铭 | G28: / | H28: 三等奖
A29: 'VRC-一触即发' | B29: 初中组 | C29: 北京市海淀区青少年活动管理中心A队 | D29: =VLOOKUP(C29,[1]系统信息!$F:$U,5,0) -> 北京市海淀区青少年活动管理中心 | E29: =VLOOKUP(C29,[1]系统信息!$F:$U,9,0) -> 李彦超|郭磊 | F29: =VLOOKUP(C29,[1]系统信息!$F:$P,11,0) -> 涂时铭|崔熙童|张璐|裴月程 | G29: / | H29: 三等奖
A30: 'VRC-一触即发' | B30: 初中组 | C30: 云巅之上 | D30: =VLOOKUP(C30,[1]系统信息!$F:$U,5,0) -> 济南市育英中学 | E30: =VLOOKUP(C30,[1]系统信息!$F:$U,9,0) -> 于涛|石磊 | F30: =VLOOKUP(C30,[1]系统信息!$F:$P,11,0) -> 石薇冉|于润珂|张迦淇|丁敬然 | G30: / | H30: 三等奖
A31: 'VRC-一触即发' | B31: 高中/中职组 | C31: 一阅解千愁 | D31: 浙江省杭州学军中学 | E31: =VLOOKUP(C31,[1]系统信息!$F:$U,9,0) -> 刘 军 泉 | F31: 马睿恺|朱跃鼎|张锦淑 | G31: 冠军 | H31: 一等奖
A32: 'VRC-一触即发' | B32: 高中/中职组 | C32: HP-VRC-61114S | D32: 广州黄埔区青少年宫 | E32: =VLOOKUP(C32,[1]系统信息!$F:$U,9,0) -> 孔健|劳静 | F32: 蔡卓言|高郅昊|涂殷|曹洋 | G32: 冠军 | H32: 一等奖
A33: 'VRC-一触即发' | B33: 高中/中职组 | C33: 3312B | D33: 台州市黄岩第二高级中学 | E33: =VLOOKUP(C33,[1]系统信息!$F:$U,9,0) -> 程丹蓉 | F33: 李盛嘉|杨宇豪|邱纤纤|缪宇航 | G33: 亚军 | H33: 一等奖
A34: 'VRC-一触即发' | B34: 高中/中职组 | C34: 高新一中666X | D34: 西安高新第一中学 | E34: =VLOOKUP(C34,[1]系统信息!$F:$U,9,0) -> 王增怀 | F34: 李庭臣|周秦睿|郝煜东|张函悦 | G34: 亚军 | H34: 二等奖
A35: 'VRC-一触即发' | B35: 高中/中职组 | C35: 3313B | D35: 台州市青少年活动中心 | E35: =VLOOKUP(C35,[1]系统信息!$F:$U,9,0) -> 臧明轩 | F35: 臧秋寒|叶雨心|咸寒少|何越洋 | G35: 季军 | H35: 二等奖
A36: 'VRC-一触即发' | B36: 高中/中职组 | C36: 3313A | D36: 台州市青少年活动中心 | E36: =VLOOKUP(C36,[1]系统信息!$F:$U,9,0) -> 卢文忠 | F36: 王柯辰|刘瀚爵|童麟凯|童麟皓 | G36: 季军 | H36: 二等奖
A37: 'VRC-一触即发' | B37: 高中/中职组 | C37: 文三群星楼 | D37: =VLOOKUP(C37,[1]系统信息!$F:$U,5,0) -> 浙江省杭州学军中学 | E37: =VLOOKUP(C37,[1]系统信息!$F:$U,9,0) -> 刘 军 泉 | F37: 王立涛|殷霖晟|陈晨|郑苏琦|孔嘉浩|陈于思 | G37: / | H37: 二等奖
A38: 'VRC-一触即发' | B38: 高中/中职组 | C38: 高新一中666A | D38: =VLOOKUP(C38,[1]系统信息!$F:$U,5,0) -> 西安高新第一中学 | E38: =VLOOKUP(C38,[1]系统信息!$F:$U,9,0) -> 韩恭恩 | F38: 金哲旭|刘佳庚 | G38: / | H38: 二等奖
A39: 'VRC-一触即发' | B39: 高中/中职组 | C39: 西安铁一中 | D39: =VLOOKUP(C39,[1]系统信息!$F:$U,5,0) -> 西安铁一中 | E39: =VLOOKUP(C39,[1]系统信息!$F:$U,9,0) -> 王健龙 | F39: =VLOOKUP(C39,[1]系统信息!$F:$P,11,0) -> 张峻舒|谢龄欧|张明彩|李梓豪 | G39: / | H39: 二等奖
A40: 'VRC-一触即发' | B40: 高中/中职组 | C40: 广东碧桂园学校 | D40: =VLOOKUP(C40,[1]系统信息!$F:$U,5,0) -> 广东碧桂园学校 | E40: =VLOOKUP(C40,[1]系统信息!$F:$U,9,0) -> 李勇 | F40: =VLOOKUP(C40,[1]系统信息!$F:$P,11,0) -> 孙朗霆|姚安北|刘禹志|黄宇珂 | G40: / | H40: 二等奖
A41: 'VRC-一触即发' | B41: 高中/中职组 | C41: 南通金沙中学 | D41: =VLOOKUP(C41,[1]系统信息!$F:$U,5,0) -> 南通市通州区金沙中学 | E41: =VLOOKUP(C41,[1]系统信息!$F:$U,9,0) -> 顾彦|芮俊 | F41: 吴凯悦|王皓轩|包航维 | G41: / | H41: 二等奖
A42: 'VRC-一触即发' | B42: 高中/中职组 | C42: 71345R | D42: =VLOOKUP(C42,[1]系统信息!$F:$U,5,0) -> 武汉新航道培训学校 | E42: =VLOOKUP(C42,[1]系统信息!$F:$U,9,0) -> 洪舜|涂杏如 | F42: 丁逸泽 | G42: / | H42: 三等奖
A43: 'VRC-一触即发' | B43: 高中/中职组 | C43: 3312A | D43: =VLOOKUP(C43,[1]系统信息!$F:$U,5,0) -> 台州市黄岩第二高级中学 | E43: =VLOOKUP(C43,[1]系统信息!$F:$U,9,0) -> 程丹蓉 | F43: 黄赞|牟辰阳|毛彦钧 | G43: / | H43: 三等奖
A44: 'VRC-一触即发' | B44: 高中/中职组 | C44: 鲨鱼战队 | D44: =VLOOKUP(C44,[1]系统信息!$F:$U,5,0) -> 北京景山学校 | E44: =VLOOKUP(C44,[1]系统信息!$F:$U,9,0) -> 方泽龙|李京 | F44: 李雨轩|王天一|丁凯鑫 | G44: / | H44: 三等奖
A45: 'VRC-一触即发' | B45: 高中/中职组 | C45: 求实战队 | D45: =VLOOKUP(C45,[1]系统信息!$F:$U,5,0) -> 西安市高新第二高级中学 | E45: =VLOOKUP(C45,[1]系统信息!$F:$U,9,0) -> 霍婧媛 | F45: 任子昂|刘清哲|易星辰 | G45: / | H45: 三等奖
A46: 'VRC-一触即发' | B46: 高中/中职组 | C46: 北京市第八十中学一队 | D46: =VLOOKUP(C46,[1]系统信息!$F:$U,5,0) -> 北京市第八十中学 | E46: =VLOOKUP(C46,[1]系统信息!$F:$U,9,0) -> 张朋 | F46: =VLOOKUP(C46,[1]系统信息!$F:$P,11,0) -> 任伯峰|叶嗣垚|沙雨田|张佳业 | G46: / | H46: 三等奖
A47: 'VRC-一触即发' | B47: 高中/中职组 | C47: 北京市八一学校 | D47: =VLOOKUP(C47,[1]系统信息!$F:$U,5,0) -> 北京市八一学校 | E47: =VLOOKUP(C47,[1]系统信息!$F:$U,9,0) -> 刁文 水|李锐 | F47: =VLOOKUP(C47,[1]系统信息!$F:$P,11,0) -> 关添予|徐睿康|陈奕鸣|黄博飞 | G47: / | H47: 三等奖
A48: 'VRC-一触即发' | B48: 高中/中职组 | C48: 71345K | D48: =VLOOKUP(C48,[1]系统信息!$F:$U,5,0) -> 武汉新航道培训学校 | E48: =VLOOKUP(C48,[1]系统信息!$F:$U,9,0) -> 洪舜|涂杏如 | F48: 刘郑亮|陈诗润 | G48: / | H48: 三等奖
A49: 'VRC-一触即发' | B49: 高中/中职组 | C49: 中国儿童中心VEX战队 | D49: =VLOOKUP(C49,[1]系统信息!$F:$U,5,0) -> 中国儿童中心 | E49: =VLOOKUP(C49,[1]系统信息!$F:$U,9,0) -> 谢鹏 | F49: =VLOOKUP(C49,[1]系统信息!$F:$P,11,0) -> 宁建旭|詹睿琦|栾和润|牟昊彤 | G49: / | H49: 三等奖
A50: 'VRC-一触即发' | B50: 高中/中职组 | C50: 疾风 | D50: =VLOOKUP(C50,[1]系统信息!$F:$U,5,0) -> 福建省晋江市养正中学 | E50: =VLOOKUP(C50,[1]系统信息!$F:$U,9,0) -> 吴浒|唐向阳 | F50: =VLOOKUP(C50,[1]系统信息!$F:$P,11,0) -> 高钰|苏衍川|杨文山|陈咏涛 | G50: / | H50: 三等奖
A51: 'VRC-一触即发' | B51: 高中/中职组 | C51: 北京市第一七一中学高中队 | D51: =VLOOKUP(C51,[1]系统信息!$F:$U,5,0) -> 北京市第一七一中学 | E51: =VLOOKUP(C51,[1]系统信息!$F:$U,9,0) -> 翟浩迪|李铮 | F51: =VLOOKUP(C51,[1]系统信息!$F:$P,11,0) -> 秦韬杰|申明瀚|闫靖琨|何宇洋 | G51: / | H51: 三等奖
A52: 'VRC-一触即发' | B52: 高中/中职组 | C52: JSG | D52: =VLOOKUP(C52,[1]系统信息!$F:$U,5,0) -> 北京四中国际校区 | E52: =VLOOKUP(C52,[1]系统信息!$F:$U,9,0) -> 张震 | F52: =VLOOKUP(C52,[1]系统信息!$F:$P,11,0) -> 王雨汀|王铭瑶|KeelyYingYiu Lau|张心文 | G52: / | H52: 三等奖

Sheet MAKE-X
A1: 赛项 | B1: 组别 | C1: 队伍名称 | D1: 注册单位 | E1: 参赛教师 | F1: 参赛选手 | G1: 奖项等级
A2: 智造大师(MakeX Challenge) | B2: 中学组 | C2: 雷神战队 | D2: 青少年机器人基地 | E2: 孙洪涛|刘晗 | F2: 石泽萌|胡作勋|宫喜|王子天|陈胜昔|高英涵|李尚益|孔令衡 | G2: 冠军 （一等奖）
A3: 智造大师(MakeX Challenge) | B3: 中学组 | C3: 哈工致远虎噬战队 | D3: 哈工致远机器人俱乐部 | E3: 赵振翔|赵晟炜 | F3: 张晨瀚|于子程|朱宸诚
A4: 智造大师(MakeX Challenge) | B4: 中学组 | C4: 武动乾坤 | D4: 潍坊弘信学校 | E4: 王德明|郝爱娟 | F4: 刘源祥|姜家正|马翊豪|朱一新|孙思九|刘振宇|刘政瑄|赵一凡 | G4: 亚军 （一等奖）
A5: 智造大师(MakeX Challenge) | B5: 中学组 | C5: 斗破苍穹 | D5: 潍坊高新技术产业开发区东明学校 | E5: 潘光荣|孙晓静 | F5: 赵弘智|王嘉琪|王振宇|冯良桐|张乐晨|孙君昊|明筠朴|尹梓铭
A6: 智造大师(MakeX Challenge) | B6: 中学组 | C6: 锐锋战队 | D6: 江苏省建湖高级中学 | E6: 何玉龙 | F6: 王杰锋|王子源|崔皓然 | G6: 季军 （一等奖）
A7: 智造大师(MakeX Challenge) | B7: 中学组 | C7: 科睿华南虎 | D7: 科睿机器人 | E7: 张威 | F7: 赵允淳|邝治嘉|李子慕|范峻知|彭至睿|聂千皓
A8: 智造大师(MakeX Challenge) | B8: 中学组 | C8: 勇攀高峰 | D8: 济南市章丘区第五中学 | E8: 刘瑜|范万虎 | F8: 张儒宸|吕伟涛|康俊睿|刘昊 | G8: 二等奖
A9: 智造大师(MakeX Challenge) | B9: 中学组 | C9: 科睿机械骑士 | D9: 科睿机器人 | E9: 何炜荣 | F9: 邢栋|朱悦恒|赵端智立|高瑞蓬|邱诗雅|吴承翰|彭兴祖 | G9: 二等奖
A10: 智造大师(MakeX Challenge) | B10: 中学组 | C10: 外太空Cross | D10: 威海市科学技术馆 | E10: 付松涛|王亚亮 | F10: 刘译蔚|潘崇文|赵一鸣|孙卓然|于润东|张程|阮航 | G10: 二等奖
A11: 智造大师(MakeX Challenge) | B11: 中学组 | C11: 苍穹利剑 | D11: 青少年机器人基地 | E11: 孙洪涛|刘晗 | F11: 金相烨|许博|贺天健|方荣添|高子谦|周子航|张子宸|刘子芊 | G11: 二等奖
A12: 智造大师(MakeX Challenge) | B12: 中学组 | C12: 剑起苍澜 | D12: 山东省昌乐第一中学 | E12: 刘相明|吴巧燕 | F12: 李其炎|周昭熠|王天遥|张益凡 | G12: 二等奖
A13: 智造大师(MakeX Challenge) | B13: 中学组 | C13: KOREI PHYSIC | D13: 科睿机器人 | E13: 焦巍 | F13: IRIS PENG|陈奕瑒|陈则硕|程文熙|沈人杰|杨铭芮|陈曦|唐佳宁 | G13: 二等奖
A14: 智造大师(MakeX Challenge) | B14: 中学组 | C14: X晓 | D14: 首都师范大学附属实验学校 | E14: 崔斌 | F14: 刘彻姚|博岩 | G14: 二等奖
A15: 智造大师(MakeX Challenge) | B15: 中学组 | C15: 睿不可挡 | D15: 江苏省建湖高级中学 | E15: 何玉龙 | F15: 单洪轩|王睿阳|朱家源 | G15: 二等奖
A16: 智造大师(MakeX Challenge) | B16: 中学组 | C16: WE | D16: 兰州市外国语高级中学 | E16: 宋小荣 | F16: 李家磊|毛鑫|魏溱|杨涵喆 | G16: 三等奖
A17: 智造大师(MakeX Challenge) | B17: 中学组 | C17: 兰州市第三十四中学机器人社团 | D17: 兰州市第三十四中学 | E17: 任鹏|蒋永胜 | F17: 沈一安|魏铭航|杨健波|马乐琪 | G17: 三等奖
A18: 智造大师(MakeX Challenge) | B18: 中学组 | C18: 机械舞者1队 | D18: 北京交通大学 附属中学 | E18: 李东琦 | F18: 龙科宇|赵则璇|张旸|何鑫鹏|封秉辰|张雯贻|王梓蘅|曾梓翔 | G18: 三等奖
A19: 智造大师(MakeX Challenge) | B19: 中学组 | C19: iBot | D19: 兰州市第五十一中学 | E19: 李红斌 | F19: 白礼诚|樊宇翔|雷盛博|王译霄|张荣 | G19: 三等奖
... A35: 雷霆营救(MakeX Premier) | B35: 中学组 | C35: 东营市实验中学 | D35: 灵狐战队 | E35: 姚红艳|王松 | F35: 徐子轩|田峻杭 | G35: 三等奖

Sheet DOBOT智造大挑战
A1: 赛项 | B1: 组别 | C1: 队伍名称 | D1: 注册单位 | E1: 参赛教练 | F1: 参赛选手 | G1: 奖项等级
A2: DOBOT智造大挑战-智慧冬奥 | B2: 初中组 | C2: 挑战者战队 | D2: 华东师范大学附属杭州学校 | E2: 许航|贝铃佳 | F2: 陈烁|孟佐桉|黄乐诣 | G2: 冠军（一等奖）
A3: DOBOT智造大挑战-智慧冬奥 | B3: 初中组 | C3: 龙吟队 | D3: 莱西市博凡乐高机器人俱乐部 | E3: 黄琨|于文凯 | F3: 展浩翔|杜泓成|于佳麟|宋奕辰 | G3: 亚军（一等奖）
A4: DOBOT智造大挑战-智慧冬奥 | B4: 初中组 | C4: 聊城市茌平区振兴街道中学 | D4: 聊城市茌平区振兴街道中学 | E4: 慈明军|孔伟 | F4: 刘展吉|韩若兮|窦一珂 | G4: 季军（一等奖）
A5: DOBOT智造大挑战-智慧冬奥 | B5: 初中组 | C5: 博山黑马队 | D5: 淄博博山博派培训学校 | E5: 梁雷 | F5: 岳柯名|王蕴哲|王承杰|吴志铭 | G5: 二等奖
A6: DOBOT智造大挑战-智慧冬奥 | B6: 初中组 | C6: 博山最强队 | D6: 淄博博山博派培训学校 | E6: 梁雷 | F6: 丁保亨|王芊茹|花淇轩|李锦政 | G6: 二等奖
A7: DOBOT智造大挑战-智慧冬奥 | B7: 初中组 | C7: 哈里机械臂初中2队 | D7: 淄博市哈里教育培训学校 | E7: 张谦 | F7: 梁宇轩|王铭泽|郭承轩|刘祖麟 | G7: 三等奖
A8: DOBOT智造大挑战-智慧冬奥 | B8: 初中组 | C8: 希麦科创俱乐部 | D8: 希麦科创俱乐部 | E8: 蔡雨 | F8: 肖叙燃|刘峻豪|冯铄航|夏晨捷 | G8: 三等奖
A9: DOBOT智造大挑战-智慧冬奥 | B9: 初中组 | C9: 哈里机械臂初中1队 | D9: 淄博市哈里教育培训学校 | E9: 张谦 | F9: 杨尚泽|刘俊杰|李林轩|邢曜麟 | G9: 三等奖
A10: DOBOT智造大挑战-智慧冬奥 | B10: 高中/中职组 | C10: 临沂国际学校 | D10: 临沂国际学校 | E10: 王高明 | F10: 王浩然|张书源|付跞文|王彭 | G10: 冠军（一等奖）
A11: DOBOT智造大挑战-智慧冬奥 | B11: 高中/中职组 | C11: 哈里机械臂高中队 | D11: 淄博木码教育培训学校 | E11: 周琦 | F11: 孙浩然|许郅斐|谢海翔|石新阳 | G11: 亚军（一等奖）
A12: DOBOT智造大挑战-智慧冬奥 | B12: 高中/中职组 | C12: 浙江绿谷9队 | D12: 浙江省丽水中学 | E12: 瞿晓军 | F12: 金典|周琳皓|吴慧军|翁靓 | G12: 季军（一等奖）
... A27: DOBOT智造大挑战-智慧冬奥 | B27: 大学组/高职组 | C27: TYUT匠坊1队 | D27: 太原理工大学 | E27: 李卫国|韩嘉宇 | F27: 王罗春|王国平|朱君睿 | G27: 季军（一等奖）

Sheet Robo Genius
A1: 赛项 | B1: 组别 | C1: 队伍名称 | D1: 注册单位 | E1: 参赛教练 | F1: 参赛选手 | H1: 奖项等级
A2: Robo Genius | B2: 高阶组 | C2: 莘子荣耀 | D2: 郑州市二七区第八十一中学 | E2: 孙胜南|刘庆坡 | F2: 王子聪 | G2: 王馨瑶 | H2: 冠军
A3: Robo Genius | B3: 高阶组 | C3: 昆山市葛江中学 | D3: 昆山市葛江中学 | E3: 束靖怡 | F3: 习钰彤 | G3: 高天扬 | H3: 亚军
A4: Robo Genius | B4: 高阶组 | C4: 重庆大一中 | D4: 重庆市大学城第一中学校 | E4: 蒋天华 | F4: 张国栋 | G4: 刘星宇 | H4: 季军
A5: Robo Genius | B5: 高阶组 | C5: 暗影游猎 | D5: 南宁市第三中学 | E5: 赖弘婷 | F5: 伍建名 | G5: 罗宇彬 | H5: 一等奖
A6: Robo Genius | B6: 高阶组 | C6: 滁州东坡队 | D6: 滁州市东坡中学 | E6: 於敏敏 | F6: 陆宇凡 | G6: 江奇睿 | H6: 二等奖
A7: Robo Genius | B7: 高阶组 | C7: 晧棋队 | D7: 临泉县第三中学 | E7: 王阿龙|孙丽娜 | F7: 王昱皓 | G7: 柳棋 | H7: 二等奖
A8: Robo Genius | B8: 高阶组 | C8: 凌宵战队 | D8: 潍坊市潍城区博竣教育培训学校 | E8: 孙博文|张桂香 | F8: 刘海宇 | G8: 徐庆昊 | H8: 二等奖
A9: Robo Genius | B9: 高阶组 | C9: 大连市第六十六中学队 | D9: 大连市第六十六中学 | E9: 林枫 | F9: 韩文博 | G9: 李昌鸿 | H9: 二等奖
A10: Robo Genius | B10: 高阶组 | C10: 宇文队 | D10: 临泉县第三中学 | E10: 田甜|陈婧婧 | F10: 张博文 | G10: 韩宇翔 | H10: 三等奖
A11: Robo Genius | B11: 高阶组 | C11: 才梓双星 | D11: 哈工大大数据集团人工智能课程中心 | E11: 张家伟 | F11: 洪博 | G11: 王秋鉴 | H11: 三等奖

Sheet ENJOY AI
A1: 赛项 | B1: 组别 | C1: 队伍名称 | D1: 注册单位 | E1: 参赛教练 | F1: 参赛选手 | G1: 奖项等级
A2: '医疗先锋' | B2: 中学组 | C2: 好运队 | D2: 北京市昌平区第二中学 | E2: 刘苗苗 | F2: 郜熙衡|王明昊 | G2: 冠军
A3: '医疗先锋' | B3: 中学组 | C3: 和平街一中1队 | D3: 北京市和平街第一中学 | E3: 张岩 | F3: 周佳星|宋泽宇 | G3: 亚军
A4: '医疗先锋' | B4: 中学组 | C4: 和平街一中2队 | D4: 北京市和平街第一中学 | E4: 李冬生 | F4: 孙铂|王雨佳 | G4: 季军
A5: '医疗先锋' | B5: 中学组 | C5: 机智次时代 | D5: 中国人民大学附属中学通州校区 | E5: 杨淼 | F5: 王博研|赵轶晖 | G5: 一等奖
A6: '医疗先锋' | B6: 中学组 | C6: 大兴少年宫少年强智队 | D6: 北京市大兴区少年宫 | E6: 李洁 | F6: 李佳萱|李懿烜 | G6: 二等奖
A7: '医疗先锋' | B7: 小学组 | C7: 北京市少年宫 | D7: 北京市少年宫 | E7: 张超 | F7: 金闿明|史博楷 | G7: 二等奖
A8: '冬季运动会' | B8: 中学组 | C8: 双语2队 | D8: 绵阳南山中学双语学校 | E8: 伍智发 | F8: 刘阳|李奕阳 | G8: 冠军
A9: '冬季运动会' | B9: 中学组 | C9: 双语1队 | D9: 绵阳南山中学双语学校 | E9: 李录清 | F9: 刘天成|罗开鑫 | G9: 亚军
A10: '冬季运动会' | B10: 中学组 | C10: 南阳市第一完全学校一队 | D10: 南阳市第一完全学校 | E10: 王芳 | F10: 孙胜巍|邢培钰 | G10: 季军
A11: '水上运动会' | B11: 小学组 | C11: 立体主义 | D11: 泊升创客 | E11: 黄炯灿 | F11: 魏陈子奇|张可为 | G11: 冠军
A12: '医疗先锋' | B12: 小学组 | C12: 龙腾虎跃 | D12: 北京市大兴区第三小学 | E12: 王月 | F12: 郑齐鑫|王子煜 | G12: 三等奖
... A52: '非攻' | B52: 小学组 | C52: 谨序非攻珩辰战队 | D52: 北京谨序 | E52: 王艳婷 | F52: 张珩岩|舒易辰 | G52: 一等奖

Sheet 中鸣超级轨迹赛
A1: 赛项 | B1: 组别 | C1: 队伍名称 | D1: 注册单位 | E1: 参赛教练 | F1: 参赛选手 | G1: 奖项等级
A2: '星际探索' | B2: 初中组 | C2: 东北育才学校代表队 | D2: 东北育才双语学校 | E2: 王奇 | F2: 王延赫|李曜成 | G2: 一等奖 （冠军）
A3: '星际探索' | B3: 初中组 | C3: “东风”机器人竞技 | D3: 北京市第二中学通州校区 | E3: 张之浩 | F3: 曹慧聪|梁匀赫 | G3: 一等奖 （亚军）
A4: '星际探索' | B4: 初中组 | C4: 耀祥战队 | D4: 湖南省东安县耀祥中学 | E4: 胡国柱 | F4: 唐云森|谢斌 | G4: 一等奖 （ 季军）
A5: '星际探索' | B5: 初中组 | C5: 九中中鸣一队 | D5: 河南省信阳市第九中学 | E5: 王辉|刘鹭 | F5: 汪英杰|汪均昊 | G5: 一等奖
A6: '星际探索' | B6: 初中组 | C6: 绿然之星 | D6: 遂宁绿然国际学校 | E6: 罗小明 | F6: 唐若愚|徐文涛 | G6: 二等奖
A7: '星际探索' | B7: 初中组 | C7: 神奇飞侠A号 | D7: 湖南省长沙市雨花区楚材进修学校 | E7: 黄利娜 | F7: 郭怀元|张嘉文 | G7: 二等奖
A8: '星际探索' | B8: 初中组 | C8: good good study | D8: 芜湖荟萃中学 | E8: 王神送 | F8: 王子墨|张嘉蕊 | G8: 二等奖
A9: '星际探索' | B9: 初中组 | C9: 九中中鸣二队 | D9: 河南省信阳市第九中学 | E9: 张辉|汪峥 | F9: 周子盛|张宇宸 | G9: 二等奖
A10: '星际探索' | B10: 初中组 | C10: STAR3 | D10: 陕西师范大学附属中学分校 | E10: 刘宝瑞 | F10: 田皓英|吴伟棋 | G10: 二等奖
A11: '星际探索' | B11: 初中组 | C11: 西安高新八初小秦龙 | D11: 西安高新区第八初级中学 | E11: 闫耀丽|周亚楠 | F11: 郭奕超|董佳豪 | G11: 三等奖
A12: '星际探索' | B12: 初中组 | C12: 烜意组合 | D12: 安丘市文轩阁培训学校 | E12: 孙业伟|刘明霞 | F12: 李卓烜|彭月意 | G12: 三等奖
... A46: '星际探索' | B46: 高中/中职组 | C46: 附中战队 | D46: 北京教育学院附属中学 | E46: 强薇|宋源鑫 | F46: 张豪臣|田济源 | G46: 三等奖

Sheet FTF青少年无人机
A1: 赛项 | B1: 组别 | C1: 队伍名称 | D1: 申报单位 | E1: 教练信息 | F1: 学生信息 | G1: 奖项
A2: '极速穿越赛' | B2: 初中组 | C2: 睿智腾飞1队 | D2: 北京龙之门培训学校机器人俱乐部 | E2: 宋旭明 | F2: 韩东正|王斯致 | G2: 冠军（一等奖）
A3: '极速穿越赛' | B3: 初中组 | C3: 龙之门2队 | D3: 北京龙之门培训学校机器人俱乐部 | E3: 侯玺 | F3: 李睿|邓智仁 | G3: 亚军（一等奖）
A4: '极速穿越赛' | B4: 初中组 | C4: 懿意生辉 | D4: 北京亦庄实验中学 | E4: 高媛|段新新 | F4: 李懿烜|隋意 | G4: 季军（一等奖）
A5: '极速穿越赛' | B5: 初中组 | C5: 北理工初中队 | D5: 北京理工大学附属实验学校 | E5: 李园园|马朋朋 | F5: 王嘉乐|王东旭 | G5: 一等奖
A6: '极速穿越赛' | B6: 初中组 | C6: 文武双全 | D6: 北京亦庄实验中学 | E6: 高媛|段新新 | F6: 蒋诚文|蒋诚武 | G6: 二等奖
A7: '极速穿越赛' | B7: 初中组 | C7: 睿智腾飞2队 | D7: 北京龙之门培训学校机器人俱乐部 | E7: 宋旭明 | F7: 李文谨|肖承王祐 | G7: 三等奖
A8: '极速穿越赛' | B8: 初中组 | C8: 丰台二中一队 | D8: 北京市丰台区丰台第二中学 | E8: 马磊|周宇 | F8: 朱天奥|张睿宣 | G8: 三等奖
A9: '极速穿越赛' | B9: 初中组 | C9: 雄霸天下 | D9: 陶礼天下机器人俱乐部 | E9: 李君 | F9: 郭博轩|卞怡然 | G9: 三等奖
A10: '极速穿越赛' | B10: 初中组 | C10: 北京市玉渊潭中学 | D10: 北京市玉渊潭中学 | E10: 金晓会 | F10: 沈子安|孙睿嘉 | G10: 三等奖
A11: '极速穿越赛' | B11: 初中组 | C11: 丰台二中二队 | D11: 北京市丰台区丰台第二中学 | E11: 马磊|周宇 | F11: 吴昊阳 |刘子衡 | G11: 三等奖
A12: '极速穿越赛' | B12: 高中/中职组 | C12: 龙之门3队 | D12: 北京龙之门培训学校机器人俱乐部 | E12: 侯玺 | F12: 宋雨晨|王德丰 | G12: 冠军（一等奖）
... A37: '物流搬运赛' | B37: 小学组 | C37: 合肥翡翠学校 | D37: 合肥市翡翠学校 | E37: 骆念春|蒋春香 | F37: 徐蔚泽|丁想 | G37: 二等奖

Sheet 九宫（IER）智能挑战
A1: 赛项 | B1: 组别 | C1: 队伍名称 | D1: 注册单位 | E1: 参赛教练 | F1: 参赛选手 | G1: 奖项等级
A2: 九宫联运 | B2: 高中\职高 | C2: 台州市青少年活动中心 | D2: 台州市青少年活动中心 | E2: 周宏彬 | F2: 徐鹭航|林欣雨 | G2: 冠军（一等奖）
A3: 九宫联运 | B3: 高中\职高 | C3: 青岛西海岸新区致远中学 | D3: 青岛西海岸新区致远中学 | E3: 马书民 | F3: 于钦阁|赵政钧 | G3: 亚军（一等奖）
A4: 九宫联运 | B4: 高中\职高 | C4: 北京十一中TOD | D4: 北京市第十一中学 | E4: 蔡葆元|刘京 | F4: 刘逸宸|范益朋 | G4: 季军（一等奖）
A5: 九宫联运 | B5: 高中\职高 | C5: xjrobotics2 | D5: 浙江省杭州学军中学 | E5: 刘军泉 | F5: 陈张扬|陈泊臻 | G5: 一等奖
A6: 九宫联运 | B6: 高中\职高 | C6: 青西一中三 | D6: 青岛西海岸新区第一高级中学 | E6: 秦泗宝 | F6: 王国栋|李明昊 | G6: 二等奖
A7: 九宫联运 | B7: 高中\职高 | C7: 聚星战队 | D7: 济南市章丘区第五中学 | E7: 张明 | F7: 刘茂研|刘金曦 | G7: 二等奖
A8: 九宫联运 | B8: 高中\职高 | C8: 青西一中二 | D8: 青岛西海岸新区第一高级中学 | E8: 王云涛 | F8: 汪彦旭|周悦琦 | G8: 二等奖
A9: 九宫联运 | B9: 高中\职高 | C9: xjrobotics1 | D9: 浙江省杭州学军中学 | E9: 刘军泉|沈晓恬 | F9: 罗宇泽|罗晗之 | G9: 二等奖
A10: 九宫联运 | B10: 高中\职高 | C10: 台州市灵石中学 | D10: 台州市灵石中学 | E10: 徐玲芳|林挺 | F10: 金安旗|陈亚楠 | G10: 二等奖
A11: 九宫联运 | B11: 高中\职高 | C11: 二高1队 | D11: 台州市黄岩第二高级中学 | E11: 牟玲丽 | F11: 李国超|周轩可 | G11: 二等奖
A12: 九宫联运 | B12: 高中\职高 | C12: 青竹精英队 | D12: 山东省青岛第一中学 | E12: 窦雅芳 | F12: 李凯悦|岳轩同 | G12: 二等奖
... A90: 九宫对抗赛 | B90: 初中 | C90: 风之队 | D90: 杭州市余杭区瓶窑镇第一中学 | E90: 张凯|刘璐 | F90: 蒋浩东|郑栋铭 | G90: 三等奖

Sheet RA-极限冰壶
A1: 赛项 | B1: 组别 | C1: 队伍名称 | D1: 注册单位 | E1: 参赛教练 | F1: 参赛选手 | G1: 奖项等级
A2: RA-极限冰壶 | B2: 初中组 | C2: 都江堰市外国语实验学校一队 | D2: 都江堰外国语实验学校 | E2: 郭发|刘杰荣 | F2: 向洪桥|晏妙 | G2: 冠军
A3: RA-极限冰壶 | B3: 初中组 | C3: 强国有我 | D3: 南宁市玛酷机器人吾悦编程中心 | E3: 雷蕾 | F3: 杨濮诚|张桢睿 | G3: 亚军
A4: RA-极限冰壶 | B4: 初中组 | C4: 都江堰外国语实验学校 | D4: 都江堰外国语实验学校 | E4: 郭发|刘杰荣 | F4: 李峻西|黄奕澄|罗之为 | G4: 季军
A5: RA-极限冰壶 | B5: 初中组 | C5: 都江堰市塔子坝中学二队 | D5: 都江堰市塔子坝中学 | E5: 杨林峰|刘超 | F5: 邓世豪|杨嘉文 | G5: 二等奖
A6: RA-极限冰壶 | B6: 初中组 | C6: 都江堰市七一青城山学校初中 | D6: 都江堰市七一青城山学校 | E6: 周龙虎|杨丽 | F6: 高涵|姜雨虹|李昕怡 | G6: 三等奖
A7: RA-极限冰壶 | B7: 初中组 | C7: 都江堰市李冰2队 | D7: 都江堰市李冰中学 | E7: 袁发洪|马莉 | F7: 廖思睿|刘睿言|张晚雪 | G7: 三等奖
A8: RA-极限冰壶 | B8: 初中组 | C8: 都江堰市李冰中学1队 | D8: 都江堰市李冰中学 | E8: 袁发洪|陈开奇 | F8: 王福浩|苏堰煌 | G8: 三等奖
A9: RA-极限冰壶 | B9: 初中组 | C9: 都江堰市塔子坝中学 | D9: 都江堰市塔子坝中学 | E9: 杨林峰|刘超 | F9: 胡德丞|张徐铭 | G9: 三等奖

Sheet CREATE JR棒球闪击
A1: 赛项 | B1: 组别 | C1: 队伍名称 | D1: 注册单位 | E1: 参赛教练 | F1: 参赛选手 | G1: 奖项等级
A2: '棒球闪击' | B2: 中学组 | C2: 汤米家二队 | D2: 天津市达万培训学校 | E2: 高正元 | F2: 高梓萌|乔麟程 | G2: 冠军
A3: '棒球闪击' | B3: 中学组 | C3: 汤米家一队 | D3: 天津市达万培训学校 | E3: 高正元 | F3: 王钰萌|陈昱初 | G3: 亚军

Sheet TAI 智能车挑战
A1: 赛项 | B1: 组别 | C1: 队伍名称 | D1: 注册单位 | E1: 参赛教练 | F1: 参赛选手 | G1: 奖项等级
A2: TAI 智能车挑战赛项 | B2: 初中组 | C2: 南山双语1队 | D2: 四川省绵阳南山中学双语学校 | E2: 陈红 | F2: 王鑫禾 |王锦昊 | G2: 冠军
A3: TAI 智能车挑战赛项 | B3: 初中组 | C3: 鑫荣战队 | D3: 福建省南安第一中学 | E3: 黄文博 | F3: 陈新鑫|王荣臻 | G3: 冠军
A4: TAI 智能车挑战赛项 | B4: 初中组 | C4: 桐宇 | D4: 北京市朝阳区陈经纶中学分校实验学校 | E4: 唐铭徽 | F4: 李昊桐|张宸宇 | G4: 亚军
A5: TAI 智能车挑战赛项 | B5: 初中组 | C5: 博文天朗少年队 | D5: 坊子区博文现代学校 | E5: 许娟娟 | F5: 韩裕绅|林坤宇 | G5: 亚军
A6: TAI 智能车挑战赛项 | B6: 初中组 | C6: 鑫潼 | D6: 北京市朝阳区陈经纶中学分校实验学校 | E6: 杨佰川|刘容新 | F6: 张淼鑫|陈星潼 | G6: 季军
A7: TAI 智能车挑战赛项 | B7: 初中组 | C7: 芜湖市南瑞实验学校初中组2队 | D7: 芜湖市南瑞实验学校 | E7: 谢志刚 | F7: 倪文瑞|陈友明 | G7: 季军
A8: TAI 智能车挑战赛项 | B8: 初中组 | C8: FAZE战队 | D8: 泉州市第六中学 | E8: 郑震棋|钟盟 | F8: 魏曦文|周一想 | G8: 二等奖
A9: TAI 智能车挑战赛项 | B9: 初中组 | C9: 鑫航 | D9: 北京市朝阳区陈经纶中学分校实验学校 | E9: 张琦伟|许玲 | F9: 宁鑫|姚伯航 | G9: 二等奖
A10: TAI 智能车挑战赛项 | B10: 初中组 | C10: 南山双语2队 | D10: 四川省绵阳南山中学双语学校 | E10: 陈红 | F10: 陈逸扬|徐罗 | G10: 二等奖
A11: TAI 智能车挑战赛项 | B11: 初中组 | C11: 浩克 | D11: 北京市朝阳区陈经纶中学分校实验学校 | E11: 周晓初|齐斌 | F11: 胡之皓|丁可一 | G11: 二等奖
A12: TAI 智能车挑战赛项 | B12: 初中组 | C12: 成铭 | D12: 北京市朝阳区陈经纶中学分校实验学校 | E12: 邰明皓|张莲英 | F12: 吴彦成|蔡铭泽 | G12: 三等奖
... A43: TAI 智能车挑战赛项 | B43: 高中组 | C43: 合肥十中二队 | D43: 合肥市第十中学 | E43: 赵言言|熊蕊蕊 | F43: 贾云豫|侯义国 | G43: 三等奖
