Workbook

Sheet ENJOY AI系列赛项
A1: 2022世界机器人大赛城市赛(北京)青少年机器人设计大赛-ENJOY AI系列赛项成绩表
A2: 报名编号 | B2: 激活码 | C2: 赛项 | D2: 组别 | E2: 队伍名称 | F2: 申报单位 | G2: 教练信息 | H2: 学生信息 | I2: 总分数 | J2: 名次 | K2: 奖项
A3: =VLOOKUP(E3,[1]世机赛报名导出!A:B,2,FALSE) -> 29995 | B3: =VLOOKUP(E3,[1]世机赛报名导出!A:C,3,FALSE) -> hV52fbWT-20-010-t3-012-1-Ruj-05-TpL | C3: =VLOOKUP(E3,[1]世机赛报名导出!A:E,5,FALSE) -> '非攻' | D3: =VLOOKUP(E3,[1]世机赛报名导出!A:F,6,FALSE) -> 中学组 | E3: 运河2队 | F3: =VLOOKUP(E3,[1]世机赛报名导出!A:J,10,FALSE) -> 北京市通州区运河中学 | G3: =VLOOKUP(E3,[1]世机赛报名导出!A:N,14,FALSE) -> 白英会 | H3: =VLOOKUP(E3,[1]世机赛报名导出!A:P,16,FALSE) -> 曹育堃|王睿 | I3: 130 | J3: 1 | K3: 一等奖(冠军)
A4: 30448 | B4: hV52fblA-20-010-W0-012-1-vy7-05-YFW | C4: =VLOOKUP(E4,[1]世机赛报名导出!A:E,5,FALSE) -> '非攻' | D4: =VLOOKUP(E4,[1]世机赛报名导出!A:F,6,FALSE) -> 中学组 | E4: 火力少年七队 | F4: =VLOOKUP(E4,[1]世机赛报名导出!A:J,10,FALSE) -> 唐山优迪佳教育科技 | G4: =VLOOKUP(E4,[1]世机赛报名导出!A:N,14,FALSE) -> 吕莫军 | H4: =VLOOKUP(E4,[1]世机赛报名导出!A:P,16,FALSE) -> 刘家麟 | I4: 80 | J4: 2 | K4: 一等奖(亚军)
A5: =VLOOKUP(E5,[1]世机赛报名导出!A:B,2,FALSE) -> 29952 | B5: =VLOOKUP(E5,[1]世机赛报名导出!A:C,3,FALSE) -> hV52fbWY-20-010-R3-012-1-Xpt-05-s4S | C5: =VLOOKUP(E5,[1]世机赛报名导出!A:E,5,FALSE) -> '非攻' | D5: =VLOOKUP(E5,[1]世机赛报名导出!A:F,6,FALSE) -> 中学组 | E5: 运河1队 | F5: =VLOOKUP(E5,[1]世机赛报名导出!A:J,10,FALSE) -> 北京市通州区运河中学 | G5: =VLOOKUP(E5,[1]世机赛报名导出!A:N,14,FALSE) -> 田川 | H5: =VLOOKUP(E5,[1]世机赛报名导出!A:P,16,FALSE) -> 白熙哲|闫睿 | I5: 80 | J5: 3 | K5: 一等奖(季军)
A6: =VLOOKUP(E6,[1]世机赛报名导出!A:B,2,FALSE) -> 30347 | B6: =VLOOKUP(E6,[1]世机赛报名导出!A:C,3,FALSE) -> hV52fbWg-20-010-Be-012-1-IGM-05-B1h | C6: =VLOOKUP(E6,[1]世机赛报名导出!A:E,5,FALSE) -> '非攻' | D6: =VLOOKUP(E6,[1]世机赛报名导出!A:F,6,FALSE) -> 中学组 | E6: 唐宫勃森队 | F6: =VLOOKUP(E6,[1]世机赛报名导出!A:J,10,FALSE) -> 谨序 | G6: =VLOOKUP(E6,[1]世机赛报名导出!A:N,14,FALSE) -> 翟强 | H6: =VLOOKUP(E6,[1]世机赛报名导出!A:P,16,FALSE) -> 刘勃森 | I6: 65 | J6: 4 | K6: 二等奖
A7: =VLOOKUP(E7,[1]世机赛报名导出!A:B,2,FALSE) -> 30298 | B7: =VLOOKUP(E7,[1]世机赛报名导出!A:C,3,FALSE) -> hV52fbWn-20-010-bK-012-1-8KH-05-Paa | C7: =VLOOKUP(E7,[1]世机赛报名导出!A:E,5,FALSE) -> '非攻' | D7: =VLOOKUP(E7,[1]世机赛报名导出!A:F,6,FALSE) -> 中学组 | E7: 谨序程莹队 | F7: =VLOOKUP(E7,[1]世机赛报名导出!A:J,10,FALSE) -> 谨序 | G7: =VLOOKUP(E7,[1]世机赛报名导出!A:N,14,FALSE) -> 翟强 | H7: =VLOOKUP(E7,[1]世机赛报名导出!A:P,16,FALSE) -> 周睿莹|孙睦程 | I7: 45 | J7: 5 | K7: 三等奖
A8: 30443 | B8: hV52fblh-20-010-nt-012-1-CI3-05-64I | C8: =VLOOKUP(E8,[1]世机赛报名导出!A:E,5,FALSE) -> '非攻' | D8: =VLOOKUP(E8,[1]世机赛报名导出!A:F,6,FALSE) -> 中学组 | E8: 火力少年六队 | F8: =VLOOKUP(E8,[1]世机赛报名导出!A:J,10,FALSE) -> 唐山优迪佳教育科技 | G8: =VLOOKUP(E8,[1]世机赛报名导出!A:N,14,FALSE) -> 吕莫军 | H8: =VLOOKUP(E8,[1]世机赛报名导出!A:P,16,FALSE) -> 吕青泽|王艺林 | I8: 35 | J8: 6 | K8: 三等奖
A9: =VLOOKUP(E9,[1]世机赛报名导出!A:B,2,FALSE) -> 30310 | B9: =VLOOKUP(E9,[1]世机赛报名导出!A:C,3,FALSE) -> hV52fbWF-20-010-rg-012-1-AaO-05-R76 | C9: =VLOOKUP(E9,[1]世机赛报名导出!A:E,5,FALSE) -> '非攻' | D9: =VLOOKUP(E9,[1]世机赛报名导出!A:F,6,FALSE) -> 中学组 | E9: 谨序宇轩队 | F9: =VLOOKUP(E9,[1]世机赛报名导出!A:J,10,FALSE) -> 谨序 | G9: =VLOOKUP(E9,[1]世机赛报名导出!A:N,14,FALSE) -> 张立兴 | H9: =VLOOKUP(E9,[1]世机赛报名导出!A:P,16,FALSE) -> 赵宇轩 | I9: 35 | J9: 7 | K9: 三等奖
A10: =VLOOKUP(E10,[1]世机赛报名导出!A:B,2,FALSE) -> 30307 | B10: =VLOOKUP(E10,[1]世机赛报名导出!A:C,3,FALSE) -> hV52fbWd-20-010-PM-012-1-16v-05-c0c | C10: =VLOOKUP(E10,[1]世机赛报名导出!A:E,5,FALSE) -> '非攻' | D10: =VLOOKUP(E10,[1]世机赛报名导出!A:F,6,FALSE) -> 中学组 | E10: 谨序渲琦队 | F10: =VLOOKUP(E10,[1]世机赛报名导出!A:J,10,FALSE) -> 谨序 | G10: =VLOOKUP(E10,[1]世机赛报名导出!A:N,14,FALSE) -> 王晶 | H10: =VLOOKUP(E10,[1]世机赛报名导出!A:P,16,FALSE) -> 王悦琦|朱博渲 | I10: 35 | J10: 8 | K10: 三等奖
A11: =VLOOKUP(E11,[1]世机赛报名导出!A:B,2,FALSE) -> 30177 | B11: =VLOOKUP(E11,[1]世机赛报名导出!A:C,3,FALSE) -> hV52fbWE-20-010-PG-012-1-K0f-05-Ct4 | C11: =VLOOKUP(E11,[1]世机赛报名导出!A:E,5,FALSE) -> '非攻' | D11: =VLOOKUP(E11,[1]世机赛报名导出!A:F,6,FALSE) -> 中学组 | E11: 谨序辰瀚队 | F11: =VLOOKUP(E11,[1]世机赛报名导出!A:J,10,FALSE) -> 谨序 | G11: =VLOOKUP(E11,[1]世机赛报名导出!A:N,14,FALSE) -> 桑宬 | H11: =VLOOKUP(E11,[1]世机赛报名导出!A:P,16,FALSE) -> 张瀚文|赵梓辰 | I11: 30 | J11: 9 | K11: 三等奖
A13: =VLOOKUP(E13,[1]世机赛报名导出!A:B,2,FALSE) -> 29921 | B13: =VLOOKUP(E13,[1]世机赛报名导出!A:C,3,FALSE) -> hV52fblx-20-010-JD-013-1-ul0-01-CCB | C13: =VLOOKUP(E13,[1]世机赛报名导出!A:E,5,FALSE) -> '疫苗先锋' | D13: =VLOOKUP(E13,[1]世机赛报名导出!A:F,6,FALSE) -> 小学组 | E13: 北京市大兴区第三小学 | F13: =VLOOKUP(E13,[1]世机赛报名导出!A:J,10,FALSE) -> 北京市大兴区第三小学 | G13: =VLOOKUP(E13,[1]世机赛报名导出!A:N,14,FALSE) -> 许凤 | H13: =VLOOKUP(E13,[1]世机赛报名导出!A:P,16,FALSE) -> 刘乔恩|王文睿 | I13: 890 | J13: 1 | K13: 一等奖(冠军)
A14: =VLOOKUP(E14,[1]世机赛报名导出!A:B,2,FALSE) -> 29840 | B14: =VLOOKUP(E14,[1]世机赛报名导出!A:C,3,FALSE) -> hV52fblf-20-010-it-013-1-WPA-01-M0D | C14: =VLOOKUP(E14,[1]世机赛报名导出!A:E,5,FALSE) -> '疫苗先锋' | D14: =VLOOKUP(E14,[1]世机赛报名导出!A:F,6,FALSE) -> 小学组 | E14: 十二中附小1队 | F14: =VLOOKUP(E14,[1]世机赛报名导出!A:J,10,FALSE) -> 北京市第十二中学附属实验小学 | G14: =VLOOKUP(E14,[1]世机赛报名导出!A:N,14,FALSE) -> 韩旭 | H14: =VLOOKUP(E14,[1]世机赛报名导出!A:P,16,FALSE) -> 朱疆谕|马皓然 | I14: 880 | J14: 2 | K14: 一等奖(亚军)
A15: =VLOOKUP(E15,[1]世机赛报名导出!A:B,2,FALSE) -> 29957 | B15: =VLOOKUP(E15,[1]世机赛报名导出!A:C,3,FALSE) -> hV52fbl9-20-010-UR-013-1-YiJ-01-CzO | C15: =VLOOKUP(E15,[1]世机赛报名导出!A:E,5,FALSE) -> '疫苗先锋' | D15: =VLOOKUP(E15,[1]世机赛报名导出!A:F,6,FALSE) -> 小学组 | E15: 世纪3队 | F15: =VLOOKUP(E15,[1]世机赛报名导出!A:J,10,FALSE) -> 朝阳区芳草地国际学校世纪小学 | G15: =VLOOKUP(E15,[1]世机赛报名导出!A:N,14,FALSE) -> 彭亚宁 | H15: =VLOOKUP(E15,[1]世机赛报名导出!A:P,16,FALSE) -> 方一珂|张佳芮 | I15: 490 | J15: 3 | K15: 一等奖(季军)
A16: =VLOOKUP(E16,[1]世机赛报名导出!A:B,2,FALSE) -> 30190 | B16: =VLOOKUP(E16,[1]世机赛报名导出!A:C,3,FALSE) -> hV52fGMe-20-010-oU-013-1-kd7-01-XDI | C16: =VLOOKUP(E16,[1]世机赛报名导出!A:E,5,FALSE) -> '疫苗先锋' | D16: =VLOOKUP(E16,[1]世机赛报名导出!A:F,6,FALSE) -> 小学组 | E16: 二中经开 | F16: =VLOOKUP(E16,[1]世机赛报名导出!A:J,10,FALSE) -> 北京市第二中学经开区学校 | G16: =VLOOKUP(E16,[1]世机赛报名导出!A:N,14,FALSE) -> 闫瑞文 | H16: =VLOOKUP(E16,[1]世机赛报名导出!A:P,16,FALSE) -> 龙禹翰|李锦 | I16: 460 | J16: 4 | K16: 二等奖
A17: =VLOOKUP(E17,[1]世机赛报名导出!A:B,2,FALSE) -> 29913 | B17: =VLOOKUP(E17,[1]世机赛报名导出!A:C,3,FALSE) -> hV52fblo-20-010-h7-013-1-3Cc-01-tt6 | C17: =VLOOKUP(E17,[1]世机赛报名导出!A:E,5,FALSE) -> '疫苗先锋' | D17: =VLOOKUP(E17,[1]世机赛报名导出!A:F,6,FALSE) -> 小学组 | E17: 世纪1队 | F17: =VLOOKUP(E17,[1]世机赛报名导出!A:J,10,FALSE) -> 北京市朝阳区芳草地国际学校世纪小学 | G17: =VLOOKUP(E17,[1]世机赛报名导出!A:N,14,FALSE) -> 孔令娟 | H17: =VLOOKUP(E17,[1]世机赛报名导出!A:P,16,FALSE) -> 杨祺安|申尔峤 | I17: 400 | J17: 5 | K17: 二等奖
A18: =VLOOKUP(E18,[1]世机赛报名导出!A:B,2,FALSE) -> 29949 | B18: =VLOOKUP(E18,[1]世机赛报名导出!A:C,3,FALSE) -> hV52fblK-20-010-1c-013-1-JoH-01-iun | C18: =VLOOKUP(E18,[1]世机赛报名导出!A:E,5,FALSE) -> '疫苗先锋' | D18: =VLOOKUP(E18,[1]世机赛报名导出!A:F,6,FALSE) -> 小学组 | E18: 世纪2队 | F18: =VLOOKUP(E18,[1]世机赛报名导出!A:J,10,FALSE) -> 北京市朝阳区芳草地国际学校世纪小学 | G18: =VLOOKUP(E18,[1]世机赛报名导出!A:N,14,FALSE) -> 张媛媛 | H18: =VLOOKUP(E18,[1]世机赛报名导出!A:P,16,FALSE) -> 赵煜晨|李与棋 | I18: 390 | J18: 6 | K18: 二等奖
A19: 30366 | B19: hV52fGME-20-010-t2-013-1-DuH-01-sGR | C19: '疫苗先锋' | D19: 小学组 | E19: 一鸣 | F19: 爱诺迪成长中心 | G19: 王春雷 | H19: 伍培铭|宋易洲 | I19: 370 | J19: 7 | K19: 二等奖
A20: =VLOOKUP(E20,[1]世机赛报名导出!A:B,2,FALSE) -> 30375 | B20: =VLOOKUP(E20,[1]世机赛报名导出!A:C,3,FALSE) -> hV52fGMg-20-010-sq-013-1-CLF-01-uZM | C20: =VLOOKUP(E20,[1]世机赛报名导出!A:E,5,FALSE) -> '疫苗先锋' | D20: =VLOOKUP(E20,[1]世机赛报名导出!A:F,6,FALSE) -> 小学组 | E20: 双王巡山队 | F20: =VLOOKUP(E20,[1]世机赛报名导出!A:J,10,FALSE) -> 爱诺迪成长中心 | G20: =VLOOKUP(E20,[1]世机赛报名导出!A:N,14,FALSE) -> 王春雷 | H20: =VLOOKUP(E20,[1]世机赛报名导出!A:P,16,FALSE) -> 王思栋|王兆麒 | I20: 350 | J20: 8 | K20: 二等奖
A21: =VLOOKUP(E21,[1]世机赛报名导出!A:B,2,FALSE) -> 29875 | B21: =VLOOKUP(E21,[1]世机赛报名导出!A:C,3,FALSE) -> hV52fblt-20-010-4w-013-1-imR-01-qGv | C21: =VLOOKUP(E21,[1]世机赛报名导出!A:E,5,FALSE) -> '疫苗先锋' | D21: =VLOOKUP(E21,[1]世机赛报名导出!A:F,6,FALSE) -> 小学组 | E21: 十二中附小2队 | F21: =VLOOKUP(E21,[1]世机赛报名导出!A:J,10,FALSE) -> 北京市第十二中学附属实验小学 | G21: =VLOOKUP(E21,[1]世机赛报名导出!A:N,14,FALSE) -> 韩旭 | H21: =VLOOKUP(E21,[1]世机赛报名导出!A:P,16,FALSE) -> 刘奕恺|任岳成 | I21: 350 | J21: 9 | K21: 二等奖
A22: =VLOOKUP(E22,[1]世机赛报名导出!A:B,2,FALSE) -> 29885 | B22: =VLOOKUP(E22,[1]世机赛报名导出!A:C,3,FALSE) -> hV52fblX-20-010-d7-013-1-qnv-01-VCt | C22: =VLOOKUP(E22,[1]世机赛报名导出!A:E,5,FALSE) -> '疫苗先锋' | D22: =VLOOKUP(E22,[1]世机赛报名导出!A:F,6,FALSE) -> 小学组 | E22: 中古友谊小学队 | F22: =VLOOKUP(E22,[1]世机赛报名导出!A:J,10,FALSE) -> 北京市西城区中古友谊小学 | G22: =VLOOKUP(E22,[1]世机赛报名导出!A:N,14,FALSE) -> 杨涛 | H22: =VLOOKUP(E22,[1]世机赛报名导出!A:P,16,FALSE) -> 张梓诺|汤丰赫 | I22: 280 | J22: 10 | K22: 三等奖
A23: =VLOOKUP(E23,[1]世机赛报名导出!A:B,2,FALSE) -> 30234 | B23: =VLOOKUP(E23,[1]世机赛报名导出!A:C,3,FALSE) -> hV52fGMR-20-010-J8-013-1-Gc6-01-AmL | C23: =VLOOKUP(E23,[1]世机赛报名导出!A:E,5,FALSE) -> '疫苗先锋' | D23: =VLOOKUP(E23,[1]世机赛报名导出!A:F,6,FALSE) -> 小学组 | E23: 汪汪队 | F23: =VLOOKUP(E23,[1]世机赛报名导出!A:J,10,FALSE) -> 翠微小学 | G23: =VLOOKUP(E23,[1]世机赛报名导出!A:N,14,FALSE) -> 何跃 | H23: =VLOOKUP(E23,[1]世机赛报名导出!A:P,16,FALSE) -> 徐子涵|曹允刚 | I23: 240 | J23: 11 | K23: 三等奖
A24: 30373 | B24: hV52fGMd-20-010-36-013-1-Dja-01-UWa | C24: '疫苗先锋' | D24: 小学组 | E24: 璞瑜生辉 | F24: 爱诺迪成长中心 | G24: 王春雷 | H24: 宋璞|宋瑜 | I24: 190 | J24: 12 | K24: 三等奖
A25: 30081 | B25: hV52fGMQ-20-010-u9-013-1-K4u-01-wKu | C25: '疫苗先锋' | D25: 小学组 | E25: 飞鹤 | F25: 爱诺迪成长中心 | G25: 王春雷 | H25: 张志赫|赵尚非 | I25: 150 | J25: 13 | K25: 三等奖
A26: =VLOOKUP(E26,[1]世机赛报名导出!A:B,2,FALSE) -> 30019 | B26: =VLOOKUP(E26,[1]世机赛报名导出!A:C,3,FALSE) -> hV52fblN-20-010-7T-013-1-Ypl-01-WB7 | C26: =VLOOKUP(E26,[1]世机赛报名导出!A:E,5,FALSE) -> '疫苗先锋' | D26: =VLOOKUP(E26,[1]世机赛报名导出!A:F,6,FALSE) -> 小学组 | E26: 翔龙 | F26: =VLOOKUP(E26,[1]世机赛报名导出!A:J,10,FALSE) -> 北京工商大学 | G26: =VLOOKUP(E26,[1]世机赛报名导出!A:N,14,FALSE) -> 王瑜 | H26: =VLOOKUP(E26,[1]世机赛报名导出!A:P,16,FALSE) -> 贺天佐|康浩恩 | I26: 120 | J26: 14 | K26: 三等奖
A27: =VLOOKUP(E27,[1]世机赛报名导出!A:B,2,FALSE) -> 30663 | B27: =VLOOKUP(E27,[1]世机赛报名导出!A:C,3,FALSE) -> hV52fblU-20-010-eN-013-1-CMa-01-vSA | C27: =VLOOKUP(E27,[1]世机赛报名导出!A:E,5,FALSE) -> '疫苗先锋' | D27: =VLOOKUP(E27,[1]世机赛报名导出!A:F,6,FALSE) -> 小学组 | E27: 通州一小疫苗 | F27: =VLOOKUP(E27,[1]世机赛报名导出!A:J,10,FALSE) -> 北京教育科学研究院通州区第一实验小学 | G27: =VLOOKUP(E27,[1]世机赛报名导出!A:N,14,FALSE) -> 颜超 | H27: =VLOOKUP(E27,[1]世机赛报名导出!A:P,16,FALSE) -> 周英琦|马铭泽 | I27: 100 | J27: 15 | K27: 三等奖
A28: 30372 | B28: hV52fGM1-20-010-7o-013-1-VWW-01-Tya | C28: '疫苗先锋' | D28: 小学组 | E28: 唐王巡视 | F28: 北京市海淀实验二小/北京市海淀区八里庄小学 | G28: 王春雷 | H28: 王储渊|唐博衍 | I28: 100 | J28: 16 | K28: 三等奖
A29: =VLOOKUP(E29,[1]世机赛报名导出!A:B,2,FALSE) -> 30185 | B29: =VLOOKUP(E29,[1]世机赛报名导出!A:C,3,FALSE) -> hV52fblG-20-010-Ta-013-1-CY3-01-nin | C29: =VLOOKUP(E29,[1]世机赛报名导出!A:E,5,FALSE) -> '疫苗先锋' | D29: =VLOOKUP(E29,[1]世机赛报名导出!A:F,6,FALSE) -> 小学组 | E29: 东方先锋队 | F29: =VLOOKUP(E29,[1]世机赛报名导出!A:J,10,FALSE) -> 北京市通州区东方小学 | G29: =VLOOKUP(E29,[1]世机赛报名导出!A:N,14,FALSE) -> 张霞 | H29: =VLOOKUP(E29,[1]世机赛报名导出!A:P,16,FALSE) -> 杨鑫轶|张轩瑞 | I29: 30 | J29: 17 | K29: 三等奖
A30: 30367 | B30: hV52fGMu-20-010-To-013-1-Po7-01-MGH | C30: '疫苗先锋' | D30: 小学组 | E30: 初心 | F30: 北京第一实验小学/北京市西城区复兴门外第一小学 | G30: 王春雷 | H30: 初啸|艾昕颐 | I30: 30 | J30: 18 | K30: 三等奖
A32: =VLOOKUP(E32,[1]世机赛报名导出!A:B,2,FALSE) -> 29851 | B32: =VLOOKUP(E32,[1]世机赛报名导出!A:C,3,FALSE) -> hV52fblj-20-010-VE-013-1-Vbb-05-BKO | C32: =VLOOKUP(E32,[1]世机赛报名导出!A:E,5,FALSE) -> '疫苗先锋' | D32: =VLOOKUP(E32,[1]世机赛报名导出!A:F,6,FALSE) -> 中学组 | E32: BJ12XF02 | F32: =VLOOKUP(E32,[1]世机赛报名导出!A:J,10,FALSE) -> 北京市第十二中学 | G32: =VLOOKUP(E32,[1]世机赛报名导出!A:N,14,FALSE) -> 程老师 | H32: =VLOOKUP(E32,[1]世机赛报名导出!A:P,16,FALSE) -> 张津|菅卓然 | I32: 880 | J32: 1 | K32: 一等奖(冠军)
A33: =VLOOKUP(E33,[1]世机赛报名导出!A:B,2,FALSE) -> 30522 | B33: =VLOOKUP(E33,[1]世机赛报名导出!A:C,3,FALSE) -> hV52fblD-20-010-3U-013-1-nVQ-05-EgG | C33: =VLOOKUP(E33,[1]世机赛报名导出!A:E,5,FALSE) -> '疫苗先锋' | D33: =VLOOKUP(E33,[1]世机赛报名导出!A:F,6,FALSE) -> 中学组 | E33: 火龙队 | F33: =VLOOKUP(E33,[1]世机赛报名导出!A:J,10,FALSE) -> 北京市和平街第一中学 | G33: =VLOOKUP(E33,[1]世机赛报名导出!A:N,14,FALSE) -> 张 岩 | H33: =VLOOKUP(E33,[1]世机赛报名导出!A:P,16,FALSE) -> 周佳星|崔同一 | I33: 740 | J33: 2 | K33: 一等奖(亚军)
A34: =VLOOKUP(E34,[1]世机赛报名导出!A:B,2,FALSE) -> 30517 | B34: =VLOOKUP(E34,[1]世机赛报名导出!A:C,3,FALSE) -> hV52fble-20-010-VZ-013-1-BQK-05-H8F | C34: =VLOOKUP(E34,[1]世机赛报名导出!A:E,5,FALSE) -> '疫苗先锋' | D34: =VLOOKUP(E34,[1]世机赛报名导出!A:F,6,FALSE) -> 中学组 | E34: 白泽队 | F34: =VLOOKUP(E34,[1]世机赛报名导出!A:J,10,FALSE) -> 北京市和平街第一中学 | G34: =VLOOKUP(E34,[1]世机赛报名导出!A:N,14,FALSE) -> 张 岩 | H34: =VLOOKUP(E34,[1]世机赛报名导出!A:P,16,FALSE) -> 宋泽宇|孙铂 | I34: 620 | J34: 3 | K34: 一等奖(季军)
A35: =VLOOKUP(E35,[1]世机赛报名导出!A:B,2,FALSE) -> 30150 | B35: =VLOOKUP(E35,[1]世机赛报名导出!A:C,3,FALSE) -> hV52fGMs-20-010-pB-013-1-fAU-05-qbk | C35: =VLOOKUP(E35,[1]世机赛报名导出!A:E,5,FALSE) -> '疫苗先锋' | D35: =VLOOKUP(E35,[1]世机赛报名导出!A:F,6,FALSE) -> 中学组 | E35: 鲲鹏队 | F35: =VLOOKUP(E35,[1]世机赛报名导出!A:J,10,FALSE) -> 北京市昌平区第二中学回龙观校区 | G35: =VLOOKUP(E35,[1]世机赛报名导出!A:N,14,FALSE) -> 佟婧楠 | H35: =VLOOKUP(E35,[1]世机赛报名导出!A:P,16,FALSE) -> 焦阳|金彤 | I35: 610 | J35: 4 | K35: 二等奖
A36: =VLOOKUP(E36,[1]世机赛报名导出!A:B,2,FALSE) -> 29879 | B36: =VLOOKUP(E36,[1]世机赛报名导出!A:C,3,FALSE) -> hV52fblm-20-010-oc-013-1-hP3-05-K3W | C36: =VLOOKUP(E36,[1]世机赛报名导出!A:E,5,FALSE) -> '疫苗先锋' | D36: =VLOOKUP(E36,[1]世机赛报名导出!A:F,6,FALSE) -> 中学组 | E36: 陈分线下一队 | F36: =VLOOKUP(E36,[1]世机赛报名导出!A:J,10,FALSE) -> 陈经纶中学分校东湖校区 | G36: =VLOOKUP(E36,[1]世机赛报名导出!A:N,14,FALSE) -> 秦红霞 | H36: =VLOOKUP(E36,[1]世机赛报名导出!A:P,16,FALSE) -> 胡诚之|郭迈勇 | I36: 540 | J36: 5 | K36: 二等奖
A37: =VLOOKUP(E37,[1]世机赛报名导出!A:B,2,FALSE) -> 30151 | B37: =VLOOKUP(E37,[1]世机赛报名导出!A:C,3,FALSE) -> hV52fGxh-20-010-XH-013-1-k6u-05-gYe | C37: =VLOOKUP(E37,[1]世机赛报名导出!A:E,5,FALSE) -> '疫苗先锋' | D37: =VLOOKUP(E37,[1]世机赛报名导出!A:F,6,FALSE) -> 中学组 | E37: 共用电子队 | F37: =VLOOKUP(E37,[1]世机赛报名导出!A:J,10,FALSE) -> 北京市昌平区第二中学回龙观校区 | G37: =VLOOKUP(E37,[1]世机赛报名导出!A:N,14,FALSE) -> 杨静 | H37: =VLOOKUP(E37,[1]世机赛报名导出!A:P,16,FALSE) -> 黄思涵|王润熙 | I37: 520 | J37: 6 | K37: 二等奖
A38: =VLOOKUP(E38,[1]世机赛报名导出!A:B,2,FALSE) -> 29847 | B38: =VLOOKUP(E38,[1]世机赛报名导出!A:C,3,FALSE) -> hV52fblW-20-010-vF-013-1-ngd-05-MoB | C38: =VLOOKUP(E38,[1]世机赛报名导出!A:E,5,FALSE) -> '疫苗先锋' | D38: =VLOOKUP(E38,[1]世机赛报名导出!A:F,6,FALSE) -> 中学组 | E38: BJ12XF01 | F38: =VLOOKUP(E38,[1]世机赛报名导出!A:J,10,FALSE) -> 北京市第十二中学 | G38: =VLOOKUP(E38,[1]世机赛报名导出!A:N,14,FALSE) -> 程老师 | H38: =VLOOKUP(E38,[1]世机赛报名导出!A:P,16,FALSE) -> 郑永祺|王子言 | I38: 430 | J38: 7 | K38: 三等奖
A39: =VLOOKUP(E39,[1]世机赛报名导出!A:B,2,FALSE) -> 29861 | B39: =VLOOKUP(E39,[1]世机赛报名导出!A:C,3,FALSE) -> hV52fblH-20-010-4V-013-1-6Nh-05-LbW | C39: =VLOOKUP(E39,[1]世机赛报名导出!A:E,5,FALSE) -> '疫苗先锋' | D39: =VLOOKUP(E39,[1]世机赛报名导出!A:F,6,FALSE) -> 中学组 | E39: 思源智控 | F39: =VLOOKUP(E39,[1]世机赛报名导出!A:J,10,FALSE) -> 北京交通大学附属中学 | G39: =VLOOKUP(E39,[1]世机赛报名导出!A:N,14,FALSE) -> 沈其中 | H39: =VLOOKUP(E39,[1]世机赛报名导出!A:P,16,FALSE) -> 肖畅|汪知奇 | I39: 320 | J39: 8 | K39: 三等奖
A40: =VLOOKUP(E40,[1]世机赛报名导出!A:B,2,FALSE) -> 29961 | B40: =VLOOKUP(E40,[1]世机赛报名导出!A:C,3,FALSE) -> hV52fblB-20-010-6y-013-1-wYb-05-aOf | C40: =VLOOKUP(E40,[1]世机赛报名导出!A:E,5,FALSE) -> '疫苗先锋' | D40: =VLOOKUP(E40,[1]世机赛报名导出!A:F,6,FALSE) -> 中学组 | E40: 陈分线下二队 | F40: =VLOOKUP(E40,[1]世机赛报名导出!A:J,10,FALSE) -> 陈经纶中学分校东湖校区 | G40: =VLOOKUP(E40,[1]世机赛报名导出!A:N,14,FALSE) -> 秦红霞 | H40: =VLOOKUP(E40,[1]世机赛报名导出!A:P,16,FALSE) -> 曹丞舟|远鹤伟 | I40: 240 | J40: 9 | K40: 三等奖
A41: 29988 | B41: hV52fblE-20-010-Mr-013-1-bUr-05-CQc | C41: '疫苗先锋' | D41: 初中组 | E41: 思源智控1队 | F41: 北京交通大学附属中学 | G41: 沈其中 | H41: 刘雨润 | I41: 180 | J41: 10 | K41: 三等奖
A43: =VLOOKUP(E43,[1]世机赛报名导出!A:B,2,FALSE) -> 29922 | B43: =VLOOKUP(E43,[1]世机赛报名导出!A:C,3,FALSE) -> hV52fbOD-20-010-8W-011-1-ZUT-01-Nqk | C43: =VLOOKUP(E43,[1]世机赛报名导出!A:E,5,FALSE) -> '冰雪运动会' | D43: =VLOOKUP(E43,[1]世机赛报名导出!A:F,6,FALSE) -> 小学组 | E43: 黄小1队 | F43: =VLOOKUP(E43,[1]世机赛报名导出!A:J,10,FALSE) -> 河北省唐山市丰润区杨官林镇黄家屯中心小学 | G43: =VLOOKUP(E43,[1]世机赛报名导出!A:N,14,FALSE) -> 姚艳杰 | H43: =VLOOKUP(E43,[1]世机赛报名导出!A:P,16,FALSE) -> 姚森峄|王梦涵 | I43: 990 | J43: 1 | K43: 一等奖(冠军)
...

Sheet SuperAl超级轨迹赛项
A1: 2022世界机器人大赛城市赛(北京)青少年机器人设计大赛-SuperAl超级轨迹赛项成绩表
A2: 报名编号 | B2: 激活码 | C2: 赛道 | D2: 赛项 | E2: 组别 | F2: 队伍名称 | G2: 申报单位 | H2: 教练信息 | I2: 学生信息 | J2: 比赛分数 | K2: 成绩排名 | L2: 奖项
A3: 30079 | B3: hV52fb1P-20-020-vS-021-1-did-01-gOM | C3: 'SuperAl超级轨迹赛项' | D3: 'SuperAI超级轨迹赛-星际家园' | E3: 小学组 | F3: 潞河附属2队 | G3: 北京市通州区潞河中学附属学校 | H3: 李兵 | I3: 李亦方|魏宣怡 | J3: 151 | K3: 1 | L3: 一等奖(冠军)
A4: 29872 | B4: hV52fb14-20-020-AT-021-1-pAj-01-4j6 | C4: 'SuperAl超级轨迹赛项' | D4: 'SuperAI超级轨迹赛-星际家园' | E4: 小学组 | F4: 人航梦之队 | G4: 人大附中航天城学校 | H4: 刘媛|魏百惠 | I4: 张立澔|王禹涵 | J4: 120 | K4: 2 | L4: 一等奖(亚军)
A5: 30077 | B5: hV52fb3k-20-020-fY-021-1-M4i-01-QJb | C5: 'SuperAl超级轨迹赛项' | D5: 'SuperAI超级轨迹赛-星际家园' | E5: 小学组 | F5: 潞河附属飞狐队 | G5: 北京市通州区潞河中学附属学校 | H5: 李卫华 | I5: 任若飞|胡博轩 | J5: 100 | K5: 3 | L5: 一等奖(季军)
A6: 29965 | B6: hV52fb3T-20-020-c6-021-1-QwX-01-RuR | C6: SuperAl超级轨迹赛项' | D6: 'SuperAI超级轨迹赛-星际家园' | E6: 小学组 | F6: 北京市第一七一中学附属青年湖小学 | G6: 北京市第一七一中学附属青年湖小学 | H6: 王海峰 | I6: 李思睿|吴晓庚 | J6: 96 | K6: 4 | L6: 二等奖
A7: 29857 | B7: hV52fb1h-20-020-bK-021-1-x32-01-5Ki | C7: 'SuperAl超级轨迹赛项' | D7: 'SuperAI超级轨迹赛-星际家园' | E7: 小学组 | F7: 广小队 | G7: 北京市广渠门中学附属花市小学 | H7: 裴毅 | I7: 付思涵|魏晓江 | J7: 87 | K7: 5 | L7: 二等奖
A8: 29853 | B8: hV52fb3d-20-020-Z1-021-1-GZp-01-QG0 | C8: 'SuperAl超级轨迹赛项' | D8: 'SuperAI超级轨迹赛-星际家园' | E8: 小学组 | F8: 北大附小队 | G8: 北京大学附属小学 | H8: 李岩|宁方京 | I8: 庄谨宁|孙明昊 | J8: 57 | K8: 6 | L8: 二等奖
A9: 29929 | B9: hV52fb3E-20-020-OO-021-1-ftq-01-QHH | C9: 'SuperAl超级轨迹赛项' | D9: 'SuperAI超级轨迹赛-星际家园' | E9: 小学组 | F9: 博睿科奋勇博翊队 | G9: 博睿科机器人 | H9: 贾守利 | I9: 刘晨翊|芮翊博 | J9: 51 | K9: 7 | L9: 三等奖
A10: 30891 | B10: hV52fb1I-20-020-f5-021-1-new-01-Rd5 | C10: 'SuperAl超级轨迹赛项' | D10: 'SuperAI超级轨迹赛-星际家园' | E10: 小学组 | F10: 绝代双骄 | G10: 乐博顺义校区 | H10: 胡美刚 | I10: 全志浩|甘宇鹏 | J10: 50 | K10: 8 | L10: 三等奖
A11: 31014 | B11: hV52fb1i-20-020-id-021-1-IsF-01-VGx | C11: 'SuperAl超级轨迹赛项' | D11: 'SuperAI超级轨迹赛-星际家园' | E11: 小学组 | F11: 勇往直前 | G11: 乐博乐博顺义校区 | H11: 郭星 | I11: 李腾宇|辛泽凯 | J11: 46 | K11: 9 | L11: 三等奖
A12: 29854 | B12: hV52fb1A-20-020-qw-021-1-niR-01-HdO | C12: 'SuperAl超级轨迹赛项' | D12: 'SuperAI超级轨迹赛-星际家园' | E12: 小学组 | F12: 森泽梦之队 | G12: 人大附中航天城学校 | H12: 刘媛|魏百惠 | I12: 张皓森|郭乙泽 | J12: 37 | K12: 10 | L12: 三等奖
A13: 29975 | B13: hV52fb33-20-020-9a-021-1-hNG-01-LOM | C13: 'SuperAl超级轨迹赛项' | D13: 'SuperAI超级轨迹赛-星际家园' | E13: 小学组 | F13: 博睿科勇闯鑫豪队 | G13: 博睿科机器人 | H13: 赵鑫 | I13: 张鑫澔|高子豪 | J13: 24 | K13: 11 | L13: 三等奖
A14: 30884 | B14: hV52fb15-20-020-rK-021-1-CwW-01-0td | C14: 'SuperAl超级轨迹赛项' | D14: 'SuperAI超级轨迹赛-星际家园' | E14: 小学组 | F14: 超能战队 | G14: 乐博乐博顺义校区 | H14: 郭星 | I14: 顾展宁|李子昂 | J14: 3 | K14: 12 | L14: 三等奖
A16: 报名编号 | B16: 激活码 | C16: 赛道 | D16: 赛项 | E16: 组别 | F16: 队伍名称 | G16: 申报单位 | H16: 教练信息 | I16: 学生信息 | J16: 比赛分数 | K16: 成绩排名 | L16: 奖项
A17: 29936 | B17: hV52fb1X-20-020-pm-021-1-r2U-02-Dbn | C17: 'SuperAl超级轨迹赛项' | D17: 'SuperAI超级轨迹赛-星际家园' | E17: 初中组 | F17: 北京市古城中学队 | G17: 北京市古城中学 | H17: 孟宪民 | I17: 耿梓泰|陈郝鹏 | J17: 254 | K17: 1 | L17: 一等奖(冠军)
A18: 30063 | B18: hV52fb1s-20-020-gP-021-1-dYa-02-39O | C18: 'SuperAl超级轨迹赛项' | D18: 'SuperAI超级轨迹赛-星际家园' | E18: 初中组 | F18: 七中创新队 | G18: 北京市第七中学 | H18: 王雨晨 | I18: 张昊 | J18: 243 | K18: 2 | L18: 一等奖(亚军)
A19: 29909 | B19: hV52fb18-20-020-fZ-021-1-kyC-02-Ejz | C19: 'SuperAl超级轨迹赛项' | D19: 'SuperAI超级轨迹赛-星际家园' | E19: 初中组 | F19: ‘东风’机器人竞技2队 | G19: 北京市第二中学通州校区 | H19: 张之浩 | I19: 李子萌|李佳颖 | J19: 220 | K19: 3 | L19: 一等奖(季军)
A20: 29945 | B20: hV52fb1u-20-020-Ob-021-1-h2t-02-VdE | C20: 'SuperAl超级轨迹赛项' | D20: 'SuperAI超级轨迹赛-星际家园' | E20: 初中组 | F20: luckin | G20: 人大附中航天城学校 | H20: 赵琪旻 | I20: 冯嘉鑫|李嘉睿 | J20: 210 | K20: 4 | L20: 二等奖
A21: 29907 | B21: hV52fb1Y-20-020-bx-021-1-viX-02-Wpt | C21: 'SuperAl超级轨迹赛项' | D21: 'SuperAI超级轨迹赛-星际家园' | E21: 初中组 | F21: ‘东风’机器人竞技初中1队 | G21: 北京市第二中学通州校区 | H21: 张之浩 | I21: 刘晓可|张楚涵 | J21: 172 | K21: 5 | L21: 二等奖
A22: 29865 | B22: hV52fb1r-20-020-1L-021-1-TeI-02-kAV | C22: 'SuperAl超级轨迹赛项' | D22: 'SuperAI超级轨迹赛-星际家园' | E22: 初中组 | F22: 潞河中学初中翱翔1队 | G22: 北京市通州区潞河中学 | H22: 崔长华|高静静 | I22: 康皓禹|张圣伦 | J22: 164 | K22: 6 | L22: 二等奖
A23: 29968 | B23: hV52fb16-20-020-Wh-021-1-L7C-02-AY9 | C23: 'SuperAl超级轨迹赛项' | D23: 'SuperAI超级轨迹赛-星际家园' | E23: 初中组 | F23: 171初中队 | G23: 北京市第一七一中学 | H23: 张楠|李铮 | I23: 陈悦阳|王钰达 | J23: 137 | K23: 7 | L23: 三等奖
A24: 30001 | B24: hV52fb1p-20-020-Vo-021-1-8LX-02-PD8 | C24: 'SuperAl超级轨迹赛项' | D24: 'SuperAI超级轨迹赛-星际家园' | E24: 初中组 | F24: 昌平一中1 | G24: 北京市昌平区第一中学 | H24: 艾子豪 | I24: 党子童|刘恩彤 | J24: 85 | K24: 8 | L24: 三等奖
A25: 30055 | B25: hV52fb1k-20-020-sx-021-1-MgK-02-rmT | C25: 'SuperAl超级轨迹赛项' | D25: 'SuperAI超级轨迹赛-星际家园' | E25: 初中组 | F25: 怡海1队 | G25: 北京市丰台区怡海中学 | H25: 徐启发 | I25: 徐钰航|李聚钦 | J25: 80 | K25: 9 | L25: 三等奖
A26: 30000 | B26: hV52fb1o-20-020-yd-021-1-ixe-02-tR0 | C26: 'SuperAl超级轨迹赛项' | D26: 'SuperAI超级轨迹赛-星际家园' | E26: 初中组 | F26: Dream Bloom | G26: 北京市昌平区第二中学 | H26: 王珽|李胜男 | I26: 田智远|陈墨涵 | J26: 58 | K26: 10 | L26: 三等奖
A27: 30006 | B27: hV52fb10-20-020-sy-021-1-j4w-02-y5O | C27: 'SuperAl超级轨迹赛项' | D27: 'SuperAI超级轨迹赛-星际家园' | E27: 初中组 | F27: 昌平一中2 | G27: 北京市昌平区第一中学 | H27: 艾子豪 | I27: 王一皓|郭骐畅 | J27: 49 | K27: 11 | L27: 三等奖
A28: 30057 | B28: hV52fb1F-20-020-qd-021-1-Pvv-02-93A | C28: 'SuperAl超级轨迹赛项' | D28: 'SuperAI超级轨迹赛-星际家园' | E28: 初中组 | F28: 怡海2队 | G28: 北京市丰台区怡海中学 | H28: 徐启发 | I28: 王泊森|靳雨昂 | J28: 15 | K28: 12 | L28: 三等奖
A29: 29923 | B29: hV52fb1d-20-020-2P-021-1-YRJ-02-Pkf | C29: 'SuperAl超级轨迹赛项' | D29: 'SuperAI超级轨迹赛-星际家园' | E29: 初中组 | F29: 沐豫晨光 | G29: 北京大学附属中学石景山学校. | H29: 张结实 | I29: 梁豫达|陈沐霖 | J29: 10 | K29: 13 | L29: 三等奖
A31: 报名编号 | B31: 激活码 | C31: 赛道 | D31: 赛项 | E31: 组别 | F31: 队伍名称 | G31: 申报单位 | H31: 教练信息 | I31: 学生信息 | J31: 比赛分数 | K31: 成绩排名 | L31: 奖项
A32: 29877 | B32: hV52fbBU-20-020-ci-021-1-KbO-03-5HS | C32: SuperAl超级轨迹赛项' | D32: 'SuperAI超级轨迹赛-星际家园' | E32: 高中组 | F32: 潞河中学高中翱翔1队 | G32: 北京市通州区潞河中学 | H32: 李淼|王丹 | I32: 赵敬尧|杨雯昊依 | J32: 230 | K32: 1 | L32: 一等奖(冠军)
A33: 30487 | B33: hV52fbBt-20-020-cF-021-1-FT0-03-3HF | C33: 'SuperAl超级轨迹赛项' | D33: 'SuperAI超级轨迹赛-星际家园' | E33: 高中组 | F33: 附中战队 | G33: 北京教育学院附属中学 | H33: 强薇|积荣 | I33: 曹明宇|姚志轩 | J33: 156 | K33: 2 | L33: 一等奖(亚军)
A34: 30013 | B34: hV52fbBA-20-020-7k-021-1-1HS-03-Diz | C34: 'SuperAl超级轨迹赛项' | D34: 'SuperAI超级轨迹赛-星际家园' | E34: 高中组 | F34: Frantic Metal | G34: 北京市昌平区第二中学（政府街校区） | H34: 李胜男|王珽 | I34: 董悦洋|帅子翔 | J34: 141 | K34: 3 | L34: 一等奖(季军)
A35: 29958 | B35: hV52fbBb-20-020-SU-021-1-9W4-03-EuH | C35: 'SuperAl超级轨迹赛项' | D35: 'SuperAI超级轨迹赛-星际家园' | E35: 高中组 | F35: 北京市第十一中学 | G35: 北京市第十一中学 | H35: 蔡葆元 | I35: 衣法仁|王宇涵 | J35: 99 | K35: 4 | L35: 三等奖

Sheet NeuroMaster脑科学人工智能挑战赛项
A1: 2022世界机器人大赛城市赛(北京)青少年机器人设计大赛-NeuroMaster脑科学人工智能挑战赛项成绩表
A2: 报名编号 | B2: 激活码 | C2: 赛道 | D2: 赛项 | E2: 组别 | F2: 队伍名称 | G2: 申报单位 | H2: 教练信息 | I2: 学生信息 | J2: 比赛分数 | K2: 成绩排名 | L2: 奖项
A3: 31364 | B3: hV52fbjp-20-030-rE-032-1-dGa-01-lEK | C3: NeuroMaster脑科学人工智能挑战赛项' | D3: '火星救援' | E3: 小学组 | F3: 天韵6队 | G3: 北京智乐卡巴教育 | H3: 关孟茜 | I3: 杨岳驰|余承龙|祁兴瀚 | J3: 180 | K3: 1 | L3: 一等奖(冠军)
A4: 31367 | B4: hV52fbjT-20-030-us-032-1-oy1-01-BuN | C4: 'NeuroMaster脑科学人工智能挑战赛项' | D4: '火星救援' | E4: 小学组 | F4: 天韵8队 | G4: 北京智乐卡巴教育 | H4: 张晓梅 | I4: 赵昀泽|庞皓轩 | J4: 80 | K4: 2 | L4: 一等奖(亚军)
A5: 31244 | B5: hV52fbjM-20-030-s7-032-1-5LN-01-lqb | C5: 'NeuroMaster脑科学人工智能挑战赛项' | D5: '火星救援' | E5: 小学组 | F5: 专注二队 | G5: 卡巴青少儿科技活动中心 | H5: 王刚 | I5: 刘昱汐|周永为|隋李鑫 | J5: 70.5 | K5: 3 | L5: 一等奖(季军)
A6: 31246 | B6: hV52fbjx-20-030-ca-032-1-IDn-01-VAI | C6: 'NeuroMaster脑科学人工智能挑战赛项' | D6: '火星救援' | E6: 小学组 | F6: 专注一队 | G6: 卡巴青少儿科技活动中心 | H6: 王刚 | I6: 张天霖|高卿瑞|梁晋玮 | J6: 70.1 | K6: 4 | L6: 二等奖
A7: 31362 | B7: hV52fbjK-20-030-YO-032-1-v5r-01-jI2 | C7: 'NeuroMaster脑科学人工智能挑战赛项' | D7: '火星救援' | E7: 小学组 | F7: 天韵4队 | G7: 北京智乐卡巴教育 | H7: 刘森 | I7: 李桐羽|董家宝|戴辰睿 | J7: 70 | K7: 5 | L7: 二等奖
A8: 30835 | B8: hV52fbjV-20-030-qK-032-1-5jf-01-qlr | C8: 'NeuroMaster脑科学人工智能挑战赛项' | D8: '火星救援' | E8: 小学组 | F8: 祝融1队 | G8: 北京宣泓世邦教育科技 | H8: 张玉麟|唐龙 | I8: 张宇辰|张贺哲|刘宸希|赵不儿 | J8: 60 | K8: 6 | L8: 三等奖
A9: 31359 | B9: hV52fbj6-20-030-Qq-032-1-l3O-01-4cM | C9: 'NeuroMaster脑科学人工智能挑战赛项' | D9: '火星救援' | E9: 小学组 | F9: 天韵2队 | G9: 北京智乐卡巴教育 | H9: 黄阳芝 | I9: 付婉桐|刘永浩|潘汝庚石 | J9: 60 | K9: 6 | L9: 三等奖
A10: 31366 | B10: hV52fbjl-20-030-qY-032-1-ezJ-01-crp | C10: 'NeuroMaster脑科学人工智能挑战赛项' | D10: '火星救援' | E10: 小学组 | F10: 天韵7队 | G10: 北京智乐卡巴教育 | H10: 张晓梅 | I10: 宋思成|玄子陈|周鑫洋 | J10: 60 | K10: 6 | L10: 三等奖
A11: 31363 | B11: hV52fbjN-20-030-i4-032-1-0Oy-01-z0j | C11: 'NeuroMaster脑科学人工智能挑战赛项' | D11: '火星救援' | E11: 小学组 | F11: 天韵5队 | G11: 北京智乐卡巴教育 | H11: 关孟茜 | I11: 刘沐辰|陈新祺|袁嘉君 | J11: 50 | K11: 9 | L11: 三等奖
A12: 31360 | B12: hV52fbjo-20-030-9Z-032-1-bwb-01-eZV | C12: 'NeuroMaster脑科学人工智能挑战赛项' | D12: '火星救援' | E12: 小学组 | F12: 天韵3队 | G12: 北京智乐卡巴教育 | H12: 刘森 | I12: 孙欣钰|陈开盛|宋佳丞 | J12: 40 | K12: 10 | L12: 三等奖
A13: 30861 | B13: hV52fbjf-20-030-eT-032-1-yU8-01-6xR | C13: 'NeuroMaster脑科学人工智能挑战赛项' | D13: '火星救援' | E13: 小学组 | F13: 祝融2队 | G13: 宣泓世邦教育科技 | H13: 张玉麟|李想 | I13: 周新棣|王仲歆|景尚卿 | J13: 10 | K13: 11 | L13: 三等奖
A15: 31934 | B15: hV52fbjr-20-030-zX-031-1-2nR-01-txs | C15: 'NeuroMaster脑科学人工智能挑战赛项' | D15: '未来之城' | E15: 小学组 | F15: 卡巴未来心控队 | G15: 卡巴青少儿编程 | H15: 陶涛 | I15: 李垚淼|高嘉奕 | J15: 冠军赛胜方 | K15: 1 | L15: 一等奖(冠军)
A16: 31159 | B16: hV52fbjd-20-030-Yp-031-1-JxL-01-pZC | C16: 'NeuroMaster脑科学人工智能挑战赛项' | D16: '未来之城' | E16: 小学组 | F16: 天韵1队 | G16: 北京智乐卡巴教育 | H16: 黄阳芝 | I16: 张钰轩|任秣攸|李厚铨|刘若海 | J16: 冠军赛败方 | K16: 2 | L16: 一等奖(亚军)
A17: 31602 | B17: hV52fbjm-20-030-Is-031-1-WoE-01-GmZ | C17: 'NeuroMaster脑科学人工智能挑战赛项' | D17: '未来之城' | E17: 小学组 | F17: 卡巴未来脑控队 | G17: 卡巴编程 | H17: 陶涛 | I17: 杜熙垣|王木野 | J17: 季军赛胜方 | K17: 3 | L17: 一等奖(季军)

Sheet RA科技挑战赛项
A1: 2022世界机器人大赛城市赛(北京)青少年机器人设计大赛-RA-科技挑战赛项成绩表
A2: 报名编号 | B2: 激活码 | C2: 赛道 | D2: 赛项 | E2: 组别 | F2: 队伍名称 | G2: 申报单位 | H2: 教练信息 | I2: 学生信息 | J2: 成绩排名 | K2: 奖项
A3: 30145 | B3: hV52fbC3-20-033-gD-034-1-yrv-01-lzX | C3: RA科技挑战赛项' | D3: 'RA 科技挑战赛-雪原速递' | E3: 小学A组 | F3: 贝尔小镇第二组 | G3: 朝阳公园贝尔编程机器人活动中心 | H3: 任虹旭 | I3: 王楷元|廖凤羿 | J3: 1 | K3: 一等奖（冠军）
A4: 30143 | B4: hV52fb9G-20-033-0T-034-1-68n-01-6nT | C4: 'RA科技挑战赛项' | D4: 'RA 科技挑战赛-雪原速递' | E4: 小学A组 | F4: 贝尔万柳精锐八队 | G4: 北京市海淀区贝尔活动中心 | H4: 李伟雄 | I4: 张予芃|高培源 | J4: 2 | K4: 一等奖（亚军）
A5: 30225 | B5: hV52fbKc-20-033-hN-034-1-s6w-01-TJW | C5: 'RA科技挑战赛项' | D5: 'RA 科技挑战赛-雪原速递' | E5: 小学A组 | F5: 飞鹰队 | G5: 北京市朝阳区亚运村贝尔活动中心 | H5: 孙玉丰 | I5: 郑安麒|余艾迪 | J5: 3 | K5: 一等奖（季军）
A6: 30069 | B6: hV52fb96-20-033-wa-034-1-W94-01-9Ce | C6: 'RA科技挑战赛项' | D6: 'RA 科技挑战赛-雪原速递' | E6: 小学A组 | F6: 雷霆4队 | G6: 北京市丰台区贝尔服务中心 | H6: 孙意 | I6: 祝佳齐|刘玮崎|赵子源 | J6: 4 | K6: 一等奖
A7: 30086 | B7: hV52fbNz-20-033-Lz-034-1-MUq-01-rgM | C7: 'RA科技挑战赛项' | D7: 'RA 科技挑战赛-雪原速递' | E7: 小学A组 | F7: 凌云队 | G7: 北京市通州区贝尔活动中心 | H7: 苑雪霏 | I7: 张其乐|苏启航|韩玥 | J7: 5 | K7: 一等奖
A8: 30244 | B8: hV52fbKY-20-033-Q1-034-1-jlK-01-YOH | C8: 'RA科技挑战赛项' | D8: 'RA 科技挑战赛-雪原速递' | E8: 小学A组 | F8: 少年先锋队 | G8: 北京市朝阳区亚运村贝尔活动中心 | H8: 李康 | I8: 马博石|赵誉棋 | J8: 6 | K8: 一等奖
A9: 30125 | B9: hV52fbNy-20-033-mV-034-1-TXT-01-O6s | C9: 'RA科技挑战赛项' | D9: 'RA 科技挑战赛-雪原速递' | E9: 小学A组 | F9: 烛龙队 | G9: 北京市通州区贝尔服务中心 | H9: 齐洪鑫 | I9: 刘宛宸|魏鑫 | J9: 7 | K9: 二等奖
A10: 30133 | B10: hV52fb97-20-033-Uk-034-1-WGt-01-SAo | C10: 'RA科技挑战赛项' | D10: 'RA 科技挑战赛-雪原速递' | E10: 小学A组 | F10: 贝尔万柳精锐一队 | G10: 北京市海淀区贝尔活动中心 | H10: 王续 | I10: 董锐霖|张子涵 | J10: 8 | K10: 二等奖
A11: 30089 | B11: hV52fbNZ-20-033-ic-034-1-PjI-01-Nmh | C11: 'RA科技挑战赛项' | D11: 'RA 科技挑战赛-雪原速递' | E11: 小学A组 | F11: 麒麟队 | G11: 北京市通州区贝尔活动中心 | H11: 苑雪霏 | I11: 雷家恺|裴堉锟|蔡韶颖 | J11: 9 | K11: 二等奖
A12: 30067 | B12: hV52fb9I-20-033-Ae-034-1-zlU-01-mwM | C12: 'RA科技挑战赛项' | D12: 'RA 科技挑战赛-雪原速递' | E12: 小学A组 | F12: 雷霆1队 | G12: 北京市丰台区贝尔服务中心 | H12: 刘博 | I12: 白天睿|严昭睿 | J12: 10 | K12: 二等奖
A13: 30222 | B13: hV52fbKb-20-033-TE-034-1-WBg-01-2K8 | C13: 'RA科技挑战赛项' | D13: 'RA 科技挑战赛-雪原速递' | E13: 小学A组 | F13: 热血少年队 | G13: 北京市朝阳区亚运村贝尔活动中心 | H13: 李康 | I13: 严梦波|童泊天 | J13: 11 | K13: 二等奖
A14: 30139 | B14: hV52fb9U-20-033-3V-034-1-qdN-01-3c5 | C14: 'RA科技挑战赛项' | D14: 'RA 科技挑战赛-雪原速递' | E14: 小学A组 | F14: 贝尔万柳精锐六队 | G14: 北京市海淀区贝尔活动中心 | H14: 李伟雄 | I14: 赵茉荋|刘屹霖 | J14: 12 | K14: 二等奖
... A42: 30137 | B42: hV52fb9w-20-033-PF-034-1-3Hw-01-H0O | C42: 'RA科技挑战赛项' | D42: 'RA 科技挑战赛-雪原速递' | E42: 小学A组 | F42: 贝尔万柳精锐五队 | G42: 北京市海淀区贝尔活动中心 | H42: 柴宗鹏 | I42: 隆奇恩|张耘诚|杨淏宇 | J42: 40 | K42: 三等奖
A44: 报名编号 | B44: 激活码 | C44: 赛道 | D44: 赛项 | E44: 组别 | F44: 队伍名称 | G44: 申报单位 | H44: 教练信息 | I44: 学生信息 | J44: 成绩排名 | K44: 奖项
A45: 30210 | B45: hV52fbNs-20-033-22-034-1-CR2-01-kuH | C45: 'RA科技挑战赛项' | D45: 'RA 科技挑战赛-雪原速递' | E45: 小学B组 | F45: 润泽雪原2队 | G45: 嘉乐成长童园3层 | H45: 赵清滨 | I45: 叶泰然|裴梓睿 | J45: 1 | K45: 一等奖（冠军）
A46: 30208 | B46: hV52fbND-20-033-qC-034-1-9eV-01-1hs | C46: 'RA科技挑战赛项' | D46: 'RA 科技挑战赛-雪原速递' | E46: 小学B组 | F46: 润泽雪原1队 | G46: 嘉乐成长童园3层 | H46: 赵清滨 | I46: 臧梁序|李嘉富|白梓可 | J46: 2 | K46: 一等奖（亚军）
A47: 30087 | B47: hV52fbNt-20-033-Oo-034-1-k3a-01-4sE | C47: 'RA科技挑战赛项' | D47: 'RA 科技挑战赛-雪原速递' | E47: 小学B组 | F47: WE-2 | G47: 北京市通州区贝尔活动中心（格瑞雅居） | H47: 崔旭皓 | I47: 唐浩然|安秋实|辛翰峰 | J47: 3 | K47: 一等奖（季军）
A48: 30095 | B48: hV52fbNx-20-033-Bf-034-1-OSC-01-ldY | C48: 'RA科技挑战赛项' | D48: 'RA 科技挑战赛-雪原速递' | E48: 小学B组 | F48: WE-4 | G48: 北京市通州区贝尔活动中心（格瑞雅居） | H48: 崔旭皓 | I48: 石峻嵩|崔志诚|徐赫阳 | J48: 4 | K48: 一等奖
A49: 30213 | B49: hV52fbph-20-033-Mv-034-1-3SE-01-7mZ | C49: 'RA科技挑战赛项' | D49: 'RA 科技挑战赛-雪原速递' | E49: 小学B组 | F49: 润泽雪原3队 | G49: 北京润泽贝尔活动中心 | H49: 张澳 | I49: 王铭宇|王天佑 | J49: 5 | K49: 一等奖
A50: 30010 | B50: hV52fbCv-20-033-X6-034-1-1Gq-01-eoi | C50: 'RA科技挑战赛项' | D50: 'RA 科技挑战赛-雪原速递' | E50: 小学B组 | F50: 贝尔第8战队 | G50: 贝尔机器人编程中心北京东直门校区 | H50: 解昕昊 | I50: 袁苇杭|祝研宬|杨宇豪 | J50: 6 | K50: 一等奖
A51: 30094 | B51: hV52fbNM-20-033-Aj-034-1-M1E-01-iAM | C51: 'RA科技挑战赛项' | D51: 'RA 科技挑战赛-雪原速递' | E51: 小学B组 | F51: WE-3 | G51: 北京市通州区贝尔活动中心（格瑞雅居） | H51: 崔旭皓 | I51: 李明轩|肖新宇|张舒翰 | J51: 7 | K51: 二等奖
A52: 30182 | B52: hV52fbK3-20-033-go-034-1-yeS-01-jMf | C52: 'RA科技挑战赛项' | D52: 'RA 科技挑战赛-雪原速递' | E52: 小学B组 | F52: 贝尔苹果园A队 | G52: 北京市石景山贝尔活动中心 | H52: 刘贺 | I52: 姜景铄|魏铄 | J52: 8 | K52: 二等奖
A53: 30053 | B53: hV52fbCX-20-033-Cp-034-1-ssG-01-oOl | C53: 'RA科技挑战赛项' | D53: 'RA 科技挑战赛-雪原速递' | E53: 小学B组 | F53: 贝尔小镇第六组 | G53: 朝阳公园贝尔机器人编程中心 | H53: 黄云飞 | I53: 王柏勋|刘禹陶 | J53: 9 | K53: 二等奖
A54: 30205 | B54: hV52fbNd-20-033-An-034-1-fuz-01-XHI | C54: 'RA科技挑战赛项' | D54: 'RA 科技挑战赛-雪原速递' | E54: 小学B组 | F54: 润泽雪原5队 | G54: 北京市朝阳区润泽贝尔活动中心 | H54: 李智威 | I54: 张恩修|赵睿阳|程浩轩 | J54: 10 | K54: 二等奖
A55: 30007 | B55: hV52fb9e-20-033-OL-034-1-FWy-01-Ni1 | C55: 'RA科技挑战赛项' | D55: 'RA 科技挑战赛-雪原速递' | E55: 小学B组 | F55: 贝尔第1战队 | G55: 贝尔机器人编程中心北京东直门校区 | H55: 朱伟凡 | I55: 王晨萱|俞浒潇 | J55: 11 | K55: 二等奖
A56: 30131 | B56: hV52fbCR-20-033-sL-034-1-kZc-01-wST | C56: 'RA科技挑战赛项' | D56: 'RA 科技挑战赛-雪原速递' | E56: 小学B组 | F56: 贝尔小镇第五组 | G56: 朝阳公园贝尔机器人编程活动中心 | H56: 郭凯 | I56: 董铠闻|靳羽翔 | J56: 12 | K56: 二等奖
... A83: 29994 | B83: hV52fbKD-20-033-WP-034-1-GkD-01-ocL | C83: 'RA科技挑战赛项' | D83: 'RA 科技挑战赛-雪原速递' | E83: 小学B组 | F83: 第10个队 | G83: 丰台贝尔活动中心 | H83: 贾雨朦 | I83: 田皓宇|肖仲康 | J83: 39 | K83: 三等奖
