Workbook

Sheet 全能奖、专项奖
A1: 2023世界机器人大赛总决赛-青少年机器人设计大赛全能奖获奖名单
A2: 报名编号 | B2: 激活码 | C2: 组别 | D2: 队伍名称 | E2: 申报单位 | F2: 教练信息 | G2: 学生信息 | H2: 奖项
A3: 90129 | B3: 2B8hXGtH-139-008-co-010-1-Kl0-01-0Ip | C3: 小学组 | D3: 18533A | E3: 北京市海淀区中关村第三小学 | F3: 安绍辉|陶谦 | G3: 蔡明轩|蔡雨轩|朱麟晁 | H3: 全能奖
A4: 81369 | B4: 2B8hXGMP-139-008-6N-010-1-AAi-02-5TR | C4: 初中组 | D4: 科技之星 | E4: 北京市西城区青少年科学技术馆 | F4: 王昕 | G4: 孙知遥|施玮烨 | H4: 全能奖
A5: 85639 | B5: 2B8hXGXe-139-008-gY-011-1-4xV-02-fSR | C5: 初中组 | D5: 合肥市南门小学2队 | E5: 合肥市南门小学 | F5: 武剑 | G5: 秦钰鑫|许清扬|管云妍|陈一诺 | H5: 全能奖
A6: 89872 | B6: 2B8hXGCF-139-008-dE-011-1-SMU-04-OOE | C6: 高中组 | D6: 泉一梅石队31666A | E6: 福建省泉州第一中学 | F6: 周云玲|吴巧丽 | G6: 李晟好|吉远|陈育彬 | H6: 全能奖
A7: 92078 | B7: 2B8hXqIM-139-112-5X-113-1-uFC-06-ajl | C7: 小学初级组 | D7: 如安二号 | E7: 海贝中英文小学、昆明市五华区莲华小学联队 | F7: 袁文勇 | G7: 王麒尧|王子程 | H7: 全能奖
A8: 86753 | B8: 2B8hXqWE-139-039-Fb-040-1-aIl-01-pmO | C8: 小学组 | D8: 深圳清林龙小联队 | E8: 深圳市龙岗区清林小学 | F8: 白静 | G8: 林宸宇|刘梓宸 | H8: 全能奖
A9: 81703 | B9: 2B8hX5py-139-058-Ct-061-1-caM-01-Lv6 | C9: 小学组 | D9: 成志少年2队 | E9: 清华大学附属小学商务中心区实验小学 | F9: 韩策|金骞 | G9: 李泰杭|王雅晨 | H9: 全能奖
A10: 77683 | B10: 2B8hX5QT-139-058-lb-063-1-BvW-03-B1X | C10: 中学组 | D10: 宁波前湾新区科学中学1队 | E10: 宁波前湾新区科学初级中学 | F10: 戚传军|彭艳飞 | G10: 彭成|马浩燃 | H10: 全能奖
A11: 87339 | B11: 2B8hXJCA-139-042-vt-043-1-M7q-03-ISO | C11: 中学组 | D11: 南京市第二十九中学 | E11: 南京市第二十九中学 | F11: 张宏亮|袁京莉 | G11: 崔时瑞|缪舒帆|孙浩轩|宋恩泽 | H11: 全能奖
A12: 77707 | B12: 2B8hXGu0-139-021-AO-022-1-Flg-01-suY | C12: 小学组 | D12: Super AI无敌战队 | E12: 山西省实验小学 | F12: 兰蔓 | G12: 李一航|纪一阳 | H12: 全能奖
A13: 77679 | B13: 2B8hXGjV-139-018-5w-019-1-vDX-01-i1B | C13: 小学组 | D13: 才源滚滚 | E13: 哈尔滨继红小学校（哈西一校区） | F13: 李蒙 | G13: 刘熹桐|黄勃润 | H13: 全能奖
A14: 76624 | B14: 2B8hX5oD-139-053-Fr-056-1-1SV-03-OEH | C14: 中学组 | D14: 中聖書院 A | E14: 香港無人機科技協會 | F14: 郑玉辰 | G14: 李沛霖|李兆倫|雷梓銘 | H14: 全能奖
A15: 2023世界机器人大赛总决赛-青少年机器人设计大赛专项奖获奖名单
A16: 报名编号 | B16: 激活码 | C16: 组别 | D16: 队伍名称 | E16: 申报单位 | F16: 教练信息 | G16: 学生信息 | H16: 奖项
A17: 79326 | B17: 2B8hXG4v-139-008-xt-010-1-9Wo-01-hTR | C17: 小学组 | D17: 6413B | E17: 兰州市城关区静宁路小学 | F17: 杨瑞 | G17: 樊家瑞|张晟|孙若曦 | H17: 最佳设计奖
A18: 79055 | B18: 2B8hXGIr-139-008-dA-010-1-Ikf-02-qwL | C18: 初中组 | D18: 樱桃小丸子 | E18: 兰州交通大学附属中学 | F18: 王艳群|张艳霞 | G18: 马诗媛|李孜萱|刘齐昊暄 | H18: 最佳设计奖
A19: 93990 | B19: 2B8hXGNL-139-008-qF-011-1-jxH-04-q4o | C19: 高中组 | D19: 666A | E19: 西安高新第一中学 | F19: 韩恭恩|王增怀 | G19: 崔宸玮|姜善天|王一安 | H19: 最佳设计奖
A20: 85703 | B20: 2B8hXqP7-139-024-ZW-025-1-5rA-01-BiE | C20: 小学组 | D20: 改勉战队 | E20: 重庆蓝猫科创 | F20: 凌国峰 | G20: 周改|周勉 | H20: 最佳设计奖
A21: 77651 | B21: 2B8hXGOY-139-018-xE-019-1-NAQ-01-Jbh | C21: 小学组 | D21: 暨阳湖1号 | E21: 张家港市暨阳湖实验学校 | F21: 郭芳 | G21: 朱逸轩|鱼家豪 | H21: 最佳设计奖
A22: 80275 | B22: 2B8hXGbW-139-008-XW-010-1-vnG-01-AGG | C22: 小学组 | D22: 南京外国语学校方山分校 | E22: 南京外国语学校方山分校 | F22: 张静 | G22: 邹嘉烨|曹心苒|王若愚 | H22: 最佳编程奖
A23: 86026 | B23: 2B8hXGah-139-008-qL-011-1-Ss1-02-RzZ | C23: 初中组 | D23: 合肥市第三十八中学1队 | E23: 合肥市第三十八中学 | F23: 梁珀|宣守西 | G23: 王骏|张浩阳|鲍宫捷|宋一瑞 | H23: 最佳编程奖
A24: 85415 | B24: 2B8hXG9e-139-008-ps-011-1-hZi-04-1KX | C24: 高中组 | D24: 87658P | E24: 长春二实验中学 | F24: 邓广超 | G24: 杨天一|姚怡名|桑子淇|张恩铜 | H24: 最佳编程奖
A25: 79022 | B25: 2B8hXVQJ-139-116-nn-118-1-lRz-03-LOk | C25: 中学组 | D25: 广东实验中学深圳学校 | E25: 广东实验中学深圳学校 | F25: 方文波|丁新尧 | G25: 王崇毅 | H25: 最佳编程奖
A26: 79478 | B26: 2B8hXGDf-139-021-Dn-022-1-OjU-02-0tr | C26: 初中组 | D26: 江城中学二队 | E26: 吉林江城中学 | F26: 吕怀宇 | G26: 于子程|王振兴 | H26: 最佳编程奖

Sheet VEX系列赛项
A1: 2023世界机器人大赛总决赛-青少年机器人设计大赛-VEX系列赛项获奖名单
A2: 报名编号 | B2: 激活码 | C2: 赛道 | D2: 赛项 | E2: 组别 | F2: 队伍名称 | G2: 申报单位 | H2: 教练信息 | I2: 学生信息 | J2: 平均分 | K2: 资格赛排名 | L2: 奖项
A3: 79465 | B3: 2B8hXG4b-139-008-yS-010-1-61P-01-MzE | C3: VEX系列赛项' | D3: 'VEX-IQ 满载而归' | E3: 小学组 | F3: 龙江A队 | G3: 机器人一号工场俱乐部 | H3: 黄雅雯 | I3: 洪普|邢洛瑜 | J3: 140.2 | K3: 15 | L3: 一等奖(冠军)
A4: 86052 | B4: 2B8hXGf1-139-008-Ss-010-1-iNI-01-baO | C4: 'VEX系列赛项' | D4: 'VEX-IQ 满载而归' | E4: 小学组 | F4: 98988C | G4: 斯坦星球大拇指中心 | H4: 彭英玲|赵高红 | I4: 林沐之|缪一帆 | J4: 140.2 | K4: 16 | L4: 一等奖(冠军)
A5: 84552 | B5: 2B8hXGtd-139-008-Qb-010-1-Lht-01-rz0 | C5: 'VEX系列赛项' | D5: 'VEX-IQ 满载而归' | E5: 小学组 | F5: 取经小分队 | G5: 北京市东城区和平里第一小学 | H5: 魏萌 | I5: 黄家俊|尹骏喆|逄卓逸 | J5: 136.2 | K5: 19 | L5: 一等奖(亚军)
A6: 87685 | B6: 2B8hXJMg-139-008-Ac-010-1-CjQ-01-3DT | C6: 'VEX系列赛项' | D6: 'VEX-IQ 满载而归' | E6: 小学组 | F6: 童趣同创东方路B队 | G6: 上海市浦明师范附属小学 | H6: 周诚 | I6: 王竣逸|熊斐然|俞毅洋 | J6: 136 | K6: 20 | L6: 一等奖(亚军)
A7: 87776 | B7: 2B8hXJMk-139-008-52-010-1-GtA-01-Wxw | C7: 'VEX系列赛项' | D7: 'VEX-IQ 满载而归' | E7: 小学组 | F7: 童趣同创东方路C队 | G7: 上海市浦东新区明珠小学 | H7: 周诚 | I7: 潘婷婷|甘孝诚 | J7: 144 | K7: 11 | L7: 一等奖(季军)
A8: 87771 | B8: 2B8hXJxt-139-008-Cz-010-1-6IH-01-pCl | C8: 'VEX系列赛项' | D8: 'VEX-IQ 满载而归' | E8: 小学组 | F8: 檬科技机器人XZ战队 | G8: 苏州市妇女儿童活动中心 | H8: 王丽媛 | I8: 徐孟泽|朱铭晨 | J8: 141.4 | K8: 12 | L8: 一等奖(季军)
A9: 79694 | B9: 2B8hXGtA-139-008-JO-010-1-Yfv-01-UPK | C9: 'VEX系列赛项' | D9: 'VEX-IQ 满载而归' | E9: 小学组 | F9: 3863B | G9: 上海乐博学习中心 | H9: 丁准 | I9: 俞紫瑄|陈奕希 | J9: 151.4 | K9: 1 | L9: 一等奖
A10: 90129 | B10: 2B8hXGtH-139-008-co-010-1-Kl0-01-0Ip | C10: 'VEX系列赛项' | D10: 'VEX-IQ 满载而归' | E10: 小学组 | F10: 18533A | G10: 北京市海淀区中关村第三小学 | H10: 安绍辉|陶谦 | I10: 蔡明轩|蔡雨轩|朱麟晁 | J10: 148.4 | K10: 2 | L10: 一等奖
A11: 78476 | B11: 2B8hXGb6-139-008-cc-010-1-2a5-01-uR4 | C11: 'VEX系列赛项' | D11: 'VEX-IQ 满载而归' | E11: 小学组 | F11: 创乐陀螺仪 | G11: 江苏省青少年特色科学工作室 | H11: 臧余川|朱艳 | I11: 周炎森|万钧豪|陈沐阳 | J11: 146.4 | K11: 3 | L11: 一等奖
A12: 85017 | B12: 2B8hXG4S-139-008-dz-010-1-uvT-01-42j | C12: 'VEX系列赛项' | D12: 'VEX-IQ 满载而归' | E12: 小学组 | F12: 长沙康礼克雷格国际学校 | G12: 长沙康礼克雷格国际学校 | H12: 雷凯|陈成 | I12: 蒋沐言|赵淇棫 | J12: 146.2 | K12: 4 | L12: 一等奖
A13: 87082 | B13: 2B8hXGtG-139-008-qV-010-1-DDo-01-ZgE | C13: 'VEX系列赛项' | D13: 'VEX-IQ 满载而归' | E13: 小学组 | F13: 童趣同创东方A队 | G13: 上海市童趣同创机器人 | H13: 周诚 | I13: 王宸霖|张辰熠 | J13: 146.2 | K13: 5 | L13: 一等奖
A14: 79526 | B14: 2B8hXGtv-139-008-Pe-010-1-EMk-01-3tm | C14: 'VEX系列赛项' | D14: 'VEX-IQ 满载而归' | E14: 小学组 | F14: 81698A | G14: 上海乐博学习中心 | H14: 沈军 | I14: 樊钱语|孟子墨 | J14: 145.8 | K14: 6 | L14: 一等奖
... A196: 86597 | B196: 2B8hXGi2-139-008-cg-010-1-iAK-02-BNt | C196: VEX系列赛项 | D196: 'VEX-IQ 满载而归' | E196: 初中组 | F196: 61899A | G196: 四川省简阳中学 | H196: 袁璐|荣赤 | I196: 陈兴树|谢俊贤 | J196: 69.8 | K196: 88 | L196: 三等奖
A198: 报名编号 | B198: 激活码 | C198: 赛道 | D198: 赛项 | E198: 组别 | F198: 队伍名称 | G198: 申报单位 | H198: 教练信息 | I198: 学生信息 | J198: 胜平负 | K198: 资格赛排名 | L198: 奖项
A199: VRC-MS registered
A200: 85639 | B200: 2B8hXGXe-139-008-gY-011-1-4xV-02-fSR | C200: 'VEX系列赛项' | D200: 'VEX-VRC 粽横天下' | E200: 初中组 | F200: 合肥市南门小学2队 | G200: 合肥市南门小学 | H200: 武剑 | I200: 秦钰鑫|许清扬|管云妍|陈一诺 | J200: 6-2-0 | K200: 2 | L200: 一等奖(冠军)
A201: 92213 | B201: 2B8hXG6r-139-008-dy-011-1-PYD-02-SJq | C201: 'VEX系列赛项' | D201: 'VEX-VRC 粽横天下' | E201: 初中组 | F201: 中国人民大学附属中学A队 | G201: 中国人民大学附属中学 | H201: 张思 | I201: 刘继泽|黄奕晨 | J201: 6-2-0 | K201: 4 | L201: 一等奖(冠军)
A202: 86221 | B202: 2B8hXGX1-139-008-Yx-011-1-F85-02-in0 | C202: 'VEX系列赛项' | D202: 'VEX-VRC 粽横天下' | E202: 初中组 | F202: 合肥市南门小学1队 | G202: 合肥市南门小学 | H202: 武剑 | I202: 王天玮|杨兴达|田笑凡 | J202: 8-0-0 | K202: 1 | L202: 一等奖(亚军)
A203: 92946 | B203: 2B8hXG6k-139-008-ZW-011-1-4U2-02-Adx | C203: 'VEX系列赛项' | D203: 'VEX-VRC 粽横天下' | E203: 初中组 | F203: 北京市陈经纶中学帝景劲松分校A队 | G203: 北京市陈经纶中学帝景劲松分校 | H203: 唐磊 | I203: 张洋溢|王彦诚 | J203: 6-2-0 | K203: 3 | L203: 一等奖(亚军)
A204: 86256 | B204: 2B8hXGav-139-008-L3-011-1-bS0-02-cN0 | C204: 'VEX系列赛项' | D204: 'VEX-VRC 粽横天下' | E204: 初中组 | F204: 合肥市师范附属小学1队 | G204: 合肥市师范附属小学 | H204: 胡兴勇 | I204: 齐佑德|丁玮梵|郑子瑞 | J204: 5-3-0 | K204: 7 | L204: 一等奖(季军)
A205: 82114 | B205: 2B8hXG6M-139-008-wE-011-1-eec-02-NYZ | C205: 'VEX系列赛项' | D205: 'VEX-VRC 粽横天下' | E205: 初中组 | F205: 檬科技机器人ZCW战队 | G205: 苏州市青少年活动中心 | H205: 武辰 | I205: 陈译涵|周小宇|汪子轩 | J205: 4-4-0 | K205: 17 | L205: 一等奖(季军)
A206: 87626 | B206: 2B8hXG6E-139-008-y5-011-1-3US-02-z4o | C206: 'VEX系列赛项' | D206: 'VEX-VRC 粽横天下' | E206: 初中组 | F206: 南江Ford・61999A | G206: 南京师范大学附属中学江宁分校 | H206: 陈小兵|曹宇婷 | I206: 盛铭|汪子骞|侯适林|季谎? | J206: 6-2-0 | K206: 5 | L206: 二等奖
A207: 86184 | B207: 2B8hXGaz-139-008-90-011-1-kNM-02-7PR | C207: 'VEX系列赛项' | D207: 'VEX-VRC 粽横天下' | E207: 初中组 | F207: 合肥市第三十八中学2队 | G207: 合肥市第三十八中学 | H207: 宣守西|梁珀 | I207: 周轩吉|徐楷|徐墨 | J207: 5-3-0 | K207: 6 | L207: 二等奖
A208: 86026 | B208: 2B8hXGah-139-008-qL-011-1-Ss1-02-RzZ | C208: 'VEX系列赛项' | D208: 'VEX-VRC 粽横天下' | E208: 初中组 | F208: 合肥市第三十八中学1队 | G208: 合肥市第三十八中学 | H208: 梁珀|宣守西 | I208: 王骏|张浩阳|鲍宫捷|宋一瑞 | J208: 4-4-0 | K208: 8 | L208: 二等奖
A209: 90157 | B209: 2B8hXGXE-139-008-EW-011-1-mwL-02-wKI | C209: 'VEX系列赛项' | D209: 'VEX-VRC 粽横天下' | E209: 初中组 | F209: 857Y | G209: 南湖实验中学 | H209: 房峥琦 | I209: 孙浩清|刘桓宇|陈宏宇|李蕴鹏 | J209: 5-3-0 | K209: 9 | L209: 二等奖
A210: 90198 | B210: 2B8hXGSi-139-008-3L-011-1-kfc-02-Kqj | C210: 'VEX系列赛项' | D210: 'VEX-VRC 粽横天下' | E210: 初中组 | F210: 857V | G210: 长春吉大附中力旺实验学校 | H210: 杨贺然 | I210: 戚栋添|郑雨昕|杨怀盛|孙浩涵 | J210: 5-3-0 | K210: 10 | L210: 二等奖
A211: 92225 | B211: 2B8hXG6d-139-008-E6-011-1-URQ-02-F2d | C211: 'VEX系列赛项' | D211: 'VEX-VRC 粽横天下' | E211: 初中组 | F211: 北京一零一中学A队 | G211: 北京一零一中学 | H211: 金得庆|段建行 | I211: 王梓逍 | J211: 5-3-0 | K211: 11 | L211: 二等奖
... A228: 84041 | B228: 2B8hXGaF-139-008-1w-011-1-fET-02-CkV | C228: 'VEX系列赛项' | D228: 'VEX-VRC 粽横天下' | E228: 初中组 | F228: 育英二队 | G228: 南京（大厂）民办育英第二外国语学校 | H228: 郭荣辉 | I228: 林峻昊|许瞻淇|王熙尧|丁烯雅 | J228: 1-7-0 | K228: 29 | L228: 三等奖
A229: VRC-MS unregistered
A230: 86952 | B230: 2B8hXGSP-139-008-X5-011-1-wBJ-02-vHU | C230: 'VEX系列赛项' | D230: 'VEX-VRC 粽横天下' | E230: 初中组 | F230: 88299C | G230: 宁波市鄞州区钟公庙第二初级中学 华师大艺术实验学校 | H230: 吴凯浩|陈一苇 | I230: 杨简默|孙梓睿 | J230: 7-1-0 | K230: 2 | L230: 一等奖(冠军)
A231: 84566 | B231: 2B8hXG62-139-008-PG-011-1-OFC-02-hAt | C231: 'VEX系列赛项' | D231: 'VEX-VRC 粽横天下' | E231: 初中组 | F231: 广州90611C | G231: 广州市海珠区少年宫 | H231: 李崑 | I231: 戴逸楠|杨文轩 | J231: 4-4-0 | K231: 7 | L231: 一等奖(冠军)
A232: 87918 | B232: 2B8hXGa5-139-008-aD-011-1-hUB-02-QrF | C232: 'VEX系列赛项' | D232: 'VEX-VRC 粽横天下' | E232: 初中组 | F232: 2067Z | G232: 杭州市临安区青山湖科技城育才学校 | H232: 方军 | I232: 王梓豪|李嘉豪 | J232: 5-3-0 | K232: 4 | L232: 一等奖(亚军)
A233: 84269 | B233: 2B8hXG6L-139-008-sE-011-1-QHd-02-vJN | C233: 'VEX系列赛项' | D233: 'VEX-VRC 粽横天下' | E233: 初中组 | F233: 广州市第六中学90666C | G233: 广州市第六中学 | H233: 刘路定 | I233: 廖梓睿 |方熙媛|刘子阳|林子涵 | J233: 5-3-0 | K233: 5 | L233: 一等奖(亚军)
A234: 84477 | B234: 2B8hXG6Z-139-008-Al-011-1-UPv-02-WPS | C234: 'VEX系列赛项' | D234: 'VEX-VRC 粽横天下' | E234: 初中组 | F234: 广州90600C | G234: 广州市番禺区星海青少年宫 | H234: 朱达威|李强 | I234: 高晏之 |索方杰|Jason Luo|杨帧惠 | J234: 5-3-0 | K234: 3 | L234: 一等奖(季军)
A235: 86228 | B235: 2B8hXGaT-139-008-kp-011-1-MCd-02-oM4 | C235: 'VEX系列赛项' | D235: 'VEX-VRC 粽横天下' | E235: 初中组 | F235: 88299A | G235: 宁波市鄞州实验中学 | H235: 付忠辉 | I235: 林治成|黄天逸 | J235: 4-4-0 | K235: 10 | L235: 一等奖(季军)
A236: 86599 | B236: 2B8hXGa8-139-008-mk-011-1-tnQ-02-cfi | C236: 'VEX系列赛项' | D236: 'VEX-VRC 粽横天下' | E236: 初中组 | F236: 88299B | G236: 浩泽科技 | H236: 薛国祥 | I236: 邹昀呈 | J236: 8-0-0 | K236: 1 | L236: 二等奖
A237: 86839 | B237: 2B8hXGSf-139-008-MJ-011-1-tqb-02-yDR | C237: 'VEX系列赛项' | D237: 'VEX-VRC 粽横天下' | E237: 初中组 | F237: 兰州市城关区水车园小学VRC2队 | G237: 兰州市城关区水车园小学 | H237: 刘炳辰|刘殿军 | I237: 张瑞安|朱昱锦|陈薇伊|王鹤扬 | J237: 6-2-0 | K237: 6 | L237: 二等奖
A238: 86744 | B238: 2B8hXGaB-139-008-kq-011-1-OMK-02-6GU | C238: 'VEX系列赛项' | D238: 'VEX-VRC 粽横天下' | E238: 初中组 | F238: 兰州市城关区水车园小学VRC1队 | G238: 兰州市城关区水车园小学 | H238: 李惠芳|杨慧琴 | I238: 解懿航|张木子晴|汪冠廷|党开瑞 | J238: 4-4-0 | K238: 8 | L238: 二等奖
...

Sheet ENJOY AI系列赛项
A1: 2023世界机器人大赛总决赛-青少年机器人设计大赛-ENJOY AI系列赛项获奖名单
A2: 队伍编号 | B2: 邀请码 | C2: 赛道 | D2: 赛项 | E2: 组别 | F2: 队伍名称 | G2: 申报单位 | H2: 学生信息 | I2: 总成绩 | J2: 总时间 | K2: 排名 | L2: 奖项
A3: 85593 | B3: 2B8hXxbe-139-009-SG-012-1-7YQ-02-uLJ | C3: ENJOY AI系列赛项' | D3: ENJOY AI夏季运动会' | E3: 初中A组 | F3: 盛开的向日葵 | G3: 中国人民大学附属中学通州校区 | H3: 马圣言|徐梓溪 | I3: 990 | J3: 262 | K3: 1 | L3: 一等奖(冠军)
A4: 88421 | B4: 2B8hXxGd-139-009-nT-012-1-GD2-02-wSY | C4: 'ENJOY AI系列赛项' | D4: ENJOY AI夏季运动会' | E4: 初中A组 | F4: 海沧进修附校鲸鱼3队 | G4: 厦门市海沧区教师进修学校附属学校 | H4: 冷紫航|黄鑫鹏 | I4: 980 | J4: 284 | K4: 2 | L4: 一等奖(亚军)
A5: 88253 | B5: 2B8hXxbI-139-009-sJ-012-1-65z-02-Beu | C5: 'ENJOY AI系列赛项' | D5: ENJOY AI夏季运动会' | E5: 初中A组 | F5: 牡丹江熙鑫队 | G5: 牡丹江市第四中学 | H5: 赵峻熙|付雨鑫 | I5: 840 | J5: 278 | K5: 3 | L5: 一等奖(季军)
A6: 87688 | B6: 2B8hXxG4-139-009-At-012-1-poz-02-1gK | C6: 'ENJOY AI系列赛项' | D6: ENJOY AI夏季运动会' | E6: 初中A组 | F6: 海沧进修附校鲸鱼1队 | G6: 厦门市海沧区教师进修学校附属学校 | H6: 张权|章茂溢 | I6: 810 | J6: 300 | K6: 4 | L6: 一等奖
A7: 88397 | B7: 2B8hXxqU-139-009-5u-012-1-hYW-02-Osf | C7: 'ENJOY AI系列赛项' | D7: ENJOY AI夏季运动会' | E7: 初中A组 | F7: 厦门外国语中学2队 | G7: 厦门科技馆 | H7: 潘泽林|蔡奇翰 | I7: 800 | J7: 287 | K7: 5 | L7: 一等奖
A8: 88450 | B8: 2B8hXxqw-139-009-GA-012-1-4yR-02-OtW | C8: 'ENJOY AI系列赛项' | D8: ENJOY AI夏季运动会' | E8: 初中A组 | F8: 福建省厦门市北附学校京口中学一队 | G8: 厦门市海沧区北附学校（京口校区） | H8: 吴承垚 | I8: 780 | J8: 288 | K8: 6 | L8: 一等奖
A9: 87896 | B9: 2B8hXxGp-139-009-bm-012-1-kTz-02-og5 | C9: 'ENJOY AI系列赛项' | D9: ENJOY AI夏季运动会' | E9: 初中A组 | F9: 乐山创客一队 | G9: 眉山苏祠中学 成都石室天府中学 | H9: 马一策|黄彦潇 | I9: 780 | J9: 295 | K9: 7 | L9: 一等奖
A10: 88398 | B10: 2B8hXxqG-139-009-4f-012-1-QUp-02-D0X | C10: 'ENJOY AI系列赛项' | D10: ENJOY AI夏季运动会' | E10: 初中A组 | F10: 厦门双十海沧附校和厦门一中联队 | G10: 厦门科技馆 | H10: 杨少斌|李盛全 | I10: 710 | J10: 277 | K10: 8 | L10: 二等奖
A11: 87963 | B11: 2B8hXxG3-139-009-1w-012-1-Pb2-02-sJr | C11: 'ENJOY AI系列赛项' | D11: ENJOY AI夏季运动会' | E11: 初中A组 | F11: 海沧进修附校鲸鱼2队 | G11: 厦门市海沧区教师进修学校附属学校 | H11: 曹家玮|范奎嶙 | I11: 710 | J11: 291 | K11: 9 | L11: 二等奖
A12: 88277 | B12: 2B8hXxGF-139-009-mv-012-1-6vT-02-0Cz | C12: 'ENJOY AI系列赛项' | D12: ENJOY AI夏季运动会' | E12: 初中A组 | F12: 牡丹江沐淳队 | G12: 牡丹江市第四中学 | H12: 刘籽沐|王聖淳 | I12: 710 | J12: 299 | K12: 10 | L12: 二等奖
A13: 88578 | B13: 2B8hXxGN-139-009-EM-012-1-YkT-02-Spi | C13: 'ENJOY AI系列赛项' | D13: ENJOY AI夏季运动会' | E13: 初中A组 | F13: 华希超能队 | G13: 厦门市华师希平双语学校 | H13: 张家豪 | I13: 670 | J13: 237 | K13: 11 | L13: 二等奖
A14: 88407 | B14: 2B8hXxqf-139-009-l6-012-1-xA8-02-0vY | C14: 'ENJOY AI系列赛项' | D14: ENJOY AI夏季运动会' | E14: 初中A组 | F14: 厦门外国语中学3队 | G14: 厦门科技馆 | H14: 张煜彬 | I14: 670 | J14: 245 | K14: 12 | L14: 二等奖
... A100: 87901 | B100: 2B8hXxZ7-139-009-Yt-012-1-7XH-01-rZp | C100: 'ENJOY AI系列赛项' | D100: ENJOY AI夏季运动会' | E100: 小学B组 | F100: 厦门工学院附属学校1队 | G100: 厦门星贝科技创享中心 | H100: 王晓璋 | I100: 750 | J100: 298 | K100: 12 | L100: 一等奖
A101: 87992 | B101: 2B8hXxZb-139-009-rQ-012-1-MhL-01-yka | C101: ENJOY AI系列赛项' | D101: ENJOY AI夏季运动会' | E101: 小学B组 | F101: 厦门外国语学校集美分校集美二小 | G101: 厦门星贝科技创享中心 | H101: 崔博腾|林长石 | I101: 740 | J101: 256 | K101: 13 | L101: 一等奖
A102: 85911 | B102: 2B8hXx7L-139-009-2W-012-1-On9-01-kSO | C102: 'ENJOY AI系列赛项' | D102: ENJOY AI夏季运动会' | E102: 小学B组 | F102: 尚慧精英队 | G102: 长春高新技术产业开发区尚德学校 | H102: 冯禹赫|张栩博 | I102: 670 | J102: 262 | K102: 14 | L102: 一等奖
A103: 86577 | B103: 2B8hXx7J-139-009-C7-012-1-BtO-01-TnX | C103: 'ENJOY AI系列赛项' | D103: ENJOY AI夏季运动会' | E103: 小学B组 | F103: 明达1队 | G103: 长春新区北湖明达学校 | H103: 裴怡飞|裴翊彤 | I103: 650 | J103: 242 | K103: 15 | L103: 一等奖
A104: 88337 | B104: 2B8hXxw2-139-009-I4-012-1-uhx-01-RED | C104: 'ENJOY AI系列赛项' | D104: ENJOY AI夏季运动会' | E104: 小学B组 | F104: 厦门五缘实验学校 | G104: 厦门五缘实验学校 | H104: 占逸浚 | I104: 650 | J104: 283 | K104: 16 | L104: 二等奖
A105: 88336 | B105: 2B8hXxzP-139-009-6K-012-1-BwP-01-F6y | C105: 'ENJOY AI系列赛项' | D105: ENJOY AI夏季运动会' | E105: 小学B组 | F105: 洋洋得意 | G105: 重庆市南岸区南坪实验金科小学校 | H105: 聂铭洋|范舟伍洋 | I105: 630 | J105: 239 | K105: 17 | L105: 二等奖
A106: 88383 | B106: 2B8hXxwe-139-009-yd-012-1-i7y-01-Ksj | C106: 'ENJOY AI系列赛项' | D106: ENJOY AI夏季运动会' | E106: 小学B组 | F106: 翔鹭小学和信成火炬学校联队 | G106: 厦门科技馆 | H106: 程中旭|陈禹弛 | I106: 630 | J106: 274 | K106: 18 | L106: 二等奖
A107: 88022 | B107: 2B8hXx7C-139-009-Ab-012-1-gg3-01-0Fn | C107: 'ENJOY AI系列赛项' | D107: ENJOY AI夏季运动会' | E107: 小学B组 | F107: 教巴蜀1队 | G107: 重庆教科院巴蜀学校 | H107: 李浩宇|施卜元 | I107: 610 | J107: 261 | K107: 19 | L107: 二等奖
A108: 88649 | B108: 2B8hXxAd-139-009-kH-012-1-pDI-01-GLH | C108: 'ENJOY AI系列赛项' | D108: ENJOY AI夏季运动会' | E108: 小学B组 | F108: 厦门海沧延奎实验小学芸美分校 | G108: 厦门海沧延奎实验小学芸美分校 | H108: 林子牧|陈嘉宇 | I108: 590 | J108: 277 | K108: 20 | L108: 二等奖
A109: 88414 | B109: 2B8hXxwK-139-009-fm-012-1-DQF-01-Ivy | C109: 'ENJOY AI系列赛项' | D109: ENJOY AI夏季运动会' | E109: 小学B组 | F109: 厦门五中3队 | G109: 厦门市第五中学 | H109: 兰煜晨|冯彦智 | I109: 590 | J109: 280 | K109: 21 | L109: 二等奖
A110: 84522 | B110: 2B8hXxhM-139-009-9f-012-1-7hF-01-Qal | C110: 'ENJOY AI系列赛项' | D110: ENJOY AI夏季运动会' | E110: 小学B组 | F110: 野骆驼队 | G110: 临沂双月湖小学 | H110: 刘子淇|伊太天娇 | I110: 570 | J110: 209 | K110: 22 | L110: 二等奖
A111: 88418 | B111: 2B8hXxw9-139-009-qz-012-1-3MT-01-F3i | C111: 'ENJOY AI系列赛项' | D111: ENJOY AI夏季运动会' | E111: 小学B组 | F111: 厦门会展南1队 | G111: 厦门会展南小学 | H111: 林楷尧|周刘阳 | I111: 560 | J111: 289 | K111: 23 | L111: 二等奖
A112: 88410 | B112: 2B8hXxw6-139-009-l9-012-1-fHg-01-Cfr | C112: 'ENJOY AI系列赛项' | D112: ENJOY AI夏季运动会' | E112: 小学B组 | F112: 厦门五中1队 | G112: 厦门市第五中学 | H112: 余泓泽|邱臻逸 | I112: 550 | J112: 279 | K112: 24 | L112: 二等奖
A113: 91571 | B113: 2B8hXx2E-139-009-4K-012-1-j6O-01-8XR | C113: 'ENJOY AI系列赛项' | D113: ENJOY AI夏季运动会' | E113: 小学B组 | F113: 超级王者战队 | G113: 万科双语、深圳市高级中学北校区小学部 | H113: 李里奥|吴昀姿 | I113: 550 | J113: 297 | K113: 25 | L113: 二等奖
... A132: 88935 | B132: 2B8hXx2y-139-009-GG-012-1-UXr-01-GUY | C132: 'ENJOY AI系列赛项' | D132: ENJOY AI夏季运动会' | E132: 小学B组 | F132: 城西一队 | G132: 庐江县城西小学 | H132: 王璟琦|孙浩轩 | I132: 310 | J132: 279 | K132: 44 | L132: 二等奖
A133: 88476 | B133: 2B8hXxw5-139-009-ST-012-1-LTy-01-Qvl | C133: 'ENJOY AI系列赛项' | D133: ENJOY AI夏季运动会' | E133: 小学B组 | F133: 厦门市禾祥小学 | G133: 厦门市禾祥小学 | H133: 许宏 | I133: 290 | J133: 252 | K133: 45 | L133: 二等奖
A134: 91487 | B134: 2B8hXx2a-139-009-w1-012-1-iym-01-qTe | C134: 'ENJOY AI系列赛项' | D134: ENJOY AI夏季运动会' | E134: 小学B组 | F134: 万象汇麒麟队 | G134: 深圳市百合外国语学校 | H134: 张果|张培宸 | I134: 280 | J134: 300 | K134: 46 | L134: 二等奖
A135: 91901 | B135: 2B8hXx21-139-009-rl-012-1-brK-01-VIl | C135: 'ENJOY AI系列赛项' | D135: ENJOY AI夏季运动会' | E135: 小学B组 | F135: 月影队 | G135: 深圳市罗湖区莲塘鹏兴实验学校、深圳市罗湖区滨河小学 | H135: 何宛颖|石越 | I135: 270 | J135: 227 | K135: 47 | L135: 二等奖
A136: 85829 | B136: 2B8hXxhV-139-009-qd-012-1-wGz-01-4On | C136: 'ENJOY AI系列赛项' | D136: ENJOY AI夏季运动会' | E136: 小学B组 | F136: 郑州市惠济鹤立学校-极客坞工作室 | G136: 郑州市惠济鹤立学校极客坞竞赛工作室 | H136: 王子范|陈浩宇 | I136: 270 | J136: 262 | K136: 48 | L136: 二等奖
A137: 88381 | B137: 2B8hXxAK-139-009-mS-012-1-MJB-01-1tK | C137: 'ENJOY AI系列赛项' | D137: ENJOY AI夏季运动会' | E137: 小学B组 | F137: 呼伦贝尔草原之星三队 | G137: 阿荣旗科技馆 | H137: 宋雨泽|刘佳铭 | I137: 260 | J137: 88 | K137: 49 | L137: 二等奖
A138: 88030 | B138: 2B8hXx7Y-139-009-31-012-1-21j-01-RHX | C138: 'ENJOY AI系列赛项' | D138: ENJOY AI夏季运动会' | E138: 小学B组 | F138: 教巴蜀3队 | G138: 重庆教科院巴蜀学校 | H138: 冯梓豪|苗一然 | I138: 260 | J138: 286 | K138: 50 | L138: 二等奖
A139: 91525 | B139: 2B8hXx2i-139-009-tA-012-1-Wbk-01-6ek | C139: 'ENJOY AI系列赛项' | D139: ENJOY AI夏季运动会' | E139: 小学B组 | F139: 灵魂战队 | G139: 未来小学、深圳市实验学校坂田部 | H139: 胡弘睿|邱天辰 | I139: 250 | J139: 272 | K139: 51 | L139: 三等奖
A140: 86100 | B140: 2B8hXxhO-139-009-p5-012-1-180-01-pBP | C140: 'ENJOY AI系列赛项' | D140: ENJOY AI夏季运动会' | E140: 小学B组 | F140: 娴雅队 | G140: 兰州新区第二小学 | H140: 杨绍睿|张向东 | I140: 250 | J140: 300 | K140: 52 | L140: 三等奖
A141: 88389 | B141: 2B8hXxAG-139-009-pQ-012-1-3rP-01-frK | C141: 'ENJOY AI系列赛项' | D141: ENJOY AI夏季运动会' | E141: 小学B组 | F141: 紫薇然毅队 | G141: 滁州市紫薇小学 | H141: 赵怡然|邹孝毅 | I141: 240 | J141: 144 | K141: 53 | L141: 三等奖
A142: 85715 | B142: 2B8hXxhq-139-009-9F-012-1-JtW-01-qvT | C142: 'ENJOY AI系列赛项' | D142: ENJOY AI夏季运动会' | E142: 小学B组 | F142: 河南省实验小学-极客坞竞赛工作室 | G142: 河南省实验小学极客坞竞赛工作室 | H142: 刘连心|冯耐普 | I142: 240 | J142: 235 | K142: 54 | L142: 三等奖
A143: 88688 | B143: 2B8hXxA1-139-009-CL-012-1-Dq5-01-duG | C143: 'ENJOY AI系列赛项' | D143: ENJOY AI夏季运动会' | E143: 小学B组 | F143: 创域3队 | G143: 创域帝国机器人俱乐部 | H143: 张迎恺|徐东非 | I143: 240 | J143: 288 | K143: 55 | L143: 三等奖
...

Sheet Robo Genius系列挑战赛项
A1: 2023世界机器人大赛总决赛-青少年机器人设计大赛-Robo Genius系列挑战赛项获奖名单
A2: 报名编号 | B2: 激活码 | C2: 赛道 | D2: 赛项 | E2: 组别 | F2: 队伍名称 | G2: 申报单位 | H2: 教练信息 | I2: 学生信息 | J2: 排名 | K2: 奖项
A3: 77676 | B3: 2B8hXGW2-139-018-SM-019-1-7Bv-01-e7O | C3: Robo Genius系列挑战赛项' | D3: 'Robo Genius超能行动' | E3: 小学组 | F3: 熠硕凌风 | G3: 郑州市二七区兴华小学东校区 | H3: 郭瑾 | I3: 张熠桐|李晗硕 | J3: 1 | K3: 一等奖(冠军)
A4: 89647 | B4: 2B8hXiU5-139-018-d0-019-1-Tfj-01-okq | C4: 'Robo Genius系列挑战赛项' | D4: 'Robo Genius超能行动' | E4: 小学组 | F4: 方城神龙队 | G4: 温岭市方城小学 | H4: 施晨阳|金超 | I4: 王俊杰|冯昊然 | J4: 2 | K4: 一等奖(亚军)
A5: 86843 | B5: 2B8hXGOi-139-018-5s-019-1-rVy-01-rLK | C5: 'Robo Genius系列挑战赛项' | D5: 'Robo Genius超能行动' | E5: 小学组 | F5: 头脑风暴五队 | G5: 郑州中学第四附属小学 郑州市惠济区弓寨小学 | H5: 刘丽聪|郭杨杨 | I5: 张文琪|史奕晨 | J5: 3 | K5: 一等奖(季军)
A6: 77484 | B6: 2B8hXGWP-139-018-U4-019-1-WNz-01-OT3 | C6: 'Robo Genius系列挑战赛项' | D6: 'Robo Genius超能行动' | E6: 小学组 | F6: 蔚蓝云炫 | G6: 郑州市金水区文化路第一小学翰林校区 | H6: 刘丽|苑盼盼 | I6: 郝芸萱|刘雨轩 | J6: 4 | K6: 一等奖
A7: 77547 | B7: 2B8hXG0g-139-018-Lh-019-1-K4e-01-83h | C7: 'Robo Genius系列挑战赛项' | D7: 'Robo Genius超能行动' | E7: 小学组 | F7: 致远超能战队 | G7: 厦门市前埔小学 | H7: 何惠真|吴美琴 | I7: 王晨皓|陈俊融 | J7: 5 | K7: 一等奖
A8: 77560 | B8: 2B8hXGlh-139-018-Qh-019-1-uQE-01-VlM | C8: 'Robo Genius系列挑战赛项' | D8: 'Robo Genius超能行动' | E8: 小学组 | F8: 豆豆绿豆队 | G8: 豆豆机器人 | H8: 曾业成|杨运森 | I8: 徐礼朗|曾子航 | J8: 6 | K8: 一等奖
A9: 89698 | B9: 2B8hXGO6-139-018-HQ-019-1-124-01-pOO | C9: 'Robo Genius系列挑战赛项' | D9: 'Robo Genius超能行动' | E9: 小学组 | F9: 太平双龙 | G9: 温岭市太平小学 | H9: 缪连君|金肖平 | I9: 戴川钧|陈致远 | J9: 7 | K9: 一等奖
A10: 77388 | B10: 2B8hXGWH-139-018-kA-019-1-ct3-01-FrB | C10: 'Robo Genius系列挑战赛项' | D10: 'Robo Genius超能行动' | E10: 小学组 | F10: 雷霆战队 | G10: 郑州市二七区滨河花园实验小学 郑州市科创学校（小学部） | H10: 刘璐|梁瑞瑞 | I10: 荆晨绪|张珈铭谦 | J10: 8 | K10: 一等奖
A11: 81069 | B11: 2B8hXGOo-139-018-G8-019-1-dkf-01-Q75 | C11: 'Robo Genius系列挑战赛项' | D11: 'Robo Genius超能行动' | E11: 小学组 | F11: 扶摇直上小队 | G11: 泰州市海光中心小学 | H11: 陈旻|陈磊 | I11: 吉子芃|陈宇泽 | J11: 9 | K11: 一等奖
A12: 77164 | B12: 2B8hXG03-139-018-fX-019-1-TzT-01-2vB | C12: 'Robo Genius系列挑战赛项' | D12: 'Robo Genius超能行动' | E12: 小学组 | F12: 厦门北小超能战队 | G12: 厦门市前埔北区小学 | H12: 林丽芳|何冰冰 | I12: 卢俊彤|李文儒 | J12: 10 | K12: 一等奖
A13: 77117 | B13: 2B8hXG0D-139-018-BY-019-1-pW0-01-7V1 | C13: 'Robo Genius系列挑战赛项' | D13: 'Robo Genius超能行动' | E13: 小学组 | F13: 松果超能1队 | G13: 厦门市松柏小学 | H13: 陈维佳|刘余建 | I13: 蒋天朗|严宏彬 | J13: 11 | K13: 一等奖
A14: 77679 | B14: 2B8hXGjV-139-018-5w-019-1-vDX-01-i1B | C14: 'Robo Genius系列挑战赛项' | D14: 'Robo Genius超能行动' | E14: 小学组 | F14: 才源滚滚 | G14: 哈尔滨继红小学校（哈西一校区） | H14: 李蒙 | I14: 刘熹桐|黄勃润 | J14: 12 | K14: 一等奖
... A169: 87204 | B169: 2B8hXGHg-139-018-sv-020-1-esu-03-CmO | C169: 'Robo Genius系列挑战赛项' | D169: 'Robo Genius火星智造' | E169: 中学组 | F169: 合肥瑶海1队 | G169: 安徽省合肥六中教育集团瑶海分校 | H169: 凌静|徐虹 | I169: 沐俊昊|李孟尧 | J169: 14 | K169: 三等奖

Sheet Super AI超级轨迹赛项
A1: 2023世界机器人大赛总决赛-青少年机器人设计大赛-Super AI超级轨迹赛项获奖名单
A2: 报名编号 | B2: 激活码 | C2: 赛道 | D2: 赛项 | E2: 组别 | F2: 队伍名称 | G2: 申报单位 | H2: 教练信息 | I2: 学生信息 | J2: 比赛分数 | K2: 比赛用时 | L2: 成绩排名 | M2: 奖项
A3: 小学A组-上午场
A4: 88974 | B4: 2B8hXXhC-139-021-N5-022-1-lg6-01-5aF | C4: Super AI超级轨迹赛项' | D4: Super AI超级轨迹赛-星际联盟' | E4: 小学组 | F4: 奥体小学和协和学校联队 | G4: 慧动机器人 | H4: 杨结宝|王海凤 | I4: 史书恒|杜铭熙 | J4: 908 | K4: 288 | L4: 1 | M4: 一等奖(冠军)
A5: 76330 | B5: 2B8hXG87-139-021-v1-022-1-EvG-01-Kkg | C5: 'Super AI超级轨迹赛项' | D5: Super AI超级轨迹赛-星际联盟' | E5: 小学组 | F5: 大唐逐梦队 | G5: 晋中市榆次区大唐现代双语小学 | H5: 李冰 | I5: 牛梓溯|杨景晰 | J5: 878 | K5: 102 | L5: 2 | M5: 一等奖(亚军)
A6: 76909 | B6: 2B8hXGu4-139-021-R6-022-1-Rsg-01-nuq | C6: 'Super AI超级轨迹赛项' | D6: Super AI超级轨迹赛-星际联盟' | E6: 小学组 | F6: 萍乡安源城区小学 | G6: 江西省萍乡市安源区城区小学 | H6: 邓志华 | I6: 林宇航|吕璨辰 | J6: 838 | K6: 212 | L6: 3 | M6: 一等奖(季军)
A7: 78533 | B7: 2B8hXGQF-139-021-L4-022-1-Sbc-01-MUm | C7: 'Super AI超级轨迹赛项' | D7: Super AI超级轨迹赛-星际联盟' | E7: 小学组 | F7: 极地战神队 | G7: 晋中市榆次区大唐现代双语小学 | H7: 侯浩博 | I7: 侯浩博|赵禹维 | J7: 787 | K7: 73 | L7: 4 | M7: 一等奖
A8: 78856 | B8: 2B8hXX25-139-021-pc-022-1-ETz-01-N8q | C8: 'Super AI超级轨迹赛项' | D8: Super AI超级轨迹赛-星际联盟' | E8: 小学组 | F8: 大唐超能特战队 | G8: 晋中市榆次区大唐现代双语小学 | H8: 王泓杰 | I8: 王泓杰|马嘉裕 | J8: 723 | K8: 127 | L8: 5 | M8: 一等奖
A9: 89113 | B9: 2B8hXXLq-139-021-nF-022-1-tLT-01-7MU | C9: 'Super AI超级轨迹赛项' | D9: Super AI超级轨迹赛-星际联盟' | E9: 小学组 | F9: 勇闯先锋1队 | G9: 羊山新区第二小学 | H9: 沈小雨 | I9: 肖家溢|李思琦 | J9: 662 | K9: 54 | L9: 6 | M9: 一等奖
A10: 89179 | B10: 2B8hXXz8-139-021-1Z-022-1-AOW-01-DNI | C10: 'Super AI超级轨迹赛项' | D10: Super AI超级轨迹赛-星际联盟' | E10: 小学组 | F10: 一飞冲天1队 | G10: 新摩讯机器人一中心 | H10: 何峰 | I10: 宋易轩|李沂霖 | J10: 652 | K10: 79 | L10: 7 | M10: 一等奖
A11: 78844 | B11: 2B8hXGBJ-139-021-wa-022-1-JOM-01-yab | C11: 'Super AI超级轨迹赛项' | D11: Super AI超级轨迹赛-星际联盟' | E11: 小学组 | F11: 骐骥最强 | G11: 深圳市仙桐实验小学 | H11: 李捷|朱泽凯 | I11: 赵鸿羲|叶洺羽 | J11: 634 | K11: 120 | L11: 8 | M11: 一等奖
A12: 89376 | B12: 2B8hXX7n-139-021-hD-022-1-qHE-01-C1h | C12: 'Super AI超级轨迹赛项' | D12: Super AI超级轨迹赛-星际联盟' | E12: 小学组 | F12: 灵感海洋 | G12: 青岛西海岸新区董家口小学 | H12: 李维助 | I12: 张子鸣|魏琪宇 | J12: 598 | K12: 60 | L12: 9 | M12: 一等奖
A13: 77921 | B13: 2B8hXGRi-139-021-pW-022-1-IVs-01-hvS | C13: 'Super AI超级轨迹赛项' | D13: Super AI超级轨迹赛-星际联盟' | E13: 小学组 | F13: 人工智能队 | G13: 信阳羊山实验小学 | H13: 王磊 | I13: 许文哲|曹珊瑜 | J13: 593 | K13: 110 | L13: 10 | M13: 一等奖
A14: 85716 | B14: 2B8hXJwT-139-021-Iv-022-1-jRq-01-UOr | C14: 'Super AI超级轨迹赛项' | D14: Super AI超级轨迹赛-星际联盟' | E14: 小学组 | F14: 荣盛1队 | G14: 济南正东瓦特科技培训学校 | H14: 冯凯 | I14: 秦诗画|夏明睿 | J14: 592 | K14: 107 | L14: 11 | M14: 一等奖
A15: 89210 | B15: 2B8hXXzs-139-021-V3-022-1-4U9-01-xOm | C15: 'Super AI超级轨迹赛项' | D15: Super AI超级轨迹赛-星际联盟' | E15: 小学组 | F15: 高飞远翔队1 | G15: 新摩讯机器人一中心 | H15: 赵寅 | I15: 吴馨悦|吴忻宸 | J15: 585 | K15: 95 | L15: 12 | M15: 一等奖
... A120: 79696 | B120: 2B8hXGr3-139-021-Oo-022-1-r8L-01-oH1 | C120: 'Super AI超级轨迹赛项' | D120: Super AI超级轨迹赛-星际联盟' | E120: 小学组 | F120: 龙湖1队 | G120: 济南市历城区正西瓦特科技培训学校 | H120: 赵广利 | I120: 孙鉴满|张桐语 | J120: 15 | K120: 158 | L120: 117 | M120: 三等奖
A121: 小学A组-下午场
A122: 77909 | B122: 2B8hXGRx-139-021-Sh-022-1-uho-01-0qy | C122: 'Super AI超级轨迹赛项' | D122: Super AI超级轨迹赛-星际联盟' | E122: 小学组 | F122: 雷霆速击队 | G122: 信阳市平桥区第七小学 | H122: 王婧 | I122: 张晨|谌志轩 | J122: 929 | K122: 51 | L122: 1 | M122: 一等奖(冠军)
A123: 76678 | B123: 2B8hXG11-139-021-Hq-022-1-6yd-01-paw | C123: 'Super AI超级轨迹赛项' | D123: Super AI超级轨迹赛-星际联盟' | E123: 小学组 | F123: 安居苑小学1队 | G123: 安居苑小学 | H123: 贾志成 | I123: 曹长治|管李澈 | J123: 911 | K123: 69 | L123: 2 | M123: 一等奖(亚军)
A124: 83298 | B124: 2B8hXJAU-139-021-dD-022-1-jlB-01-jfw | C124: 'Super AI超级轨迹赛项' | D124: Super AI超级轨迹赛-星际联盟' | E124: 小学组 | F124: 北塘/利民路小学2队 | G124: 芜湖市北塘小学 | H124: 谢军 | I124: 陶鑫洋|朱云龙 | J124: 886 | K124: 266 | L124: 3 | M124: 一等奖(季军)
A125: 88965 | B125: 2B8hXXhK-139-021-2k-022-1-6ab-01-IYA | C125: 'Super AI超级轨迹赛项' | D125: Super AI超级轨迹赛-星际联盟' | E125: 小学组 | F125: 奥体小学和翠庭园小学联队 | G125: 慧动机器人 | H125: 杨结宝|王海凤 | I125: 王乐天|徐华焱 | J125: 883 | K125: 87 | L125: 4 | M125: 一等奖
A126: 77710 | B126: 2B8hXXLJ-139-021-bX-022-1-G1t-01-sdR | C126: 'Super AI超级轨迹赛项' | D126: Super AI超级轨迹赛-星际联盟' | E126: 小学组 | F126: 阳光彩虹队 | G126: 信阳市平桥区第二小学 | H126: 于强 | I126: 余东泽|周辰旭 | J126: 802 | K126: 262 | L126: 5 | M126: 一等奖
A127: 92297 | B127: 2B8hXXPV-139-021-yF-022-1-2Ph-01-ebG | C127: 'Super AI超级轨迹赛项' | D127: Super AI超级轨迹赛-星际联盟' | E127: 小学组 | F127: 师大附小02队 | G127: 云南师范大学附属小学 | H127: 郭兴照|鲁昆鹂 | I127: 陈泰燃|曾碧翀 | J127: 790 | K127: 290 | L127: 6 | M127: 一等奖
A128: 92041 | B128: 2B8hXXvr-139-021-ne-022-1-iCW-01-ouT | C128: 'Super AI超级轨迹赛项' | D128: Super AI超级轨迹赛-星际联盟' | E128: 小学组 | F128: BG机器人1队 | G128: BG机器人 | H128: 向冠宇 | I128: 王泓博|梁浩林 | J128: 788 | K128: 72 | L128: 7 | M128: 一等奖
A129: 75570 | B129: 2B8hXGui-139-021-ae-022-1-lot-01-oEA | C129: 'Super AI超级轨迹赛项' | D129: Super AI超级轨迹赛-星际联盟' | E129: 小学组 | F129: 人工智能1队 | G129: 昌平区城北小学教育集团六街校区 | H129: 王继韬|杨亚军 | I129: 陈喆林|刘子奇 | J129: 752 | K129: 198 | L129: 8 | M129: 一等奖
A130: 76683 | B130: 2B8hXG1e-139-021-KP-022-1-2hQ-01-DaR | C130: 'Super AI超级轨迹赛项' | D130: Super AI超级轨迹赛-星际联盟' | E130: 小学组 | F130: 安居苑小学3队 | G130: 安居苑小学 | H130: 贾志成 | I130: 杨睿麒|张梓琛 | J130: 751 | K130: 261 | L130: 9 | M130: 一等奖
A131: 78755 | B131: 2B8hXG1S-139-021-Xq-022-1-F8c-01-6Mo | C131: 'Super AI超级轨迹赛项' | D131: Super AI超级轨迹赛-星际联盟' | E131: 小学组 | F131: 云间6队 | G131: 上海外国语附属外国语学校云间小学东部分校 | H131: 丁薇 | I131: 张子昂|林正祥 | J131: 723 | K131: 54 | L131: 10 | M131: 一等奖
A132: 83146 | B132: 2B8hXJAq-139-021-uA-022-1-g5r-01-PVC | C132: 'Super AI超级轨迹赛项' | D132: Super AI超级轨迹赛-星际联盟' | E132: 小学组 | F132: 科技梦队 | G132: 德州市德城区莱凯教育培训学校 | H132: 宋鹏祥 | I132: 崔兆桐|郑书昊 | J132: 715 | K132: 74 | L132: 11 | M132: 一等奖
A133: 89168 | B133: 2B8hXXP7-139-021-IM-022-1-PIW-01-noS | C133: 'Super AI超级轨迹赛项' | D133: Super AI超级轨迹赛-星际联盟' | E133: 小学组 | F133: 子滔战队 | G133: 珠海市香洲区甄贤小学、珠海市香洲区荣泰小学 | H133: 方琳|万林 | I133: 戴运滔|罗子淇 | J133: 706 | K133: 89 | L133: 12 | M133: 一等奖
... A208: 89267 | B208: 2B8hXX7e-139-021-QX-022-1-jNE-01-q5h | C208: 'Super AI超级轨迹赛项' | D208: Super AI超级轨迹赛-星际联盟' | E208: 小学组 | F208: 睿博3队 | G208: 青岛市睿博机器人编程俱乐部 | H208: 李程 | I208: 唐浩瑜|李世海 | J208: 180 | K208: 115 | L208: 87 | M208: 三等奖
B209: 2B8hXGEb-139-021-gV-022-1-s3H-01-IrT | C209: 'Super AI超级轨迹赛项' | D209: Super AI超级轨迹赛-星际联盟' | E209: 小学组 | F209: 精英队 | G209: 未来源少儿编程 | H209: 何磊 | I209: 徐若嘉|李梓睿 | J209: 175 | K209: 70 | L209: 88 | M209: 三等奖
A210: 83177 | B210: 2B8hXJAi-139-021-OC-022-1-cvd-01-0uz | C210: 'Super AI超级轨迹赛项' | D210: Super AI超级轨迹赛-星际联盟' | E210: 小学组 | F210: 燕山1队 | G210: 历下区瓦特机器人培训学校 | H210: 侯超欣 | I210: 丁千博|李紫颐 | J210: 175 | K210: 76 | L210: 89 | M210: 三等奖
A211: 89661 | B211: 2B8hXXwF-139-021-fp-022-1-gup-01-Ja7 | C211: 'Super AI超级轨迹赛项' | D211: Super AI超级轨迹赛-星际联盟' | E211: 小学组 | F211: 济南玛酷二队 | G211: 玛酷机器人济南编程中心 | H211: 原凯育 | I211: 巫聿哲|李佳玥 | J211: 170 | K211: 90 | L211: 90 | M211: 三等奖
A212: 89205 | B212: 2B8hXXze-139-021-1i-022-1-B4X-01-Bke | C212: 'Super AI超级轨迹赛项' | D212: Super AI超级轨迹赛-星际联盟' | E212: 小学组 | F212: 斗转星移队1 | G212: 新摩讯机器人一中心 | H212: 赵寅 | I212: 王乾名|郭晓龙 | J212: 170 | K212: 54 | L212: 91 | M212: 三等奖
A213: 89197 | B213: 2B8hXXzB-139-021-2K-022-1-p3D-01-qkE | C213: 'Super AI超级轨迹赛项' | D213: Super AI超级轨迹赛-星际联盟' | E213: 小学组 | F213: 梦启九州队1 | G213: 新摩讯机器人一中心 | H213: 逄凡 | I213: 贾佳潞|郭曦阳 | J213: 170 | K213: 90 | L213: 92 | M213: 三等奖
A214: 75597 | B214: 2B8hXGmt-139-021-z1-022-1-zy6-01-QKq | C214: 'Super AI超级轨迹赛项' | D214: Super AI超级轨迹赛-星际联盟' | E214: 小学组 | F214: 博智小学1队 | G214: 惠东县平山青云小学 | H214: 杨志深 | I214: 杨凯颖|邓子越 | J214: 160 | K214: 37 | L214: 93 | M214: 三等奖
A215: 89310 | B215: 2B8hXXwt-139-021-oH-022-1-0Qd-01-9t4 | C215: 'Super AI超级轨迹赛项' | D215: Super AI超级轨迹赛-星际联盟' | E215: 小学组 | F215: 美思托星耀队 | G215: 淄博市周村区机器人运动协会 | H215: 孔浩 | I215: 韩语钖|李政锡 | J215: 160 | K215: 50 | L215: 94 | M215: 三等奖
A216: 84300 | B216: 2B8hXJLu-139-021-WI-022-1-6fN-01-DFP | C216: 'Super AI超级轨迹赛项' | D216: Super AI超级轨迹赛-星际联盟' | E216: 小学组 | F216: 普陀壹队 | G216: 上海普陀乐博机器人学习中心 | H216: 李锦添 | I216: 侯汇宸|萧汪平川 | J216: 160 | K216: 72 | L216: 95 | M216: 三等奖
A217: 75604 | B217: 2B8hXGEU-139-021-ka-022-1-Cp2-01-1Em | C217: 'Super AI超级轨迹赛项' | D217: Super AI超级轨迹赛-星际联盟' | E217: 小学组 | F217: 藏獒队 | G217: 未来源少儿编程 | H217: 何磊 | I217: 尹升东|梅峻诚 | J217: 150 | K217: 30 | L217: 96 | M217: 三等奖
A218: 89136 | B218: 2B8hXX7c-139-021-ib-022-1-ZcF-01-nhz | C218: 'Super AI超级轨迹赛项' | D218: Super AI超级轨迹赛-星际联盟' | E218: 小学组 | F218: 唐冶3队 | G218: 济南圣唐瓦特科技培训学校 | H218: 宋晋鑫 | I218: 孙振桐|刘栩辰 | J218: 150 | K218: 175 | L218: 97 | M218: 三等奖
...

Sheet TAI挑战赛项
A1: 2023世界机器人大赛总决赛-青少年机器人设计大赛-TAI挑战赛项获奖名单
A2: 报名编号 | B2: 激活码 | C2: 赛道 | D2: 赛项 | E2: 组别 | F2: 队伍名称 | G2: 申报单位 | H2: 教练信息 | I2: 学生信息 | J2: 比赛分数 | K2: 成绩排名 | L2: 奖项 | M2: 相同得分完成时间 为第二排名依据
A3: 79264 | B3: 2B8hXq7S-139-024-Oi-025-1-o7R-01-bl9 | C3: TAI挑战赛项' | D3: TAI智慧城市全能挑战赛' | E3: 小学组 | F3: 长庆八中与西安未央锦园小学联合队 | G3: 长庆八中/西安未央锦园小学 | H3: 秦一鸣 | I3: 刘陈佑|惠瀚文 | J3: 405 | K3: 1 | L3: 一等奖(冠军)
A4: 79364 | B4: 2B8hXq7l-139-024-Oq-025-1-e8I-01-X3b | C4: 'TAI挑战赛项' | D4: TAI智慧城市全能挑战赛' | E4: 小学组 | F4: 经开一校队 | G4: 西安经开第一学校 | H4: 郭张伟 | I4: 杨昊晔|魏莱 | J4: 330 | K4: 2 | L4: 一等奖(亚军)
A5: 89776 | B5: 2B8hXXct-139-024-qE-025-1-j6P-01-iAw | C5: 'TAI挑战赛项' | D5: TAI智慧城市全能挑战赛' | E5: 小学组 | F5: 香洲一小队 | G5: 圣若教育 | H5: 刁鹏程 | I5: 朱嘉信|周梓薇 | J5: 255 | K5: 3 | L5: 一等奖(季军)
A6: 79441 | B6: 2B8hXq7Q-139-024-Yo-025-1-97a-01-sSH | C6: 'TAI挑战赛项' | D6: TAI智慧城市全能挑战赛' | E6: 小学组 | F6: 高新实验小学和经开六校联合队 | G6: 西安高新区实验小学 | H6: 王西 | I6: 薛远之|武旭龙 | J6: 250 | K6: 4 | L6: 一等奖
A7: 91295 | B7: 2B8hXXcV-139-024-4H-025-1-kU3-01-maN | C7: 'TAI挑战赛项' | D7: TAI智慧城市全能挑战赛' | E7: 小学组 | F7: 联队醒华小学嘉豪-为明学校庆梓 | G7: 佛山思顿学堂桂城校区 | H7: 林泽全 | I7: 曾庆梓|游嘉豪 | J7: 250 | K7: 5 | L7: 一等奖
A8: 83161 | B8: 2B8hXJh7-139-024-Qu-025-1-ExC-01-KH1 | C8: 'TAI挑战赛项' | D8: TAI智慧城市全能挑战赛' | E8: 小学组 | F8: 苏州大学高邮实验学校2队 | G8: 苏州大学高邮实验学校 | H8: 孙艳 | I8: 姚可轶|胡昊 | J8: 245 | K8: 6 | L8: 一等奖
A9: 81179 | B9: 2B8hXqhW-139-024-Q2-025-1-JzL-01-qqU | C9: 'TAI挑战赛项' | D9: TAI智慧城市全能挑战赛' | E9: 小学组 | F9: 使命必达 | G9: 重庆市南岸区南坪实验小学康德校区 | H9: 张霰文 | I9: 高睿怿|余严昊 | J9: 245 | K9: 7 | L9: 一等奖
A10: 90526 | B10: 2B8hXXcG-139-024-VL-025-1-xNY-01-oBH | C10: 'TAI挑战赛项' | D10: TAI智慧城市全能挑战赛' | E10: 小学组 | F10: 上海进才实验VS康桥实验小学联队 | G10: 金钥匙AI | H10: 秦彤 | I10: 赵若辰|严洪杰 | J10: 245 | K10: 8 | L10: 一等奖
A11: 87455 | B11: 2B8hXJai-139-024-PI-025-1-VDt-01-MtT | C11: 'TAI挑战赛项' | D11: TAI智慧城市全能挑战赛' | E11: 小学组 | F11: 奋勇向前队 | G11: 重庆两江新区礼嘉实验小学校 | H11: 毛云 | I11: 李睿哲|韩可欣 | J11: 245 | K11: 9 | L11: 一等奖
A12: 79077 | B12: 2B8hXqhj-139-024-22-025-1-c0g-01-LAG | C12: 'TAI挑战赛项' | D12: TAI智慧城市全能挑战赛' | E12: 小学组 | F12: 炒鱿鱼小队 | G12: 南宁市秀田小学 | H12: 蓝伟欢 | I12: 冉若愚|张皓云 | J12: 240 | K12: 10 | L12: 一等奖
A13: 81301 | B13: 2B8hXq7k-139-024-Ff-025-1-2Nv-01-AFO | C13: 'TAI挑战赛项' | D13: TAI智慧城市全能挑战赛' | E13: 小学组 | F13: 土豆战队 | G13: 丹东市实验小学 | H13: 于大军 | I13: 韩旺辰|于腾皓 | J13: 240 | K13: 11 | L13: 一等奖
A14: 87570 | B14: 2B8hXqPP-139-024-JB-025-1-m9o-01-Uz4 | C14: 'TAI挑战赛项' | D14: TAI智慧城市全能挑战赛' | E14: 小学组 | F14: 利民路小学2队 | G14: 芜湖市利民路小学 | H14: 陶敏 | I14: 赵辰洋 | J14: 240 | K14: 12 | L14: 一等奖
... A61: 79990 | B61: 2B8hXqh8-139-024-46-025-1-kUD-01-Xqt | C61: 'TAI挑战赛项' | D61: TAI智慧城市全能挑战赛' | E61: 小学组 | F61: 就叫小队 | G61: 南宁市秀田小学 | H61: 廖恒发 | I61: 覃胥潼|马梓铭 | J61: 125 | K61: 60 | L61: 三等奖
C62: 'TAI挑战赛项' | D62: TAI智慧城市全能挑战赛' | E62: 小学组 | F62: 淇小战队二队 | G62: 鹤壁市淇滨小学 | H62: 王洋 | I62: 李明辰|晁浩源 | J62: 120 | K62: 61 | L62: 三等奖
A63: 79675 | B63: 2B8hXqPk-139-024-iD-025-1-WYU-01-3ph | C63: 'TAI挑战赛项' | D63: TAI智慧城市全能挑战赛' | E63: 小学组 | F63: 南外仙林1队 | G63: 南京外国语学校仙林分校 | H63: 都笑|姜芳 | I63: 朱航逸 |李昱翰 | J63: 120 | K63: 62 | L63: 三等奖
C64: 'TAI挑战赛项' | D64: TAI智慧城市全能挑战赛' | E64: 小学组 | F64: 淇小战队一队 | G64: 鹤壁市淇滨小学 | H64: 王洋 | I64: 王睿宸|李隆迪 | J64: 115 | K64: 63 | L64: 三等奖
A65: 79197 | B65: 2B8hXq7J-139-024-wh-025-1-QuW-01-8La | C65: 'TAI挑战赛项' | D65: TAI智慧城市全能挑战赛' | E65: 小学组 | F65: 长庆八中一队 | G65: 长庆八中 | H65: 秦一鸣 | I65: 曹塬雄|曹轩豪 | J65: 110 | K65: 64 | L65: 三等奖
A66: 89793 | B66: 2B8hXXf7-139-024-Vr-025-1-kEU-01-pwp | C66: 'TAI挑战赛项' | D66: TAI智慧城市全能挑战赛' | E66: 小学组 | F66: 霍邱未来之星1队 | G66: 霍邱县城关镇中心小学 | H66: 田苗苗 | I66: 罗旭|胡建昊 | J66: 110 | K66: 65 | L66: 三等奖
A67: 79330 | B67: 2B8hXq7s-139-024-qv-025-1-Rhv-01-ZsU | C67: 'TAI挑战赛项' | D67: TAI智慧城市全能挑战赛' | E67: 小学组 | F67: 沈阳雏鹰实验二队 | G67: 沈阳市铁西区雏鹰实验小学教育集团 | H67: 许晨 | I67: 范泓睿|杨昀翰 | J67: 105 | K67: 66 | L67: 三等奖
A68: 79093 | B68: 2B8hXqhH-139-024-3y-025-1-D1m-01-IdX | C68: 'TAI挑战赛项' | D68: TAI智慧城市全能挑战赛' | E68: 小学组 | F68: 自然选择队 | G68: 南宁市秀田小学 | H68: 龙亮 | I68: 张梓轩|阳宇杰 | J68: 105 | K68: 67 | L68: 三等奖
A69: 87529 | B69: 2B8hXJaz-139-024-6u-025-1-rVT-01-Yas | C69: 'TAI挑战赛项' | D69: TAI智慧城市全能挑战赛' | E69: 小学组 | F69: 钜蛋小学组3队 | G69: 秦皇岛钜蛋科普基地 | H69: 张莹晖 | I69: 尤铮|唐嘉骏 | J69: 105 | K69: 68 | L69: 三等奖
A70: 91558 | B70: 2B8hXXVQ-139-024-t5-025-1-wJC-01-qGq | C70: 'TAI挑战赛项' | D70: TAI智慧城市全能挑战赛' | E70: 小学组 | F70: 平潭明星队 | G70: 平潭岚城乡中心小学 | H70: 翁绳乐 | I70: 郭宇城|苏昱桥 | J70: 100 | K70: 69 | L70: 三等奖
A71: 79572 | B71: 2B8hXqhw-139-024-Gk-025-1-8sC-01-wxn | C71: 'TAI挑战赛项' | D71: TAI智慧城市全能挑战赛' | E71: 小学组 | F71: 南外仙林2队 | G71: 南京外国语学校仙林分校 | H71: 殷青青|翁文强 | I71: 袁铭泽|袁铭骏 | J71: 95 | K71: 70 | L71: 三等奖
A72: 92057 | B72: 2B8hXXV8-139-024-KF-025-1-pbn-01-Y96 | C72: 'TAI挑战赛项' | D72: TAI智慧城市全能挑战赛' | E72: 小学组 | F72: 安顺科技之星队 | G72: 安顺吉玛俱乐部 | H72: 张阳 | I72: 赵华垚|刘朝明 | J72: 95 | K72: 71 | L72: 三等奖
A73: 84753 | B73: 2B8hXJPc-139-024-OW-025-1-Oij-01-6hO | C73: 'TAI挑战赛项' | D73: TAI智慧城市全能挑战赛' | E73: 小学组 | F73: 柏辰队 | G73: 北京市朝阳区将府实验学校 | H73: 班晓敏 | I73: 宋柏川|孙辰佑 | J73: 90 | K73: 72 | L73: 三等奖
A74: 83224 | B74: 2B8hXJPE-139-024-To-025-1-KxE-01-1IJ | C74: 'TAI挑战赛项' | D74: TAI智慧城市全能挑战赛' | E74: 小学组 | F74: 灭霸队 | G74: 启贤教育科技俱乐部 | H74: 孙梦萱 | I74: 杨睿璘|王沭博 | J74: 90 | K74: 73 | L74: 三等奖
A75: 87227 | B75: 2B8hXJXD-139-024-2b-025-1-7Gf-01-pDL | C75: 'TAI挑战赛项' | D75: TAI智慧城市全能挑战赛' | E75: 小学组 | F75: 钜蛋小学组1队 | G75: 秦皇岛钜蛋科普基地 | H75: 张莹晖 | I75: 李明翰|刘子璋 | J75: 90 | K75: 74 | L75: 三等奖
A76: 84721 | B76: 2B8hXJPy-139-024-HP-025-1-88m-01-3zC | C76: 'TAI挑战赛项' | D76: TAI智慧城市全能挑战赛' | E76: 小学组 | F76: 轩泽队 | G76: 北京市朝阳区将府实验学校 | H76: 田莎莎 | I76: 杜昀轩|王泽 | J76: 85 | K76: 75 | L76: 三等奖
... A82: 83053 | B82: 2B8hXJhf-139-024-Z8-025-1-p94-01-kTH | C82: 'TAI挑战赛项' | D82: TAI智慧城市全能挑战赛' | E82: 小学组 | F82: 科学小怪兽 | G82: 科学小怪兽俱乐部 | H82: 袁洪 | I82: 李泽熙 |陈昕彤 | J82: 45 | K82: 81 | L82: 三等奖
C83: 'TAI挑战赛项' | D83: TAI智慧城市全能挑战赛' | E83: 小学组 | F83: 智慧之星一号 | G83: 凤冈第三小学 | H83: 彭霞 | I83: 彭钰华|彭祺轩 | J83: 40 | K83: 82 | L83: 三等奖
A84: 84685 | B84: 2B8hXJPZ-139-024-2m-025-1-wnD-01-w7D | C84: 'TAI挑战赛项' | D84: TAI智慧城市全能挑战赛' | E84: 小学组 | F84: 陈诚队 | G84: 北京市朝阳区将府实验学校 | H84: 齐斌 | I84: 刘笑诚|刘陈 | J84: 35 | K84: 83 | L84: 三等奖
A85: 81754 | B85: 2B8hXqhS-139-024-qA-025-1-Vep-01-aSH | C85: 'TAI挑战赛项' | D85: TAI智慧城市全能挑战赛' | E85: 小学组 | F85: 巴适得很 | G85: 重庆市南岸区珊瑚浦辉实验小学 | H85: 胡钰竺 | I85: 张玮宸|鲜一帆 | J85: 30 | K85: 84 | L85: 三等奖
A86: 84744 | B86: 2B8hXJPq-139-024-zr-025-1-oPp-01-Brw | C86: 'TAI挑战赛项' | D86: TAI智慧城市全能挑战赛' | E86: 小学组 | F86: 轩礼队 | G86: 北京市朝阳区将府实验学校 | H86: 郭奇迹 | I86: 张彦礼|张梓轩 | J86: 20 | K86: 85 | L86: 三等奖
A87: 89956 | B87: 2B8hXXVG-139-024-d9-025-1-oaN-01-N7l | C87: 'TAI挑战赛项' | D87: TAI智慧城市全能挑战赛' | E87: 小学组 | F87: 大白创客B队 | G87: 西安高新区实验小学 | H87: 王西 | I87: 熊锦辰|周莫檀 | J87: 5 | K87: 86 | L87: 三等奖
A88: 87561 | B88: 2B8hXJa4-139-024-aO-025-1-TXG-01-ZAI | C88: 'TAI挑战赛项' | D88: TAI智慧城市全能挑战赛' | E88: 小学组 | F88: 钜蛋小学组6队 | G88: 秦皇岛钜蛋科普基地 | H88: 徐慧 | I88: 孙晖洋|侯明辰 | J88: 5 | K88: 87 | L88: 三等奖
A89: 83302 | B89: 2B8hXJhA-139-024-14-025-1-VBr-01-On2 | C89: 'TAI挑战赛项' | D89: TAI智慧城市全能挑战赛' | E89: 小学组 | F89: 易轩队 | G89: 星黎漂浮少儿编程俱乐部 | H89: 马辰旭 | I89: 杨子易|刘宇轩 | J89: 5 | K89: 88 | L89: 三等奖
A90: 78641 | B90: 2B8hXqzT-139-024-FZ-025-1-AyW-01-rCc | C90: 'TAI挑战赛项' | D90: TAI智慧城市全能挑战赛' | E90: 小学组 | F90: 南太湖风暴六队 | G90: 南太湖风暴青少年机器人俱乐部 | H90: 易子煜 | I90: 祝锦翔|潘俊锡 | J90: 5 | K90: 89 | L90: 三等奖
A91: 78650 | B91: 2B8hXqzQ-139-024-Of-025-1-Mwc-01-rpQ | C91: 'TAI挑战赛项' | D91: TAI智慧城市全能挑战赛' | E91: 小学组 | F91: 南太湖风暴三队 | G91: 萝卜学苑青少年机器人俱乐部 | H91: 顾杰 | I91: 唐洪亮|吕牧宸 | J91: 5 | K91: 90 | L91: 三等奖
...

Sheet AI Will机器人挑战赛项
A1: 2023世界机器人大赛总决赛-青少年机器人设计大赛-AI Will星球速递挑战赛赛项获奖名单
A2: 报名编号 | B2: 激活码 | C2: 赛道 | D2: 赛项 | E2: 组别 | F2: 队伍名称 | G2: 申报单位 | H2: 教练信息 | I2: 学生信息 | J2: 比赛分数 | K2: 比赛用时(s) | L2: 成绩排名 | M2: 奖项
A3: 77263 | B3: 2B8hXqIo-139-112-sb-113-1-ty0-06-J22 | C3: 'AI Will机器人挑战赛项(星球速递)' | D3: 'AI Will星球速递挑战赛' | E3: 小学初级组 | F3: 钱辰队 | G3: 云南师范大学附属官渡小学 | H3: 华剑梅 | I3: 郭帅辰|王钱艺博 | L3: 冠军 | M3: 一等奖(冠军)
A4: 79860 | B4: 2B8hXqxg-139-112-5n-113-1-3XC-06-6k2 | C4: 'AI Will机器人挑战赛项(星球速递)' | D4: 'AI Will星球速递挑战赛' | E4: 小学初级组 | F4: 武汉XDF江北五队 | G4: 武汉新东方培训学校 | H4: 高友义 | I4: 李芃甫|黄煜涵 | L4: 亚军 | M4: 一等奖(亚军)
A5: 76406 | B5: 2B8hXqIC-139-112-J5-113-1-wuD-06-Djg | C5: 'AI Will机器人挑战赛项(星球速递)' | D5: 'AI Will星球速递挑战赛' | E5: 小学初级组 | F5: 超越二队 | G5: 云大附中西林分校、春城教育集团新闻路校区联队 | H5: 吴龙唐 | I5: 李佳颖|廖婧彤 | L5: 季军 | M5: 一等奖(季军)
A6: 92078 | B6: 2B8hXqIM-139-112-5X-113-1-uFC-06-ajl | C6: 'AI Will机器人挑战赛项(星球速递)' | D6: 'AI Will星球速递挑战赛' | E6: 小学初级组 | F6: 如安二号 | G6: 海贝中英文小学、昆明市五华区莲华小学联队 | H6: 袁文勇 | I6: 王麒尧|王子程 | L6: 全能奖 | M6: 一等奖
A7: 83803 | B7: 2B8hXqM6-139-112-ke-113-1-jVG-06-Hne | C7: 'AI Will机器人挑战赛项(星球速递)' | D7: 'AI Will星球速递挑战赛' | E7: 小学初级组 | F7: 火星清道夫 | G7: 北京市朝阳师范学校附属小学(西坝河校区)和北京市私立新亚中学联队 | H7: 赵雅琴 | I7: 高晨齐|范谢谧雅 | L7: 8强 | M7: 一等奖
A8: 81864 | B8: 2B8hXqMI-139-112-Qs-113-1-gI6-06-lJY | C8: 'AI Will机器人挑战赛项(星球速递)' | D8: 'AI Will星球速递挑战赛' | E8: 小学初级组 | F8: 飞跃A队 | G8: 华南师范大学附属荔湾小学和广州市越秀区东川路小学联队 | H8: 刘继文 | I8: 吴晨希|王昱坤 | L8: 8强 | M8: 一等奖
A9: 78090 | B9: 2B8hXqIP-139-112-5K-113-1-Yit-06-3oa | C9: 'AI Will机器人挑战赛项(星球速递)' | D9: 'AI Will星球速递挑战赛' | E9: 小学初级组 | F9: 红中队 | G9: 江滨小学、金康园小学 | H9: 李静 | I9: 洪嘉钟|李泓锐 | L9: 8强 | M9: 一等奖
A10: 87232 | B10: 2B8hXxRR-139-112-1x-113-1-AD8-06-Ntk | C10: 'AI Will机器人挑战赛项(星球速递)' | D10: 'AI Will星球速递挑战赛' | E10: 小学初级组 | F10: 星球1队 | G10: 天骄小学 | H10: 庄海宁 | I10: 王跃程 | L10: 8强 | M10: 一等奖
A11: 85870 | B11: 2B8hXqIz-139-112-Gp-113-1-x25-06-hLX | C11: 'AI Will机器人挑战赛项(星球速递)' | D11: 'AI Will星球速递挑战赛' | E11: 小学初级组 | F11: 龙王队 | G11: 昆明联盟小学、昆明盘龙小学 | H11: 李静 | I11: 普晟庭|王子睿 | L11: 16强 | M11: 一等奖
A12: 77957 | B12: 2B8hXqIE-139-112-LK-113-1-QLZ-06-gxp | C12: 'AI Will机器人挑战赛项(星球速递)' | D12: 'AI Will星球速递挑战赛' | E12: 小学初级组 | F12: 联队灯小维臻-南实小嘉骏 | G12: 佛山市南海区桂城街道灯湖小学 | H12: 罗宁 | I12: 钱嘉骏|邓维臻 | L12: 16强 | M12: 一等奖
A13: 79799 | B13: 2B8hXqxn-139-112-Pe-113-1-MhL-06-QdW | C13: 'AI Will机器人挑战赛项(星球速递)' | D13: 'AI Will星球速递挑战赛' | E13: 小学初级组 | F13: 武汉XDF江北三队 | G13: 武汉新东方培训学校 | H13: 高友义 | I13: 左近轲|孙城骏 | L13: 16强 | M13: 一等奖
A14: 79738 | B14: 2B8hXqJa-139-112-PK-113-1-bod-06-WwY | C14: 'AI Will机器人挑战赛项(星球速递)' | D14: 'AI Will星球速递挑战赛' | E14: 小学初级组 | F14: 东方梦幻1队 | G14: 厦门市思明区新东方教育培训学校 | H14: 赖钧华 | I14: 刘凯明|许钧翔 | L14: 16强 | M14: 一等奖
... A35: 81546 | B35: 2B8hXqMV-139-112-FK-113-1-mZ0-06-nL2 | C35: 'AI Will机器人挑战赛项(星球速递)' | D35: 'AI Will星球速递挑战赛' | E35: 小学初级组 | F35: 宇宙闪电队 | G35: 北京市八一学校和北京第二实验小学玉桃园分校联队 | H35: 于洁 | I35: 刘铠睿|李臻言 | L35: 33强 | M35: 一等奖
A36: 77689 | B36: 2B8hXqID-139-112-xL-113-1-r4L-06-t9Y | C36: 'AI Will机器人挑战赛项(星球速递)' | D36: 'AI Will星球速递挑战赛' | E36: 小学初级组 | F36: 好运来队 | G36: 重庆市南岸区珊瑚实验小学校和长春市解放大路小学校联队 | H36: 梅新虎 | I36: 毛宣佑|宋美易 | J36: 240 | K36: 119 | L36: 34 | M36: 二等奖
A37: 92027 | B37: 2B8hXxEt-139-112-kK-113-1-3x1-06-tKL | C37: 'AI Will机器人挑战赛项(星球速递)' | D37: 'AI Will星球速递挑战赛' | E37: 小学初级组 | F37: 绝尘队 | G37: 昆明师大实验昆明湖中学（小学部）、昆明新迎二小 | H37: 蔡文浩 | I37: 项马敬然|于昊甘 | J37: 240 | K37: 119 | L37: 35 | M37: 二等奖
A38: 85563 | B38: 2B8hXqMj-139-112-zf-113-1-zXG-06-3ta | C38: 'AI Will机器人挑战赛项(星球速递)' | D38: 'AI Will星球速递挑战赛' | E38: 小学初级组 | F38: AI育小极客1队 | G38: 锦绣育才中学附属学校 | H38: 陈鸯鸯 | I38: 王炜宸|孔舒晨 | J38: 240 | K38: 120 | L38: 36 | M38: 二等奖
A39: 84602 | B39: 2B8hXx8X-139-112-hZ-113-1-zF1-06-NH4 | C39: 'AI Will机器人挑战赛项(星球速递)' | D39: 'AI Will星球速递挑战赛' | E39: 小学初级组 | F39: 追逐者 | G39: 东莞市宏远外国语学校与嘉荣外国语学校联队 | H39: 莫晓玲 | I39: 余翊|袁梓诺 | J39: 240 | K39: 121 | L39: 37 | M39: 二等奖
A40: 90071 | B40: 2B8hXx8h-139-112-9b-113-1-7tG-06-gwz | C40: 'AI Will机器人挑战赛项(星球速递)' | D40: 'AI Will星球速递挑战赛' | E40: 小学初级组 | F40: 战队4 | G40: 福州市鼓楼区新东方培训学校 | H40: 王芳 | I40: 王思诺|杜亦宸 | J40: 240 | K40: 122 | L40: 38 | M40: 二等奖
A41: 79201 | B41: 2B8hXqx7-139-112-zz-113-1-LEu-06-6xw | C41: 'AI Will机器人挑战赛项(星球速递)' | D41: 'AI Will星球速递挑战赛' | E41: 小学初级组 | F41: 北京新东方金源1号队 | G41: 新东方北京培训学校 | H41: 刘双娇 | I41: 舒子夏|王博瑞 | J41: 240 | K41: 122 | L41: 39 | M41: 二等奖
A42: 82195 | B42: 2B8hXqJ7-139-112-JO-113-1-Egj-06-ktm | C42: 'AI Will机器人挑战赛项(星球速递)' | D42: 'AI Will星球速递挑战赛' | E42: 小学初级组 | F42: 武汉XDF江北七队 | G42: 武汉新东方培训学校 | H42: 高友义 | I42: 李芯婉|鄢欣然 | J42: 240 | K42: 122 | L42: 40 | M42: 二等奖
A43: 82018 | B43: 2B8hXqxp-139-112-Nl-113-1-Xpc-06-VbQ | C43: 'AI Will机器人挑战赛项(星球速递)' | D43: 'AI Will星球速递挑战赛' | E43: 小学初级组 | F43: 南京新东方梦之队 | G43: 新东方南京学校 | H43: 李昊天 | I43: 肖舜尧|刘维烨 | J43: 240 | K43: 123 | L43: 41 | M43: 二等奖
A44: 92013 | B44: 2B8hXxEG-139-112-8O-113-1-s0d-06-BKY | C44: 'AI Will机器人挑战赛项(星球速递)' | D44: 'AI Will星球速递挑战赛' | E44: 小学初级组 | F44: 强者队 | G44: 昆明盘龙小学、云南大学附属小学 | H44: 高绍文 | I44: 郭子墨|张博元 | J44: 240 | K44: 124 | L44: 42 | M44: 二等奖
A45: 85987 | B45: 2B8hXx8P-139-112-4e-113-1-Uqh-06-wE9 | C45: 'AI Will机器人挑战赛项(星球速递)' | D45: 'AI Will星球速递挑战赛' | E45: 小学初级组 | F45: 战队5 | G45: 福州市鼓楼区新东方培训学校 | H45: 王芳 | I45: 黄俊霖|黎修宇 | J45: 240 | K45: 124 | L45: 42 | M45: 二等奖
A46: 87175 | B46: 2B8hXqVl-139-112-t5-113-1-PrP-06-Kzt | C46: 'AI Will机器人挑战赛项(星球速递)' | D46: 'AI Will星球速递挑战赛' | E46: 小学初级组 | F46: 炫凌霸王队 | G46: 昆山炫凌机器人校外训练基地 | H46: 骆开原 | I46: 陆则安|王一菱 | J46: 240 | K46: 126 | L46: 44 | M46: 二等奖
A47: 89341 | B47: 2B8hX6pi-139-112-6T-113-1-GuY-06-AWz | C47: 'AI Will机器人挑战赛项(星球速递)' | D47: 'AI Will星球速递挑战赛' | E47: 小学初级组 | F47: JX战队 | G47: 大连市甘井子区创之巅峰机器人培训学校 | H47: 薛晓洋 | I47: 姜筠松|王新淏 | J47: 240 | K47: 127 | L47: 45 | M47: 二等奖
... A96: 89952 | B96: 2B8hXxQt-139-112-y3-113-1-k1c-06-meM | C96: 'AI Will机器人挑战赛项(星球速递)' | D96: 'AI Will星球速递挑战赛' | E96: 小学初级组 | F96: 南昌冉冉之星 | G96: 新东方南昌培训学校 | H96: 龚成威 | I96: 徐煁杰|祝子瀚 | J96: 240 | K96: 167 | L96: 94 | M96: 三等奖
A97: 89390 | B97: 2B8hX6pl-139-112-I3-113-1-d3z-06-3GA | C97: 'AI Will机器人挑战赛项(星球速递)' | D97: 'AI Will星球速递挑战赛' | E97: 小学初级组 | F97: 澳创颢然队 | G97: 澳创机器人 | H97: 全权 | I97: 朱延颢|施盛然 | J97: 240 | K97: 168 | L97: 并列95 | M97: 三等奖
A98: 89994 | B98: 2B8hX6pf-139-112-en-113-1-uWB-06-y6p | C98: 'AI Will机器人挑战赛项(星球速递)' | D98: 'AI Will星球速递挑战赛' | E98: 小学初级组 | F98: 科创中心1号 | G98: 大连科创中心 | H98: 许骁 | I98: 高玥婷|宋冠儒 | J98: 240 | K98: 168 | L98: 并列95 | M98: 三等奖
A99: 77069 | B99: 2B8hXqfU-139-112-X9-113-1-aAp-06-SBW | C99: 'AI Will机器人挑战赛项(星球速递)' | D99: 'AI Will星球速递挑战赛' | E99: 小学初级组 | F99: SZ队 | G99: 深圳市南山区第二外国语学校（集团）海德学校 | H99: 贺珍蓉 | I99: 邹道恩|沙雨泽 | J99: 240 | K99: 168 | L99: 并列95 | M99: 三等奖
A100: 77077 | B100: 2B8hXqft-139-112-ba-113-1-SRj-06-svw | C100: 'AI Will机器人挑战赛项(星球速递)' | D100: 'AI Will星球速递挑战赛' | E100: 小学初级组 | F100: 流星队 | G100: 深圳香港培侨书院龙华信义学校深圳市南外科苑小学联队 | H100: 吴柳晓 | I100: 付楚谦|陈宝逻 | J100: 240 | K100: 171 | L100: 98 | M100: 三等奖
A101: 84676 | B101: 2B8hXx8B-139-112-a6-113-1-4No-06-tiE | C101: 'AI Will机器人挑战赛项(星球速递)' | D101: 'AI Will星球速递挑战赛' | E101: 小学初级组 | F101: 超人队 | G101: 惠州市富民小学 | H101: 王静 | I101: 魏子茗|王浩然 | J101: 240 | K101: 174 | L101: 99 | M101: 三等奖
A102: 79251 | B102: 2B8hXqxy-139-112-rq-113-1-3AK-06-obo | C102: 'AI Will机器人挑战赛项(星球速递)' | D102: 'AI Will星球速递挑战赛' | E102: 小学初级组 | F102: 北京新东方所向无敌 | G102: 新东方北京培训学校 | H102: 初贺 | I102: 张熙昀|范怡然 | J102: 240 | K102: 174 | L102: 100 | M102: 三等奖
A103: 86695 | B103: 2B8hXxQY-139-112-eY-113-1-FhP-06-fAO | C103: 'AI Will机器人挑战赛项(星球速递)' | D103: 'AI Will星球速递挑战赛' | E103: 小学初级组 | F103: 东方梦幻14队 | G103: 厦门市思明区新东方教育培训学校 | H103: 赖钧华 | I103: 唐梓旻|张佐 | J103: 240 | K103: 177 | L103: 101 | M103: 三等奖
A104: 90678 | B104: 2B8hX6pX-139-112-VX-113-1-d2L-06-5vt | C104: 'AI Will机器人挑战赛项(星球速递)' | D104: 'AI Will星球速递挑战赛' | E104: 小学初级组 | F104: 维屹队 | G104: 创之巅峰人工智能机器人培训学校 | H104: 曲雯敬 | I104: 宋维熙|石屹潇 | J104: 240 | K104: 178 | L104: 102 | M104: 三等奖
A105: 92220 | B105: 2B8hXxQh-139-112-l5-113-1-WuF-06-hJT | C105: 'AI Will机器人挑战赛项(星球速递)' | D105: 'AI Will星球速递挑战赛' | E105: 小学初级组 | F105: 沙园Dr.奇异魔法队 | G105: 广州市海珠区菩提路小学 | H105: 李荣晓 | I105: 郑宇辰|陈基睿 | J105: 240 | K105: 185 | L105: 103 | M105: 三等奖
A106: 90312 | B106: 2B8hXxEZ-139-112-4Q-113-1-YZW-06-lmR | C106: 'AI Will机器人挑战赛项(星球速递)' | D106: 'AI Will星球速递挑战赛' | E106: 小学初级组 | F106: 兄弟齐心队 | G106: hello编程机器人 | H106: 于晓哲 | I106: 姬智轩|姬智博 | J106: 240 | K106: 187 | L106: 104 | M106: 三等奖
A107: 84548 | B107: 2B8hXxQH-139-112-0g-113-1-6sg-06-g53 | C107: 'AI Will机器人挑战赛项(星球速递)' | D107: 'AI Will星球速递挑战赛' | E107: 小学初级组 | F107: 东方梦幻4队 | G107: 厦门市思明区新东方教育培训学校 | H107: 黄晓虹 | I107: 张翼遥|汪瑞泽 | J107: 240 | K107: 192 | L107: 105 | M107: 三等奖
A108: 87236 | B108: 2B8hXxRa-139-112-1W-113-1-jEc-06-fCS | C108: 'AI Will机器人挑战赛项(星球速递)' | D108: 'AI Will星球速递挑战赛' | E108: 小学初级组 | F108: 飙速队 | G108: 百变天才机器人编程中心 | H108: 周慧媛 | I108: 冯泓杰|邓雅蔚 | J108: 240 | K108: 195 | L108: 106 | M108: 三等奖
...

Sheet ATC探索者科技挑战赛项
A1: 2023世界机器人大赛总决赛-青少年机器人设计大赛-ATC探索者科技挑战赛项赛项获奖名单
A2: 报名编号 | B2: 激活码 | C2: 赛道 | D2: 赛项 | E2: 组别 | F2: 队伍名称 | G2: 申报单位 | H2: 教练信息 | I2: 学生信息 | J2: 排名 | K2: 奖项
A3: 89659 | B3: 2B8hXq9m-139-039-Kc-040-1-tNT-01-llS | C3: ATC探索者科技挑战赛项' | D3: ATC探索者-新能源挑战' | E3: 小学组 | F3: 麦乐闪电飞龙队 | G3: 大连麦乐机器人 | H3: 关敏 | I3: 秦梓航|杨延芃 | J3: 1 | K3: 一等奖(冠军)
A4: 89862 | B4: 2B8hXqCG-139-039-QQ-040-1-xzz-01-KK8 | C4: 'ATC探索者科技挑战赛项' | D4: ATC探索者-新能源挑战' | E4: 小学组 | F4: 乐安超梦队 | G4: 大连麦乐机器人 | H4: 关敏 | I4: 石安阁|李明泽 | J4: 1 | K4: 一等奖(冠军)
A5: 76945 | B5: 2B8hXqC9-139-039-m1-040-1-lru-01-4uu | C5: 'ATC探索者科技挑战赛项' | D5: ATC探索者-新能源挑战' | E5: 小学组 | F5: 勇者无敌队 | G5: 广州市百尺教育科技中心 | H5: 伍世广 | I5: 谭俊仁|许洋铭 | J5: 2 | K5: 一等奖(亚军)
A6: 82067 | B6: 2B8hXq0W-139-039-8b-040-1-Inz-01-pMN | C6: 'ATC探索者科技挑战赛项' | D6: ATC探索者-新能源挑战' | E6: 小学组 | F6: 战神天下队 | G6: 辽阳市东文化小学 | H6: 赵静 | I6: 薛莞霖|郭欣澎 | J6: 3 | K6: 一等奖(季军)
A7: 87318 | B7: 2B8hXq9q-139-039-qa-040-1-Cc3-01-dK9 | C7: 'ATC探索者科技挑战赛项' | D7: ATC探索者-新能源挑战' | E7: 小学组 | F7: 双鸭山市文化路小学战队 | G7: 双鸭山市文化路小学 | H7: 王培志 | I7: 邢家赫|范家赫 | J7: 六强 | K7: 一等奖
A8: 84322 | B8: 2B8hXqpo-139-039-qd-040-1-PCj-01-xyN | C8: 'ATC探索者科技挑战赛项' | D8: ATC探索者-新能源挑战' | E8: 小学组 | F8: 团结队 | G8: 广州市百尺教育科技中心 | H8: 伍世广 | I8: 刘斯维|袁宝恒 | J8: 六强 | K8: 一等奖
A9: 78668 | B9: 2B8hXqK8-139-039-lS-040-1-kqZ-01-z8J | C9: 'ATC探索者科技挑战赛项' | D9: ATC探索者-新能源挑战' | E9: 小学组 | F9: 酷放一队 | G9: 西安瀚英德酷放艺术中心 | H9: 王腾|王海龙 | I9: 田昊辰|郭知非 | J9: 六强 | K9: 一等奖
A10: 77647 | B10: 2B8hXqKa-139-039-We-040-1-1qx-01-MNf | C10: 'ATC探索者科技挑战赛项' | D10: ATC探索者-新能源挑战' | E10: 小学组 | F10: 魏皓轩-谢恺 | G10: 清远市海德外国语学校 | H10: 彭贤威 | I10: 魏皓轩|谢恺 | J10: 十二强 | K10: 一等奖
A11: 89633 | B11: 2B8hXq9R-139-039-gy-040-1-Is0-01-YHA | C11: 'ATC探索者科技挑战赛项' | D11: ATC探索者-新能源挑战' | E11: 小学组 | F11: 麦乐懿浩冲锋队 | G11: 大连麦乐机器人 | H11: 关敏 | I11: 陶懿文|赵浩然 | J11: 十二强 | K11: 一等奖
A12: 87483 | B12: 2B8hXq9f-139-039-F0-040-1-OWP-01-sac | C12: 'ATC探索者科技挑战赛项' | D12: ATC探索者-新能源挑战' | E12: 小学组 | F12: 双鸭山市青少年机器人运动协会战队 | G12: 双鸭山市青少年机器人运动协会 | H12: 李后成 | I12: 邱泓睿|冯昭阳 | J12: 十二强 | K12: 一等奖
A13: 79199 | B13: 2B8hXq0I-139-039-kp-040-1-7E1-01-uVP | C13: 'ATC探索者科技挑战赛项' | D13: ATC探索者-新能源挑战' | E13: 小学组 | F13: 长安一小奋进队 | G13: 东莞市长安镇第一小学 | H13: 邓德强|吴昕航 | I13: 陈翊曦|莫耀坤 | J13: 十二强 | K13: 一等奖
A14: 85914 | B14: 2B8hXq0g-139-039-51-040-1-kcx-01-c6X | C14: 'ATC探索者科技挑战赛项' | D14: ATC探索者-新能源挑战' | E14: 小学组 | F14: 快乐飞翔队 | G14: 王家镇中心小学 | H14: 刘帅君 | I14: 侯一凡|常恩硕 | J14: 十二强 | K14: 一等奖
A15: 83451 | B15: 2B8hXq01-139-039-HW-040-1-euU-01-Rei | C15: 'ATC探索者科技挑战赛项' | D15: ATC探索者-新能源挑战' | E15: 小学组 | F15: 传奇战队 | G15: 白塔区笔悠墨泽书法工作社 | H15: 刘忠生 | I15: 刘思博|徐靖航 | J15: 十二强 | K15: 一等奖
A16: 83270 | B16: 2B8hXq0k-139-039-LY-040-1-doS-01-NLp | C16: 'ATC探索者科技挑战赛项' | D16: ATC探索者-新能源挑战' | E16: 小学组 | F16: 大庆陨石战队 | G16: 博佳机器人少儿编程中心新村校区 | H16: 于雷 | I16: 苏勃涵|吴慕辰 | J16: 13 | K16: 一等奖
A17: 83873 | B17: 2B8hXq97-139-039-kx-040-1-rEt-01-Jwz | C17: 'ATC探索者科技挑战赛项' | D17: ATC探索者-新能源挑战' | E17: 小学组 | F17: 阎良火箭队 | G17: 玛酷机器人西安阎良编程中心 | H17: 句玉文 | I17: 刘佳宁|孔栎博 | J17: 14 | K17: 一等奖
A18: 89561 | B18: 2B8hXqWn-139-039-jo-040-1-BP3-01-OTE | C18: 'ATC探索者科技挑战赛项' | D18: ATC探索者-新能源挑战' | E18: 小学组 | F18: 深圳龙小队 | G18: 深圳市龙岗区龙城小学 | H18: 侯为科 | I18: 周星辰|周廷熹 | J18: 15 | K18: 一等奖
A19: 80504 | B19: 2B8hXqWz-139-039-e7-040-1-mcs-01-os1 | C19: 'ATC探索者科技挑战赛项' | D19: ATC探索者-新能源挑战' | E19: 小学组 | F19: 汕头十一合小学澄海华侨小学联合队 | G19: 汕头市龙湖区十一合小学 汕头市澄海华侨小学 | H19: 谢林平|蚁晓樱 | I19: 谢奕钏|林泽勋 | J19: 16 | K19: 一等奖
A20: 83852 | B20: 2B8hXqOY-139-039-nZ-040-1-dLh-01-peo | C20: 'ATC探索者科技挑战赛项' | D20: ATC探索者-新能源挑战' | E20: 小学组 | F20: 四平3队 | G20: 四平市博佳机器人俱乐部 | H20: 郑仲意 | I20: 盖卿瑀|王洪冰 | J20: 17 | K20: 一等奖
A21: 87211 | B21: 2B8hXq9b-139-039-hq-040-1-DMd-01-FjJ | C21: 'ATC探索者科技挑战赛项' | D21: ATC探索者-新能源挑战' | E21: 小学组 | F21: 双鸭山市逸夫小学战队 | G21: 双鸭山市逸夫小学 | H21: 王泽惠 | I21: 钱首衡|黄梓轩 | J21: 18 | K21: 一等奖
A22: 83465 | B22: 2B8hXqKF-139-039-KW-040-1-x4K-01-amk | C22: 'ATC探索者科技挑战赛项' | D22: ATC探索者-新能源挑战' | E22: 小学组 | F22: 阎良翱翔队 | G22: 玛酷机器人西安阎良编程中心 | H22: 句玉文 | I22: 邢峻玮|刘家铭 | J22: 19 | K22: 一等奖
A23: 79233 | B23: 2B8hXqOg-139-039-zR-040-1-EeC-01-n1x | C23: 'ATC探索者科技挑战赛项' | D23: ATC探索者-新能源挑战' | E23: 小学组 | F23: 美斯特乘风破浪队 | G23: 廉江市美斯特机器人编程中心 | H23: 肖炫章 | I23: 李胤廷|杜家颍 | J23: 20 | K23: 二等奖
A24: 82781 | B24: 2B8hXq0R-139-039-yb-040-1-JfO-01-BOJ | C24: 'ATC探索者科技挑战赛项' | D24: ATC探索者-新能源挑战' | E24: 小学组 | F24: 成风破浪队 | G24: 辽阳市朝鲜族学校 | H24: 周海霞 | I24: 郑紫阳|林姝彤 | J24: 21 | K24: 二等奖
A25: 76189 | B25: 2B8hXqCC-139-039-nJ-040-1-hCF-01-kAh | C25: 'ATC探索者科技挑战赛项' | D25: ATC探索者-新能源挑战' | E25: 小学组 | F25: 杰森机器人能源一队 | G25: 杰森机器人 | H25: 杨成康 | I25: 刘卓远|张雨扬 | J25: 22 | K25: 二等奖
A26: 76209 | B26: 2B8hXqNX-139-039-ql-040-1-awT-01-qQM | C26: 'ATC探索者科技挑战赛项' | D26: ATC探索者-新能源挑战' | E26: 小学组 | F26: 杰森机器人能源二队 | G26: 杰森机器人 | H26: 梁健|杨成康 | I26: 梁夏琳|蓝泽林 | J26: 23 | K26: 二等奖
A27: 88917 | B27: 2B8hXqCF-139-039-aD-040-1-HJe-01-gDK | C27: 'ATC探索者科技挑战赛项' | D27: ATC探索者-新能源挑战' | E27: 小学组 | F27: 同济附小I队 | G27: 华中科技大学同济医学院附属小学 | H27: 韩少飞 | I27: 季文博|郝梦泽 | J27: 24 | K27: 二等奖
... A129: 87073 | B129: 2B8hXqjW-139-039-BF-041-1-7wi-01-QkO | C129: 'ATC探索者科技挑战赛项' | D129: ATC探索者-智慧城市' | E129: 小学组 | F129: 实上最强 | G129: 星空机器人 | H129: 蔡雪斌 | I129: 李宜俫|童译欧 | J129: 3 | K129: 一等奖(季军)
A130: 90708 | B130: 2B8hXXGL-139-039-V9-041-1-cHY-01-0Vv | C130: 'ATC探索者科技挑战赛项' | D130: ATC探索者-智慧城市' | E130: 小学组 | F130: 创智少年003 | G130: 银川市二十一小湖畔分校 | H130: 秦肇男|苏敏 | I130: 冒骅珂|梁旗杭 | J130: 四强 | K130: 一等奖
A131: 80715 | B131: 2B8hXqYz-139-039-y0-041-1-v7i-01-EXZ | C131: 'ATC探索者科技挑战赛项' | D131: ATC探索者-智慧城市' | E131: 小学组 | F131: 华平小超人敏捷二队 | G131: 广州华平小超人 | H131: 刘兆文 | I131: 钟锜 | J131: 八强 | K131: 一等奖
A132: 86206 | B132: 2B8hXqju-139-039-nx-041-1-xXh-01-yOW | C132: 'ATC探索者科技挑战赛项' | D132: ATC探索者-智慧城市' | E132: 小学组 | F132: 冰之彩 | G132: 青少儿科技活动中心梨园 | H132: 张丰 | I132: 朱梓晧|王梓涵 | J132: 八强 | K132: 一等奖
A133: 89851 | B133: 2B8hXXbR-139-039-vB-041-1-o7D-01-cpB | C133: 'ATC探索者科技挑战赛项' | D133: ATC探索者-智慧城市' | E133: 小学组 | F133: 深圳怎么玩机器人俱乐部梦之队 | G133: 深圳市怎么玩机器人俱乐部 | H133: 罗丛礼 | I133: 卢毅泽|徐亦辰 | J133: 八强 | K133: 一等奖
A134: 76228 | B134: 2B8hXql8-139-039-cz-041-1-QUG-01-GMV | C134: 'ATC探索者科技挑战赛项' | D134: ATC探索者-智慧城市' | E134: 小学组 | F134: 杰森机器人智慧一队 | G134: 杰森机器人 | H134: 梁健 | I134: 邹安乔|王睿 | J134: 八强 | K134: 一等奖
A135: 80884 | B135: 2B8hXqj7-139-039-lw-041-1-S2O-01-TXB | C135: 'ATC探索者科技挑战赛项' | D135: ATC探索者-智慧城市' | E135: 小学组 | F135: 童心飞扬3队 | G135: 童心飞扬科技实验室 | H135: 杨明淦 | I135: 刘铭健|麦子誉 | J135: 十六强 | K135: 一等奖
A136: 86798 | B136: 2B8hXqY2-139-039-GG-041-1-WuH-01-pSh | C136: 'ATC探索者科技挑战赛项' | D136: ATC探索者-智慧城市' | E136: 小学组 | F136: 六小 智慧城市一队 | G136: 东莞市东城第六小学 | H136: 刘学文|陈辉芬 | I136: 麦楚昊|徐懿炜 | J136: 十六强 | K136: 一等奖
A137: 89458 | B137: 2B8hXXbj-139-039-uB-041-1-m7j-01-Icd | C137: 'ATC探索者科技挑战赛项' | D137: ATC探索者-智慧城市' | E137: 小学组 | F137: 深圳龙山联队 | G137: 深圳市龙岗区外国语学校 | H137: 王丽霞 | I137: 刘鸿烨|杨梓潇 | J137: 十六强 | K137: 一等奖
A138: 86183 | B138: 2B8hXqjm-139-039-wZ-041-1-JBY-01-8Uc | C138: 'ATC探索者科技挑战赛项' | D138: ATC探索者-智慧城市' | E138: 小学组 | F138: 水之彩 | G138: 青少儿活动中心梨园 | H138: 张乃欣 | I138: 赵浩文|牛一达 | J138: 十六强 | K138: 一等奖
A139: 77812 | B139: 2B8hXqlt-139-039-ss-041-1-Ods-01-OMH | C139: 'ATC探索者科技挑战赛项' | D139: ATC探索者-智慧城市' | E139: 小学组 | F139: 榴莲队 | G139: 北京市东城区全球学培训学校 | H139: 许统 | I139: 田家睿|王宇森|刘奕兰 | J139: 十六强 | K139: 一等奖
A140: 78252 | B140: 2B8hXqlB-139-039-mD-041-1-Fbg-01-7D5 | C140: 'ATC探索者科技挑战赛项' | D140: ATC探索者-智慧城市' | E140: 小学组 | F140: 揽胜队 | G140: 卡大博创中心 | H140: 林君锐 | I140: 魏彤格|苏夏桓 | J140: 十六强 | K140: 一等奖
A141: 80555 | B141: 2B8hXqYv-139-039-km-041-1-dpy-01-okL | C141: 'ATC探索者科技挑战赛项' | D141: ATC探索者-智慧城市' | E141: 小学组 | F141: 华平小超人南岗一队 | G141: 广州华平小超人 | H141: 宋小莉 | I141: 张昊翔|覃冬阳|陈子浩 | J141: 十六强 | K141: 一等奖
...

Sheet NeuroMaster 脑科学人工智能挑战赛项
A1: 2023世界机器人大赛总决赛-青少年机器人设计大赛-NeuroMaster 脑科学人工智能挑战赛项获奖名单
A2: 报名编号 | B2: 激活码 | C2: 赛道 | D2: 赛项 | E2: 组别 | F2: 队伍名称 | G2: 申报单位 | H2: 教练信息 | I2: 学生信息 | J2: 比赛分数 | K2: 成绩排名 | L2: 奖项
A3: 85171 | B3: 2B8hXqQX-139-042-BK-043-1-aSV-01-EJH | C3: NeuroMaster 脑科学人工智能挑战赛项' | D3: NeuroMaster未来之城' | E3: 小学组 | F3: 临沂三河口小学和德战队 | G3: 临沂三河口小学 | H3: 姜莉莉 | I3: 杨雅惠 |密良瑞蕊|季俣含|唐志彬 | J3: 晋级决赛 | K3: 冠军 | L3: 一等奖(冠军)
A4: 85394 | B4: 2B8hXqQa-139-042-oZ-043-1-eBF-01-gnQ | C4: 'NeuroMaster 脑科学人工智能挑战赛项' | D4: NeuroMaster未来之城' | E4: 小学组 | F4: 临沂三河口小学和谦战队 | G4: 临沂三河口小学 | H4: 王烁晗 | I4: 孙阳|李昊轩|伊相明 | J4: 晋级决赛 | K4: 亚军 | L4: 一等奖(亚军)
A5: 85169 | B5: 2B8hXqQi-139-042-Ww-043-1-mrE-01-2bq | C5: 'NeuroMaster 脑科学人工智能挑战赛项' | D5: NeuroMaster未来之城' | E5: 小学组 | F5: 三河口小学和润战队 | G5: 临沂三河口小学 | H5: 王烁晗 | I5: 巩隽瑶|巩隽成|曹原|张可昕 | J5: 晋级决赛 | K5: 季军 | L5: 一等奖(季军)
A6: 84719 | B6: 2B8hXq8N-139-042-Ov-043-1-WeT-01-4F6 | C6: 'NeuroMaster 脑科学人工智能挑战赛项' | D6: NeuroMaster未来之城' | E6: 小学组 | F6: 琅琊腾势 | G6: 兰山区培优人工智能工作室 | H6: 杜庆富 | I6: 王珑锦|董文硕|惠梓宸|牛孝之 | J6: 晋级决赛 | K6: 4 | L6: 一等奖
A7: 86992 | B7: 2B8hXJ9p-139-042-0B-043-1-839-01-HI0 | C7: 'NeuroMaster 脑科学人工智能挑战赛项' | D7: NeuroMaster未来之城' | E7: 小学组 | F7: 乐善未来 | G7: 南京致远外国语小学乐山路分校 | H7: 徐涵|王佳雯 | I7: 金晟豪|乔思涵|蔡江恒|姜俊彤 | J7: 未晋级决赛 | K7: 5 | L7: 一等奖
A8: 85635 | B8: 2B8hXq84-139-042-7c-043-1-OY0-01-VDB | C8: 'NeuroMaster 脑科学人工智能挑战赛项' | D8: NeuroMaster未来之城' | E8: 小学组 | F8: 凤凰湖小学2队 | G8: 广州市黄埔区凤凰湖小学 | H8: 陈兴豪|曾新有 | I8: 刘宸煜|朱梓瑶|黄语薇 | J8: 未晋级决赛 | K8: 6 | L8: 一等奖
A9: 91276 | B9: 2B8hXJ9F-139-042-HT-043-1-lTk-01-UgL | C9: 'NeuroMaster 脑科学人工智能挑战赛项' | D9: NeuroMaster未来之城' | E9: 小学组 | F9: 机御创未来3队 | G9: 机御未来青少年科技中心 | H9: 赵子豪|王宇光 | I9: 王嘉弈|初尚锟|陈昱霖|黄帆 | J9: 未晋级决赛 | K9: 7 | L9: 一等奖
A10: 85616 | B10: 2B8hXq8U-139-042-0Z-043-1-6uj-01-xBn | C10: 'NeuroMaster 脑科学人工智能挑战赛项' | D10: NeuroMaster未来之城' | E10: 小学组 | F10: 广州黄埔少年宫5队 | G10: 广州黄埔少年宫 | H10: 张晓君 | I10: 彭仁谦|林东昇|欧阳旭俊 | J10: 未晋级决赛 | K10: 8 | L10: 二等奖
A11: 85275 | B11: 2B8hXqHe-139-042-Kl-043-1-Omz-01-71c | C11: 'NeuroMaster 脑科学人工智能挑战赛项' | D11: NeuroMaster未来之城' | E11: 小学组 | F11: 经开1队 | G11: 肥东经济开发区中心学校 | H11: 方学雄|吴勇虎 | I11: 刘宇轩|李海洋 | J11: 未晋级决赛 | K11: 9 | L11: 二等奖
A12: 87442 | B12: 2B8hXq8X-139-042-ww-043-1-uHV-01-ycb | C12: 'NeuroMaster 脑科学人工智能挑战赛项' | D12: NeuroMaster未来之城' | E12: 小学组 | F12: 广州黄埔少年宫2队 | G12: 广州市黄埔区青少年宫 | H12: 张晓君 | I12: 班智杰|李通 | J12: 未晋级决赛 | K12: 10 | L12: 二等奖
A13: 85667 | B13: 2B8hXq8M-139-042-JD-043-1-FCu-01-Ss3 | C13: 'NeuroMaster 脑科学人工智能挑战赛项' | D13: NeuroMaster未来之城' | E13: 小学组 | F13: 湖师小学8队 | G13: 湖南师范大学附属黄埔实验学校 | H13: 钟丽明|钟朴正 | I13: 何宇航|曾嘉毅|阙紫瑜|万云翔 | J13: 未晋级决赛 | K13: 11 | L13: 二等奖
A14: 82820 | B14: 2B8hXqHn-139-042-lM-043-1-nor-01-CHU | C14: 'NeuroMaster 脑科学人工智能挑战赛项' | D14: NeuroMaster未来之城' | E14: 小学组 | F14: 惠州2队 | G14: 惠州市南山学校和第十一小学方直分校和惠州市第一小学联队 | H14: 李勇|邬焕文 | I14: 周红星|周思宇|唐圣杰 | J14: 未晋级决赛 | K14: 12 | L14: 二等奖
A15: 85487 | B15: 2B8hXqQG-139-042-1q-043-1-bVD-01-ph1 | C15: 'NeuroMaster 脑科学人工智能挑战赛项' | D15: NeuroMaster未来之城' | E15: 小学组 | F15: 凤小未来之城1队 | G15: 深圳市龙岗区平湖凤凰山小学 | H15: 辛若雯 | I15: 何奕宏|吴狄|王元晔|高茂城 | J15: 未晋级决赛 | K15: 13 | L15: 二等奖
A16: 85689 | B16: 2B8hXq8J-139-042-ui-043-1-JMO-01-5sg | C16: 'NeuroMaster 脑科学人工智能挑战赛项' | D16: NeuroMaster未来之城' | E16: 小学组 | F16: 香雪小学2队 | G16: 广州市黄埔区香雪小学 | H16: 莫绮丽|李铭均 | I16: 张诗涵|钟振华|董幸妤|岳樊恒 | J16: 未晋级决赛 | K16: 14 | L16: 二等奖
A17: 85602 | B17: 2B8hXq8y-139-042-ko-043-1-SCY-01-r8z | C17: 'NeuroMaster 脑科学人工智能挑战赛项' | D17: NeuroMaster未来之城' | E17: 小学组 | F17: 回民小学3队 | G17: 广州市回民小学 | H17: 胡欣华 | I17: 何俊锋|陈希乐|张曜宁|张津铭 | J17: 未晋级决赛 | K17: 15 | L17: 二等奖
... A49: 80656 | B49: 2B8hXqHN-139-042-PV-043-1-Ln4-01-lYO | C49: 'NeuroMaster 脑科学人工智能挑战赛项' | D49: NeuroMaster未来之城' | E49: 小学组 | F49: 珠海火焰队 | G49: 珠海市香洲区茵卓小学 | H49: 吴禹全|吴丹 | I49: 郑媛媛|关皓薪|冼鑫|朱子轩 | J49: 未晋级决赛 | K49: 46 | L49: 三等奖
A51: 86846 | B51: 2B8hX5R8-139-042-ky-043-1-bn3-03-Lx6 | C51: 'NeuroMaster 脑科学人工智能挑战赛项' | D51: NeuroMaster未来之城' | E51: 中学组 | F51: 新城初中2队 | G51: 南京师范大学附属中学新城初级中学 | H51: 张健平 | I51: 周子圳|王佑予|缪均霖 | J51: 晋级决赛 | K51: 冠军 | L51: 一等奖(冠军)
A52: 86608 | B52: 2B8hXJCQ-139-042-Ob-043-1-rAp-03-YoB | C52: 'NeuroMaster 脑科学人工智能挑战赛项' | D52: NeuroMaster未来之城' | E52: 中学组 | F52: Mind Crafters | G52: 深圳市盐田区实验学校 | H52: 姚佳静|周之 | I52: 谢霖韩|刁誉恒|陈晓灵|刘津津 | J52: 晋级决赛 | K52: 亚军 | L52: 一等奖(亚军)
A53: 86776 | B53: 2B8hX5RQ-139-042-xA-043-1-5QP-03-q8Q | C53: 'NeuroMaster 脑科学人工智能挑战赛项' | D53: NeuroMaster未来之城' | E53: 中学组 | F53: 新城初中1队 | G53: 南京师范大学附属中学新城初级中学 | H53: 何嘉欢 | I53: 张曦之|杭乾悦|徐一树 | J53: 晋级决赛 | K53: 季军 | L53: 一等奖(季军)
A54: 84900 | B54: 2B8hX5R3-139-042-4b-043-1-a2x-03-ChO | C54: 'NeuroMaster 脑科学人工智能挑战赛项' | D54: NeuroMaster未来之城' | E54: 中学组 | F54: 临沂四中脑科学1队 | G54: 临沂第四中学 | H54: 吕海涛 | I54: 林青泽|杜振瑄|王帅涵|康荣智 | J54: 晋级决赛 | K54: 4 | L54: 一等奖
A55: 87009 | B55: 2B8hX5RR-139-042-7q-043-1-opw-03-A3x | C55: 'NeuroMaster 脑科学人工智能挑战赛项' | D55: NeuroMaster未来之城' | E55: 中学组 | F55: 新城初中3队 | G55: 诚昱创机器人俱乐部 | H55: 何嘉欢|张健平 | I55: 杭乾恺|曹琰坤|查钧砾 | J55: 未晋级决赛 | K55: 5 | L55: 一等奖
A56: 87339 | B56: 2B8hXJCA-139-042-vt-043-1-M7q-03-ISO | C56: 'NeuroMaster 脑科学人工智能挑战赛项' | D56: NeuroMaster未来之城' | E56: 中学组 | F56: 南京市第二十九中学 | G56: 南京市第二十九中学 | H56: 张宏亮|袁京莉 | I56: 崔时瑞|缪舒帆|孙浩轩|宋恩泽 | J56: 未晋级决赛 | K56: 6 | L56: 一等奖
A57: 91235 | B57: 2B8hXJC1-139-042-7U-043-1-CoU-03-zNF | C57: 'NeuroMaster 脑科学人工智能挑战赛项' | D57: NeuroMaster未来之城' | E57: 中学组 | F57: 机御创未来2队 | G57: 机御未来青少年科技中心 | H57: 王宇光|赵子豪 | I57: 张曦文|夏锦源|徐君涵 | J57: 未晋级决赛 | K57: 7 | L57: 二等奖
A58: 87417 | B58: 2B8hXJC6-139-042-KU-043-1-IMq-03-ewB | C58: 'NeuroMaster 脑科学人工智能挑战赛项' | D58: NeuroMaster未来之城' | E58: 中学组 | F58: 临沂第四中学2队 | G58: 临沂第四中学 | H58: 程嘉 | I58: 张凤艺|冯冠祥|刘耀泽|贺俊尧 | J58: 未晋级决赛 | K58: 8 | L58: 二等奖
A59: 86119 | B59: 2B8hX5RT-139-042-el-043-1-w8j-03-MaN | C59: 'NeuroMaster 脑科学人工智能挑战赛项' | D59: NeuroMaster未来之城' | E59: 中学组 | F59: 未来战士队 | G59: 育才三中、石厦学校、哈工大实验学校、第三高级中学 | H59: 路开尧 | I59: 钟佳洋|张倍飒|路可忎 |白冰宏 | J59: 未晋级决赛 | K59: 9 | L59: 二等奖
A60: 81416 | B60: 2B8hX58D-139-042-RN-043-1-Pi4-03-blh | C60: 'NeuroMaster 脑科学人工智能挑战赛项' | D60: NeuroMaster未来之城' | E60: 中学组 | F60: 东莞机械联盟13队 | G60: 东莞市东城实验中学 | H60: 张伟华 | I60: 张涛|李金阳|廖张沛杰|陆海峰 | J60: 未晋级决赛 | K60: 10 | L60: 二等奖
A61: 84336 | B61: 2B8hX5RW-139-042-eG-043-1-Q3p-03-hgG | C61: 'NeuroMaster 脑科学人工智能挑战赛项' | D61: NeuroMaster未来之城' | E61: 中学组 | F61: 山海学校未来之城 | G61: 深圳市盐田区山海学校 | H61: 彭海辉|许立希 | I61: 邹文程|张王杰|周尹晨 | J61: 未晋级决赛 | K61: 11 | L61: 二等奖
