Workbook

Sheet 全能奖、专项奖
A1: 2023世界机器人大赛总决赛-青少年机器人设计大赛全能奖获奖名单
A2: 报名编号 | B2: 激活码 | C2: 组别 | D2: 队伍名称 | E2: 申报单位 | F2: 教练信息 | G2: 学生信息 | H2: 奖项
A3: 90129 | B3: 2B8hXGtH-139-008-co-010-1-Kl0-01-0Ip | C3: 小学组 | D3: 18533A | E3: 北京市海淀区中关村第三小学 | F3: 安绍辉|陶谦 | G3: 蔡明轩|蔡雨轩|朱麟晁 | H3: 全能奖
A4: 81369 | B4: 2B8hXGMP-139-008-6N-010-1-AAi-02-5TR | C4: 初中组 | D4: 科技之星 | E4: 北京市西城区青少年科学技术馆 | F4: 王昕 | G4: 孙知遥|施玮烨 | H4: 全能奖
A5: 85639 | B5: 2B8hXGXe-139-008-gY-011-1-4xV-02-fSR | C5: 初中组 | D5: 合肥市南门小学2队 | E5: 合肥市南门小学 | F5: 武剑 | G5: 秦钰鑫|许清扬|管云妍|陈一诺 | H5: 全能奖
A6: 89872 | B6: 2B8hXGCF-139-008-dE-011-1-SMU-04-OOE | C6: 高中组 | D6: 泉一梅石队31666A | E6: 福建省泉州第一中学 | F6: 周云玲|吴巧丽 | G6: 李晟好|吉远|陈育彬 | H6: 全能奖
A7: 92078 | B7: 2B8hXqIM-139-112-5X-113-1-uFC-06-ajl | C7: 小学初级组 | D7: 如安二号 | E7: 海贝中英文小学、昆明市五华区莲华小学联队 | F7: 袁文勇 | G7: 王麒尧|王子程 | H7: 全能奖
A8: 86753 | B8: 2B8hXqWE-139-039-Fb-040-1-aIl-01-pmO | C8: 小学组 | D8: 深圳清林龙小联队 | E8: 深圳市龙岗区清林小学 | F8: 白静 | G8: 林宸宇|刘梓宸 | H8: 全能奖
A9: 81703 | B9: 2B8hX5py-139-058-Ct-061-1-caM-01-Lv6 | C9: 小学组 | D9: 成志少年2队 | E9: 清华大学附属小学商务中心区实验小学 | F9: 韩策|金骞 | G9: 李泰杭|王雅晨 | H9: 全能奖
A10: 77683 | B10: 2B8hX5QT-139-058-lb-063-1-BvW-03-B1X | C10: 中学组 | D10: 宁波前湾新区科学中学1队 | E10: 宁波前湾新区科学初级中学 | F10: 戚传军|彭艳飞 | G10: 彭成|马浩燃 | H10: 全能奖
A11: 87339 | B11: 2B8hXJCA-139-042-vt-043-1-M7q-03-ISO | C11: 中学组 | D11: 南京市第二十九中学 | E11: 南京市第二十九中学 | F11: 张宏亮|袁京莉 | G11: 崔时瑞|缪舒帆|孙浩轩|宋恩泽 | H11: 全能奖
A12: 77707 | B12: 2B8hXGu0-139-021-AO-022-1-Flg-01-suY | C12: 小学组 | D12: Super AI无敌战队 | E12: 山西省实验小学 | F12: 兰蔓 | G12: 李一航|纪一阳 | H12: 全能奖
A13: 77679 | B13: 2B8hXGjV-139-018-5w-019-1-vDX-01-i1B | C13: 小学组 | D13: 才源滚滚 | E13: 哈尔滨继红小学校（哈西一校区） | F13: 李蒙 | G13: 刘熹桐|黄勃润 | H13: 全能奖
A14: 76624 | B14: 2B8hX5oD-139-053-Fr-056-1-1SV-03-OEH | C14: 中学组 | D14: 中聖書院 A | E14: 香港無人機科技協會 | F14: 郑玉辰 | G14: 李沛霖|李兆倫|雷梓銘 | H14: 全能奖
A15: 2023世界机器人大赛总决赛-青少年机器人设计大赛专项奖获奖名单
A16: 报名编号 | B16: 激活码 | C16: 组别 | D16: 队伍名称 | E16: 申报单位 | F16: 教练信息 | G16: 学生信息 | H16: 奖项
A17: 79326 | B17: 2B8hXG4v-139-008-xt-010-1-9Wo-01-hTR | C17: 小学组 | D17: 6413B | E17: 兰州市城关区静宁路小学 | F17: 杨瑞 | G17: 樊家瑞|张晟|孙若曦 | H17: 最佳设计奖
A18: 79055 | B18: 2B8hXGIr-139-008-dA-010-1-Ikf-02-qwL | C18: 初中组 | D18: 樱桃小丸子 | E18: 兰州交通大学附属中学 | F18: 王艳群|张艳霞 | G18: 马诗媛|李孜萱|刘齐昊暄 | H18: 最佳设计奖
A19: 93990 | B19: 2B8hXGNL-139-008-qF-011-1-jxH-04-q4o | C19: 高中组 | D19: 666A | E19: 西安高新第一中学 | F19: 韩恭恩|王增怀 | G19: 崔宸玮|姜善天|王一安 | H19: 最佳设计奖
A20: 85703 | B20: 2B8hXqP7-139-024-ZW-025-1-5rA-01-BiE | C20: 小学组 | D20: 改勉战队 | E20: 重庆蓝猫科创 | F20: 凌国峰 | G20: 周改|周勉 | H20: 最佳设计奖
A21: 77651 | B21: 2B8hXGOY-139-018-xE-019-1-NAQ-01-Jbh | C21: 小学组 | D21: 暨阳湖1号 | E21: 张家港市暨阳湖实验学校 | F21: 郭芳 | G21: 朱逸轩|鱼家豪 | H21: 最佳设计奖
A22: 80275 | B22: 2B8hXGbW-139-008-XW-010-1-vnG-01-AGG | C22: 小学组 | D22: 南京外国语学校方山分校 | E22: 南京外国语学校方山分校 | F22: 张静 | G22: 邹嘉烨|曹心苒|王若愚 | H22: 最佳编程奖
A23: 86026 | B23: 2B8hXGah-139-008-qL-011-1-Ss1-02-RzZ | C23: 初中组 | D23: 合肥市第三十八中学1队 | E23: 合肥市第三十八中学 | F23: 梁珀|宣守西 | G23: 王骏|张浩阳|鲍宫捷|宋一瑞 | H23: 最佳编程奖
A24: 85415 | B24: 2B8hXG9e-139-008-ps-011-1-hZi-04-1KX | C24: 高中组 | D24: 87658P | E24: 长春二实验中学 | F24: 邓广超 | G24: 杨天一|姚怡名|桑子淇|张恩铜 | H24: 最佳编程奖
A25: 79022 | B25: 2B8hXVQJ-139-116-nn-118-1-lRz-03-LOk | C25: 中学组 | D25: 广东实验中学深圳学校 | E25: 广东实验中学深圳学校 | F25: 方文波|丁新尧 | G25: 王崇毅 | H25: 最佳编程奖
A26: 79478 | B26: 2B8hXGDf-139-021-Dn-022-1-OjU-02-0tr | C26: 初中组 | D26: 江城中学二队 | E26: 吉林江城中学 | F26: 吕怀宇 | G26: 于子程|王振兴 | H26: 最佳编程奖

Sheet VEX系列赛项
A1: 2023世界机器人大赛总决赛-青少年机器人设计大赛-VEX系列赛项获奖名单
A2: 报名编号 | B2: 激活码 | C2: 赛道 | D2: 赛项 | E2: 组别 | F2: 队伍名称 | G2: 申报单位 | H2: 教练信息 | I2: 学生信息 | J2: 平均分 | K2: 资格赛排名 | L2: 奖项
A3: 79465 | B3: 2B8hXG4b-139-008-yS-010-1-61P-01-MzE | C3: VEX系列赛项' | D3: 'VEX-IQ 满载而归' | E3: 小学组 | F3: 龙江A队 | G3: 机器人一号工场俱乐部 | H3: 黄雅雯 | I3: 洪普|邢洛瑜 | J3: 140.2 | K3: 15 | L3: 一等奖(冠军)
A4: 86052 | B4: 2B8hXGf1-139-008-Ss-010-1-iNI-01-baO | C4: 'VEX系列赛项' | D4: 'VEX-IQ 满载而归' | E4: 小学组 | F4: 98988C | G4: 斯坦星球大拇指中心 | H4: 彭英玲|赵高红 | I4: 林沐之|缪一帆 | J4: 140.2 | K4: 16 | L4: 一等奖(冠军)
A5: 84552 | B5: 2B8hXGtd-139-008-Qb-010-1-Lht-01-rz0 | C5: 'VEX系列赛项' | D5: 'VEX-IQ 满载而归' | E5: 小学组 | F5: 取经小分队 | G5: 北京市东城区和平里第一小学 | H5: 魏萌 | I5: 黄家俊|尹骏喆|逄卓逸 | J5: 136.2 | K5: 19 | L5: 一等奖(亚军)
A6: 87685 | B6: 2B8hXJMg-139-008-Ac-010-1-CjQ-01-3DT | C6: 'VEX系列赛项' | D6: 'VEX-IQ 满载而归' | E6: 小学组 | F6: 童趣同创东方路B队 | G6: 上海市浦明师范附属小学 | H6: 周诚 | I6: 王竣逸|熊斐然|俞毅洋 | J6: 136 | K6: 20 | L6: 一等奖(亚军)
A7: 87776 | B7: 2B8hXJMk-139-008-52-010-1-GtA-01-Wxw | C7: 'VEX系列赛项' | D7: 'VEX-IQ 满载而归' | E7: 小学组 | F7: 童趣同创东方路C队 | G7: 上海市浦东新区明珠小学 | H7: 周诚 | I7: 潘婷婷|甘孝诚 | J7: 144 | K7: 11 | L7: 一等奖(季军)
A8: 87771 | B8: 2B8hXJxt-139-008-Cz-010-1-6IH-01-pCl | C8: 'VEX系列赛项' | D8: 'VEX-IQ 满载而归' | E8: 小学组 | F8: 檬科技机器人XZ战队 | G8: 苏州市妇女儿童活动中心 | H8: 王丽媛 | I8: 徐孟泽|朱铭晨 | J8: 141.4 | K8: 12 | L8: 一等奖(季军)
A9: 79694 | B9: 2B8hXGtA-139-008-JO-010-1-Yfv-01-UPK | C9: 'VEX系列赛项' | D9: 'VEX-IQ 满载而归' | E9: 小学组 | F9: 3863B | G9: 上海乐博学习中心 | H9: 丁准 | I9: 俞紫瑄|陈奕希 | J9: 151.4 | K9: 1 | L9: 一等奖
A10: 90129 | B10: 2B8hXGtH-139-008-co-010-1-Kl0-01-0Ip | C10: 'VEX系列赛项' | D10: 'VEX-IQ 满载而归' | E10: 小学组 | F10: 18533A | G10: 北京市海淀区中关村第三小学 | H10: 安绍辉|陶谦 | I10: 蔡明轩|蔡雨轩|朱麟晁 | J10: 148.4 | K10: 2 | L10: 一等奖
A11: 78476 | B11: 2B8hXGb6-139-008-cc-010-1-2a5-01-uR4 | C11: 'VEX系列赛项' | D11: 'VEX-IQ 满载而归' | E11: 小学组 | F11: 创乐陀螺仪 | G11: 江苏省青少年特色科学工作室 | H11: 臧余川|朱艳 | I11: 周炎森|万钧豪|陈沐阳 | J11: 146.4 | K11: 3 | L11: 一等奖
A12: 85017 | B12: 2B8hXG4S-139-008-dz-010-1-uvT-01-42j | C12: 'VEX系列赛项' | D12: 'VEX-IQ 满载而归' | E12: 小学组 | F12: 长沙康礼克雷格国际学校 | G12: 长沙康礼克雷格国际学校 | H12: 雷凯|陈成 | I12: 蒋沐言|赵淇棫 | J12: 146.2 | K12: 4 | L12: 一等奖
A13: 87082 | B13: 2B8hXGtG-139-008-qV-010-1-DDo-01-ZgE | C13: 'VEX系列赛项' | D13: 'VEX-IQ 满载而归' | E13: 小学组 | F13: 童趣同创东方A队 | G13: 上海市童趣同创机器人 | H13: 周诚 | I13: 王宸霖|张辰熠 | J13: 146.2 | K13: 5 | L13: 一等奖
A14: 79526 | B14: 2B8hXGtv-139-008-Pe-010-1-EMk-01-3tm | C14: 'VEX系列赛项' | D14: 'VEX-IQ 满载而归' | E14: 小学组 | F14: 81698A | G14: 上海乐博学习中心 | H14: 沈军 | I14: 樊钱语|孟子墨 | J14: 145.8 | K14: 6 | L14: 一等奖
... A196: 86597 | B196: 2B8hXGi2-139-008-cg-010-1-iAK-02-BNt | C196: VEX系列赛项 | D196: 'VEX-IQ 满载而归' | E196: 初中组 | F196: 61899A | G196: 四川省简阳中学 | H196: 袁璐|荣赤 | I196: 陈兴树|谢俊贤 | J196: 69.8 | K196: 88 | L196: 三等奖
A198: 报名编号 | B198: 激活码 | C198: 赛道 | D198: 赛项 | E198: 组别 | F198: 队伍名称 | G198: 申报单位 | H198: 教练信息 | I198: 学生信息 | J198: 胜平负 | K198: 资格赛排名 | L198: 奖项
A199: VRC-MS registered
A200: 85639 | B200: 2B8hXGXe-139-008-gY-011-1-4xV-02-fSR | C200: 'VEX系列赛项' | D200: 'VEX-VRC 粽横天下' | E200: 初中组 | F200: 合肥市南门小学2队 | G200: 合肥市南门小学 | H200: 武剑 | I200: 秦钰鑫|许清扬|管云妍|陈一诺 | J200: 6-2-0 | K200: 2 | L200: 一等奖(冠军)
A201: 92213 | B201: 2B8hXG6r-139-008-dy-011-1-PYD-02-SJq | C201: 'VEX系列赛项' | D201: 'VEX-VRC 粽横天下' | E201: 初中组 | F201: 中国人民大学附属中学A队 | G201: 中国人民大学附属中学 | H201: 张思 | I201: 刘继泽|黄奕晨 | J201: 6-2-0 | K201: 4 | L201: 一等奖(冠军)
A202: 86221 | B202: 2B8hXGX1-139-008-Yx-011-1-F85-02-in0 | C202: 'VEX系列赛项' | D202: 'VEX-VRC 粽横天下' | E202: 初中组 | F202: 合肥市南门小学1队 | G202: 合肥市南门小学 | H202: 武剑 | I202: 王天玮|杨兴达|田笑凡 | J202: 8-0-0 | K202: 1 | L202: 一等奖(亚军)
A203: 92946 | B203: 2B8hXG6k-139-008-ZW-011-1-4U2-02-Adx | C203: 'VEX系列赛项' | D203: 'VEX-VRC 粽横天下' | E203: 初中组 | F203: 北京市陈经纶中学帝景劲松分校A队 | G203: 北京市陈经纶中学帝景劲松分校 | H203: 唐磊 | I203: 张洋溢|王彦诚 | J203: 6-2-0 | K203: 3 | L203: 一等奖(亚军)
A204: 86256 | B204: 2B8hXGav-139-008-L3-011-1-bS0-02-cN0 | C204: 'VEX系列赛项' | D204: 'VEX-VRC 粽横天下' | E204: 初中组 | F204: 合肥市师范附属小学1队 | G204: 合肥市师范附属小学 | H204: 胡兴勇 | I204: 齐佑德|丁玮梵|郑子瑞 | J204: 5-3-0 | K204: 7 | L204: 一等奖(季军)
A205: 82114 | B205: 2B8hXG6M-139-008-wE-011-1-eec-02-NYZ | C205: 'VEX系列赛项' | D205: 'VEX-VRC 粽横天下' | E205: 初中组 | F205: 檬科技机器人ZCW战队 | G205: 苏州市青少年活动中心 | H205: 武辰 | I205: 陈译涵|周小宇|汪子轩 | J205: 4-4-0 | K205: 17 | L205: 一等奖(季军)
A206: 87626 | B206: 2B8hXG6E-139-008-y5-011-1-3US-02-z4o | C206: 'VEX系列赛项' | D206: 'VEX-VRC 粽横天下' | E206: 初中组 | F206: 南江Ford・61999A | G206: 南京师范大学附属中学江宁分校 | H206: 陈小兵|曹宇婷 | I206: 盛铭|汪子骞|侯适林|季谎? | J206: 6-2-0 | K206: 5 | L206: 二等奖
A207: 86184 | B207: 2B8hXGaz-139-008-90-011-1-kNM-02-7PR | C207: 'VEX系列赛项' | D207: 'VEX-VRC 粽横天下' | E207: 初中组 | F207: 合肥市第三十八中学2队 | G207: 合肥市第三十八中学 | H207: 宣守西|梁珀 | I207: 周轩吉|徐楷|徐墨 | J207: 5-3-0 | K207: 6 | L207: 二等奖
A208: 86026 | B208: 2B8hXGah-139-008-qL-011-1-Ss1-02-RzZ | C208: 'VEX系列赛项' | D208: 'VEX-VRC 粽横天下' | E208: 初中组 | F208: 合肥市第三十八中学1队 | G208: 合肥市第三十八中学 | H208: 梁珀|宣守西 | I208: 王骏|张浩阳|鲍宫捷|宋一瑞 | J208: 4-4-0 | K208: 8 | L208: 二等奖
A209: 90157 | B209: 2B8hXGXE-139-008-EW-011-1-mwL-02-wKI | C209: 'VEX系列赛项' | D209: 'VEX-VRC 粽横天下' | E209: 初中组 | F209: 857Y | G209: 南湖实验中学 | H209: 房峥琦 | I209: 孙浩清|刘桓宇|陈宏宇|李蕴鹏 | J209: 5-3-0 | K209: 9 | L209: 二等奖
A210: 90198 | B210: 2B8hXGSi-139-008-3L-011-1-kfc-02-Kqj | C210: 'VEX系列赛项' | D210: 'VEX-VRC 粽横天下' | E210: 初中组 | F210: 857V | G210: 长春吉大附中力旺实验学校 | H210: 杨贺然 | I210: 戚栋添|郑雨昕|杨怀盛|孙浩涵 | J210: 5-3-0 | K210: 10 | L210: 二等奖
A211: 92225 | B211: 2B8hXG6d-139-008-E6-011-1-URQ-02-F2d | C211: 'VEX系列赛项' | D211: 'VEX-VRC 粽横天下' | E211: 初中组 | F211: 北京一零一中学A队 | G211: 北京一零一中学 | H211: 金得庆|段建行 | I211: 王梓逍 | J211: 5-3-0 | K211: 11 | L211: 二等奖
... A228: 84041 | B228: 2B8hXGaF-139-008-1w-011-1-fET-02-CkV | C228: 'VEX系列赛项' | D228: 'VEX-VRC 粽横天下' | E228: 初中组 | F228: 育英二队 | G228: 南京（大厂）民办育英第二外国语学校 | H228: 郭荣辉 | I228: 林峻昊|许瞻淇|王熙尧|丁烯雅 | J228: 1-7-0 | K228: 29 | L228: 三等奖
A229: VRC-MS unregistered
A230: 86952 | B230: 2B8hXGSP-139-008-X5-011-1-wBJ-02-vHU | C230: 'VEX系列赛项' | D230: 'VEX-VRC 粽横天下' | E230: 初中组 | F230: 88299C | G230: 宁波市鄞州区钟公庙第二初级中学 华师大艺术实验学校 | H230: 吴凯浩|陈一苇 | I230: 杨简默|孙梓睿 | J230: 7-1-0 | K230: 2 | L230: 一等奖(冠军)
A231: 84566 | B231: 2B8hXG62-139-008-PG-011-1-OFC-02-hAt | C231: 'VEX系列赛项' | D231: 'VEX-VRC 粽横天下' | E231: 初中组 | F231: 广州90611C | G231: 广州市海珠区少年宫 | H231: 李崑 | I231: 戴逸楠|杨文轩 | J231: 4-4-0 | K231: 7 | L231: 一等奖(冠军)
A232: 87918 | B232: 2B8hXGa5-139-008-aD-011-1-hUB-02-QrF | C232: 'VEX系列赛项' | D232: 'VEX-VRC 粽横天下' | E232: 初中组 | F232: 2067Z | G232: 杭州市临安区青山湖科技城育才学校 | H232: 方军 | I232: 王梓豪|李嘉豪 | J232: 5-3-0 | K232: 4 | L232: 一等奖(亚军)
A233: 84269 | B233: 2B8hXG6L-139-008-sE-011-1-QHd-02-vJN | C233: 'VEX系列赛项' | D233: 'VEX-VRC 粽横天下' | E233: 初中组 | F233: 广州市第六中学90666C | G233: 广州市第六中学 | H233: 刘路定 | I233: 廖梓睿 |方熙媛|刘子阳|林子涵 | J233: 5-3-0 | K233: 5 | L233: 一等奖(亚军)
A234: 84477 | B234: 2B8hXG6Z-139-008-Al-011-1-UPv-02-WPS | C234: 'VEX系列赛项' | D234: 'VEX-VRC 粽横天下' | E234: 初中组 | F234: 广州90600C | G234: 广州市番禺区星海青少年宫 | H234: 朱达威|李强 | I234: 高晏之 |索方杰|Jason Luo|杨帧惠 | J234: 5-3-0 | K234: 3 | L234: 一等奖(季军)
A235: 86228 | B235: 2B8hXGaT-139-008-kp-011-1-MCd-02-oM4 | C235: 'VEX系列赛项' | D235: 'VEX-VRC 粽横天下' | E235: 初中组 | F235: 88299A | G235: 宁波市鄞州实验中学 | H235: 付忠辉 | I235: 林治成|黄天逸 | J235: 4-4-0 | K235: 10 | L235: 一等奖(季军)
A236: 86599 | B236: 2B8hXGa8-139-008-mk-011-1-tnQ-02-cfi | C236: 'VEX系列赛项' | D236: 'VEX-VRC 粽横天下' | E236: 初中组 | F236: 88299B | G236: 浩泽科技 | H236: 薛国祥 | I236: 邹昀呈 | J236: 8-0-0 | K236: 1 | L236: 二等奖
A237: 86839 | B237: 2B8hXGSf-139-008-MJ-011-1-tqb-02-yDR | C237: 'VEX系列赛项' | D237: 'VEX-VRC 粽横天下' | E237: 初中组 | F237: 兰州市城关区水车园小学VRC2队 | G237: 兰州市城关区水车园小学 | H237: 刘炳辰|刘殿军 | I237: 张瑞安|朱昱锦|陈薇伊|王鹤扬 | J237: 6-2-0 | K237: 6 | L237: 二等奖
A238: 86744 | B238: 2B8hXGaB-139-008-kq-011-1-OMK-02-6GU | C238: 'VEX系列赛项' | D238: 'VEX-VRC 粽横天下' | E238: 初中组 | F238: 兰州市城关区水车园小学VRC1队 | G238: 兰州市城关区水车园小学 | H238: 李惠芳|杨慧琴 | I238: 解懿航|张木子晴|汪冠廷|党开瑞 | J238: 4-4-0 | K238: 8 | L238: 二等奖
A239: 87931 | B239: 2B8hXGaJ-139-008-ZF-011-1-IcR-02-HO0 | C239: 'VEX系列赛项' | D239: 'VEX-VRC 粽横天下' | E239: 初中组 | F239: 2067Y | G239: 杭州市临安区青山湖科技城育才学校 | H239: 黄传臻 | I239: 杨宸滔|谢一睿 | J239: 4-4-0 | K239: 9 | L239: 三等奖
A240: 86513 | B240: 2B8hXGau-139-008-YM-011-1-nkW-02-Igk | C240: 'VEX系列赛项' | D240: 'VEX-VRC 粽横天下' | E240: 初中组 | F240: 兰州市第三十五中学1队 | G240: 兰州市第三十五中学 | H240: 骆晓燕|郑卉娟 | I240: 杨茗凯|黄昱恺|李雪涵|韩承晔 | J240: 4-4-0 | K240: 11 | L240: 三等奖
A241: 78731 | B241: 2B8hXGXN-139-008-gV-011-1-VNU-02-bOY | C241: 'VEX系列赛项' | D241: 'VEX-VRC 粽横天下' | E241: 初中组 | F241: 韦伯科创活动中心758D | G241: 韦伯科创活动中心 | H241: 张雄|史云豪 | I241: 旷皓宇|易治言|熊奕霄 | J241: 4-4-0 | K241: 12 | L241: 三等奖
... A247: 86637 | B247: 2B8hXGSA-139-008-Ba-011-1-lfm-02-vWr | C247: 'VEX系列赛项' | D247: 'VEX-VRC 粽横天下' | E247: 初中组 | F247: 8990d | G247: 四川省成都高新区实验小学 | H247: 赵永刚|刘燕秋 | I247: 张楚然|李宸灏|隆彦庆|王芷靖 | J247: 0-8-0 | K247: 18 | L247: 三等奖
A248: VRC-HS registered
A249: 89872 | B249: 2B8hXGCF-139-008-dE-011-1-SMU-04-OOE | C249: 'VEX系列赛项' | D249: 'VEX-VRC 粽横天下' | E249: 高中组 | F249: 泉一梅石队31666A | G249: 福建省泉州第一中学 | H249: 周云玲|吴巧丽 | I249: 李晟好|吉远|陈育彬 | J249: 6-1-0 | K249: 3 | L249: 一等奖(冠军)
A250: 86567 | B250: 2B8hXGCc-139-008-SF-011-1-a5V-04-OsM | C250: 'VEX系列赛项' | D250: 'VEX-VRC 粽横天下' | E250: 高中组 | F250: EFL-JZ | G250: 四川省简阳中学 | H250: 荣赤|李明 | I250: 杨晨皓|罗習铭|曹梦鑫|石钰凡 | J250: 4-3-0 | K250: 13 | L250: 一等奖(冠军)
A251: 89953 | B251: 2B8hXGNh-139-008-id-011-1-b2x-04-cnw | C251: 'VEX系列赛项' | D251: 'VEX-VRC 粽横天下' | E251: 高中组 | F251: 泉一一峰队31666B | G251: 福建省泉州第一中学 | H251: 吴巧丽|黄寅? | I251: 施若澜|许鸿鑫|张钧源 | J251: 6-1-0 | K251: 5 | L251: 一等奖(亚军)
A252: 91126 | B252: 2B8hXG9K-139-008-aB-011-1-OcR-04-cNE | C252: 'VEX系列赛项' | D252: 'VEX-VRC 粽横天下' | E252: 高中组 | F252: 92979C | G252: 温州市第八高级中学 | H252: 戴宇容 | I252: 淦欣瑞|许多乐|贾亦淳|程志翔 | J252: 5-2-0 | K252: 8 | L252: 一等奖(亚军)
A253: 87635 | B253: 2B8hXGCj-139-008-9i-011-1-IW3-04-jMp | C253: 'VEX系列赛项' | D253: 'VEX-VRC 粽横天下' | E253: 高中组 | F253: 南江Ford・69999C | G253: 江苏省青少年科学工作室 | H253: 陈小兵|曹宇婷 | I253: 仇润江|袁伟宸|王星程|王玟谕 | J253: 7-0-0 | K253: 4 | L253: 一等奖(季军)
A254: 82184 | B254: 2B8hXGoj-139-008-sF-011-1-8jU-04-4dV | C254: 'VEX系列赛项' | D254: 'VEX-VRC 粽横天下' | E254: 高中组 | F254: 苏州市青少年活动中心WPZ战队 | G254: 苏州市青少年活动中心 | H254: 周楠 | I254: 潘凌|王宇轩|张俊哲 | J254: 3-4-0 | K254: 15 | L254: 一等奖(季军)
A255: 82196 | B255: 2B8hXGol-139-008-6D-011-1-mQk-04-JX3 | C255: 'VEX系列赛项' | D255: 'VEX-VRC 粽横天下' | E255: 高中组 | F255: 苏州市青少年活动中心ZCX战队 | G255: 苏州市青少年活动中心 | H255: 周楠 | I255: 谢安昊|陈霁月|周思宇|郑翌辰 | J255: 7-0-0 | K255: 1 | L255: 二等奖
A256: 87579 | B256: 2B8hXGKI-139-008-wS-011-1-hx5-04-d91 | C256: 'VEX系列赛项' | D256: 'VEX-VRC 粽横天下' | E256: 高中组 | F256: 南江Ford・69999A | G256: 南京师范大学附属中学江宁分校 | H256: 陈小兵|曹宇婷 | I256: 张梓菡|杨斯然|吕昕|徐昭羿 | J256: 6-1-0 | K256: 2 | L256: 二等奖
A257: 86978 | B257: 2B8hXGon-139-008-7j-011-1-j4Y-04-www | C257: 'VEX系列赛项' | D257: 'VEX-VRC 粽横天下' | E257: 高中组 | F257: 88860B | G257: 常州市高中校联队 | H257: 蔡国 | I257: 陈卓岩|潘心妍|茆嘉棋|徐沁怡 | J257: 4-3-0 | K257: 6 | L257: 二等奖
A258: 90126 | B258: 2B8hXGN7-139-008-L3-011-1-Oq0-04-fKK | C258: 'VEX系列赛项' | D258: 'VEX-VRC 粽横天下' | E258: 高中组 | F258: 泉一梦之队31666C | G258: 福建省泉州第一中学 | H258: 黄寅?|周云玲 | I258: 陈梓宇|王凌婕|黄晨烨 | J258: 5-2-0 | K258: 7 | L258: 二等奖
A259: 86322 | B259: 2B8hXG9i-139-008-Fg-011-1-yZk-04-5sg | C259: 'VEX系列赛项' | D259: 'VEX-VRC 粽横天下' | E259: 高中组 | F259: 2683Y进击者 | G259: 深圳市科学馆 | H259: 林择丰 | I259: 唐浩闻|戴哲 | J259: 5-2-0 | K259: 9 | L259: 二等奖
A260: 84355 | B260: 2B8hXGK6-139-008-A8-011-1-VRm-04-R1A | C260: 'VEX系列赛项' | D260: 'VEX-VRC 粽横天下' | E260: 高中组 | F260: 佛山美伦国际学校90006A | G260: 佛山美伦国际学校 | H260: 袁文豪 | I260: 李炜|李子乐|曾晗顺|简文熙 | J260: 4-3-0 | K260: 10 | L260: 二等奖
... A279: 91527 | B279: 2B8hXG9Y-139-008-zr-011-1-P2G-04-CsL | C279: 'VEX系列赛项' | D279: 'VEX-VRC 粽横天下' | E279: 高中组 | F279: 39319C | G279: 浙江省瓯海中学 | H279: 龙平 | I279: 陈韵豪|陈卓睿|潘彦辰 | J279: 1-6-0 | K279: 31 | L279: 三等奖
A280: VRC-HS unregistered
A281: 85991 | B281: 2B8hXG9J-139-008-60-011-1-hgM-04-AT3 | C281: 'VEX系列赛项' | D281: 'VEX-VRC 粽横天下' | E281: 高中组 | F281: 广州市第六中学 | G281: 广州市第六中学 | H281: 刘路定 | I281: 申凯元 | J281: 1 | K281: 6-1-0 | L281: 一等奖(冠军)
A282: 86209 | B282: 2B8hXGCG-139-008-9B-011-1-eb0-04-Ea9 | C282: 'VEX系列赛项' | D282: 'VEX-VRC 粽横天下' | E282: 高中组 | F282: 82825Y | G282: 宁波市效实中学 | H282: 王相军 | I282: 金辉|朱桓毅 | J282: 2 | K282: 5-2-0 | L282: 一等奖(冠军)
A283: 84949 | B283: 2B8hXG9Z-139-008-Y6-011-1-CaN-04-96e | C283: 'VEX系列赛项' | D283: 'VEX-VRC 粽横天下' | E283: 高中组 | F283: 北京市丰台区少年宫7673T | G283: 北京市丰台区少年宫 | H283: 张柏青|王天威 | I283: 崔柏航|毛蕴涵|张书朗|陆依延 | J283: 4 | K283: 6-1-0 | L283: 一等奖(亚军)
A284: 87409 | B284: 2B8hXGKL-139-008-mO-011-1-wOO-04-2O0 | C284: 'VEX系列赛项' | D284: 'VEX-VRC 粽横天下' | E284: 高中组 | F284: 南京市宏和玮二队 | G284: VEX学院南京宏和玮科技活动中心 | H284: 刘祺|张宝驹 | I284: 谢思宇|何承翰|盛晨轩|姜昕睿 | J284: 8 | K284: 4-2-1 | L284: 一等奖(亚军)
A285: 85042 | B285: 2B8hXGKr-139-008-aw-011-1-XYm-04-7UP | C285: 'VEX系列赛项' | D285: 'VEX-VRC 粽横天下' | E285: 高中组 | F285: 北京市第十一中学87527A | G285: 北京市第十一中学 | H285: 张林峰|蔡葆元 | I285: 王浩喆|李恺迪|宋佳骏|赵子豪 | J285: 6 | K285: 5-1-1 | L285: 一等奖(季军)
A286: 87379 | B286: 2B8hXGKG-139-008-WR-011-1-hUh-04-DmE | C286: 'VEX系列赛项' | D286: 'VEX-VRC 粽横天下' | E286: 高中组 | F286: 南京市宏和玮一队 | G286: VEX学院南京宏和玮科技活动中心 | H286: 潘虹辉|张振昊 | I286: 杨贺然|郭子渊|周舒瀚|洪旺杰 | J286: 15 | K286: 3-4-0 | L286: 一等奖(季军)
A287: 84869 | B287: 2B8hXGK0-139-008-ay-011-1-TPY-04-opm | C287: 'VEX系列赛项' | D287: 'VEX-VRC 粽横天下' | E287: 高中组 | F287: 北京市丰台区少年宫7673C | G287: 北京市丰台区少年宫 | H287: 张柏青|王天威 | I287: 邵思源|张博奥|张圣尧|王睿? | J287: 3 | K287: 5-2-0 | L287: 二等奖
A288: 85031 | B288: 2B8hXGKl-139-008-1s-011-1-S0A-04-Gt3 | C288: 'VEX系列赛项' | D288: 'VEX-VRC 粽横天下' | E288: 高中组 | F288: 北京市第十一中学87527W | G288: 北京市第十一中学 | H288: 蔡葆元|郝胤同 | I288: 崔智俊|黄家琦|周昱彤|闫益诚 | J288: 5 | K288: 6-1-0 | L288: 二等奖
A289: 85056 | B289: 2B8hXGK8-139-008-cL-011-1-XDJ-04-muC | C289: 'VEX系列赛项' | D289: 'VEX-VRC 粽横天下' | E289: 高中组 | F289: 北京市丰台区青少年活动中心 | G289: 北京市丰台区青少年活动中心 | H289: 张柏青|衣法仁 | I289: 尹子晖|李昱杞|朱轶|付浩辰 | J289: 7 | K289: 5-2-0 | L289: 二等奖
A290: 91144 | B290: 2B8hXG9N-139-008-j8-011-1-5fz-04-xZo | C290: 'VEX系列赛项' | D290: 'VEX-VRC 粽横天下' | E290: 高中组 | F290: 92979D | G290: 温州市第八高级中学 | H290: 戴宇容 | I290: 张智杰|刘炜辰|孙嘉悦|洪东成 | J290: 9 | K290: 4-3-0 | L290: 二等奖
A291: 88001 | B291: 2B8hXGKm-139-008-98-011-1-Xxj-04-DCc | C291: 'VEX系列赛项' | D291: 'VEX-VRC 粽横天下' | E291: 高中组 | F291: 上实一队 | G291: 芜湖市青少年科技活动中心 | H291: 王顺菊 | I291: 薛明博|后天佑|韦子豪|时欣阳 | J291: 10 | K291: 4-3-0 | L291: 二等奖
A292: 85415 | B292: 2B8hXG9e-139-008-ps-011-1-hZi-04-1KX | C292: 'VEX系列赛项' | D292: 'VEX-VRC 粽横天下' | E292: 高中组 | F292: 87658P | G292: 长春二实验中学 | H292: 邓广超 | I292: 杨天一|姚怡名|桑子淇|张恩铜 | J292: 11 | K292: 5-2-0 | L292: 二等奖
... A311: 86565 | B311: 2B8hXGK9-139-008-c0-011-1-RSy-04-loY | C311: 'VEX系列赛项' | D311: 'VEX-VRC 粽横天下' | E311: 高中组 | F311: 德善机械战士 | G311: 常德市德善学校 | H311: 吴樱|李惠 | I311: 薛哲宇|李桄骅|李明琦|赵羿雄 | J311: 31 | K311: 1-6-0 | L311: 三等奖
A312: 85426 | B312: 2B8hXGCO-139-008-bq-011-1-VOw-04-5Wk | C312: 'VEX系列赛项' | D312: 'VEX-VRC 粽横天下' | E312: 高中组 | F312: 耀华凌云1队 | G312: 天津市耀华中学 | I312: 赵浩然|姚雨辰|李世韬|孟小圆 | J312: 32 | K312: 1-6-0 | L312: 三等奖
A313: 84079 | B313: 2B8hXGC0-139-008-WS-011-1-ReS-04-Stt | C313: 'VEX系列赛项' | D313: 'VEX-VRC 粽横天下' | E313: 高中组 | F313: 石河子第二中学一队 | G313: 石河子第二中学 | H313: 张思雨|李雪莲 | I313: 宋泊宏|赵鹏程|陈玺羽 | J313: 33 | K313: 1-6-0 | L313: 三等奖

Sheet ENJOY AI系列赛项
A1: 2023世界机器人大赛总决赛-青少年机器人设计大赛-ENJOY AI系列赛项获奖名单
A2: 队伍编号 | B2: 邀请码 | C2: 赛道 | D2: 赛项 | E2: 组别 | F2: 队伍名称 | G2: 申报单位 | H2: 学生信息 | I2: 总成绩 | J2: 总时间 | K2: 排名 | L2: 奖项
A3: 85593 | B3: 2B8hXxbe-139-009-SG-012-1-7YQ-02-uLJ | C3: ENJOY AI系列赛项' | D3: ENJOY AI夏季运动会' | E3: 初中A组 | F3: 盛开的向日葵 | G3: 中国人民大学附属中学通州校区 | H3: 马圣言|徐梓溪 | I3: 990 | J3: 262 | K3: 1 | L3: 一等奖(冠军)
A4: 88421 | B4: 2B8hXxGd-139-009-nT-012-1-GD2-02-wSY | C4: 'ENJOY AI系列赛项' | D4: ENJOY AI夏季运动会' | E4: 初中A组 | F4: 海沧进修附校鲸鱼3队 | G4: 厦门市海沧区教师进修学校附属学校 | H4: 冷紫航|黄鑫鹏 | I4: 980 | J4: 284 | K4: 2 | L4: 一等奖(亚军)
A5: 88253 | B5: 2B8hXxbI-139-009-sJ-012-1-65z-02-Beu | C5: 'ENJOY AI系列赛项' | D5: ENJOY AI夏季运动会' | E5: 初中A组 | F5: 牡丹江熙鑫队 | G5: 牡丹江市第四中学 | H5: 赵峻熙|付雨鑫 | I5: 840 | J5: 278 | K5: 3 | L5: 一等奖(季军)
A6: 87688 | B6: 2B8hXxG4-139-009-At-012-1-poz-02-1gK | C6: 'ENJOY AI系列赛项' | D6: ENJOY AI夏季运动会' | E6: 初中A组 | F6: 海沧进修附校鲸鱼1队 | G6: 厦门市海沧区教师进修学校附属学校 | H6: 张权|章茂溢 | I6: 810 | J6: 300 | K6: 4 | L6: 一等奖
A7: 88397 | B7: 2B8hXxqU-139-009-5u-012-1-hYW-02-Osf | C7: 'ENJOY AI系列赛项' | D7: ENJOY AI夏季运动会' | E7: 初中A组 | F7: 厦门外国语中学2队 | G7: 厦门科技馆 | H7: 潘泽林|蔡奇翰 | I7: 800 | J7: 287 | K7: 5 | L7: 一等奖
A8: 88450 | B8: 2B8hXxqw-139-009-GA-012-1-4yR-02-OtW | C8: 'ENJOY AI系列赛项' | D8: ENJOY AI夏季运动会' | E8: 初中A组 | F8: 福建省厦门市北附学校京口中学一队 | G8: 厦门市海沧区北附学校（京口校区） | H8: 吴承垚 | I8: 780 | J8: 288 | K8: 6 | L8: 一等奖
A9: 87896 | B9: 2B8hXxGp-139-009-bm-012-1-kTz-02-og5 | C9: 'ENJOY AI系列赛项' | D9: ENJOY AI夏季运动会' | E9: 初中A组 | F9: 乐山创客一队 | G9: 眉山苏祠中学 成都石室天府中学 | H9: 马一策|黄彦潇 | I9: 780 | J9: 295 | K9: 7 | L9: 一等奖
A10: 88398 | B10: 2B8hXxqG-139-009-4f-012-1-QUp-02-D0X | C10: 'ENJOY AI系列赛项' | D10: ENJOY AI夏季运动会' | E10: 初中A组 | F10: 厦门双十海沧附校和厦门一中联队 | G10: 厦门科技馆 | H10: 杨少斌|李盛全 | I10: 710 | J10: 277 | K10: 8 | L10: 二等奖
A11: 87963 | B11: 2B8hXxG3-139-009-1w-012-1-Pb2-02-sJr | C11: 'ENJOY AI系列赛项' | D11: ENJOY AI夏季运动会' | E11: 初中A组 | F11: 海沧进修附校鲸鱼2队 | G11: 厦门市海沧区教师进修学校附属学校 | H11: 曹家玮|范奎嶙 | I11: 710 | J11: 291 | K11: 9 | L11: 二等奖
A12: 88277 | B12: 2B8hXxGF-139-009-mv-012-1-6vT-02-0Cz | C12: 'ENJOY AI系列赛项' | D12: ENJOY AI夏季运动会' | E12: 初中A组 | F12: 牡丹江沐淳队 | G12: 牡丹江市第四中学 | H12: 刘籽沐|王聖淳 | I12: 710 | J12: 299 | K12: 10 | L12: 二等奖
A13: 88578 | B13: 2B8hXxGN-139-009-EM-012-1-YkT-02-Spi | C13: 'ENJOY AI系列赛项' | D13: ENJOY AI夏季运动会' | E13: 初中A组 | F13: 华希超能队 | G13: 厦门市华师希平双语学校 | H13: 张家豪 | I13: 670 | J13: 237 | K13: 11 | L13: 二等奖
A14: 88407 | B14: 2B8hXxqf-139-009-l6-012-1-xA8-02-0vY | C14: 'ENJOY AI系列赛项' | D14: ENJOY AI夏季运动会' | E14: 初中A组 | F14: 厦门外国语中学3队 | G14: 厦门科技馆 | H14: 张煜彬 | I14: 670 | J14: 245 | K14: 12 | L14: 二等奖
... A100: 87901 | B100: 2B8hXxZ7-139-009-Yt-012-1-7XH-01-rZp | C100: 'ENJOY AI系列赛项' | D100: ENJOY AI夏季运动会' | E100: 小学B组 | F100: 厦门工学院附属学校1队 | G100: 厦门星贝科技创享中心 | H100: 王晓璋 | I100: 750 | J100: 298 | K100: 12 | L100: 一等奖
A101: 87992 | B101: 2B8hXxZb-139-009-rQ-012-1-MhL-01-yka | C101: ENJOY AI系列赛项' | D101: ENJOY AI夏季运动会' | E101: 小学B组 | F101: 厦门外国语学校集美分校集美二小 | G101: 厦门星贝科技创享中心 | H101: 崔博腾|林长石 | I101: 740 | J101: 256 | K101: 13 | L101: 一等奖
A102: 85911 | B102: 2B8hXx7L-139-009-2W-012-1-On9-01-kSO | C102: 'ENJOY AI系列赛项' | D102: ENJOY AI夏季运动会' | E102: 小学B组 | F102: 尚慧精英队 | G102: 长春高新技术产业开发区尚德学校 | H102: 冯禹赫|张栩博 | I102: 670 | J102: 262 | K102: 14 | L102: 一等奖
A103: 86577 | B103: 2B8hXx7J-139-009-C7-012-1-BtO-01-TnX | C103: 'ENJOY AI系列赛项' | D103: ENJOY AI夏季运动会' | E103: 小学B组 | F103: 明达1队 | G103: 长春新区北湖明达学校 | H103: 裴怡飞|裴翊彤 | I103: 650 | J103: 242 | K103: 15 | L103: 一等奖
A104: 88337 | B104: 2B8hXxw2-139-009-I4-012-1-uhx-01-RED | C104: 'ENJOY AI系列赛项' | D104: ENJOY AI夏季运动会' | E104: 小学B组 | F104: 厦门五缘实验学校 | G104: 厦门五缘实验学校 | H104: 占逸浚 | I104: 650 | J104: 283 | K104: 16 | L104: 二等奖
A105: 88336 | B105: 2B8hXxzP-139-009-6K-012-1-BwP-01-F6y | C105: 'ENJOY AI系列赛项' | D105: ENJOY AI夏季运动会' | E105: 小学B组 | F105: 洋洋得意 | G105: 重庆市南岸区南坪实验金科小学校 | H105: 聂铭洋|范舟伍洋 | I105: 630 | J105: 239 | K105: 17 | L105: 二等奖
A106: 88383 | B106: 2B8hXxwe-139-009-yd-012-1-i7y-01-Ksj | C106: 'ENJOY AI系列赛项' | D106: ENJOY AI夏季运动会' | E106: 小学B组 | F106: 翔鹭小学和信成火炬学校联队 | G106: 厦门科技馆 | H106: 程中旭|陈禹弛 | I106: 630 | J106: 274 | K106: 18 | L106: 二等奖
A107: 88022 | B107: 2B8hXx7C-139-009-Ab-012-1-gg3-01-0Fn | C107: 'ENJOY AI系列赛项' | D107: ENJOY AI夏季运动会' | E107: 小学B组 | F107: 教巴蜀1队 | G107: 重庆教科院巴蜀学校 | H107: 李浩宇|施卜元 | I107: 610 | J107: 261 | K107: 19 | L107: 二等奖
A108: 88649 | B108: 2B8hXxAd-139-009-kH-012-1-pDI-01-GLH | C108: 'ENJOY AI系列赛项' | D108: ENJOY AI夏季运动会' | E108: 小学B组 | F108: 厦门海沧延奎实验小学芸美分校 | G108: 厦门海沧延奎实验小学芸美分校 | H108: 林子牧|陈嘉宇 | I108: 590 | J108: 277 | K108: 20 | L108: 二等奖
A109: 88414 | B109: 2B8hXxwK-139-009-fm-012-1-DQF-01-Ivy | C109: 'ENJOY AI系列赛项' | D109: ENJOY AI夏季运动会' | E109: 小学B组 | F109: 厦门五中3队 | G109: 厦门市第五中学 | H109: 兰煜晨|冯彦智 | I109: 590 | J109: 280 | K109: 21 | L109: 二等奖
A110: 84522 | B110: 2B8hXxhM-139-009-9f-012-1-7hF-01-Qal | C110: 'ENJOY AI系列赛项' | D110: ENJOY AI夏季运动会' | E110: 小学B组 | F110: 野骆驼队 | G110: 临沂双月湖小学 | H110: 刘子淇|伊太天娇 | I110: 570 | J110: 209 | K110: 22 | L110: 二等奖
A111: 88418 | B111: 2B8hXxw9-139-009-qz-012-1-3MT-01-F3i | C111: 'ENJOY AI系列赛项' | D111: ENJOY AI夏季运动会' | E111: 小学B组 | F111: 厦门会展南1队 | G111: 厦门会展南小学 | H111: 林楷尧|周刘阳 | I111: 560 | J111: 289 | K111: 23 | L111: 二等奖
A112: 88410 | B112: 2B8hXxw6-139-009-l9-012-1-fHg-01-Cfr | C112: 'ENJOY AI系列赛项' | D112: ENJOY AI夏季运动会' | E112: 小学B组 | F112: 厦门五中1队 | G112: 厦门市第五中学 | H112: 余泓泽|邱臻逸 | I112: 550 | J112: 279 | K112: 24 | L112: 二等奖
A113: 91571 | B113: 2B8hXx2E-139-009-4K-012-1-j6O-01-8XR | C113: 'ENJOY AI系列赛项' | D113: ENJOY AI夏季运动会' | E113: 小学B组 | F113: 超级王者战队 | G113: 万科双语、深圳市高级中学北校区小学部 | H113: 李里奥|吴昀姿 | I113: 550 | J113: 297 | K113: 25 | L113: 二等奖
... A132: 88935 | B132: 2B8hXx2y-139-009-GG-012-1-UXr-01-GUY | C132: 'ENJOY AI系列赛项' | D132: ENJOY AI夏季运动会' | E132: 小学B组 | F132: 城西一队 | G132: 庐江县城西小学 | H132: 王璟琦|孙浩轩 | I132: 310 | J132: 279 | K132: 44 | L132: 二等奖
A133: 88476 | B133: 2B8hXxw5-139-009-ST-012-1-LTy-01-Qvl | C133: 'ENJOY AI系列赛项' | D133: ENJOY AI夏季运动会' | E133: 小学B组 | F133: 厦门市禾祥小学 | G133: 厦门市禾祥小学 | H133: 许宏 | I133: 290 | J133: 252 | K133: 45 | L133: 二等奖
A134: 91487 | B134: 2B8hXx2a-139-009-w1-012-1-iym-01-qTe | C134: 'ENJOY AI系列赛项' | D134: ENJOY AI夏季运动会' | E134: 小学B组 | F134: 万象汇麒麟队 | G134: 深圳市百合外国语学校 | H134: 张果|张培宸 | I134: 280 | J134: 300 | K134: 46 | L134: 二等奖
A135: 91901 | B135: 2B8hXx21-139-009-rl-012-1-brK-01-VIl | C135: 'ENJOY AI系列赛项' | D135: ENJOY AI夏季运动会' | E135: 小学B组 | F135: 月影队 | G135: 深圳市罗湖区莲塘鹏兴实验学校、深圳市罗湖区滨河小学 | H135: 何宛颖|石越 | I135: 270 | J135: 227 | K135: 47 | L135: 二等奖
A136: 85829 | B136: 2B8hXxhV-139-009-qd-012-1-wGz-01-4On | C136: 'ENJOY AI系列赛项' | D136: ENJOY AI夏季运动会' | E136: 小学B组 | F136: 郑州市惠济鹤立学校-极客坞工作室 | G136: 郑州市惠济鹤立学校极客坞竞赛工作室 | H136: 王子范|陈浩宇 | I136: 270 | J136: 262 | K136: 48 | L136: 二等奖
A137: 88381 | B137: 2B8hXxAK-139-009-mS-012-1-MJB-01-1tK | C137: 'ENJOY AI系列赛项' | D137: ENJOY AI夏季运动会' | E137: 小学B组 | F137: 呼伦贝尔草原之星三队 | G137: 阿荣旗科技馆 | H137: 宋雨泽|刘佳铭 | I137: 260 | J137: 88 | K137: 49 | L137: 二等奖
A138: 88030 | B138: 2B8hXx7Y-139-009-31-012-1-21j-01-RHX | C138: 'ENJOY AI系列赛项' | D138: ENJOY AI夏季运动会' | E138: 小学B组 | F138: 教巴蜀3队 | G138: 重庆教科院巴蜀学校 | H138: 冯梓豪|苗一然 | I138: 260 | J138: 286 | K138: 50 | L138: 二等奖
A139: 91525 | B139: 2B8hXx2i-139-009-tA-012-1-Wbk-01-6ek | C139: 'ENJOY AI系列赛项' | D139: ENJOY AI夏季运动会' | E139: 小学B组 | F139: 灵魂战队 | G139: 未来小学、深圳市实验学校坂田部 | H139: 胡弘睿|邱天辰 | I139: 250 | J139: 272 | K139: 51 | L139: 三等奖
A140: 86100 | B140: 2B8hXxhO-139-009-p5-012-1-180-01-pBP | C140: 'ENJOY AI系列赛项' | D140: ENJOY AI夏季运动会' | E140: 小学B组 | F140: 娴雅队 | G140: 兰州新区第二小学 | H140: 杨绍睿|张向东 | I140: 250 | J140: 300 | K140: 52 | L140: 三等奖
A141: 88389 | B141: 2B8hXxAG-139-009-pQ-012-1-3rP-01-frK | C141: 'ENJOY AI系列赛项' | D141: ENJOY AI夏季运动会' | E141: 小学B组 | F141: 紫薇然毅队 | G141: 滁州市紫薇小学 | H141: 赵怡然|邹孝毅 | I141: 240 | J141: 144 | K141: 53 | L141: 三等奖
A142: 85715 | B142: 2B8hXxhq-139-009-9F-012-1-JtW-01-qvT | C142: 'ENJOY AI系列赛项' | D142: ENJOY AI夏季运动会' | E142: 小学B组 | F142: 河南省实验小学-极客坞竞赛工作室 | G142: 河南省实验小学极客坞竞赛工作室 | H142: 刘连心|冯耐普 | I142: 240 | J142: 235 | K142: 54 | L142: 三等奖
A143: 88688 | B143: 2B8hXxA1-139-009-CL-012-1-Dq5-01-duG | C143: 'ENJOY AI系列赛项' | D143: ENJOY AI夏季运动会' | E143: 小学B组 | F143: 创域3队 | G143: 创域帝国机器人俱乐部 | H143: 张迎恺|徐东非 | I143: 240 | J143: 288 | K143: 55 | L143: 三等奖
A144: 87716 | B144: 2B8hXxzh-139-009-8f-012-1-0LC-01-s7w | C144: 'ENJOY AI系列赛项' | D144: ENJOY AI夏季运动会' | E144: 小学B组 | F144: 川益二组 | G144: 重庆市南岸区川益小学校 | H144: 张易谦|曾嘉翊 | I144: 239 | J144: 261 | K144: 56 | L144: 三等奖
A145: 86634 | B145: 2B8hXx7i-139-009-kY-012-1-YQq-01-iHj | C145: 'ENJOY AI系列赛项' | D145: ENJOY AI夏季运动会' | E145: 小学B组 | F145: 明达2队 | G145: 长春新区北湖明达学校 | H145: 冯铄|王泽睿 | I145: 230 | J145: 150 | K145: 57 | L145: 三等奖
... A156: 88133 | B156: 2B8hXxhf-139-009-sL-012-1-hAq-01-cO4 | C156: 'ENJOY AI系列赛项' | D156: ENJOY AI夏季运动会' | E156: 小学B组 | F156: 希引力战队 | G156: 揭阳安麦思科技 | H156: 陈可彤|陈振楠 | I156: 180 | J156: 300 | K156: 68 | L156: 三等奖
A157: 81655 | B157: 2B8hXxzb-139-009-Sm-012-1-Jby-01-d3X | C157: 'ENJOY AI系列赛项' | D157: ENJOY AI夏季运动会' | E157: 小学B组 | F157: 天蝎队 | G157: 锡林浩特市创翼教育 | H157: 宋芊怡|郎塔林额振 | I157: 180 | J157: 300 | K157: 69 | L157: 三等奖
A158: 85934 | B158: 2B8hXx7G-139-009-Dv-012-1-z9T-01-QmW | C158: 'ENJOY AI系列赛项' | D158: ENJOY AI夏季运动会' | E158: 小学B组 | F158: 尚德无敌队 | G158: 长春高新技术产业开发区尚德学校 | H158: 陈一赫|王恩硕 | I158: 170 | J158: 285 | K158: 70 | L158: 三等奖
A159: 88460 | B159: 2B8hXxAL-139-009-IV-012-1-y9z-01-Ogc | C159: 'ENJOY AI系列赛项' | D159: ENJOY AI夏季运动会' | E159: 小学B组 | F159: 紫薇涵阳队 | G159: 滁州市紫薇小学 | H159: 刘墨涵|朱凯阳 | I159: 160 | J159: 129 | K159: 71 | L159: 三等奖
A160: 88294 | B160: 2B8hXxwu-139-009-uM-012-1-hOJ-01-5XU | C160: 'ENJOY AI系列赛项' | D160: ENJOY AI夏季运动会' | E160: 小学B组 | F160: 高艺潼/楚恩润 | G160: 潍坊高新区实验学校 | H160: 楚恩润|高艺潼 | I160: 150 | J160: 143 | K160: 72 | L160: 三等奖
A161: 91496 | B161: 2B8hXx2t-139-009-6d-012-1-WIH-01-Dl2 | C161: 'ENJOY AI系列赛项' | D161: ENJOY AI夏季运动会' | E161: 小学B组 | F161: 骑士队 | G161: 深圳市罗湖区桃园小学、深圳市新秀小学 | H161: 周煜|邹涵玥 | I161: 150 | J161: 292 | K161: 73 | L161: 三等奖
A162: 87917 | B162: 2B8hXxzJ-139-009-jC-012-1-uXN-01-FQF | C162: 'ENJOY AI系列赛项' | D162: ENJOY AI夏季运动会' | E162: 小学B组 | F162: 水瓶队 | G162: 锡林浩特市创翼教育 | H162: 傲龙吉|刘非凡 | I162: 150 | J162: 300 | K162: 74 | L162: 三等奖
A163: 88325 | B163: 2B8hXx7F-139-009-tT-012-1-6Jv-01-oGc | C163: 'ENJOY AI系列赛项' | D163: ENJOY AI夏季运动会' | E163: 小学B组 | F163: 豪横兄弟联盟战队 | G163: 重庆市南岸区南坪实验金科小学校 | H163: 张家豪|李昱衡 | I163: 140 | J163: 157 | K163: 75 | L163: 三等奖
A164: 91532 | B164: 2B8hXx2I-139-009-Z6-012-1-syG-01-o3L | C164: 'ENJOY AI系列赛项' | D164: ENJOY AI夏季运动会' | E164: 小学B组 | F164: 麻辣王子 | G164: 深圳市龙华区创新实验小学、教育科学研究院附属实验学校 | H164: 王梓墨|陈谕辰 | I164: 140 | J164: 300 | K164: 76 | L164: 三等奖
A165: 86621 | B165: 2B8hXx7R-139-009-y1-012-1-4hg-01-JVg | C165: 'ENJOY AI系列赛项' | D165: ENJOY AI夏季运动会' | E165: 小学B组 | F165: 禾禾AI | G165: 重庆市南岸区长生小学校 | H165: 廖知芮|王美汐 | I165: 130 | J165: 293 | K165: 77 | L165: 三等奖
A166: 86231 | B166: 2B8hXxhY-139-009-Nl-012-1-ipu-01-EOy | C166: 'ENJOY AI系列赛项' | D166: ENJOY AI夏季运动会' | E166: 小学B组 | F166: 奋进队 | G166: 兰州新区第二小学 | H166: 赵若杉|保钧祖 | I166: 130 | J166: 300 | K166: 78 | L166: 三等奖
A167: 91521 | B167: 2B8hXx2C-139-009-xH-012-1-3fK-01-xla | C167: 'ENJOY AI系列赛项' | D167: ENJOY AI夏季运动会' | E167: 小学B组 | F167: 宝安三队 | G167: 新安中学（集团）外国语学校 | H167: 李晟嘉|徐绍锋 | I167: 120 | J167: 300 | K167: 79 | L167: 三等奖
A168: 88303 | B168: 2B8hXxwQ-139-009-OO-012-1-Acv-01-as9 | C168: 'ENJOY AI系列赛项' | D168: ENJOY AI夏季运动会' | E168: 小学B组 | F168: 谭铂瀚/蔡佳桐 | G168: 潍坊高新区东风学校 | H168: 蔡佳桐|谭铂瀚 | I168: 110 | J168: 70 | K168: 80 | L168: 三等奖
A169: 86972 | B169: 2B8hXx7e-139-009-ZJ-012-1-Gkn-01-y9Y | C169: 'ENJOY AI系列赛项' | D169: ENJOY AI夏季运动会' | E169: 小学B组 | F169: 中意 | G169: 重庆市南岸区珊瑚浦辉实验小学 | H169: 叶钟阳|孙文艺 | I169: 110 | J169: 153 | K169: 81 | L169: 三等奖
... A188: 86595 | B188: 2B8hXxzA-139-009-A3-012-1-GjY-01-kO8 | C188: 'ENJOY AI系列赛项' | D188: ENJOY AI夏季运动会' | E188: 小学B组 | F188: 黑洞 | G188: 天津市河西区天津小学 | H188: 杨佳睿|翟中泽 | I188: 10 | J188: 300 | K188: 98 | L188: 三等奖

Sheet Robo Genius系列挑战赛项
A1: 2023世界机器人大赛总决赛-青少年机器人设计大赛-Robo Genius系列挑战赛项获奖名单
A2: 报名编号 | B2: 激活码 | C2: 赛道 | D2: 赛项 | E2: 组别 | F2: 队伍名称 | G2: 申报单位 | H2: 教练信息 | I2: 学生信息 | J2: 排名 | K2: 奖项
A3: 77676 | B3: 2B8hXGW2-139-018-SM-019-1-7Bv-01-e7O | C3: Robo Genius系列挑战赛项' | D3: 'Robo Genius超能行动' | E3: 小学组 | F3: 熠硕凌风 | G3: 郑州市二七区兴华小学东校区 | H3: 郭瑾 | I3: 张熠桐|李晗硕 | J3: 1 | K3: 一等奖(冠军)
A4: 89647 | B4: 2B8hXiU5-139-018-d0-019-1-Tfj-01-okq | C4: 'Robo Genius系列挑战赛项' | D4: 'Robo Genius超能行动' | E4: 小学组 | F4: 方城神龙队 | G4: 温岭市方城小学 | H4: 施晨阳|金超 | I4: 王俊杰|冯昊然 | J4: 2 | K4: 一等奖(亚军)
A5: 86843 | B5: 2B8hXGOi-139-018-5s-019-1-rVy-01-rLK | C5: 'Robo Genius系列挑战赛项' | D5: 'Robo Genius超能行动' | E5: 小学组 | F5: 头脑风暴五队 | G5: 郑州中学第四附属小学 郑州市惠济区弓寨小学 | H5: 刘丽聪|郭杨杨 | I5: 张文琪|史奕晨 | J5: 3 | K5: 一等奖(季军)
A6: 77484 | B6: 2B8hXGWP-139-018-U4-019-1-WNz-01-OT3 | C6: 'Robo Genius系列挑战赛项' | D6: 'Robo Genius超能行动' | E6: 小学组 | F6: 蔚蓝云炫 | G6: 郑州市金水区文化路第一小学翰林校区 | H6: 刘丽|苑盼盼 | I6: 郝芸萱|刘雨轩 | J6: 4 | K6: 一等奖
A7: 77547 | B7: 2B8hXG0g-139-018-Lh-019-1-K4e-01-83h | C7: 'Robo Genius系列挑战赛项' | D7: 'Robo Genius超能行动' | E7: 小学组 | F7: 致远超能战队 | G7: 厦门市前埔小学 | H7: 何惠真|吴美琴 | I7: 王晨皓|陈俊融 | J7: 5 | K7: 一等奖
A8: 77560 | B8: 2B8hXGlh-139-018-Qh-019-1-uQE-01-VlM | C8: 'Robo Genius系列挑战赛项' | D8: 'Robo Genius超能行动' | E8: 小学组 | F8: 豆豆绿豆队 | G8: 豆豆机器人 | H8: 曾业成|杨运森 | I8: 徐礼朗|曾子航 | J8: 6 | K8: 一等奖
A9: 89698 | B9: 2B8hXGO6-139-018-HQ-019-1-124-01-pOO | C9: 'Robo Genius系列挑战赛项' | D9: 'Robo Genius超能行动' | E9: 小学组 | F9: 太平双龙 | G9: 温岭市太平小学 | H9: 缪连君|金肖平 | I9: 戴川钧|陈致远 | J9: 7 | K9: 一等奖
A10: 77388 | B10: 2B8hXGWH-139-018-kA-019-1-ct3-01-FrB | C10: 'Robo Genius系列挑战赛项' | D10: 'Robo Genius超能行动' | E10: 小学组 | F10: 雷霆战队 | G10: 郑州市二七区滨河花园实验小学 郑州市科创学校（小学部） | H10: 刘璐|梁瑞瑞 | I10: 荆晨绪|张珈铭谦 | J10: 8 | K10: 一等奖
A11: 81069 | B11: 2B8hXGOo-139-018-G8-019-1-dkf-01-Q75 | C11: 'Robo Genius系列挑战赛项' | D11: 'Robo Genius超能行动' | E11: 小学组 | F11: 扶摇直上小队 | G11: 泰州市海光中心小学 | H11: 陈旻|陈磊 | I11: 吉子芃|陈宇泽 | J11: 9 | K11: 一等奖
A12: 77164 | B12: 2B8hXG03-139-018-fX-019-1-TzT-01-2vB | C12: 'Robo Genius系列挑战赛项' | D12: 'Robo Genius超能行动' | E12: 小学组 | F12: 厦门北小超能战队 | G12: 厦门市前埔北区小学 | H12: 林丽芳|何冰冰 | I12: 卢俊彤|李文儒 | J12: 10 | K12: 一等奖
A13: 77117 | B13: 2B8hXG0D-139-018-BY-019-1-pW0-01-7V1 | C13: 'Robo Genius系列挑战赛项' | D13: 'Robo Genius超能行动' | E13: 小学组 | F13: 松果超能1队 | G13: 厦门市松柏小学 | H13: 陈维佳|刘余建 | I13: 蒋天朗|严宏彬 | J13: 11 | K13: 一等奖
A14: 77679 | B14: 2B8hXGjV-139-018-5w-019-1-vDX-01-i1B | C14: 'Robo Genius系列挑战赛项' | D14: 'Robo Genius超能行动' | E14: 小学组 | F14: 才源滚滚 | G14: 哈尔滨继红小学校（哈西一校区） | H14: 李蒙 | I14: 刘熹桐|黄勃润 | J14: 12 | K14: 一等奖
... A169: 87204 | B169: 2B8hXGHg-139-018-sv-020-1-esu-03-CmO | C169: 'Robo Genius系列挑战赛项' | D169: 'Robo Genius火星智造' | E169: 中学组 | F169: 合肥瑶海1队 | G169: 安徽省合肥六中教育集团瑶海分校 | H169: 凌静|徐虹 | I169: 沐俊昊|李孟尧 | J169: 14 | K169: 三等奖

Sheet Super AI超级轨迹赛项
A1: 2023世界机器人大赛总决赛-青少年机器人设计大赛-Super AI超级轨迹赛项获奖名单
A2: 报名编号 | B2: 激活码 | C2: 赛道 | D2: 赛项 | E2: 组别 | F2: 队伍名称 | G2: 申报单位 | H2: 教练信息 | I2: 学生信息 | J2: 比赛分数 | K2: 比赛用时 | L2: 成绩排名 | M2: 奖项
A3: 小学A组-上午场
A4: 88974 | B4: 2B8hXXhC-139-021-N5-022-1-lg6-01-5aF | C4: Super AI超级轨迹赛项' | D4: Super AI超级轨迹赛-星际联盟' | E4: 小学组 | F4: 奥体小学和协和学校联队 | G4: 慧动机器人 | H4: 杨结宝|王海凤 | I4: 史书恒|杜铭熙 | J4: 908 | K4: 288 | L4: 1 | M4: 一等奖(冠军)
A5: 76330 | B5: 2B8hXG87-139-021-v1-022-1-EvG-01-Kkg | C5: 'Super AI超级轨迹赛项' | D5: Super AI超级轨迹赛-星际联盟' | E5: 小学组 | F5: 大唐逐梦队 | G5: 晋中市榆次区大唐现代双语小学 | H5: 李冰 | I5: 牛梓溯|杨景晰 | J5: 878 | K5: 102 | L5: 2 | M5: 一等奖(亚军)
A6: 76909 | B6: 2B8hXGu4-139-021-R6-022-1-Rsg-01-nuq | C6: 'Super AI超级轨迹赛项' | D6: Super AI超级轨迹赛-星际联盟' | E6: 小学组 | F6: 萍乡安源城区小学 | G6: 江西省萍乡市安源区城区小学 | H6: 邓志华 | I6: 林宇航|吕璨辰 | J6: 838 | K6: 212 | L6: 3 | M6: 一等奖(季军)
A7: 78533 | B7: 2B8hXGQF-139-021-L4-022-1-Sbc-01-MUm | C7: 'Super AI超级轨迹赛项' | D7: Super AI超级轨迹赛-星际联盟' | E7: 小学组 | F7: 极地战神队 | G7: 晋中市榆次区大唐现代双语小学 | H7: 侯浩博 | I7: 侯浩博|赵禹维 | J7: 787 | K7: 73 | L7: 4 | M7: 一等奖
A8: 78856 | B8: 2B8hXX25-139-021-pc-022-1-ETz-01-N8q | C8: 'Super AI超级轨迹赛项' | D8: Super AI超级轨迹赛-星际联盟' | E8: 小学组 | F8: 大唐超能特战队 | G8: 晋中市榆次区大唐现代双语小学 | H8: 王泓杰 | I8: 王泓杰|马嘉裕 | J8: 723 | K8: 127 | L8: 5 | M8: 一等奖
A9: 89113 | B9: 2B8hXXLq-139-021-nF-022-1-tLT-01-7MU | C9: 'Super AI超级轨迹赛项' | D9: Super AI超级轨迹赛-星际联盟' | E9: 小学组 | F9: 勇闯先锋1队 | G9: 羊山新区第二小学 | H9: 沈小雨 | I9: 肖家溢|李思琦 | J9: 662 | K9: 54 | L9: 6 | M9: 一等奖
A10: 89179 | B10: 2B8hXXz8-139-021-1Z-022-1-AOW-01-DNI | C10: 'Super AI超级轨迹赛项' | D10: Super AI超级轨迹赛-星际联盟' | E10: 小学组 | F10: 一飞冲天1队 | G10: 新摩讯机器人一中心 | H10: 何峰 | I10: 宋易轩|李沂霖 | J10: 652 | K10: 79 | L10: 7 | M10: 一等奖
A11: 78844 | B11: 2B8hXGBJ-139-021-wa-022-1-JOM-01-yab | C11: 'Super AI超级轨迹赛项' | D11: Super AI超级轨迹赛-星际联盟' | E11: 小学组 | F11: 骐骥最强 | G11: 深圳市仙桐实验小学 | H11: 李捷|朱泽凯 | I11: 赵鸿羲|叶洺羽 | J11: 634 | K11: 120 | L11: 8 | M11: 一等奖
A12: 89376 | B12: 2B8hXX7n-139-021-hD-022-1-qHE-01-C1h | C12: 'Super AI超级轨迹赛项' | D12: Super AI超级轨迹赛-星际联盟' | E12: 小学组 | F12: 灵感海洋 | G12: 青岛西海岸新区董家口小学 | H12: 李维助 | I12: 张子鸣|魏琪宇 | J12: 598 | K12: 60 | L12: 9 | M12: 一等奖
A13: 77921 | B13: 2B8hXGRi-139-021-pW-022-1-IVs-01-hvS | C13: 'Super AI超级轨迹赛项' | D13: Super AI超级轨迹赛-星际联盟' | E13: 小学组 | F13: 人工智能队 | G13: 信阳羊山实验小学 | H13: 王磊 | I13: 许文哲|曹珊瑜 | J13: 593 | K13: 110 | L13: 10 | M13: 一等奖
A14: 85716 | B14: 2B8hXJwT-139-021-Iv-022-1-jRq-01-UOr | C14: 'Super AI超级轨迹赛项' | D14: Super AI超级轨迹赛-星际联盟' | E14: 小学组 | F14: 荣盛1队 | G14: 济南正东瓦特科技培训学校 | H14: 冯凯 | I14: 秦诗画|夏明睿 | J14: 592 | K14: 107 | L14: 11 | M14: 一等奖
A15: 89210 | B15: 2B8hXXzs-139-021-V3-022-1-4U9-01-xOm | C15: 'Super AI超级轨迹赛项' | D15: Super AI超级轨迹赛-星际联盟' | E15: 小学组 | F15: 高飞远翔队1 | G15: 新摩讯机器人一中心 | H15: 赵寅 | I15: 吴馨悦|吴忻宸 | J15: 585 | K15: 95 | L15: 12 | M15: 一等奖
... A120: 79696 | B120: 2B8hXGr3-139-021-Oo-022-1-r8L-01-oH1 | C120: 'Super AI超级轨迹赛项' | D120: Super AI超级轨迹赛-星际联盟' | E120: 小学组 | F120: 龙湖1队 | G120: 济南市历城区正西瓦特科技培训学校 | H120: 赵广利 | I120: 孙鉴满|张桐语 | J120: 15 | K120: 158 | L120: 117 | M120: 三等奖
A121: 小学A组-下午场
A122: 77909 | B122: 2B8hXGRx-139-021-Sh-022-1-uho-01-0qy | C122: 'Super AI超级轨迹赛项' | D122: Super AI超级轨迹赛-星际联盟' | E122: 小学组 | F122: 雷霆速击队 | G122: 信阳市平桥区第七小学 | H122: 王婧 | I122: 张晨|谌志轩 | J122: 929 | K122: 51 | L122: 1 | M122: 一等奖(冠军)
A123: 76678 | B123: 2B8hXG11-139-021-Hq-022-1-6yd-01-paw | C123: 'Super AI超级轨迹赛项' | D123: Super AI超级轨迹赛-星际联盟' | E123: 小学组 | F123: 安居苑小学1队 | G123: 安居苑小学 | H123: 贾志成 | I123: 曹长治|管李澈 | J123: 911 | K123: 69 | L123: 2 | M123: 一等奖(亚军)
A124: 83298 | B124: 2B8hXJAU-139-021-dD-022-1-jlB-01-jfw | C124: 'Super AI超级轨迹赛项' | D124: Super AI超级轨迹赛-星际联盟' | E124: 小学组 | F124: 北塘/利民路小学2队 | G124: 芜湖市北塘小学 | H124: 谢军 | I124: 陶鑫洋|朱云龙 | J124: 886 | K124: 266 | L124: 3 | M124: 一等奖(季军)
A125: 88965 | B125: 2B8hXXhK-139-021-2k-022-1-6ab-01-IYA | C125: 'Super AI超级轨迹赛项' | D125: Super AI超级轨迹赛-星际联盟' | E125: 小学组 | F125: 奥体小学和翠庭园小学联队 | G125: 慧动机器人 | H125: 杨结宝|王海凤 | I125: 王乐天|徐华焱 | J125: 883 | K125: 87 | L125: 4 | M125: 一等奖
A126: 77710 | B126: 2B8hXXLJ-139-021-bX-022-1-G1t-01-sdR | C126: 'Super AI超级轨迹赛项' | D126: Super AI超级轨迹赛-星际联盟' | E126: 小学组 | F126: 阳光彩虹队 | G126: 信阳市平桥区第二小学 | H126: 于强 | I126: 余东泽|周辰旭 | J126: 802 | K126: 262 | L126: 5 | M126: 一等奖
A127: 92297 | B127: 2B8hXXPV-139-021-yF-022-1-2Ph-01-ebG | C127: 'Super AI超级轨迹赛项' | D127: Super AI超级轨迹赛-星际联盟' | E127: 小学组 | F127: 师大附小02队 | G127: 云南师范大学附属小学 | H127: 郭兴照|鲁昆鹂 | I127: 陈泰燃|曾碧翀 | J127: 790 | K127: 290 | L127: 6 | M127: 一等奖
A128: 92041 | B128: 2B8hXXvr-139-021-ne-022-1-iCW-01-ouT | C128: 'Super AI超级轨迹赛项' | D128: Super AI超级轨迹赛-星际联盟' | E128: 小学组 | F128: BG机器人1队 | G128: BG机器人 | H128: 向冠宇 | I128: 王泓博|梁浩林 | J128: 788 | K128: 72 | L128: 7 | M128: 一等奖
A129: 75570 | B129: 2B8hXGui-139-021-ae-022-1-lot-01-oEA | C129: 'Super AI超级轨迹赛项' | D129: Super AI超级轨迹赛-星际联盟' | E129: 小学组 | F129: 人工智能1队 | G129: 昌平区城北小学教育集团六街校区 | H129: 王继韬|杨亚军 | I129: 陈喆林|刘子奇 | J129: 752 | K129: 198 | L129: 8 | M129: 一等奖
A130: 76683 | B130: 2B8hXG1e-139-021-KP-022-1-2hQ-01-DaR | C130: 'Super AI超级轨迹赛项' | D130: Super AI超级轨迹赛-星际联盟' | E130: 小学组 | F130: 安居苑小学3队 | G130: 安居苑小学 | H130: 贾志成 | I130: 杨睿麒|张梓琛 | J130: 751 | K130: 261 | L130: 9 | M130: 一等奖
A131: 78755 | B131: 2B8hXG1S-139-021-Xq-022-1-F8c-01-6Mo | C131: 'Super AI超级轨迹赛项' | D131: Super AI超级轨迹赛-星际联盟' | E131: 小学组 | F131: 云间6队 | G131: 上海外国语附属外国语学校云间小学东部分校 | H131: 丁薇 | I131: 张子昂|林正祥 | J131: 723 | K131: 54 | L131: 10 | M131: 一等奖
A132: 83146 | B132: 2B8hXJAq-139-021-uA-022-1-g5r-01-PVC | C132: 'Super AI超级轨迹赛项' | D132: Super AI超级轨迹赛-星际联盟' | E132: 小学组 | F132: 科技梦队 | G132: 德州市德城区莱凯教育培训学校 | H132: 宋鹏祥 | I132: 崔兆桐|郑书昊 | J132: 715 | K132: 74 | L132: 11 | M132: 一等奖
A133: 89168 | B133: 2B8hXXP7-139-021-IM-022-1-PIW-01-noS | C133: 'Super AI超级轨迹赛项' | D133: Super AI超级轨迹赛-星际联盟' | E133: 小学组 | F133: 子滔战队 | G133: 珠海市香洲区甄贤小学、珠海市香洲区荣泰小学 | H133: 方琳|万林 | I133: 戴运滔|罗子淇 | J133: 706 | K133: 89 | L133: 12 | M133: 一等奖
... A208: 89267 | B208: 2B8hXX7e-139-021-QX-022-1-jNE-01-q5h | C208: 'Super AI超级轨迹赛项' | D208: Super AI超级轨迹赛-星际联盟' | E208: 小学组 | F208: 睿博3队 | G208: 青岛市睿博机器人编程俱乐部 | H208: 李程 | I208: 唐浩瑜|李世海 | J208: 180 | K208: 115 | L208: 87 | M208: 三等奖
B209: 2B8hXGEb-139-021-gV-022-1-s3H-01-IrT | C209: 'Super AI超级轨迹赛项' | D209: Super AI超级轨迹赛-星际联盟' | E209: 小学组 | F209: 精英队 | G209: 未来源少儿编程 | H209: 何磊 | I209: 徐若嘉|李梓睿 | J209: 175 | K209: 70 | L209: 88 | M209: 三等奖
A210: 83177 | B210: 2B8hXJAi-139-021-OC-022-1-cvd-01-0uz | C210: 'Super AI超级轨迹赛项' | D210: Super AI超级轨迹赛-星际联盟' | E210: 小学组 | F210: 燕山1队 | G210: 历下区瓦特机器人培训学校 | H210: 侯超欣 | I210: 丁千博|李紫颐 | J210: 175 | K210: 76 | L210: 89 | M210: 三等奖
A211: 89661 | B211: 2B8hXXwF-139-021-fp-022-1-gup-01-Ja7 | C211: 'Super AI超级轨迹赛项' | D211: Super AI超级轨迹赛-星际联盟' | E211: 小学组 | F211: 济南玛酷二队 | G211: 玛酷机器人济南编程中心 | H211: 原凯育 | I211: 巫聿哲|李佳玥 | J211: 170 | K211: 90 | L211: 90 | M211: 三等奖
A212: 89205 | B212: 2B8hXXze-139-021-1i-022-1-B4X-01-Bke | C212: 'Super AI超级轨迹赛项' | D212: Super AI超级轨迹赛-星际联盟' | E212: 小学组 | F212: 斗转星移队1 | G212: 新摩讯机器人一中心 | H212: 赵寅 | I212: 王乾名|郭晓龙 | J212: 170 | K212: 54 | L212: 91 | M212: 三等奖
A213: 89197 | B213: 2B8hXXzB-139-021-2K-022-1-p3D-01-qkE | C213: 'Super AI超级轨迹赛项' | D213: Super AI超级轨迹赛-星际联盟' | E213: 小学组 | F213: 梦启九州队1 | G213: 新摩讯机器人一中心 | H213: 逄凡 | I213: 贾佳潞|郭曦阳 | J213: 170 | K213: 90 | L213: 92 | M213: 三等奖
A214: 75597 | B214: 2B8hXGmt-139-021-z1-022-1-zy6-01-QKq | C214: 'Super AI超级轨迹赛项' | D214: Super AI超级轨迹赛-星际联盟' | E214: 小学组 | F214: 博智小学1队 | G214: 惠东县平山青云小学 | H214: 杨志深 | I214: 杨凯颖|邓子越 | J214: 160 | K214: 37 | L214: 93 | M214: 三等奖
A215: 89310 | B215: 2B8hXXwt-139-021-oH-022-1-0Qd-01-9t4 | C215: 'Super AI超级轨迹赛项' | D215: Super AI超级轨迹赛-星际联盟' | E215: 小学组 | F215: 美思托星耀队 | G215: 淄博市周村区机器人运动协会 | H215: 孔浩 | I215: 韩语钖|李政锡 | J215: 160 | K215: 50 | L215: 94 | M215: 三等奖
A216: 84300 | B216: 2B8hXJLu-139-021-WI-022-1-6fN-01-DFP | C216: 'Super AI超级轨迹赛项' | D216: Super AI超级轨迹赛-星际联盟' | E216: 小学组 | F216: 普陀壹队 | G216: 上海普陀乐博机器人学习中心 | H216: 李锦添 | I216: 侯汇宸|萧汪平川 | J216: 160 | K216: 72 | L216: 95 | M216: 三等奖
A217: 75604 | B217: 2B8hXGEU-139-021-ka-022-1-Cp2-01-1Em | C217: 'Super AI超级轨迹赛项' | D217: Super AI超级轨迹赛-星际联盟' | E217: 小学组 | F217: 藏獒队 | G217: 未来源少儿编程 | H217: 何磊 | I217: 尹升东|梅峻诚 | J217: 150 | K217: 30 | L217: 96 | M217: 三等奖
A218: 89136 | B218: 2B8hXX7c-139-021-ib-022-1-ZcF-01-nhz | C218: 'Super AI超级轨迹赛项' | D218: Super AI超级轨迹赛-星际联盟' | E218: 小学组 | F218: 唐冶3队 | G218: 济南圣唐瓦特科技培训学校 | H218: 宋晋鑫 | I218: 孙振桐|刘栩辰 | J218: 150 | K218: 175 | L218: 97 | M218: 三等奖
A219: 76439 | B219: 2B8hXGuc-139-021-zJ-022-1-n4F-01-xmz | C219: 'Super AI超级轨迹赛项' | D219: Super AI超级轨迹赛-星际联盟' | E219: 小学组 | F219: 临沂金小二队 | G219: 临沂金雀山小学 | H219: 陈宇 | I219: 胡子乔|彭皓扬 | J219: 145 | K219: 101 | L219: 98 | M219: 三等奖
A220: 89189 | B220: 2B8hXXZ2-139-021-DH-022-1-ODO-01-8Hr | C220: 'Super AI超级轨迹赛项' | D220: Super AI超级轨迹赛-星际联盟' | E220: 小学组 | F220: 节节高队 | G220: 新摩讯机器人二中心 | H220: 张泺建 | I220: 傅修齐|刘润楚 | J220: 145 | K220: 214 | L220: 99 | M220: 三等奖
A221: 89270 | B221: 2B8hXX7p-139-021-vW-022-1-p4D-01-hWc | C221: 'Super AI超级轨迹赛项' | D221: Super AI超级轨迹赛-星际联盟' | E221: 小学组 | F221: 临沂金小八队 | G221: 临沂金雀山小学 | H221: 李佩璇 | I221: 梁宇靖|邢仕正 | J221: 135 | K221: 212 | L221: 100 | M221: 三等奖
... A237: 89146 | B237: 2B8hXX7i-139-021-cx-022-1-zyK-01-Pu5 | C237: 'Super AI超级轨迹赛项' | D237: Super AI超级轨迹赛-星际联盟' | E237: 小学组 | F237: 舜奥2队 | G237: 济南编程虎培训学校 | H237: 周璇 | I237: 贺圣博|梁祐铨 | J237: 20 | K237: 60 | L237: 116 | M237: 三等奖
A238: 89668 | B238: 2B8hXXA7-139-021-Dh-022-1-qrI-01-qJk | C238: 'Super AI超级轨迹赛项' | D238: Super AI超级轨迹赛-星际联盟' | E238: 小学组 | F238: 济南玛酷五队 | G238: 玛酷机器人济南编程中心 | H238: 靖相民 | I238: 李受成|张轩宁 | J238: 0 | K238: 360 | L238: 117
A239: 89256 | B239: 2B8hXXZe-139-021-x4-022-1-FyF-01-gAO | C239: 'Super AI超级轨迹赛项' | D239: Super AI超级轨迹赛-星际联盟' | E239: 小学组 | F239: 未来先锋队 | G239: 新摩讯机器人三中心 | H239: 韦雅 | I239: 陈韦宇|兰芷墨 | J239: 0 | K239: 171 | L239: 118
A240: 85737 | B240: 2B8hXJ2o-139-021-x0-022-1-Cbm-01-w1M | C240: 'Super AI超级轨迹赛项' | D240: Super AI超级轨迹赛-星际联盟' | E240: 小学组 | F240: 荣盛2队 | G240: 济南正东瓦特科技培训学校 | H240: 冯凯 | I240: 王廷恺|谷子桓 | J240: 0 | K240: 164 | L240: 119
A241: 小学B组-上午场
A242: 83114 | B242: 2B8hXJwd-139-021-TI-022-1-20K-01-KsA | C242: 'Super AI超级轨迹赛项' | D242: Super AI超级轨迹赛-星际联盟' | E242: 小学组 | F242: 罗小1队 | G242: 芜湖市罗家闸小学 | H242: 方蕾 | I242: 宋梓睿|章钧闻 | J242: 918 | K242: 62 | L242: 1 | M242: 一等奖(冠军)
A243: 84078 | B243: 2B8hXJLC-139-021-pi-022-1-xyP-01-aRS | C243: 'Super AI超级轨迹赛项' | D243: Super AI超级轨迹赛-星际联盟' | E243: 小学组 | F243: 涟源睿通二队 | G243: 涟源市实验学校 | H243: 肖品|姚旋 | I243: 谢铭萱|吴江东 | J243: 918 | K243: 298 | L243: 2 | M243: 一等奖(亚军)
A244: 78939 | B244: 2B8hXGBV-139-021-Ym-022-1-CkY-01-Vjj | C244: 'Super AI超级轨迹赛项' | D244: Super AI超级轨迹赛-星际联盟' | E244: 小学组 | F244: 南湾荣泰联队 | G244: 珠海市香洲区荣泰小学 | H244: 曾晓华|周健聪 | I244: 叶子谦|白子扬 | J244: 913 | K244: 293 | L244: 3 | M244: 一等奖(季军)
A245: 89014 | B245: 2B8hXXhT-139-021-dV-022-1-fBw-01-uCb | C245: 'Super AI超级轨迹赛项' | D245: Super AI超级轨迹赛-星际联盟' | E245: 小学组 | F245: 合肥市南门小学-屯溪路小学联队 | G245: 合肥市南门小学 | H245: 王硕 | I245: 李崇彦|马梓晨 | J245: 906 | K245: 286 | L245: 4 | M245: 一等奖
A246: 88949 | B246: 2B8hXX7A-139-021-fi-022-1-6oP-01-Vcd | C246: 'Super AI超级轨迹赛项' | D246: Super AI超级轨迹赛-星际联盟' | E246: 小学组 | F246: 智未来 | G246: 金华市西苑小学 | H246: 杨瑶 | I246: 邵子轩|周星宇 | J246: 895 | K246: 75 | L246: 5 | M246: 一等奖
A247: 78737 | B247: 2B8hXG1V-139-021-AO-022-1-1wx-01-obO | C247: 'Super AI超级轨迹赛项' | D247: Super AI超级轨迹赛-星际联盟' | E247: 小学组 | F247: 云间2队 | G247: 上海外国语附属外国语学校云间小学东部分校 | H247: 丁薇 | I247: 高嘉佑|张圆新 | J247: 881 | K247: 261 | L247: 6 | M247: 一等奖
A248: 76921 | B248: 2B8hXGnj-139-021-7V-022-1-fqk-01-C95 | C248: 'Super AI超级轨迹赛项' | D248: Super AI超级轨迹赛-星际联盟' | E248: 小学组 | F248: 临洮县养正小学 | G248: 临洮县养正小学 | H248: 王耀东|屠建伟 | I248: 王一帆|师玉琛 | J248: 850 | K248: 290 | L248: 7 | M248: 一等奖
A249: 78904 | B249: 2B8hXGBb-139-021-0W-022-1-CwV-01-5RG | C249: 'Super AI超级轨迹赛项' | D249: Super AI超级轨迹赛-星际联盟' | E249: 小学组 | F249: 南湾小学一队 | G249: 珠海市香洲区南湾小学 | H249: 曾晓华 | I249: 陈梓铭|郑国立 | J249: 828 | K249: 72 | L249: 8 | M249: 一等奖
A250: 85092 | B250: 2B8hXJLO-139-021-eR-022-1-8ox-01-i4D | C250: 'Super AI超级轨迹赛项' | D250: Super AI超级轨迹赛-星际联盟' | E250: 小学组 | F250: 涟源睿通四队 | G250: 涟源市实验学校/涟源市蓝田街道育才实验学校 | H250: 戴湘锋|吴琼 | I250: 陈梓赫|李浩与 | J250: 816 | K250: 44 | L250: 9 | M250: 一等奖
A251: 79817 | B251: 2B8hXGdo-139-021-RV-022-1-lqx-01-Whz | C251: 'Super AI超级轨迹赛项' | D251: Super AI超级轨迹赛-星际联盟' | E251: 小学组 | F251: 甜程伍队 | G251: 甜程创客基地 | H251: 罗弘 | I251: 赵梓尊|唐启盛 | J251: 804 | K251: 304 | L251: 10 | M251: 一等奖
A252: 83433 | B252: 2B8hXJwB-139-021-Ol-022-1-pZf-01-nDl | C252: 'Super AI超级轨迹赛项' | D252: Super AI超级轨迹赛-星际联盟' | E252: 小学组 | F252: 常国3队 | G252: 常熟伦华外国语学校 | H252: 王忠文|谢晓明 | I252: 张铠|张瑞航 | J252: 803 | K252: 157 | L252: 11 | M252: 一等奖
A253: 79710 | B253: 2B8hXGda-139-021-RA-022-1-JBF-01-5fc | C253: 'Super AI超级轨迹赛项' | D253: Super AI超级轨迹赛-星际联盟' | E253: 小学组 | F253: 甜程壹队 | G253: 甜程创客基地 | H253: 奚丹丹 | I253: 黄子馨童|蒙浩宸 | J253: 800 | K253: 60 | L253: 12 | M253: 一等奖
... A367: 76341 | B367: 2B8hXGR2-139-021-nC-022-1-3O7-01-pY5 | C367: 'Super AI超级轨迹赛项' | D367: Super AI超级轨迹赛-星际联盟' | E367: 小学组 | F367: 史塔克1队 | G367: 史塔克人工智能活动中心 | H367: 安博智 | I367: 马旭尧|韩雨辰 | J367: 10 | K367: 60 | L367: 126 | M367: 三等奖
A368: 小学B组-下午场
A369: 88952 | B369: 2B8hXXha-139-021-zs-022-1-ft8-01-imp | C369: 'Super AI超级轨迹赛项' | D369: Super AI超级轨迹赛-星际联盟' | E369: 小学组 | F369: 合肥一六八玫瑰园和西园新村小学队 | G369: 合肥一六八玫瑰园学校 | H369: 杨结宝|蒯志强 | I369: 李思源|夏涵熙宇 | J369: 922 | K369: 58 | L369: 1 | M369: 一等奖(冠军)
A370: 88948 | B370: 2B8hXXhx-139-021-wZ-022-1-z41-01-drB | C370: 'Super AI超级轨迹赛项' | D370: Super AI超级轨迹赛-星际联盟' | E370: 小学组 | F370: 合肥一六八玫瑰园学校6队 | G370: 合肥一六八玫瑰园学校 | H370: 杨结宝|蒯志强 | I370: 李杨辰熙|季麟翔 | J370: 914 | K370: 66 | L370: 2 | M370: 一等奖(亚军)
A371: 75505 | B371: 2B8hXG8U-139-021-N5-022-1-sFm-01-Fc3 | C371: 'Super AI超级轨迹赛项' | D371: Super AI超级轨迹赛-星际联盟' | E371: 小学组 | F371: 合肥一六八玫瑰园学校1队 | G371: 合肥一六八玫瑰园学校 | H371: 杨结宝|蒯志强 | I371: 尹克文|尹克强 | J371: 912 | K371: 68 | L371: 3 | M371: 一等奖(季军)
A372: 84666 | B372: 2B8hXJLA-139-021-4R-022-1-Evb-01-bWr | C372: 'Super AI超级轨迹赛项' | D372: Super AI超级轨迹赛-星际联盟' | E372: 小学组 | F372: 天水市麦积区道南小学 | G372: 天水市麦积区道南小学 | H372: 蒋海峰|夏浩军 | I372: 申治邦|蒲鹏博 | J372: 907 | K372: 73 | L372: 4 | M372: 一等奖
A373: 77128 | B373: 2B8hXGRX-139-021-hC-022-1-yO5-01-OiR | C373: 'Super AI超级轨迹赛项' | D373: Super AI超级轨迹赛-星际联盟' | E373: 小学组 | F373: 临洮县第二实验小学1队 | G373: 甘肃省临洮县第二实验小学 | H373: 林培川 |闫彦龙 | I373: 潘旭楠|杨晓宇 | J373: 904 | K373: 76 | L373: 5 | M373: 一等奖
A374: 77140 | B374: 2B8hXGng-139-021-oZ-022-1-5T0-01-Ijk | C374: 'Super AI超级轨迹赛项' | D374: Super AI超级轨迹赛-星际联盟' | E374: 小学组 | F374: 临洮县第二实验小学2队 | G374: 甘肃省临洮县第二实验小学 | H374: 潘国平|羊进军 | I374: 王铂淳|潘瑾楠 | J374: 897 | K374: 277 | L374: 6 | M374: 一等奖
A375: 83789 | B375: 2B8hXJLv-139-021-uj-022-1-UMJ-01-CuO | C375: 'Super AI超级轨迹赛项' | D375: Super AI超级轨迹赛-星际联盟' | E375: 小学组 | F375: Smart零壹队 | G375: 兰州市城关区耿家庄小学 | H375: 肖青|丁瑞 | I375: 高铭炜|王邵嘉 | J375: 865 | K375: 245 | L375: 7 | M375: 一等奖
A376: 75982 | B376: 2B8hXGmU-139-021-is-022-1-76d-01-soA | C376: 'Super AI超级轨迹赛项' | D376: Super AI超级轨迹赛-星际联盟' | E376: 小学组 | F376: 冲锋队 | G376: 高新区创新实验小学 | H376: 包施恒 | I376: 汪子腾|韩竞舟 | J376: 854 | K376: 66 | L376: 8 | M376: 一等奖
A377: 75576 | B377: 2B8hXGmF-139-021-dj-022-1-vBE-01-BeZ | C377: 'Super AI超级轨迹赛项' | D377: Super AI超级轨迹赛-星际联盟' | E377: 小学组 | F377: 麓山之巅 | G377: 长沙麓山国际实验小学 | H377: 张子怡|姚旋 | I377: 姚竣邺|戈煌懿 | J377: 840 | K377: 250 | L377: 9 | M377: 一等奖
A378: 83624 | B378: 2B8hXJ2O-139-021-HM-022-1-bUu-01-Z20 | C378: 'Super AI超级轨迹赛项' | D378: Super AI超级轨迹赛-星际联盟' | E378: 小学组 | F378: 清郑小学部一队 | G378: 清华附中郑州学校 | H378: 霍雨阳 | I378: 王敬文|马万吉 | J378: 787 | K378: 73 | L378: 10 | M378: 一等奖
A379: 75764 | B379: 2B8hXGEm-139-021-Oq-022-1-boN-01-mjK | C379: 'Super AI超级轨迹赛项' | D379: Super AI超级轨迹赛-星际联盟' | E379: 小学组 | F379: 解放王者队 | G379: 长春市朝阳区解放大路小学校 | H379: 张志国|张萌 | I379: 顾元淇|王振轩 | J379: 744 | K379: 116 | L379: 11 | M379: 一等奖
A380: 75503 | B380: 2B8hXG8z-139-021-0I-022-1-F8p-01-Sqq | C380: 'Super AI超级轨迹赛项' | D380: Super AI超级轨迹赛-星际联盟' | E380: 小学组 | F380: 凤鸣一队 | G380: 芜湖市凤鸣实验小学 | H380: 魏海强|杨祥 | I380: 邵奕泽|韦浩哲 | J380: 727 | K380: 50 | L380: 12 | M380: 一等奖
... A497: 82985 | B497: 2B8hXJLx-139-021-O0-022-1-WYY-01-O6e | C497: 'Super AI超级轨迹赛项' | D497: Super AI超级轨迹赛-星际联盟' | E497: 小学组 | F497: 知码开花队 | G497: 知码机器人编程中心 | H497: 张一帆 | I497: 陈思焕|高杨梓赫 | J497: 15 | K497: 120 | L497: 129 | M497: 三等奖
A498: 初中组-上午场
A499: 90240 | B499: 2B8hXXJw-139-021-5o-022-1-PL0-02-3ac | C499: 'Super AI超级轨迹赛项' | D499: Super AI超级轨迹赛-星际联盟' | E499: 初中组 | F499: 合肥一六八玫瑰园学校8队 | G499: 合肥一六八玫瑰园学校 | H499: 杨结宝|蒯志强 | I499: 吴骁儒|李擎鼎 | J499: 1106 | K499: 114 | L499: 1 | M499: 一等奖(冠军)
A500: 75616 | B500: 2B8hXGgH-139-021-bb-022-1-gBA-02-MeJ | C500: 'Super AI超级轨迹赛项' | D500: Super AI超级轨迹赛-星际联盟' | E500: 初中组 | F500: 合肥一六八玫瑰园2队 | G500: 合肥一六八玫瑰园学校 | H500: 杨结宝|蒯志强 | I500: 郭篍实|贾铭旸 | J500: 1023 | K500: 183 | L500: 2 | M500: 一等奖(亚军)
A501: 89924 | B501: 2B8hXXxp-139-021-7M-022-1-Znf-02-UO7 | C501: 'Super AI超级轨迹赛项' | D501: Super AI超级轨迹赛-星际联盟' | E501: 初中组 | F501: 汕头市碧华实验学校2队 | G501: 汕头市龙湖区碧华实验学校 | H501: 林镕淇 | I501: 夏扬茗|陈子熙 | J501: 1002 | K501: 98 | L501: 3 | M501: 一等奖(季军)
A502: 83369 | B502: 2B8hXJUm-139-021-q2-022-1-kth-02-kyO | C502: 'Super AI超级轨迹赛项' | D502: Super AI超级轨迹赛-星际联盟' | E502: 初中组 | F502: 智能豹初中三队 | G502: 绥化市人工智能学会 | H502: 任霄 | I502: 任政橦|王浩宇 | J502: 890 | K502: 150 | L502: 4 | M502: 一等奖
A503: 75580 | B503: 2B8hXGgY-139-021-sL-022-1-Ikx-02-3NI | C503: 'Super AI超级轨迹赛项' | D503: Super AI超级轨迹赛-星际联盟' | E503: 初中组 | F503: 五十中西1队 | G503: 合肥市五十中学西校 | H503: 贾志成 | I503: 吴屈宇涵|郭一梁 | J503: 770 | K503: 206 | L503: 5 | M503: 一等奖
A504: 89929 | B504: 2B8hXXJ9-139-021-7m-022-1-zIO-02-3Yd | C504: 'Super AI超级轨迹赛项' | D504: Super AI超级轨迹赛-星际联盟' | E504: 初中组 | F504: 飞龙乘云队1 | G504: 新摩讯机器人一中心 | H504: 金莉波 | I504: 郑铮|董宸豪 | J504: 748 | K504: 150 | L504: 6 | M504: 一等奖
A505: 75586 | B505: 2B8hXGD6-139-021-X5-022-1-YGE-02-k6d | C505: 'Super AI超级轨迹赛项' | D505: Super AI超级轨迹赛-星际联盟' | E505: 初中组 | F505: 复兴号 | G505: 中国人民大学附属中学通州校区 | H505: 邱添 | I505: 赵昀潇|刘逸轩 | J505: 660 | K505: 127 | L505: 7 | M505: 一等奖
A506: 79598 | B506: 2B8hXGgc-139-021-FV-022-1-lmd-02-Pse | C506: 'Super AI超级轨迹赛项' | D506: Super AI超级轨迹赛-星际联盟' | E506: 初中组 | F506: 筱宸无敌 | G506: 珠海市斗门区原理科技培训中心 | H506: 钟荣 | I506: 刘筱娜|李玮宸 | J506: 640 | K506: 116 | L506: 8 | M506: 一等奖
A507: 78445 | B507: 2B8hXGgl-139-021-Fc-022-1-ULC-02-lAE | C507: 'Super AI超级轨迹赛项' | D507: Super AI超级轨迹赛-星际联盟' | E507: 初中组 | F507: 凡恩3队 | G507: 太原凡恩科技 | H507: 李志英 | I507: 张景翔|张坤远 | J507: 640 | K507: 265 | L507: 9 | M507: 一等奖
A508: 76741 | B508: 2B8hXGek-139-021-cT-022-1-ZfN-02-vLl | C508: 'Super AI超级轨迹赛项' | D508: Super AI超级轨迹赛-星际联盟' | E508: 初中组 | F508: 云大附中3队 | G508: 云南大学附属中学 | H508: 段俊成 | I508: 彭邹文钦|余妍盈 | J508: 610 | K508: 156 | L508: 10 | M508: 一等奖
A509: 89901 | B509: 2B8hXXiS-139-021-s9-022-1-Cbv-02-dgb | C509: 'Super AI超级轨迹赛项' | D509: Super AI超级轨迹赛-星际联盟' | E509: 初中组 | F509: 天水市麦积区龙园中学 | G509: 天水市麦积区龙园中学 | H509: 霍文强|裴可仁 | I509: 张钰|裴嘉豪 | J509: 570 | K509: 129 | L509: 11 | M509: 一等奖
A510: 85470 | B510: 2B8hXJbg-139-021-to-022-1-lFr-02-Pa2 | C510: 'Super AI超级轨迹赛项' | D510: Super AI超级轨迹赛-星际联盟' | E510: 初中组 | F510: 兰州东方学校 | G510: 兰州理工大学附属中学 | H510: 赵凯禹|刘芳 | I510: 吴雪琪|曹宸恺 | J510: 570 | K510: 144 | L510: 12 | M510: 一等奖
... A556: 83582 | B556: 2B8hXJUF-139-021-Sv-022-1-fyL-02-hnR | C556: 'Super AI超级轨迹赛项' | D556: Super AI超级轨迹赛-星际联盟' | E556: 初中组 | F556: 一定成功 | G556: 宝清县第一中学 | H556: 宁忠诚 | I556: 于易含|李易衡 | J556: 250 | K556: 181 | L556: 58 | M556: 三等奖
A557: 79565 | B557: 2B8hXGDu-139-021-HV-022-1-nop-02-oQN | C557: 'Super AI超级轨迹赛项' | D557: Super AI超级轨迹赛-星际联盟' | E557: 初中组 | F557: 下山猛虎队 | G557: 吉林市东麟教育科技编程中心 | H557: 黄薪羽 | I557: 徐浩洋|刘宇泽 | J557: 245 | L557: 59 | M557: 三等奖
A558: 77695 | B558: 2B8hXGen-139-021-tD-022-1-u5i-02-Gdb | C558: 'Super AI超级轨迹赛项' | D558: Super AI超级轨迹赛-星际联盟' | E558: 初中组 | F558: 史塔克2队 | G558: 史塔克人工智能活动中心 | H558: 安博智 | I558: 王亮杰|王晗墨 | J558: 240 | K558: 82 | L558: 60 | M558: 三等奖
A559: 79000 | B559: 2B8hXGgj-139-021-uH-022-1-7ea-02-Qwk | C559: 'Super AI超级轨迹赛项' | D559: Super AI超级轨迹赛-星际联盟' | E559: 初中组 | F559: 凡恩战队 | G559: 凡恩机器人联盟 | H559: 杨雅楠 | I559: 郑雨欣|郑雨祥 | J559: 240 | K559: 121 | L559: 61 | M559: 三等奖
A560: 80298 | B560: 2B8hXGkF-139-021-Zs-022-1-NSu-02-YoH | C560: 'Super AI超级轨迹赛项' | D560: Super AI超级轨迹赛-星际联盟' | E560: 初中组 | F560: 众赢四队 | G560: 大连金普新区众赢文化艺术培训学校 | H560: 王全有 | I560: 师铭泽|迟俊泽 | J560: 240 | K560: 122 | L560: 62 | M560: 三等奖
A561: 84253 | B561: 2B8hXJyf-139-021-D4-022-1-JuA-02-UIw | C561: 'Super AI超级轨迹赛项' | D561: Super AI超级轨迹赛-星际联盟' | E561: 初中组 | F561: 达志编程1队 | G561: 贵阳市达志编程 | H561: 杨果 | I561: 罗子航|易凡熙 | J561: 240 | K561: 125 | L561: 63 | M561: 三等奖
A562: 82902 | B562: 2B8hXJyA-139-021-hc-022-1-Kcu-02-mtk | C562: 'Super AI超级轨迹赛项' | D562: Super AI超级轨迹赛-星际联盟' | E562: 初中组 | F562: 曲靖一中卓立学校代表队 | G562: 曲靖一中卓立学校 | H562: 黄海超 | I562: 林灿|李俊逸 | J562: 235 | L562: 64 | M562: 三等奖
A563: 75556 | B563: 2B8hXGec-139-021-pv-022-1-YAO-02-OSF | C563: 'Super AI超级轨迹赛项' | D563: Super AI超级轨迹赛-星际联盟' | E563: 初中组 | F563: 玛酷一队 | G563: 青岛市市北区码酷宝计算机培训学校 | H563: 乔楠 | I563: 郑宥安|赵浩然 | J563: 230 | K563: 70 | L563: 65 | M563: 三等奖
A564: 75558 | B564: 2B8hXGef-139-021-tQ-022-1-hr2-02-sz5 | C564: 'Super AI超级轨迹赛项' | D564: Super AI超级轨迹赛-星际联盟' | E564: 初中组 | F564: 溜溜大顺队 | G564: 青岛市市北区码酷宝计算机培训学校 | H564: 李明坤 | I564: 刘轩瑞|刘浩辰 | J564: 230 | K564: 99 | L564: 66 | M564: 三等奖
A565: 84045 | B565: 2B8hXJUr-139-021-sN-022-1-364-02-Lcw | C565: 'Super AI超级轨迹赛项' | D565: Super AI超级轨迹赛-星际联盟' | E565: 初中组 | F565: 钢铁洪流 | G565: 抚顺市实验中学 | H565: 张南 | I565: 刘恒瑞|刘润泽 | J565: 225 | K565: 333 | L565: 67 | M565: 三等奖
A566: 77319 | B566: 2B8hXGD0-139-021-vL-022-1-UD7-02-EfL | C566: 'Super AI超级轨迹赛项' | D566: Super AI超级轨迹赛-星际联盟' | E566: 初中组 | F566: 江城中学一队 | G566: 吉林江城中学 | H566: 吕怀宇 | I566: 尹圣博|李子木 | J566: 210 | K566: 63 | L566: 68 | M566: 三等奖
A567: 75666 | B567: 2B8hXGDx-139-021-OM-022-1-1tO-02-Zp3 | C567: 'Super AI超级轨迹赛项' | D567: Super AI超级轨迹赛-星际联盟' | E567: 初中组 | F567: 171初中队 | G567: 北京市第一七一中学 | H567: 程金龙 | I567: 李思睿|周筵彭 | J567: 210 | K567: 238 | L567: 69 | M567: 三等奖
...

Sheet TAI挑战赛项
A1: 2023世界机器人大赛总决赛-青少年机器人设计大赛-TAI挑战赛项获奖名单
A2: 报名编号 | B2: 激活码 | C2: 赛道 | D2: 赛项 | E2: 组别 | F2: 队伍名称 | G2: 申报单位 | H2: 教练信息 | I2: 学生信息 | J2: 比赛分数 | K2: 成绩排名 | L2: 奖项 | M2: 相同得分完成时间 为第二排名依据
A3: 79264 | B3: 2B8hXq7S-139-024-Oi-025-1-o7R-01-bl9 | C3: TAI挑战赛项' | D3: TAI智慧城市全能挑战赛' | E3: 小学组 | F3: 长庆八中与西安未央锦园小学联合队 | G3: 长庆八中/西安未央锦园小学 | H3: 秦一鸣 | I3: 刘陈佑|惠瀚文 | J3: 405 | K3: 1 | L3: 一等奖(冠军)
A4: 79364 | B4: 2B8hXq7l-139-024-Oq-025-1-e8I-01-X3b | C4: 'TAI挑战赛项' | D4: TAI智慧城市全能挑战赛' | E4: 小学组 | F4: 经开一校队 | G4: 西安经开第一学校 | H4: 郭张伟 | I4: 杨昊晔|魏莱 | J4: 330 | K4: 2 | L4: 一等奖(亚军)
A5: 89776 | B5: 2B8hXXct-139-024-qE-025-1-j6P-01-iAw | C5: 'TAI挑战赛项' | D5: TAI智慧城市全能挑战赛' | E5: 小学组 | F5: 香洲一小队 | G5: 圣若教育 | H5: 刁鹏程 | I5: 朱嘉信|周梓薇 | J5: 255 | K5: 3 | L5: 一等奖(季军)
A6: 79441 | B6: 2B8hXq7Q-139-024-Yo-025-1-97a-01-sSH | C6: 'TAI挑战赛项' | D6: TAI智慧城市全能挑战赛' | E6: 小学组 | F6: 高新实验小学和经开六校联合队 | G6: 西安高新区实验小学 | H6: 王西 | I6: 薛远之|武旭龙 | J6: 250 | K6: 4 | L6: 一等奖
A7: 91295 | B7: 2B8hXXcV-139-024-4H-025-1-kU3-01-maN | C7: 'TAI挑战赛项' | D7: TAI智慧城市全能挑战赛' | E7: 小学组 | F7: 联队醒华小学嘉豪-为明学校庆梓 | G7: 佛山思顿学堂桂城校区 | H7: 林泽全 | I7: 曾庆梓|游嘉豪 | J7: 250 | K7: 5 | L7: 一等奖
A8: 83161 | B8: 2B8hXJh7-139-024-Qu-025-1-ExC-01-KH1 | C8: 'TAI挑战赛项' | D8: TAI智慧城市全能挑战赛' | E8: 小学组 | F8: 苏州大学高邮实验学校2队 | G8: 苏州大学高邮实验学校 | H8: 孙艳 | I8: 姚可轶|胡昊 | J8: 245 | K8: 6 | L8: 一等奖
A9: 81179 | B9: 2B8hXqhW-139-024-Q2-025-1-JzL-01-qqU | C9: 'TAI挑战赛项' | D9: TAI智慧城市全能挑战赛' | E9: 小学组 | F9: 使命必达 | G9: 重庆市南岸区南坪实验小学康德校区 | H9: 张霰文 | I9: 高睿怿|余严昊 | J9: 245 | K9: 7 | L9: 一等奖
A10: 90526 | B10: 2B8hXXcG-139-024-VL-025-1-xNY-01-oBH | C10: 'TAI挑战赛项' | D10: TAI智慧城市全能挑战赛' | E10: 小学组 | F10: 上海进才实验VS康桥实验小学联队 | G10: 金钥匙AI | H10: 秦彤 | I10: 赵若辰|严洪杰 | J10: 245 | K10: 8 | L10: 一等奖
A11: 87455 | B11: 2B8hXJai-139-024-PI-025-1-VDt-01-MtT | C11: 'TAI挑战赛项' | D11: TAI智慧城市全能挑战赛' | E11: 小学组 | F11: 奋勇向前队 | G11: 重庆两江新区礼嘉实验小学校 | H11: 毛云 | I11: 李睿哲|韩可欣 | J11: 245 | K11: 9 | L11: 一等奖
A12: 79077 | B12: 2B8hXqhj-139-024-22-025-1-c0g-01-LAG | C12: 'TAI挑战赛项' | D12: TAI智慧城市全能挑战赛' | E12: 小学组 | F12: 炒鱿鱼小队 | G12: 南宁市秀田小学 | H12: 蓝伟欢 | I12: 冉若愚|张皓云 | J12: 240 | K12: 10 | L12: 一等奖
A13: 81301 | B13: 2B8hXq7k-139-024-Ff-025-1-2Nv-01-AFO | C13: 'TAI挑战赛项' | D13: TAI智慧城市全能挑战赛' | E13: 小学组 | F13: 土豆战队 | G13: 丹东市实验小学 | H13: 于大军 | I13: 韩旺辰|于腾皓 | J13: 240 | K13: 11 | L13: 一等奖
A14: 87570 | B14: 2B8hXqPP-139-024-JB-025-1-m9o-01-Uz4 | C14: 'TAI挑战赛项' | D14: TAI智慧城市全能挑战赛' | E14: 小学组 | F14: 利民路小学2队 | G14: 芜湖市利民路小学 | H14: 陶敏 | I14: 赵辰洋 | J14: 240 | K14: 12 | L14: 一等奖
... A61: 79990 | B61: 2B8hXqh8-139-024-46-025-1-kUD-01-Xqt | C61: 'TAI挑战赛项' | D61: TAI智慧城市全能挑战赛' | E61: 小学组 | F61: 就叫小队 | G61: 南宁市秀田小学 | H61: 廖恒发 | I61: 覃胥潼|马梓铭 | J61: 125 | K61: 60 | L61: 三等奖
C62: 'TAI挑战赛项' | D62: TAI智慧城市全能挑战赛' | E62: 小学组 | F62: 淇小战队二队 | G62: 鹤壁市淇滨小学 | H62: 王洋 | I62: 李明辰|晁浩源 | J62: 120 | K62: 61 | L62: 三等奖
A63: 79675 | B63: 2B8hXqPk-139-024-iD-025-1-WYU-01-3ph | C63: 'TAI挑战赛项' | D63: TAI智慧城市全能挑战赛' | E63: 小学组 | F63: 南外仙林1队 | G63: 南京外国语学校仙林分校 | H63: 都笑|姜芳 | I63: 朱航逸 |李昱翰 | J63: 120 | K63: 62 | L63: 三等奖
C64: 'TAI挑战赛项' | D64: TAI智慧城市全能挑战赛' | E64: 小学组 | F64: 淇小战队一队 | G64: 鹤壁市淇滨小学 | H64: 王洋 | I64: 王睿宸|李隆迪 | J64: 115 | K64: 63 | L64: 三等奖
A65: 79197 | B65: 2B8hXq7J-139-024-wh-025-1-QuW-01-8La | C65: 'TAI挑战赛项' | D65: TAI智慧城市全能挑战赛' | E65: 小学组 | F65: 长庆八中一队 | G65: 长庆八中 | H65: 秦一鸣 | I65: 曹塬雄|曹轩豪 | J65: 110 | K65: 64 | L65: 三等奖
A66: 89793 | B66: 2B8hXXf7-139-024-Vr-025-1-kEU-01-pwp | C66: 'TAI挑战赛项' | D66: TAI智慧城市全能挑战赛' | E66: 小学组 | F66: 霍邱未来之星1队 | G66: 霍邱县城关镇中心小学 | H66: 田苗苗 | I66: 罗旭|胡建昊 | J66: 110 | K66: 65 | L66: 三等奖
A67: 79330 | B67: 2B8hXq7s-139-024-qv-025-1-Rhv-01-ZsU | C67: 'TAI挑战赛项' | D67: TAI智慧城市全能挑战赛' | E67: 小学组 | F67: 沈阳雏鹰实验二队 | G67: 沈阳市铁西区雏鹰实验小学教育集团 | H67: 许晨 | I67: 范泓睿|杨昀翰 | J67: 105 | K67: 66 | L67: 三等奖
A68: 79093 | B68: 2B8hXqhH-139-024-3y-025-1-D1m-01-IdX | C68: 'TAI挑战赛项' | D68: TAI智慧城市全能挑战赛' | E68: 小学组 | F68: 自然选择队 | G68: 南宁市秀田小学 | H68: 龙亮 | I68: 张梓轩|阳宇杰 | J68: 105 | K68: 67 | L68: 三等奖
A69: 87529 | B69: 2B8hXJaz-139-024-6u-025-1-rVT-01-Yas | C69: 'TAI挑战赛项' | D69: TAI智慧城市全能挑战赛' | E69: 小学组 | F69: 钜蛋小学组3队 | G69: 秦皇岛钜蛋科普基地 | H69: 张莹晖 | I69: 尤铮|唐嘉骏 | J69: 105 | K69: 68 | L69: 三等奖
A70: 91558 | B70: 2B8hXXVQ-139-024-t5-025-1-wJC-01-qGq | C70: 'TAI挑战赛项' | D70: TAI智慧城市全能挑战赛' | E70: 小学组 | F70: 平潭明星队 | G70: 平潭岚城乡中心小学 | H70: 翁绳乐 | I70: 郭宇城|苏昱桥 | J70: 100 | K70: 69 | L70: 三等奖
A71: 79572 | B71: 2B8hXqhw-139-024-Gk-025-1-8sC-01-wxn | C71: 'TAI挑战赛项' | D71: TAI智慧城市全能挑战赛' | E71: 小学组 | F71: 南外仙林2队 | G71: 南京外国语学校仙林分校 | H71: 殷青青|翁文强 | I71: 袁铭泽|袁铭骏 | J71: 95 | K71: 70 | L71: 三等奖
A72: 92057 | B72: 2B8hXXV8-139-024-KF-025-1-pbn-01-Y96 | C72: 'TAI挑战赛项' | D72: TAI智慧城市全能挑战赛' | E72: 小学组 | F72: 安顺科技之星队 | G72: 安顺吉玛俱乐部 | H72: 张阳 | I72: 赵华垚|刘朝明 | J72: 95 | K72: 71 | L72: 三等奖
A73: 84753 | B73: 2B8hXJPc-139-024-OW-025-1-Oij-01-6hO | C73: 'TAI挑战赛项' | D73: TAI智慧城市全能挑战赛' | E73: 小学组 | F73: 柏辰队 | G73: 北京市朝阳区将府实验学校 | H73: 班晓敏 | I73: 宋柏川|孙辰佑 | J73: 90 | K73: 72 | L73: 三等奖
A74: 83224 | B74: 2B8hXJPE-139-024-To-025-1-KxE-01-1IJ | C74: 'TAI挑战赛项' | D74: TAI智慧城市全能挑战赛' | E74: 小学组 | F74: 灭霸队 | G74: 启贤教育科技俱乐部 | H74: 孙梦萱 | I74: 杨睿璘|王沭博 | J74: 90 | K74: 73 | L74: 三等奖
A75: 87227 | B75: 2B8hXJXD-139-024-2b-025-1-7Gf-01-pDL | C75: 'TAI挑战赛项' | D75: TAI智慧城市全能挑战赛' | E75: 小学组 | F75: 钜蛋小学组1队 | G75: 秦皇岛钜蛋科普基地 | H75: 张莹晖 | I75: 李明翰|刘子璋 | J75: 90 | K75: 74 | L75: 三等奖
A76: 84721 | B76: 2B8hXJPy-139-024-HP-025-1-88m-01-3zC | C76: 'TAI挑战赛项' | D76: TAI智慧城市全能挑战赛' | E76: 小学组 | F76: 轩泽队 | G76: 北京市朝阳区将府实验学校 | H76: 田莎莎 | I76: 杜昀轩|王泽 | J76: 85 | K76: 75 | L76: 三等奖
... A82: 83053 | B82: 2B8hXJhf-139-024-Z8-025-1-p94-01-kTH | C82: 'TAI挑战赛项' | D82: TAI智慧城市全能挑战赛' | E82: 小学组 | F82: 科学小怪兽 | G82: 科学小怪兽俱乐部 | H82: 袁洪 | I82: 李泽熙 |陈昕彤 | J82: 45 | K82: 81 | L82: 三等奖
C83: 'TAI挑战赛项' | D83: TAI智慧城市全能挑战赛' | E83: 小学组 | F83: 智慧之星一号 | G83: 凤冈第三小学 | H83: 彭霞 | I83: 彭钰华|彭祺轩 | J83: 40 | K83: 82 | L83: 三等奖
A84: 84685 | B84: 2B8hXJPZ-139-024-2m-025-1-wnD-01-w7D | C84: 'TAI挑战赛项' | D84: TAI智慧城市全能挑战赛' | E84: 小学组 | F84: 陈诚队 | G84: 北京市朝阳区将府实验学校 | H84: 齐斌 | I84: 刘笑诚|刘陈 | J84: 35 | K84: 83 | L84: 三等奖
A85: 81754 | B85: 2B8hXqhS-139-024-qA-025-1-Vep-01-aSH | C85: 'TAI挑战赛项' | D85: TAI智慧城市全能挑战赛' | E85: 小学组 | F85: 巴适得很 | G85: 重庆市南岸区珊瑚浦辉实验小学 | H85: 胡钰竺 | I85: 张玮宸|鲜一帆 | J85: 30 | K85: 84 | L85: 三等奖
A86: 84744 | B86: 2B8hXJPq-139-024-zr-025-1-oPp-01-Brw | C86: 'TAI挑战赛项' | D86: TAI智慧城市全能挑战赛' | E86: 小学组 | F86: 轩礼队 | G86: 北京市朝阳区将府实验学校 | H86: 郭奇迹 | I86: 张彦礼|张梓轩 | J86: 20 | K86: 85 | L86: 三等奖
A87: 89956 | B87: 2B8hXXVG-139-024-d9-025-1-oaN-01-N7l | C87: 'TAI挑战赛项' | D87: TAI智慧城市全能挑战赛' | E87: 小学组 | F87: 大白创客B队 | G87: 西安高新区实验小学 | H87: 王西 | I87: 熊锦辰|周莫檀 | J87: 5 | K87: 86 | L87: 三等奖
A88: 87561 | B88: 2B8hXJa4-139-024-aO-025-1-TXG-01-ZAI | C88: 'TAI挑战赛项' | D88: TAI智慧城市全能挑战赛' | E88: 小学组 | F88: 钜蛋小学组6队 | G88: 秦皇岛钜蛋科普基地 | H88: 徐慧 | I88: 孙晖洋|侯明辰 | J88: 5 | K88: 87 | L88: 三等奖
A89: 83302 | B89: 2B8hXJhA-139-024-14-025-1-VBr-01-On2 | C89: 'TAI挑战赛项' | D89: TAI智慧城市全能挑战赛' | E89: 小学组 | F89: 易轩队 | G89: 星黎漂浮少儿编程俱乐部 | H89: 马辰旭 | I89: 杨子易|刘宇轩 | J89: 5 | K89: 88 | L89: 三等奖
A90: 78641 | B90: 2B8hXqzT-139-024-FZ-025-1-AyW-01-rCc | C90: 'TAI挑战赛项' | D90: TAI智慧城市全能挑战赛' | E90: 小学组 | F90: 南太湖风暴六队 | G90: 南太湖风暴青少年机器人俱乐部 | H90: 易子煜 | I90: 祝锦翔|潘俊锡 | J90: 5 | K90: 89 | L90: 三等奖
A91: 78650 | B91: 2B8hXqzQ-139-024-Of-025-1-Mwc-01-rpQ | C91: 'TAI挑战赛项' | D91: TAI智慧城市全能挑战赛' | E91: 小学组 | F91: 南太湖风暴三队 | G91: 萝卜学苑青少年机器人俱乐部 | H91: 顾杰 | I91: 唐洪亮|吕牧宸 | J91: 5 | K91: 90 | L91: 三等奖
A92: 86735 | B92: 2B8hXqz2-139-024-CT-025-1-SaJ-01-IaO | C92: 'TAI挑战赛项' | D92: TAI智慧城市全能挑战赛' | E92: 小学组 | F92: 军马场骐骥队 | G92: 荆门市掇刀区军马场学校 | H92: 袁向民 | I92: 刘译泽|袁满秋 | J92: 5 | K92: 91 | L92: 三等奖
A93: 91354 | B93: 2B8hXXcX-139-024-9W-025-1-RVG-01-5sw | C93: 'TAI挑战赛项' | D93: TAI智慧城市全能挑战赛' | E93: 小学组 | F93: 慧鱼翰炜队 | G93: 南沙区东涌第一小学、南沙区东导小学联队 | H93: 苏智 | I93: 陈楚翰|刘柏炜 | J93: 5 | K93: 92 | L93: 三等奖
A95: 75446 | B95: 2B8hXqhn-139-024-fL-025-1-U8L-01-b7j | C95: 'TAI挑战赛项' | D95: TAI智慧城市全能挑战赛' | E95: 小学组 | F95: TAI 队 | G95: 铁榔头机器人俱乐部 | H95: 陶言成 | I95: 陈书源|杨睿龙 | J95: 340 | K95: 1 | L95: 一等奖(冠军)
A96: 75437 | B96: 2B8hXqhF-139-024-Ad-025-1-EOc-01-yMF | C96: 'TAI挑战赛项' | D96: TAI智慧城市全能挑战赛' | E96: 小学组 | F96: 遥遥领先 | G96: TLT机器人俱乐部 | H96: 李银涛 | I96: 陈析果|王俊宜 | J96: 255 | K96: 2 | L96: 一等奖(亚军)
... A126: 75441 | B126: 2B8hXq7y-139-024-V1-025-1-GzT-01-0YV | C126: 'TAI挑战赛项' | D126: TAI智慧城市全能挑战赛' | E126: 小学组 | F126: 科技队 | G126: TLT机器人俱乐部 | H126: 李银涛 | I126: 桂子轩|董亦程 | J126: 190 | K126: 32 | L126: 二等奖
D127: TAI智慧城市全能挑战赛' | E127: 小学组 | F127: 同安三小一队 | G127: 厦门市同安区第三实验小学 | H127: 王莉莉 | I127: 柯燚郴|卢洪正 | J127: 180 | K127: 33 | L127: 二等奖
A128: 83171 | B128: 2B8hXJh6-139-024-Ai-025-1-Aa9-01-Cx0 | C128: 'TAI挑战赛项' | D128: TAI智慧城市全能挑战赛' | E128: 小学组 | F128: 雄鹰战神队 | G128: 重庆市南岸区南坪实验金科小学校 | H128: 谭欣悦 | I128: 李西卓|赵玮豪 | J128: 175 | K128: 34 | L128: 二等奖
A129: 84882 | B129: 2B8hXqPG-139-024-9Q-025-1-TY1-01-nGn | C129: 'TAI挑战赛项' | D129: TAI智慧城市全能挑战赛' | E129: 小学组 | F129: 利民路小学1队 | G129: 芜湖市利民路小学 | H129: 陶敏 | I129: 姚盛荃|郭仕钦 | J129: 175 | K129: 35 | L129: 二等奖
A130: 84981 | B130: 2B8hXJh0-139-024-Ou-025-1-Xw3-01-IhZ | C130: 'TAI挑战赛项' | D130: TAI智慧城市全能挑战赛' | E130: 小学组 | F130: 外国语一队 | G130: 重庆市南岸区南坪实验外国语小学校 | H130: 丁胜伟 | I130: 陈彦希|唐唯轩 | J130: 170 | K130: 36 | L130: 二等奖
A131: 76702 | B131: 2B8hXqhx-139-024-CF-025-1-z77-01-2Vz | C131: 'TAI挑战赛项' | D131: TAI智慧城市全能挑战赛' | E131: 小学组 | F131: 重庆市南岸区天台岗万国城学校 | G131: 重庆市南岸区天台岗万国城小学校 | H131: 江陈曦 | I131: 李恒宇|孙逸骁 | J131: 165 | K131: 37 | L131: 二等奖
A132: 82438 | B132: 2B8hXqPi-139-024-GG-025-1-dj2-01-XvX | C132: 'TAI挑战赛项' | D132: TAI智慧城市全能挑战赛' | E132: 小学组 | F132: 四海梦之翼 | G132: 重庆市南岸区南坪四海小学校 | H132: 黄建婷 | I132: 杨子轩|曾敏轩 | J132: 165 | K132: 38 | L132: 二等奖
A133: 86895 | B133: 2B8hXJaV-139-024-x1-025-1-VHm-01-Obe | C133: 'TAI挑战赛项' | D133: TAI智慧城市全能挑战赛' | E133: 小学组 | F133: 嘉美少年队 | G133: 重庆两江新区礼嘉实验小学校 | H133: 李超 | I133: 向芃阳|王酉珅 | J133: 165 | K133: 39 | L133: 二等奖
A134: 83002 | B134: 2B8hXJhr-139-024-UN-025-1-fPa-01-uoS | C134: 'TAI挑战赛项' | D134: TAI智慧城市全能挑战赛' | E134: 小学组 | F134: 游策之巅 | G134: 重庆蓝猫科创 | H134: 黄万辉 | I134: 胡骥游|代钦策 | J134: 160 | K134: 40 | L134: 二等奖
A135: 82425 | B135: 2B8hXqPI-139-024-NG-025-1-nWq-01-qd5 | C135: 'TAI挑战赛项' | D135: TAI智慧城市全能挑战赛' | E135: 小学组 | F135: Super战队 | G135: 重庆市南岸区南坪四海小学校 | H135: 黄建婷 | I135: 李勉|王富玉 | J135: 155 | K135: 41 | L135: 二等奖
A136: 89978 | B136: 2B8hXXcH-139-024-Mo-025-1-7jz-01-3g6 | C136: 'TAI挑战赛项' | D136: TAI智慧城市全能挑战赛' | E136: 小学组 | F136: 嘉美科创队NO1 | G136: 重庆两江新区礼嘉实验小学校 | H136: 赵冰雪 | I136: 聂睿涵|陈逸维 | J136: 155 | K136: 42 | L136: 二等奖
A137: 77604 | B137: 2B8hXqzX-139-024-J6-025-1-5l8-01-J3P | C137: 'TAI挑战赛项' | D137: TAI智慧城市全能挑战赛' | E137: 小学组 | F137: 贝乐菲科鲨鱼队 | G137: 大连贝乐菲科机器人 | H137: 肖宽 | I137: 刘冠泽|于子轩 | J137: 150 | K137: 43 | L137: 三等奖
A138: 87425 | B138: 2B8hXJa5-139-024-EX-025-1-OpY-01-Pww | C138: 'TAI挑战赛项' | D138: TAI智慧城市全能挑战赛' | E138: 小学组 | F138: 重庆两江新区礼嘉实验小学校 | G138: 重庆两江新区礼嘉实验小学校 | H138: 曾晓亚 | I138: 晏瑞辰|杜胤乐 | J138: 135 | K138: 44 | L138: 三等奖
A139: 85614 | B139: 2B8hXqvr-139-024-LO-025-1-wOb-01-RyH | C139: 'TAI挑战赛项' | D139: TAI智慧城市全能挑战赛' | E139: 小学组 | F139: 蓄力薄发队 | G139: 芜湖一中教育集团延安学校 | H139: 胡永芳 | I139: 徐钱宇|李辰瀚 | J139: 135 | K139: 45 | L139: 三等奖
... A156: 78528 | B156: 2B8hXqzq-139-024-Rj-025-1-zCM-01-jxX | C156: 'TAI挑战赛项' | D156: TAI智慧城市全能挑战赛' | E156: 小学组 | F156: 稠城第一小学和幸福湖小学队 | G156: 义乌市维格博机器人培训部 | H156: 蒋京妙 | I156: 金楷升|朱怡航 | J156: 55 | K156: 62 | L156: 三等奖
C157: 'TAI挑战赛项' | D157: TAI智慧城市全能挑战赛' | E157: 小学组 | F157: 深田小学二队 | G157: 厦门市深田小学 | H157: 孟晓雪 | I157: 李锐芃 | J157: 55 | K157: 63 | L157: 三等奖
A158: 91311 | B158: 2B8hXXfy-139-024-rN-025-1-5El-02-1u6 | C158: 'TAI挑战赛项' | D158: TAI智慧城市全能挑战赛' | E158: 小学组 | F158: 祝融1队 | G158: 创新机器人俱乐部 | H158: 牛子旭 | I158: 黄怿欣|王昶焜 | J158: 55 | K158: 64 | L158: 三等奖
A159: 84616 | B159: 2B8hXJhk-139-024-t4-025-1-DwK-01-mzz | C159: 'TAI挑战赛项' | D159: TAI智慧城市全能挑战赛' | E159: 小学组 | F159: 萱妤战队 | G159: 重庆蓝猫科创 | H159: 凌国峰 | I159: 王梓萱|朱芷妤 | J159: 55 | K159: 65 | L159: 三等奖
A160: 88194 | B160: 2B8hXJhG-139-024-oV-025-1-ZWJ-01-1tF | C160: 'TAI挑战赛项' | D160: TAI智慧城市全能挑战赛' | E160: 小学组 | F160: 重庆大沙小1队 | G160: 重庆大学城沙坪坝小学校 | H160: 游春虹 | I160: 刘正豪|罗颢元 | J160: 55 | K160: 66 | L160: 三等奖
A161: 89686 | B161: 2B8hXqvF-139-024-4f-025-1-uZA-01-I0Z | C161: 'TAI挑战赛项' | D161: TAI智慧城市全能挑战赛' | E161: 小学组 | F161: 芜湖市澛港小学 | G161: 芜湖市澛港小学 | H161: 黄征 | I161: 彭杨|殷子轩 | J161: 55 | K161: 67 | L161: 三等奖
C162: 'TAI挑战赛项' | D162: TAI智慧城市全能挑战赛' | E162: 小学组 | F162: 深田小学一队 | G162: 厦门市深田小学 | H162: 陈清福 | I162: 苏乐知 | J162: 50 | K162: 68 | L162: 三等奖
A163: 83887 | B163: 2B8hXJhP-139-024-PT-025-1-0EL-01-UD5 | C163: 'TAI挑战赛项' | D163: TAI智慧城市全能挑战赛' | E163: 小学组 | F163: 艾莱特8队 | G163: 哈尔滨艾莱特创客活动中心 | H163: 陈俊洋 | I163: 张晨旭|杨啓弘 | J163: 35 | K163: 69 | L163: 三等奖
A164: 81274 | B164: 2B8hXqhl-139-024-Ia-025-1-1NB-01-9le | C164: 'TAI挑战赛项' | D164: TAI智慧城市全能挑战赛' | E164: 小学组 | F164: 小太阳队 | G164: 重庆市南岸区南坪实验小学康德校区 | H164: 张霰文 | I164: 王悉妍|刘景程 | J164: 30 | K164: 70 | L164: 三等奖
A165: 76883 | B165: 2B8hXqvB-139-024-6U-025-1-Wcw-01-muN | C165: 'TAI挑战赛项' | D165: TAI智慧城市全能挑战赛' | E165: 小学组 | F165: 金雀山智囊队 | G165: 临沂金雀山小学 | H165: 刘士华 | I165: 付子轩|孙晨然 | J165: 25 | K165: 71 | L165: 三等奖
A166: 78306 | B166: 2B8hXqzx-139-024-Gi-025-1-bHx-01-O8K | C166: 'TAI挑战赛项' | D166: TAI智慧城市全能挑战赛' | E166: 小学组 | F166: 浙江绍兴越城区斗门街道中心小学 | G166: 绍兴市越城区斗门街道中心小学 | H166: 陈佳妮 | I166: 卢翰|王宏辉 | J166: 25 | K166: 72 | L166: 三等奖
A167: 85582 | B167: 2B8hXJhT-139-024-oO-025-1-agl-01-ghd | C167: 'TAI挑战赛项' | D167: TAI智慧城市全能挑战赛' | E167: 小学组 | F167: 珊瑚可乐机器人战队3 | G167: 重庆市南岸区珊瑚实验小学校 | H167: 廖振刚 | I167: 晏瑞添|刘建宏 | J167: 20 | K167: 73 | L167: 三等奖
A168: 78325 | B168: 2B8hXqz4-139-024-Un-025-1-R1Y-01-tWH | C168: 'TAI挑战赛项' | D168: TAI智慧城市全能挑战赛' | E168: 小学组 | F168: 幸福湖小学和绣湖小学队 | G168: 义乌市维格博机器人培训部 | H168: 蒋京妙 | I168: 马浩轩|张文羿 | J168: 15 | K168: 74 | L168: 三等奖
A169: 84818 | B169: 2B8hXqP5-139-024-QU-025-1-MWn-01-jZS | C169: 'TAI挑战赛项' | D169: TAI智慧城市全能挑战赛' | E169: 小学组 | F169: 延安智慧队 | G169: 芜湖一中教育集团延安学校 | H169: 孙弋青 | I169: 李史丞|王卓远 | J169: 10 | K169: 75 | L169: 三等奖
A170: 87300 | B170: 2B8hXJax-139-024-RD-025-1-zyE-01-tDR | C170: 'TAI挑战赛项' | D170: TAI智慧城市全能挑战赛' | E170: 小学组 | F170: 超神少年队 | G170: 重庆两江新区礼嘉实验小学校 | H170: 徐荣霜 | I170: 谢垣吉|唐皓宁 | J170: 5 | K170: 76 | L170: 三等奖
A171: 88202 | B171: 2B8hXJPp-139-024-vl-025-1-s1I-01-2NR | C171: 'TAI挑战赛项' | D171: TAI智慧城市全能挑战赛' | E171: 小学组 | F171: 重庆大沙小4队 | G171: 重庆大学城沙坪坝小学校 | H171: 付丽娟 | I171: 高梓尧|唐思源 | J171: 5 | K171: 77 | L171: 三等奖
A172: 89866 | B172: 2B8hXJPJ-139-024-OY-025-1-4pQ-01-Np7 | C172: 'TAI挑战赛项' | D172: TAI智慧城市全能挑战赛' | E172: 小学组 | F172: 重庆礼嘉实验小学智慧城市1 | G172: 重庆两江新区礼嘉实验小学校 | H172: 刘憬怡 | I172: 夏慕丞|梁峻玮 | J172: 5 | K172: 78 | L172: 三等奖
A173: 91923 | B173: 2B8hXXcF-139-024-6g-025-1-tYN-01-Khf | C173: 'TAI挑战赛项' | D173: TAI智慧城市全能挑战赛' | E173: 小学组 | F173: 君彤战队 | G173: 遵义市恺瑞学校 | H173: 傅文月 | I173: 任悦彤|李彦君 | J173: 5 | K173: 79 | L173: 三等奖
A174: 89899 | B174: 2B8hXXcO-139-024-Mn-025-1-Ojy-01-lSS | C174: 'TAI挑战赛项' | D174: TAI智慧城市全能挑战赛' | E174: 小学组 | F174: 汪腾轩、陈熠阳 | G174: 厦门市思明第二实验小学 | H174: 胡依婷 | I174: 汪腾轩|陈熠阳 | J174: 5 | K174: 80 | L174: 三等奖
... A192: 86172 | B192: 2B8hXJ7k-139-024-1l-025-1-RlM-02-jVb | C192: 'TAI挑战赛项' | D192: TAI智慧城市全能挑战赛' | E192: 初中组 | F192: 经开一中和长庆八中联合队 | G192: 西安市经开第一中学/长庆八中 | H192: 武焕焕 | I192: 王浩然|尚世轩 | J192: 250 | K192: 14 | L192: 一等奖
A193: 82297 | B193: 2B8hXqZb-139-024-3v-025-1-CxV-02-E51 | C193: 'TAI挑战赛项' | D193: TAI智慧城市全能挑战赛' | E193: 初中组 | F193: 鼓实冲刺 | G193: 南京市鼓楼实验中学 | H193: 邵媛 | I193: 应皓宇|姜庆泽 | J193: 250 | K193: 15 | L193: 一等奖 | M193: 同分同时间
A194: 79339 | B194: 2B8hXqw5-139-024-nr-025-1-N6F-02-zVQ | C194: 'TAI挑战赛项' | D194: TAI智慧城市全能挑战赛' | E194: 初中组 | F194: 经开一校与长庆八中联合队 | G194: 西安经开第一学校\长庆八中 | H194: 刘鹏飞 | I194: 张梓宸|张梓帆 | J194: 250 | K194: 16 | L194: 一等奖
A195: 87270 | B195: 2B8hXJ7X-139-024-WN-025-1-waH-02-Op0 | C195: 'TAI挑战赛项' | D195: TAI智慧城市全能挑战赛' | E195: 初中组 | F195: 钜蛋初中组1队 | G195: 秦皇岛钜蛋科普基地 | H195: 丁丽 | I195: 王梓昕|赵佳琪 | J195: 245 | K195: 17 | L195: 二等奖
A196: 85091 | B196: 2B8hXqz3-139-024-L1-025-1-TJI-02-OVd | C196: 'TAI挑战赛项' | D196: TAI智慧城市全能挑战赛' | E196: 初中组 | F196: 零点3队 | G196: 龙口市新民学校 | H196: 麻凯阳 | I196: 耿李鑫|王泽霖 | J196: 245 | K196: 18 | L196: 二等奖
A197: 81521 | B197: 2B8hXqZm-139-024-TY-025-1-yHA-02-ZgL | C197: 'TAI挑战赛项' | D197: TAI智慧城市全能挑战赛' | E197: 初中组 | F197: 青铜时代队 | G197: 南宁市新民中学 | H197: 何奕欣 | I197: 张淑婷|王骁 | J197: 235 | K197: 19 | L197: 二等奖
A198: 84466 | B198: 2B8hXJ74-139-024-ne-025-1-Tir-02-r9L | C198: 'TAI挑战赛项' | D198: TAI智慧城市全能挑战赛' | E198: 初中组 | F198: 唯慈队 | G198: 北京市朝阳区将府实验学校 | H198: 张琦伟 | I198: 周千慈|赵唯伊 | J198: 235 | K198: 20 | L198: 二等奖
A199: 85098 | B199: 2B8hXJza-139-024-oC-025-1-t38-02-Oes | C199: 'TAI挑战赛项' | D199: TAI智慧城市全能挑战赛' | E199: 初中组 | F199: 兵团3队 | G199: 兵团第二中学 | H199: 吕笃康 | I199: 胡仟雨|耿子然 | J199: 235 | K199: 21 | L199: 二等奖
A200: 75661 | B200: 2B8hXqz8-139-024-OQ-025-1-UUl-02-nWj | C200: 'TAI挑战赛项' | D200: TAI智慧城市全能挑战赛' | E200: 初中组 | F200: 朔风 | G200: 淮南市科学技术协会 | H200: 赵杰 | I200: 戚计羽|刘致远 | J200: 230 | K200: 22 | L200: 二等奖
A201: 86048 | B201: 2B8hXJ71-139-024-N0-025-1-CQ1-02-QKw | C201: 'TAI挑战赛项' | D201: TAI智慧城市全能挑战赛' | E201: 初中组 | F201: 西安五十五中与西安一中联合队 | G201: 西安市第五十五中学/西安市第一中学 | H201: 秦一鸣 | I201: 韩抒听|余旻轩 | J201: 230 | K201: 23 | L201: 二等奖
A202: 91672 | B202: 2B8hXqUg-139-024-UJ-026-1-uL0-03-ICh | C202: 'TAI挑战赛项' | D202: TAI智慧城市全能挑战赛' | E202: 初中组 | F202: 南安市实验中学战队 | G202: 南安市实验中学 | H202: 黄天虎 | I202: 王禹泽|黄海峻 | J202: 230 | K202: 24 | L202: 二等奖
A203: 91772 | B203: 2B8hXXVF-139-024-sc-025-1-tMb-01-GdU | C203: 'TAI挑战赛项' | D203: TAI智慧城市全能挑战赛' | E203: 初中组 | F203: 紫荆队 | G203: 珠海远帆科技 | H203: 刁文洁 | I203: 朱嘉诚|陈文杰 | J203: 230 | K203: 25 | L203: 二等奖
A204: 79462 | B204: 2B8hXqwJ-139-024-HR-025-1-ne8-02-5jD | C204: 'TAI挑战赛项' | D204: TAI智慧城市全能挑战赛' | E204: 初中组 | F204: 长庆八中 | G204: 长庆八中 | H204: 史亚鑫 | I204: 王嘉翌|郭倚菲 | J204: 215 | K204: 26 | L204: 二等奖
A205: 87537 | B205: 2B8hXJ7i-139-024-j4-025-1-cSF-02-dTG | C205: 'TAI挑战赛项' | D205: TAI智慧城市全能挑战赛' | E205: 初中组 | F205: 艾莱特7队 | G205: 哈尔滨市萧红中学 | H205: 母东文 | I205: 包煜祺|邬明狄 | J205: 215 | K205: 27 | L205: 二等奖
... A229: 85283 | B229: 2B8hXqwN-139-024-pF-025-1-avE-02-lAv | C229: 'TAI挑战赛项' | D229: TAI智慧城市全能挑战赛' | E229: 初中组 | F229: 兴华实验二队 | G229: 郑州市二七区兴华实验学校 | H229: 刘军 | I229: 罗仪轩|徐浩哲 | J229: 185 | K229: 51 | L229: 二等奖
C230: 'TAI挑战赛项' | D230: TAI智慧城市全能挑战赛' | E230: 初中组 | F230: 槟榔中学一队 | G230: 厦门市槟榔中学 | H230: 赖玉清 | I230: 蔡阳睿 | J230: 180 | K230: 52 | L230: 三等奖
A231: 87550 | B231: 2B8hXJ7w-139-024-Jo-025-1-cvI-02-7lk | C231: 'TAI挑战赛项' | D231: TAI智慧城市全能挑战赛' | E231: 初中组 | F231: 兵团5队 | G231: 华兵实验中学 乌鲁木齐市第一中学 | H231: 吕笃康 | I231: 刘羽馨|刘天予 | J231: 180 | K231: 53 | L231: 三等奖
A232: 89955 | B232: 2B8hXXfp-139-024-DB-025-1-mOV-02-UNa | C232: 'TAI挑战赛项' | D232: TAI智慧城市全能挑战赛' | E232: 初中组 | F232: 李圳锴 陈本坤 | G232: 联队深圳湾学校-南山中英文学校 | H232: 向承婕 | I232: 李圳锴|陈本坤 | J232: 180 | K232: 54 | L232: 三等奖
A233: 76556 | B233: 2B8hXqwv-139-024-Is-025-1-kgn-02-aH7 | C233: 'TAI挑战赛项' | D233: TAI智慧城市全能挑战赛' | E233: 初中组 | F233: 合肥科技之星1队 | G233: 合肥五十中新校，合肥市寿春中学 | H233: 陆忠霞 | I233: 焦小洲|魏可童 | J233: 175 | K233: 55 | L233: 三等奖
A234: 84387 | B234: 2B8hXJ7l-139-024-ih-025-1-gda-02-oUQ | C234: 'TAI挑战赛项' | D234: TAI智慧城市全能挑战赛' | E234: 初中组 | F234: 艾莱特5队 | G234: 哈尔滨市第六十九中学 | H234: 班立超 | I234: 赵育萱|田一晨 | J234: 175 | K234: 56 | L234: 三等奖
A235: 90469 | B235: 2B8hXXfI-139-024-zo-025-1-Ruj-02-KiW | C235: 'TAI挑战赛项' | D235: TAI智慧城市全能挑战赛' | E235: 初中组 | F235: 上海黄浦市八VS第六师范附小联队 | G235: 金钥匙AI | H235: 秦彤 | I235: 赵颉|田一泓 | J235: 170 | K235: 57 | L235: 三等奖
A236: 82388 | B236: 2B8hXqZf-139-024-Zy-025-1-SOm-02-Awn | C236: 'TAI挑战赛项' | D236: TAI智慧城市全能挑战赛' | E236: 初中组 | F236: 鼓实战队A | G236: 南京市鼓楼实验中学 | H236: 邵媛 | I236: 严晨睿|王子昂 | J236: 165 | K236: 58 | L236: 三等奖
A237: 91380 | B237: 2B8hXXXB-139-024-XJ-025-1-4Ne-02-Kil | C237: 'TAI挑战赛项' | D237: TAI智慧城市全能挑战赛' | E237: 初中组 | F237: 自贡嘉祥追风队 | G237: 自贡市大安区嘉祥外国语学校 | H237: 苟宽 | I237: 黄子墨|刘安洋 | J237: 160 | K237: 59 | L237: 三等奖
...

Sheet AI Will机器人挑战赛项
A1: 2023世界机器人大赛总决赛-青少年机器人设计大赛-AI Will星球速递挑战赛赛项获奖名单
A2: 报名编号 | B2: 激活码 | C2: 赛道 | D2: 赛项 | E2: 组别 | F2: 队伍名称 | G2: 申报单位 | H2: 教练信息 | I2: 学生信息 | J2: 比赛分数 | K2: 比赛用时(s) | L2: 成绩排名 | M2: 奖项
A3: 77263 | B3: 2B8hXqIo-139-112-sb-113-1-ty0-06-J22 | C3: 'AI Will机器人挑战赛项(星球速递)' | D3: 'AI Will星球速递挑战赛' | E3: 小学初级组 | F3: 钱辰队 | G3: 云南师范大学附属官渡小学 | H3: 华剑梅 | I3: 郭帅辰|王钱艺博 | L3: 冠军 | M3: 一等奖(冠军)
A4: 79860 | B4: 2B8hXqxg-139-112-5n-113-1-3XC-06-6k2 | C4: 'AI Will机器人挑战赛项(星球速递)' | D4: 'AI Will星球速递挑战赛' | E4: 小学初级组 | F4: 武汉XDF江北五队 | G4: 武汉新东方培训学校 | H4: 高友义 | I4: 李芃甫|黄煜涵 | L4: 亚军 | M4: 一等奖(亚军)
A5: 76406 | B5: 2B8hXqIC-139-112-J5-113-1-wuD-06-Djg | C5: 'AI Will机器人挑战赛项(星球速递)' | D5: 'AI Will星球速递挑战赛' | E5: 小学初级组 | F5: 超越二队 | G5: 云大附中西林分校、春城教育集团新闻路校区联队 | H5: 吴龙唐 | I5: 李佳颖|廖婧彤 | L5: 季军 | M5: 一等奖(季军)
A6: 92078 | B6: 2B8hXqIM-139-112-5X-113-1-uFC-06-ajl | C6: 'AI Will机器人挑战赛项(星球速递)' | D6: 'AI Will星球速递挑战赛' | E6: 小学初级组 | F6: 如安二号 | G6: 海贝中英文小学、昆明市五华区莲华小学联队 | H6: 袁文勇 | I6: 王麒尧|王子程 | L6: 全能奖 | M6: 一等奖
A7: 83803 | B7: 2B8hXqM6-139-112-ke-113-1-jVG-06-Hne | C7: 'AI Will机器人挑战赛项(星球速递)' | D7: 'AI Will星球速递挑战赛' | E7: 小学初级组 | F7: 火星清道夫 | G7: 北京市朝阳师范学校附属小学(西坝河校区)和北京市私立新亚中学联队 | H7: 赵雅琴 | I7: 高晨齐|范谢谧雅 | L7: 8强 | M7: 一等奖
A8: 81864 | B8: 2B8hXqMI-139-112-Qs-113-1-gI6-06-lJY | C8: 'AI Will机器人挑战赛项(星球速递)' | D8: 'AI Will星球速递挑战赛' | E8: 小学初级组 | F8: 飞跃A队 | G8: 华南师范大学附属荔湾小学和广州市越秀区东川路小学联队 | H8: 刘继文 | I8: 吴晨希|王昱坤 | L8: 8强 | M8: 一等奖
A9: 78090 | B9: 2B8hXqIP-139-112-5K-113-1-Yit-06-3oa | C9: 'AI Will机器人挑战赛项(星球速递)' | D9: 'AI Will星球速递挑战赛' | E9: 小学初级组 | F9: 红中队 | G9: 江滨小学、金康园小学 | H9: 李静 | I9: 洪嘉钟|李泓锐 | L9: 8强 | M9: 一等奖
A10: 87232 | B10: 2B8hXxRR-139-112-1x-113-1-AD8-06-Ntk | C10: 'AI Will机器人挑战赛项(星球速递)' | D10: 'AI Will星球速递挑战赛' | E10: 小学初级组 | F10: 星球1队 | G10: 天骄小学 | H10: 庄海宁 | I10: 王跃程 | L10: 8强 | M10: 一等奖
A11: 85870 | B11: 2B8hXqIz-139-112-Gp-113-1-x25-06-hLX | C11: 'AI Will机器人挑战赛项(星球速递)' | D11: 'AI Will星球速递挑战赛' | E11: 小学初级组 | F11: 龙王队 | G11: 昆明联盟小学、昆明盘龙小学 | H11: 李静 | I11: 普晟庭|王子睿 | L11: 16强 | M11: 一等奖
A12: 77957 | B12: 2B8hXqIE-139-112-LK-113-1-QLZ-06-gxp | C12: 'AI Will机器人挑战赛项(星球速递)' | D12: 'AI Will星球速递挑战赛' | E12: 小学初级组 | F12: 联队灯小维臻-南实小嘉骏 | G12: 佛山市南海区桂城街道灯湖小学 | H12: 罗宁 | I12: 钱嘉骏|邓维臻 | L12: 16强 | M12: 一等奖
A13: 79799 | B13: 2B8hXqxn-139-112-Pe-113-1-MhL-06-QdW | C13: 'AI Will机器人挑战赛项(星球速递)' | D13: 'AI Will星球速递挑战赛' | E13: 小学初级组 | F13: 武汉XDF江北三队 | G13: 武汉新东方培训学校 | H13: 高友义 | I13: 左近轲|孙城骏 | L13: 16强 | M13: 一等奖
A14: 79738 | B14: 2B8hXqJa-139-112-PK-113-1-bod-06-WwY | C14: 'AI Will机器人挑战赛项(星球速递)' | D14: 'AI Will星球速递挑战赛' | E14: 小学初级组 | F14: 东方梦幻1队 | G14: 厦门市思明区新东方教育培训学校 | H14: 赖钧华 | I14: 刘凯明|许钧翔 | L14: 16强 | M14: 一等奖
... A35: 81546 | B35: 2B8hXqMV-139-112-FK-113-1-mZ0-06-nL2 | C35: 'AI Will机器人挑战赛项(星球速递)' | D35: 'AI Will星球速递挑战赛' | E35: 小学初级组 | F35: 宇宙闪电队 | G35: 北京市八一学校和北京第二实验小学玉桃园分校联队 | H35: 于洁 | I35: 刘铠睿|李臻言 | L35: 33强 | M35: 一等奖
A36: 77689 | B36: 2B8hXqID-139-112-xL-113-1-r4L-06-t9Y | C36: 'AI Will机器人挑战赛项(星球速递)' | D36: 'AI Will星球速递挑战赛' | E36: 小学初级组 | F36: 好运来队 | G36: 重庆市南岸区珊瑚实验小学校和长春市解放大路小学校联队 | H36: 梅新虎 | I36: 毛宣佑|宋美易 | J36: 240 | K36: 119 | L36: 34 | M36: 二等奖
A37: 92027 | B37: 2B8hXxEt-139-112-kK-113-1-3x1-06-tKL | C37: 'AI Will机器人挑战赛项(星球速递)' | D37: 'AI Will星球速递挑战赛' | E37: 小学初级组 | F37: 绝尘队 | G37: 昆明师大实验昆明湖中学（小学部）、昆明新迎二小 | H37: 蔡文浩 | I37: 项马敬然|于昊甘 | J37: 240 | K37: 119 | L37: 35 | M37: 二等奖
A38: 85563 | B38: 2B8hXqMj-139-112-zf-113-1-zXG-06-3ta | C38: 'AI Will机器人挑战赛项(星球速递)' | D38: 'AI Will星球速递挑战赛' | E38: 小学初级组 | F38: AI育小极客1队 | G38: 锦绣育才中学附属学校 | H38: 陈鸯鸯 | I38: 王炜宸|孔舒晨 | J38: 240 | K38: 120 | L38: 36 | M38: 二等奖
A39: 84602 | B39: 2B8hXx8X-139-112-hZ-113-1-zF1-06-NH4 | C39: 'AI Will机器人挑战赛项(星球速递)' | D39: 'AI Will星球速递挑战赛' | E39: 小学初级组 | F39: 追逐者 | G39: 东莞市宏远外国语学校与嘉荣外国语学校联队 | H39: 莫晓玲 | I39: 余翊|袁梓诺 | J39: 240 | K39: 121 | L39: 37 | M39: 二等奖
A40: 90071 | B40: 2B8hXx8h-139-112-9b-113-1-7tG-06-gwz | C40: 'AI Will机器人挑战赛项(星球速递)' | D40: 'AI Will星球速递挑战赛' | E40: 小学初级组 | F40: 战队4 | G40: 福州市鼓楼区新东方培训学校 | H40: 王芳 | I40: 王思诺|杜亦宸 | J40: 240 | K40: 122 | L40: 38 | M40: 二等奖
A41: 79201 | B41: 2B8hXqx7-139-112-zz-113-1-LEu-06-6xw | C41: 'AI Will机器人挑战赛项(星球速递)' | D41: 'AI Will星球速递挑战赛' | E41: 小学初级组 | F41: 北京新东方金源1号队 | G41: 新东方北京培训学校 | H41: 刘双娇 | I41: 舒子夏|王博瑞 | J41: 240 | K41: 122 | L41: 39 | M41: 二等奖
A42: 82195 | B42: 2B8hXqJ7-139-112-JO-113-1-Egj-06-ktm | C42: 'AI Will机器人挑战赛项(星球速递)' | D42: 'AI Will星球速递挑战赛' | E42: 小学初级组 | F42: 武汉XDF江北七队 | G42: 武汉新东方培训学校 | H42: 高友义 | I42: 李芯婉|鄢欣然 | J42: 240 | K42: 122 | L42: 40 | M42: 二等奖
A43: 82018 | B43: 2B8hXqxp-139-112-Nl-113-1-Xpc-06-VbQ | C43: 'AI Will机器人挑战赛项(星球速递)' | D43: 'AI Will星球速递挑战赛' | E43: 小学初级组 | F43: 南京新东方梦之队 | G43: 新东方南京学校 | H43: 李昊天 | I43: 肖舜尧|刘维烨 | J43: 240 | K43: 123 | L43: 41 | M43: 二等奖
A44: 92013 | B44: 2B8hXxEG-139-112-8O-113-1-s0d-06-BKY | C44: 'AI Will机器人挑战赛项(星球速递)' | D44: 'AI Will星球速递挑战赛' | E44: 小学初级组 | F44: 强者队 | G44: 昆明盘龙小学、云南大学附属小学 | H44: 高绍文 | I44: 郭子墨|张博元 | J44: 240 | K44: 124 | L44: 42 | M44: 二等奖
A45: 85987 | B45: 2B8hXx8P-139-112-4e-113-1-Uqh-06-wE9 | C45: 'AI Will机器人挑战赛项(星球速递)' | D45: 'AI Will星球速递挑战赛' | E45: 小学初级组 | F45: 战队5 | G45: 福州市鼓楼区新东方培训学校 | H45: 王芳 | I45: 黄俊霖|黎修宇 | J45: 240 | K45: 124 | L45: 42 | M45: 二等奖
A46: 87175 | B46: 2B8hXqVl-139-112-t5-113-1-PrP-06-Kzt | C46: 'AI Will机器人挑战赛项(星球速递)' | D46: 'AI Will星球速递挑战赛' | E46: 小学初级组 | F46: 炫凌霸王队 | G46: 昆山炫凌机器人校外训练基地 | H46: 骆开原 | I46: 陆则安|王一菱 | J46: 240 | K46: 126 | L46: 44 | M46: 二等奖
A47: 89341 | B47: 2B8hX6pi-139-112-6T-113-1-GuY-06-AWz | C47: 'AI Will机器人挑战赛项(星球速递)' | D47: 'AI Will星球速递挑战赛' | E47: 小学初级组 | F47: JX战队 | G47: 大连市甘井子区创之巅峰机器人培训学校 | H47: 薛晓洋 | I47: 姜筠松|王新淏 | J47: 240 | K47: 127 | L47: 45 | M47: 二等奖
... A96: 89952 | B96: 2B8hXxQt-139-112-y3-113-1-k1c-06-meM | C96: 'AI Will机器人挑战赛项(星球速递)' | D96: 'AI Will星球速递挑战赛' | E96: 小学初级组 | F96: 南昌冉冉之星 | G96: 新东方南昌培训学校 | H96: 龚成威 | I96: 徐煁杰|祝子瀚 | J96: 240 | K96: 167 | L96: 94 | M96: 三等奖
A97: 89390 | B97: 2B8hX6pl-139-112-I3-113-1-d3z-06-3GA | C97: 'AI Will机器人挑战赛项(星球速递)' | D97: 'AI Will星球速递挑战赛' | E97: 小学初级组 | F97: 澳创颢然队 | G97: 澳创机器人 | H97: 全权 | I97: 朱延颢|施盛然 | J97: 240 | K97: 168 | L97: 并列95 | M97: 三等奖
A98: 89994 | B98: 2B8hX6pf-139-112-en-113-1-uWB-06-y6p | C98: 'AI Will机器人挑战赛项(星球速递)' | D98: 'AI Will星球速递挑战赛' | E98: 小学初级组 | F98: 科创中心1号 | G98: 大连科创中心 | H98: 许骁 | I98: 高玥婷|宋冠儒 | J98: 240 | K98: 168 | L98: 并列95 | M98: 三等奖
A99: 77069 | B99: 2B8hXqfU-139-112-X9-113-1-aAp-06-SBW | C99: 'AI Will机器人挑战赛项(星球速递)' | D99: 'AI Will星球速递挑战赛' | E99: 小学初级组 | F99: SZ队 | G99: 深圳市南山区第二外国语学校（集团）海德学校 | H99: 贺珍蓉 | I99: 邹道恩|沙雨泽 | J99: 240 | K99: 168 | L99: 并列95 | M99: 三等奖
A100: 77077 | B100: 2B8hXqft-139-112-ba-113-1-SRj-06-svw | C100: 'AI Will机器人挑战赛项(星球速递)' | D100: 'AI Will星球速递挑战赛' | E100: 小学初级组 | F100: 流星队 | G100: 深圳香港培侨书院龙华信义学校深圳市南外科苑小学联队 | H100: 吴柳晓 | I100: 付楚谦|陈宝逻 | J100: 240 | K100: 171 | L100: 98 | M100: 三等奖
A101: 84676 | B101: 2B8hXx8B-139-112-a6-113-1-4No-06-tiE | C101: 'AI Will机器人挑战赛项(星球速递)' | D101: 'AI Will星球速递挑战赛' | E101: 小学初级组 | F101: 超人队 | G101: 惠州市富民小学 | H101: 王静 | I101: 魏子茗|王浩然 | J101: 240 | K101: 174 | L101: 99 | M101: 三等奖
A102: 79251 | B102: 2B8hXqxy-139-112-rq-113-1-3AK-06-obo | C102: 'AI Will机器人挑战赛项(星球速递)' | D102: 'AI Will星球速递挑战赛' | E102: 小学初级组 | F102: 北京新东方所向无敌 | G102: 新东方北京培训学校 | H102: 初贺 | I102: 张熙昀|范怡然 | J102: 240 | K102: 174 | L102: 100 | M102: 三等奖
A103: 86695 | B103: 2B8hXxQY-139-112-eY-113-1-FhP-06-fAO | C103: 'AI Will机器人挑战赛项(星球速递)' | D103: 'AI Will星球速递挑战赛' | E103: 小学初级组 | F103: 东方梦幻14队 | G103: 厦门市思明区新东方教育培训学校 | H103: 赖钧华 | I103: 唐梓旻|张佐 | J103: 240 | K103: 177 | L103: 101 | M103: 三等奖
A104: 90678 | B104: 2B8hX6pX-139-112-VX-113-1-d2L-06-5vt | C104: 'AI Will机器人挑战赛项(星球速递)' | D104: 'AI Will星球速递挑战赛' | E104: 小学初级组 | F104: 维屹队 | G104: 创之巅峰人工智能机器人培训学校 | H104: 曲雯敬 | I104: 宋维熙|石屹潇 | J104: 240 | K104: 178 | L104: 102 | M104: 三等奖
A105: 92220 | B105: 2B8hXxQh-139-112-l5-113-1-WuF-06-hJT | C105: 'AI Will机器人挑战赛项(星球速递)' | D105: 'AI Will星球速递挑战赛' | E105: 小学初级组 | F105: 沙园Dr.奇异魔法队 | G105: 广州市海珠区菩提路小学 | H105: 李荣晓 | I105: 郑宇辰|陈基睿 | J105: 240 | K105: 185 | L105: 103 | M105: 三等奖
A106: 90312 | B106: 2B8hXxEZ-139-112-4Q-113-1-YZW-06-lmR | C106: 'AI Will机器人挑战赛项(星球速递)' | D106: 'AI Will星球速递挑战赛' | E106: 小学初级组 | F106: 兄弟齐心队 | G106: hello编程机器人 | H106: 于晓哲 | I106: 姬智轩|姬智博 | J106: 240 | K106: 187 | L106: 104 | M106: 三等奖
A107: 84548 | B107: 2B8hXxQH-139-112-0g-113-1-6sg-06-g53 | C107: 'AI Will机器人挑战赛项(星球速递)' | D107: 'AI Will星球速递挑战赛' | E107: 小学初级组 | F107: 东方梦幻4队 | G107: 厦门市思明区新东方教育培训学校 | H107: 黄晓虹 | I107: 张翼遥|汪瑞泽 | J107: 240 | K107: 192 | L107: 105 | M107: 三等奖
A108: 87236 | B108: 2B8hXxRa-139-112-1W-113-1-jEc-06-fCS | C108: 'AI Will机器人挑战赛项(星球速递)' | D108: 'AI Will星球速递挑战赛' | E108: 小学初级组 | F108: 飙速队 | G108: 百变天才机器人编程中心 | H108: 周慧媛 | I108: 冯泓杰|邓雅蔚 | J108: 240 | K108: 195 | L108: 106 | M108: 三等奖
A109: 84739 | B109: 2B8hXx8l-139-112-3O-113-1-SKO-06-QcF | C109: 'AI Will机器人挑战赛项(星球速递)' | D109: 'AI Will星球速递挑战赛' | E109: 小学初级组 | F109: 兄弟盟 | G109: 东莞市厚街镇中心小学 | H109: 赖露媚 | I109: 范成彦|王艺翰 | J109: 240 | K109: 195 | L109: 107 | M109: 三等奖
A110: 76412 | B110: 2B8hXqc1-139-112-Qd-113-1-uc9-06-Dzl | C110: 'AI Will机器人挑战赛项(星球速递)' | D110: 'AI Will星球速递挑战赛' | E110: 小学初级组 | F110: 牛剑精英队 | G110: 广州市花都区黄广牛剑小学 | H110: 陆珊 | I110: 秦浩宸|王高贤 | J110: 240 | K110: 195 | L110: 108 | M110: 三等奖
A111: 85670 | B111: 2B8hXqJX-139-112-MU-113-1-Z3o-06-VbS | C111: 'AI Will机器人挑战赛项(星球速递)' | D111: 'AI Will星球速递挑战赛' | E111: 小学初级组 | F111: 麒麟战队 | G111: 新东方南昌培训学校 | H111: 王亚军 | I111: 胡汉骐|黄乐轩 | J111: 240 | K111: 207 | L111: 109 | M111: 三等奖
... A177: 87526 | B177: 2B8hXxRG-139-112-mG-113-1-hSG-06-S3V | C177: 'AI Will机器人挑战赛项(星球速递)' | D177: 'AI Will星球速递挑战赛' | E177: 小学初级组 | F177: 宇宙小纵队 | G177: 中国人民大学附属小学和中关村第三小学联队 | H177: 赵雅琴 | I177: 宫宇阳|马博宣 | J177: 40 | K177: 244 | L177: 175 | M177: 三等奖
A179: 报名编号 | B179: 激活码 | C179: 赛道 | D179: 赛项 | E179: 组别 | F179: 队伍名称 | G179: 申报单位 | H179: 教练信息 | I179: 学生信息 | J179: 比赛分数 | K179: 比赛用时 | L179: 成绩排名 | M179: 奖项
A180: 79300 | B180: 2B8hXqXn-139-112-Fg-113-1-JW9-07-SYF | C180: AI Will机器人挑战赛项' | D180: 'AI Will星球速递挑战赛' | E180: 小学高级A组 | F180: 逐梦战队 | G180: 广州市八一实验学校和广州市越秀区中山三路小学联队 | H180: 曾庆嘉 | I180: 朱思如|向进彦 | J180: 120 | K180: 18.78 | L180: 1 | M180: 一等奖(冠军)
A181: 89000 | B181: 2B8hXqoZ-139-112-wx-113-1-hOP-07-Bwy | C181: AI Will机器人挑战赛项' | D181: 'AI Will星球速递挑战赛' | E181: 小学高级A组 | F181: 洛阳新东方 | G181: 新东方洛阳培训学校 | H181: 李翔 | I181: 张昊源|荆星源 | J181: 120 | K181: 31.18 | L181: 2 | M181: 一等奖(亚军)
A182: 84635 | B182: 2B8hXxn8-139-112-nH-113-1-YVn-07-7Ta | C182: AI Will机器人挑战赛项' | D182: 'AI Will星球速递挑战赛' | E182: 小学高级A组 | F182: 杨帆一队 | G182: 东莞市南城尚城学校与宏远外国语学校联队 | H182: 王学文 | I182: 雷俊熙|黄晟杰 | J182: 120 | K182: 39.28 | L182: 3 | M182: 一等奖(季军)
A183: 84844 | B183: 2B8hXxmu-139-112-rk-113-1-6ag-07-OJj | C183: AI Will机器人挑战赛项' | D183: 'AI Will星球速递挑战赛' | E183: 小学高级A组 | F183: 育贤实验学校联队民心港人子弟学校 | G183: 佛山市顺德区勒流育贤实验学校 | H183: 麦文锋 | I183: 卢正宇|卢麒安 | J183: 110 | K183: 12.38 | L183: 4 | M183: 一等奖
A184: 76329 | B184: 2B8hXqXK-139-112-c3-113-1-evw-07-79v | C184: AI Will机器人挑战赛项' | D184: 'AI Will星球速递挑战赛' | E184: 小学高级A组 | F184: 佛山市顺德区大良实验小学 | G184: 佛山市顺德区大良实验小学 | H184: 沈国华 | I184: 肖晋宇|邓钲熹 | J184: 110 | K184: 12.72 | L184: 5 | M184: 一等奖
A185: 84667 | B185: 2B8hXxmR-139-112-Tg-113-1-xTD-07-R3H | C185: AI Will机器人挑战赛项' | D185: 'AI Will星球速递挑战赛' | E185: 小学高级A组 | F185: 本真未来学校东逸湾实验学校联队 | G185: 佛山市顺德区本真未来学校 | H185: 梁泽明 | I185: 麦永睿|梁柏贤 | J185: 110 | K185: 13.28 | L185: 6 | M185: 一等奖
A186: 81830 | B186: 2B8hXqad-139-112-Ob-113-1-nOq-07-4g5 | C186: AI Will机器人挑战赛项' | D186: 'AI Will星球速递挑战赛' | E186: 小学高级A组 | F186: 求索队 | G186: 广州市越秀区东川路小学和华南师范大学附属荔湾小学联队 | H186: 黄永恒 | I186: 王珪锟|李子牧 | J186: 110 | K186: 14.43 | L186: 7 | M186: 一等奖
A187: 78586 | B187: 2B8hXqXj-139-112-Tm-113-1-TjT-07-X3D | C187: AI Will机器人挑战赛项' | D187: 'AI Will星球速递挑战赛' | E187: 小学高级A组 | F187: 小菜兄弟 | G187: 清远市海德外国语学校和清远市清城区锦兴小学联队 | H187: 肖莎 | I187: 蔡诺|蔡想 | J187: 110 | K187: 17.34 | L187: 8 | M187: 一等奖
A188: 77998 | B188: 2B8hXqXO-139-112-t6-113-1-VcE-07-sbh | C188: AI Will机器人挑战赛项' | D188: 'AI Will星球速递挑战赛' | E188: 小学高级A组 | F188: 多多开心队 | G188: 天津市教科院附属滨海泰达小学和北京市昌平区天通苑小学联队 | H188: 赵雅琴 | I188: 许卓尔|许梓铄 | J188: 110 | K188: 21.12 | L188: 9 | M188: 一等奖
A189: 78602 | B189: 2B8hXqoM-139-112-p4-113-1-UmO-07-Cs8 | C189: AI Will机器人挑战赛项' | D189: 'AI Will星球速递挑战赛' | E189: 小学高级A组 | F189: 园丁学校WRC2队 | G189: 深圳市南山实验教育集团园丁学校 | H189: 徐斌 | I189: 许乐航|吴昕哲 | J189: 110 | K189: 24.03 | L189: 10 | M189: 一等奖
A190: 84749 | B190: 2B8hXxnO-139-112-TO-113-1-CfL-07-me6 | C190: AI Will机器人挑战赛项' | D190: 'AI Will星球速递挑战赛' | E190: 小学高级A组 | F190: 钢铁洪流二队 | G190: 东莞市东城第八小学 | H190: 袁立慧 | I190: 何华翰|尹翰彬 | J190: 110 | K190: 26 | L190: 11 | M190: 一等奖
A191: 84955 | B191: 2B8hXxnW-139-112-IJ-113-1-wpy-07-bIj | C191: AI Will机器人挑战赛项' | D191: 'AI Will星球速递挑战赛' | E191: 小学高级A组 | F191: 机器联盟二队 | G191: 东莞市莞城中心小学 | H191: 姚富琳 | I191: 吴秋锐|邓贺中 | J191: 110 | K191: 27.19 | L191: 12 | M191: 一等奖
... A370: 86630 | B370: 2B8hXqal-139-112-ru-113-1-iwc-07-H8P | C370: AI Will机器人挑战赛项' | D370: 'AI Will星球速递挑战赛' | E370: 小学高级B组 | F370: 蛋仔队 | G370: 玛酷机器人 | H370: 李桐 | I370: 施霁宸|韩玥彤 | J370: 10 | K370: 120 | L370: 98 | M370: 三等奖
A372: 报名编号 | B372: 激活码 | C372: 赛道 | D372: 赛项 | E372: 组别 | F372: 队伍名称 | G372: 申报单位 | H372: 教练信息 | I372: 学生信息 | J372: 比赛分数 | K372: 成绩排名 | L372: 奖项 | M372: 比赛阶段
A373: 75774 | B373: 2B8hXtf3-139-116-ZR-118-1-j3f-01-pVz | C373: AI Will机器人挑战赛项' | D373: 扣叮虚拟机器人赛' | E373: 小学组 | F373: 80119Q | G373: 西安高新区实验小学 | H373: 姜鹏 | I373: 柳昊泽 | J373: 698.25 | K373: 1 | L373: 一等奖(冠军) | M373: 决赛阶段 含答辩分
A374: 75788 | B374: 2B8hXtfY-139-116-s0-118-1-CkB-01-QyA | C374: AI Will机器人挑战赛项' | D374: 扣叮虚拟机器人赛' | E374: 小学组 | F374: 陈熙哲 | G374: 柞水县城区第三小学 | H374: 殷淑敏 | I374: 陈熙哲 | J374: 697 | K374: 2 | L374: 一等奖(亚军)
A375: 75784 | B375: 2B8hXtfl-139-116-Zs-118-1-hd2-01-pmC | C375: AI Will机器人挑战赛项' | D375: 扣叮虚拟机器人赛' | E375: 小学组 | F375: 梦之柒 | G375: 西安高新第二小学 | H375: 时聪聪 | I375: 冯楚涵 | J375: 689.75 | K375: 3 | L375: 一等奖(季军)
A376: 76206 | B376: 2B8hXtxt-139-116-3b-118-1-gOF-01-8yj | C376: AI Will机器人挑战赛项' | D376: 扣叮虚拟机器人赛' | E376: 小学组 | F376: 梦之拾 | G376: 西咸新区沣西新城文教园第一小学 | H376: 时聪聪 | I376: 冯梓梒 | J376: 689.75 | K376: 4 | L376: 一等奖
A377: 75756 | B377: 2B8hXtfy-139-116-uF-118-1-yYk-01-g5H | C377: AI Will机器人挑战赛项' | D377: 扣叮虚拟机器人赛' | E377: 小学组 | F377: 高新2队 | G377: 西安高新第三小学 | H377: 董栩 | I377: 张万宝隆 | J377: 684.25 | K377: 5 | L377: 一等奖
A378: 80334 | B378: 2B8hXV07-139-116-hD-118-1-Np8-01-DzZ | C378: AI Will机器人挑战赛项' | D378: 扣叮虚拟机器人赛' | E378: 小学组 | F378: 徐翯轩 | G378: 杭州市丹枫实验小学 | H378: 黄宁 | I378: 徐翯轩 | J378: 683.5 | K378: 6 | L378: 一等奖
A379: 75761 | B379: 2B8hXtfQ-139-116-eU-118-1-5KB-01-xBj | C379: AI Will机器人挑战赛项' | D379: 扣叮虚拟机器人赛' | E379: 小学组 | F379: 高新7队 | G379: 西安高新区实验小学 | H379: 马超 | I379: 何昱辰 | J379: 681.25 | K379: 7 | L379: 一等奖
A380: 91851 | B380: 2B8hX6lb-139-116-rC-118-1-GeI-01-fgi | C380: AI Will机器人挑战赛项' | D380: 扣叮虚拟机器人赛' | E380: 小学组 | F380: 贝森二队 | G380: 银河学校 | H380: 吴思瑶 | I380: 万泽鑫 | J380: 679 | K380: 8 | L380: 一等奖
A381: 85684 | B381: 2B8hXVO8-139-116-S5-118-1-vGn-01-2mt | C381: AI Will机器人挑战赛项' | D381: 扣叮虚拟机器人赛' | E381: 小学组 | F381: 李谦 | G381: 深圳市宝安区滨海小学 | H381: 林伊玲 | I381: 李谦 | J381: 678 | K381: 9 | L381: 一等奖
A382: 76374 | B382: 2B8hXtJD-139-116-SQ-118-1-X6B-01-tLO | C382: AI Will机器人挑战赛项' | D382: 扣叮虚拟机器人赛' | E382: 小学组 | F382: 程思程 | G382: 合肥高新创新实验小学 | H382: 李豪祺|王娟华 | I382: 程思程 | J382: 677.5 | K382: 10 | L382: 一等奖
A383: 79329 | B383: 2B8hXtMu-139-116-JY-118-1-CR0-01-Iek | C383: AI Will机器人挑战赛项' | D383: 扣叮虚拟机器人赛' | E383: 小学组 | F383: 白果果队 | G383: 成都市温江区冠城实验学校 | H383: 殷波 | I383: 白果果 | J383: 676.25 | K383: 11 | L383: 一等奖
A384: 81889 | B384: 2B8hXVWI-139-116-EI-118-1-Bp7-01-nIV | C384: AI Will机器人挑战赛项' | D384: 扣叮虚拟机器人赛' | E384: 小学组 | F384: 冠军队 | G384: 郑州市金水区经三路小学 | H384: 邱秋月|刘舒影 | I384: 王芃博 | J384: 676.25 | K384: 12 | L384: 一等奖
A385: 82144 | B385: 2B8hXVW5-139-116-3Q-118-1-JYm-01-ZGF | C385: AI Will机器人挑战赛项' | D385: 扣叮虚拟机器人赛' | E385: 小学组 | F385: 郑州市纬五路二小队 | G385: 郑州市金水区纬五路第二小学 | H385: 符黎明 | I385: 李晨硕 | J385: 676.25 | K385: 13 | L385: 一等奖
... A748: 90428 | B748: 2B8hX6lK-139-116-28-118-1-ice-01-VtV | C748: AI Will机器人挑战赛项' | D748: 扣叮虚拟机器人赛' | E748: 小学组 | F748: 厦大附小3队 | G748: 厦门大学附属实验小学 | H748: 迟庆新 | I748: 卢辛朋 | J748: 100 | K748: 376 | L748: 三等奖
A750: 84600 | B750: 2B8hXVT5-139-116-BL-118-1-k0m-02-Qef | C750: AI Will机器人挑战赛项' | D750: 扣叮虚拟机器人赛' | E750: 初中组 | F750: 魏宸希 | G750: 小米机器人魔法学院 | H750: 苏泓霖 | I750: 魏宸希 | J750: 766.5 | K750: 1 | L750: 一等奖(冠军) | M750: 决赛阶段 含答辩分
A751: 76050 | B751: 2B8hXtoM-139-116-JM-118-1-BXG-02-aUr | C751: AI Will机器人挑战赛项' | D751: 扣叮虚拟机器人赛' | E751: 初中组 | F751: 广州市知用学校 傅铭康 | G751: 广州市知用学校 | H751: 陈浩彬 | I751: 傅铭康 | J751: 763.5 | K751: 2 | L751: 一等奖(亚军)
A752: 84262 | B752: 2B8hXVTV-139-116-Je-118-1-Ird-02-hmO | C752: AI Will机器人挑战赛项' | D752: 扣叮虚拟机器人赛' | E752: 初中组 | F752: 杨梓镱 | G752: 小米机器人魔法学院. | H752: 苏泓霖 | I752: 杨梓镱 | J752: 762.75 | K752: 3 | L752: 一等奖(季军)
A753: 75790 | B753: 2B8hXtS0-139-116-vH-118-1-dB8-02-Lb6 | C753: AI Will机器人挑战赛项' | D753: 扣叮虚拟机器人赛' | E753: 初中组 | F753: 梦之队 | G753: 宁波市第七中学 | H753: 陈苏君 | I753: 邢智浩 | J753: 760.25 | K753: 4 | L753: 一等奖
A754: 81443 | B754: 2B8hXVHh-139-116-X0-118-1-2xo-02-G7c | C754: AI Will机器人挑战赛项' | D754: 扣叮虚拟机器人赛' | E754: 初中组 | F754: 腾飞小鹅队 | G754: 深圳市龙岗区龙城高级中学（教育集团）龙城初级中学 | H754: 范金城 | I754: 夏锦灏 | J754: 759.75 | K754: 5 | L754: 一等奖
A755: 82326 | B755: 2B8hXVTR-139-116-Iz-118-1-bFa-02-got | C755: AI Will机器人挑战赛项' | D755: 扣叮虚拟机器人赛' | E755: 初中组 | F755: 滨文队 | G755: 浙江省杭州滨文中学 | H755: 陆刚强 | I755: 俞张瑞 | J755: 758.25 | K755: 6 | L755: 一等奖
A756: 83829 | B756: 2B8hXVH6-139-116-e4-118-1-ytL-02-0iM | C756: AI Will机器人挑战赛项' | D756: 扣叮虚拟机器人赛' | E756: 初中组 | F756: 东营市实验中学代表队 | G756: 东营市实验中学 | H756: 王冰倩 | I756: 李泽锴 | J756: 756.5 | K756: 7 | L756: 一等奖
A757: 76165 | B757: 2B8hXtoq-139-116-pe-118-1-S2b-02-aBa | C757: AI Will机器人挑战赛项' | D757: 扣叮虚拟机器人赛' | E757: 初中组 | F757: 越秀区育才实验学校1队 | G757: 广州市越秀区育才实验学校 | H757: 李真 | I757: 刘志云 | J757: 755.25 | K757: 8 | L757: 一等奖
A758: 86198 | B758: 2B8hXVTW-139-116-Q0-118-1-VjX-02-8dH | C758: AI Will机器人挑战赛项' | D758: 扣叮虚拟机器人赛' | E758: 初中组 | F758: 宋承翰 | G758: 杭州市丹枫实验小学 | H758: 黄宁 | I758: 宋承翰 | J758: 755 | K758: 9 | L758: 一等奖
A759: 75707 | B759: 2B8hXtSI-139-116-PR-118-1-91t-02-Xrk | C759: AI Will机器人挑战赛项' | D759: 扣叮虚拟机器人赛' | E759: 初中组 | F759: 翌楦队 | G759: 武汉市第十二初级中学 | H759: 刘源 | I759: 宋翌楦 | J759: 754.5 | K759: 10 | L759: 一等奖
A760: 76692 | B760: 2B8hXto0-139-116-cg-118-1-4ri-02-qcs | C760: AI Will机器人挑战赛项' | D760: 扣叮虚拟机器人赛' | E760: 初中组 | F760: 众芯汉创二队 | G760: 北京市第十四中学 | H760: 王一非 | I760: 李思霖 | J760: 717 | K760: 11 | L760: 二等奖
A761: 76462 | B761: 2B8hXtS4-139-116-rA-118-1-j3V-02-gqd | C761: AI Will机器人挑战赛项' | D761: 扣叮虚拟机器人赛' | E761: 初中组 | F761: 喆是第一 | G761: 武汉梅苑中学 | H761: 何龙 | I761: 张睿喆 | J761: 717 | K761: 12 | L761: 二等奖
A762: 76688 | B762: 2B8hXtoK-139-116-mI-118-1-1cs-02-36E | C762: AI Will机器人挑战赛项' | D762: 扣叮虚拟机器人赛' | E762: 初中组 | F762: 众芯汉创一队 | G762: 北京市东城区第二十二中学 | H762: 王一非 | I762: 苏瑀桐 | J762: 716 | K762: 13 | L762: 二等奖
... A814: 82772 | B814: 2B8hXtKN-139-116-xO-118-1-iLf-02-Clr | C814: AI Will机器人挑战赛项' | D814: 扣叮虚拟机器人赛' | E814: 初中组 | F814: 北仑玛酷一队 | G814: 宁波奇趣旦智能科技培训中心 | H814: 王磊 | I814: 张胤泽 | J814: 100 | K814: 65 | L814: 三等奖
A816: 89789 | B816: 2B8hXt94-139-116-aC-118-1-YLi-03-Cbk | C816: AI Will机器人挑战赛项' | D816: 扣叮虚拟机器人赛' | E816: 中学组 | F816: 孤勇者 | G816: 陕西省西安市浐灞第二中学 | H816: 李卓 | I816: 潘明棚 | J816: 804.75 | K816: 1 | L816: 一等奖(冠军) | M816: 决赛阶段 含答辩分
A817: 79022 | B817: 2B8hXVQJ-139-116-nn-118-1-lRz-03-LOk | C817: AI Will机器人挑战赛项' | D817: 扣叮虚拟机器人赛' | E817: 中学组 | F817: 广东实验中学深圳学校 | G817: 广东实验中学深圳学校 | H817: 方文波|丁新尧 | I817: 王崇毅 | J817: 784 | K817: 2 | L817: 一等奖(亚军)
A818: 75567 | B818: 2B8hXtKm-139-116-oO-118-1-2mD-03-oNt | C818: AI Will机器人挑战赛项' | D818: 扣叮虚拟机器人赛' | E818: 中学组 | F818: 博宸队 | G818: 武汉崇文高级中学 | H818: 梅家立 | I818: 高博宸 | J818: 774.75 | K818: 3 | L818: 一等奖(季军)
A819: 75696 | B819: 2B8hXtKn-139-116-Fk-118-1-1gQ-03-NXL | C819: AI Will机器人挑战赛项' | D819: 扣叮虚拟机器人赛' | E819: 中学组 | F819: 雨泽队 | G819: 武汉大学附属外国语学校 | H819: 朱意 | I819: 陈雨泽 | J819: 735 | K819: 4 | L819: 二等奖
A820: 83856 | B820: 2B8hXt9P-139-116-NJ-118-1-J9r-03-NBV | C820: AI Will机器人挑战赛项' | D820: 扣叮虚拟机器人赛' | E820: 中学组 | F820: 大宁七队 | G820: 上海市风华初级中学 | H820: 刘唯巍 | I820: 李泓汛 | J820: 734 | K820: 5 | L820: 二等奖
A821: 78504 | B821: 2B8hXVH1-139-116-2f-118-1-VUO-03-jS4 | C821: AI Will机器人挑战赛项' | D821: 扣叮虚拟机器人赛' | E821: 中学组 | F821: 昆明市盘龙区明致实验中学 | G821: 昆明市盘龙区明致实验中学 | H821: 孔佑彪|杨勋 | I821: 熊子旋 | J821: 734 | K821: 6 | L821: 二等奖
A822: 91797 | B822: 2B8hX6jT-139-116-1t-118-1-alC-03-6lG | C822: AI Will机器人挑战赛项' | D822: 扣叮虚拟机器人赛' | E822: 中学组 | F822: 昆明市盘龙区明致实验中学2队 | G822: 昆明市盘龙区明致实验中学 | H822: 陈慧兰|李善敏 | I822: 侯储佶 | J822: 731 | K822: 7 | L822: 二等奖
A823: 83479 | B823: 2B8hXtKe-139-116-c2-118-1-nC9-03-MOs | C823: AI Will机器人挑战赛项' | D823: 扣叮虚拟机器人赛' | E823: 中学组 | F823: 大宁五队 | G823: 上海市民办迅行中学 | H823: 邓浩南 | I823: 孙睿 | J823: 730 | K823: 8 | L823: 二等奖
A824: 81111 | B824: 2B8hXt9z-139-116-5C-118-1-Oml-03-iOG | C824: AI Will机器人挑战赛项' | D824: 扣叮虚拟机器人赛' | E824: 中学组 | F824: 乐博乐博机器人昌平石晨熹队 | G824: 北京市昌平区实验学校 | H824: 何涛 | I824: 石晨熹 | J824: 727 | K824: 9 | L824: 二等奖
A825: 88968 | B825: 2B8hXt9A-139-116-Ig-118-1-c4d-03-bsO | C825: AI Will机器人挑战赛项' | D825: 扣叮虚拟机器人赛' | E825: 中学组 | F825: 崔懿祖 | G825: 南山外国语学校集团科华学校 | H825: 聂沛 | I825: 崔懿祖 | J825: 726 | K825: 10 | L825: 三等奖
A826: 76221 | B826: 2B8hXtKr-139-116-BE-118-1-Mq8-03-uQ7 | C826: AI Will机器人挑战赛项' | D826: 扣叮虚拟机器人赛' | E826: 中学组 | F826: 俊斐队 | G826: 广州大学附属中学 | H826: 关键 | I826: 刘俊斐 | J826: 726 | K826: 11 | L826: 三等奖
A827: 83515 | B827: 2B8hXt9v-139-116-ya-118-1-6f9-03-Ikw | C827: AI Will机器人挑战赛项' | D827: 扣叮虚拟机器人赛' | E827: 中学组 | F827: 大宁六队 | G827: 上海市青云中学 | H827: 邓浩南 | I827: 徐睿喆 | J827: 723 | K827: 12 | L827: 三等奖
A828: 75577 | B828: 2B8hXtKu-139-116-7M-118-1-CBx-03-wfD | C828: AI Will机器人挑战赛项' | D828: 扣叮虚拟机器人赛' | E828: 中学组 | F828: 可可队 | G828: 华中科技大学同济医学院附属中学 | H828: 梅家立 | I828: 周祥榕 | J828: 723 | K828: 13 | L828: 三等奖
...

Sheet ATC探索者科技挑战赛项
A1: 2023世界机器人大赛总决赛-青少年机器人设计大赛-ATC探索者科技挑战赛项赛项获奖名单
A2: 报名编号 | B2: 激活码 | C2: 赛道 | D2: 赛项 | E2: 组别 | F2: 队伍名称 | G2: 申报单位 | H2: 教练信息 | I2: 学生信息 | J2: 排名 | K2: 奖项
A3: 89659 | B3: 2B8hXq9m-139-039-Kc-040-1-tNT-01-llS | C3: ATC探索者科技挑战赛项' | D3: ATC探索者-新能源挑战' | E3: 小学组 | F3: 麦乐闪电飞龙队 | G3: 大连麦乐机器人 | H3: 关敏 | I3: 秦梓航|杨延芃 | J3: 1 | K3: 一等奖(冠军)
A4: 89862 | B4: 2B8hXqCG-139-039-QQ-040-1-xzz-01-KK8 | C4: 'ATC探索者科技挑战赛项' | D4: ATC探索者-新能源挑战' | E4: 小学组 | F4: 乐安超梦队 | G4: 大连麦乐机器人 | H4: 关敏 | I4: 石安阁|李明泽 | J4: 1 | K4: 一等奖(冠军)
A5: 76945 | B5: 2B8hXqC9-139-039-m1-040-1-lru-01-4uu | C5: 'ATC探索者科技挑战赛项' | D5: ATC探索者-新能源挑战' | E5: 小学组 | F5: 勇者无敌队 | G5: 广州市百尺教育科技中心 | H5: 伍世广 | I5: 谭俊仁|许洋铭 | J5: 2 | K5: 一等奖(亚军)
A6: 82067 | B6: 2B8hXq0W-139-039-8b-040-1-Inz-01-pMN | C6: 'ATC探索者科技挑战赛项' | D6: ATC探索者-新能源挑战' | E6: 小学组 | F6: 战神天下队 | G6: 辽阳市东文化小学 | H6: 赵静 | I6: 薛莞霖|郭欣澎 | J6: 3 | K6: 一等奖(季军)
A7: 87318 | B7: 2B8hXq9q-139-039-qa-040-1-Cc3-01-dK9 | C7: 'ATC探索者科技挑战赛项' | D7: ATC探索者-新能源挑战' | E7: 小学组 | F7: 双鸭山市文化路小学战队 | G7: 双鸭山市文化路小学 | H7: 王培志 | I7: 邢家赫|范家赫 | J7: 六强 | K7: 一等奖
A8: 84322 | B8: 2B8hXqpo-139-039-qd-040-1-PCj-01-xyN | C8: 'ATC探索者科技挑战赛项' | D8: ATC探索者-新能源挑战' | E8: 小学组 | F8: 团结队 | G8: 广州市百尺教育科技中心 | H8: 伍世广 | I8: 刘斯维|袁宝恒 | J8: 六强 | K8: 一等奖
A9: 78668 | B9: 2B8hXqK8-139-039-lS-040-1-kqZ-01-z8J | C9: 'ATC探索者科技挑战赛项' | D9: ATC探索者-新能源挑战' | E9: 小学组 | F9: 酷放一队 | G9: 西安瀚英德酷放艺术中心 | H9: 王腾|王海龙 | I9: 田昊辰|郭知非 | J9: 六强 | K9: 一等奖
A10: 77647 | B10: 2B8hXqKa-139-039-We-040-1-1qx-01-MNf | C10: 'ATC探索者科技挑战赛项' | D10: ATC探索者-新能源挑战' | E10: 小学组 | F10: 魏皓轩-谢恺 | G10: 清远市海德外国语学校 | H10: 彭贤威 | I10: 魏皓轩|谢恺 | J10: 十二强 | K10: 一等奖
A11: 89633 | B11: 2B8hXq9R-139-039-gy-040-1-Is0-01-YHA | C11: 'ATC探索者科技挑战赛项' | D11: ATC探索者-新能源挑战' | E11: 小学组 | F11: 麦乐懿浩冲锋队 | G11: 大连麦乐机器人 | H11: 关敏 | I11: 陶懿文|赵浩然 | J11: 十二强 | K11: 一等奖
A12: 87483 | B12: 2B8hXq9f-139-039-F0-040-1-OWP-01-sac | C12: 'ATC探索者科技挑战赛项' | D12: ATC探索者-新能源挑战' | E12: 小学组 | F12: 双鸭山市青少年机器人运动协会战队 | G12: 双鸭山市青少年机器人运动协会 | H12: 李后成 | I12: 邱泓睿|冯昭阳 | J12: 十二强 | K12: 一等奖
A13: 79199 | B13: 2B8hXq0I-139-039-kp-040-1-7E1-01-uVP | C13: 'ATC探索者科技挑战赛项' | D13: ATC探索者-新能源挑战' | E13: 小学组 | F13: 长安一小奋进队 | G13: 东莞市长安镇第一小学 | H13: 邓德强|吴昕航 | I13: 陈翊曦|莫耀坤 | J13: 十二强 | K13: 一等奖
A14: 85914 | B14: 2B8hXq0g-139-039-51-040-1-kcx-01-c6X | C14: 'ATC探索者科技挑战赛项' | D14: ATC探索者-新能源挑战' | E14: 小学组 | F14: 快乐飞翔队 | G14: 王家镇中心小学 | H14: 刘帅君 | I14: 侯一凡|常恩硕 | J14: 十二强 | K14: 一等奖
A15: 83451 | B15: 2B8hXq01-139-039-HW-040-1-euU-01-Rei | C15: 'ATC探索者科技挑战赛项' | D15: ATC探索者-新能源挑战' | E15: 小学组 | F15: 传奇战队 | G15: 白塔区笔悠墨泽书法工作社 | H15: 刘忠生 | I15: 刘思博|徐靖航 | J15: 十二强 | K15: 一等奖
A16: 83270 | B16: 2B8hXq0k-139-039-LY-040-1-doS-01-NLp | C16: 'ATC探索者科技挑战赛项' | D16: ATC探索者-新能源挑战' | E16: 小学组 | F16: 大庆陨石战队 | G16: 博佳机器人少儿编程中心新村校区 | H16: 于雷 | I16: 苏勃涵|吴慕辰 | J16: 13 | K16: 一等奖
A17: 83873 | B17: 2B8hXq97-139-039-kx-040-1-rEt-01-Jwz | C17: 'ATC探索者科技挑战赛项' | D17: ATC探索者-新能源挑战' | E17: 小学组 | F17: 阎良火箭队 | G17: 玛酷机器人西安阎良编程中心 | H17: 句玉文 | I17: 刘佳宁|孔栎博 | J17: 14 | K17: 一等奖
A18: 89561 | B18: 2B8hXqWn-139-039-jo-040-1-BP3-01-OTE | C18: 'ATC探索者科技挑战赛项' | D18: ATC探索者-新能源挑战' | E18: 小学组 | F18: 深圳龙小队 | G18: 深圳市龙岗区龙城小学 | H18: 侯为科 | I18: 周星辰|周廷熹 | J18: 15 | K18: 一等奖
A19: 80504 | B19: 2B8hXqWz-139-039-e7-040-1-mcs-01-os1 | C19: 'ATC探索者科技挑战赛项' | D19: ATC探索者-新能源挑战' | E19: 小学组 | F19: 汕头十一合小学澄海华侨小学联合队 | G19: 汕头市龙湖区十一合小学 汕头市澄海华侨小学 | H19: 谢林平|蚁晓樱 | I19: 谢奕钏|林泽勋 | J19: 16 | K19: 一等奖
A20: 83852 | B20: 2B8hXqOY-139-039-nZ-040-1-dLh-01-peo | C20: 'ATC探索者科技挑战赛项' | D20: ATC探索者-新能源挑战' | E20: 小学组 | F20: 四平3队 | G20: 四平市博佳机器人俱乐部 | H20: 郑仲意 | I20: 盖卿瑀|王洪冰 | J20: 17 | K20: 一等奖
A21: 87211 | B21: 2B8hXq9b-139-039-hq-040-1-DMd-01-FjJ | C21: 'ATC探索者科技挑战赛项' | D21: ATC探索者-新能源挑战' | E21: 小学组 | F21: 双鸭山市逸夫小学战队 | G21: 双鸭山市逸夫小学 | H21: 王泽惠 | I21: 钱首衡|黄梓轩 | J21: 18 | K21: 一等奖
A22: 83465 | B22: 2B8hXqKF-139-039-KW-040-1-x4K-01-amk | C22: 'ATC探索者科技挑战赛项' | D22: ATC探索者-新能源挑战' | E22: 小学组 | F22: 阎良翱翔队 | G22: 玛酷机器人西安阎良编程中心 | H22: 句玉文 | I22: 邢峻玮|刘家铭 | J22: 19 | K22: 一等奖
A23: 79233 | B23: 2B8hXqOg-139-039-zR-040-1-EeC-01-n1x | C23: 'ATC探索者科技挑战赛项' | D23: ATC探索者-新能源挑战' | E23: 小学组 | F23: 美斯特乘风破浪队 | G23: 廉江市美斯特机器人编程中心 | H23: 肖炫章 | I23: 李胤廷|杜家颍 | J23: 20 | K23: 二等奖
A24: 82781 | B24: 2B8hXq0R-139-039-yb-040-1-JfO-01-BOJ | C24: 'ATC探索者科技挑战赛项' | D24: ATC探索者-新能源挑战' | E24: 小学组 | F24: 成风破浪队 | G24: 辽阳市朝鲜族学校 | H24: 周海霞 | I24: 郑紫阳|林姝彤 | J24: 21 | K24: 二等奖
A25: 76189 | B25: 2B8hXqCC-139-039-nJ-040-1-hCF-01-kAh | C25: 'ATC探索者科技挑战赛项' | D25: ATC探索者-新能源挑战' | E25: 小学组 | F25: 杰森机器人能源一队 | G25: 杰森机器人 | H25: 杨成康 | I25: 刘卓远|张雨扬 | J25: 22 | K25: 二等奖
A26: 76209 | B26: 2B8hXqNX-139-039-ql-040-1-awT-01-qQM | C26: 'ATC探索者科技挑战赛项' | D26: ATC探索者-新能源挑战' | E26: 小学组 | F26: 杰森机器人能源二队 | G26: 杰森机器人 | H26: 梁健|杨成康 | I26: 梁夏琳|蓝泽林 | J26: 23 | K26: 二等奖
A27: 88917 | B27: 2B8hXqCF-139-039-aD-040-1-HJe-01-gDK | C27: 'ATC探索者科技挑战赛项' | D27: ATC探索者-新能源挑战' | E27: 小学组 | F27: 同济附小I队 | G27: 华中科技大学同济医学院附属小学 | H27: 韩少飞 | I27: 季文博|郝梦泽 | J27: 24 | K27: 二等奖
... A129: 87073 | B129: 2B8hXqjW-139-039-BF-041-1-7wi-01-QkO | C129: 'ATC探索者科技挑战赛项' | D129: ATC探索者-智慧城市' | E129: 小学组 | F129: 实上最强 | G129: 星空机器人 | H129: 蔡雪斌 | I129: 李宜俫|童译欧 | J129: 3 | K129: 一等奖(季军)
A130: 90708 | B130: 2B8hXXGL-139-039-V9-041-1-cHY-01-0Vv | C130: 'ATC探索者科技挑战赛项' | D130: ATC探索者-智慧城市' | E130: 小学组 | F130: 创智少年003 | G130: 银川市二十一小湖畔分校 | H130: 秦肇男|苏敏 | I130: 冒骅珂|梁旗杭 | J130: 四强 | K130: 一等奖
A131: 80715 | B131: 2B8hXqYz-139-039-y0-041-1-v7i-01-EXZ | C131: 'ATC探索者科技挑战赛项' | D131: ATC探索者-智慧城市' | E131: 小学组 | F131: 华平小超人敏捷二队 | G131: 广州华平小超人 | H131: 刘兆文 | I131: 钟锜 | J131: 八强 | K131: 一等奖
A132: 86206 | B132: 2B8hXqju-139-039-nx-041-1-xXh-01-yOW | C132: 'ATC探索者科技挑战赛项' | D132: ATC探索者-智慧城市' | E132: 小学组 | F132: 冰之彩 | G132: 青少儿科技活动中心梨园 | H132: 张丰 | I132: 朱梓晧|王梓涵 | J132: 八强 | K132: 一等奖
A133: 89851 | B133: 2B8hXXbR-139-039-vB-041-1-o7D-01-cpB | C133: 'ATC探索者科技挑战赛项' | D133: ATC探索者-智慧城市' | E133: 小学组 | F133: 深圳怎么玩机器人俱乐部梦之队 | G133: 深圳市怎么玩机器人俱乐部 | H133: 罗丛礼 | I133: 卢毅泽|徐亦辰 | J133: 八强 | K133: 一等奖
A134: 76228 | B134: 2B8hXql8-139-039-cz-041-1-QUG-01-GMV | C134: 'ATC探索者科技挑战赛项' | D134: ATC探索者-智慧城市' | E134: 小学组 | F134: 杰森机器人智慧一队 | G134: 杰森机器人 | H134: 梁健 | I134: 邹安乔|王睿 | J134: 八强 | K134: 一等奖
A135: 80884 | B135: 2B8hXqj7-139-039-lw-041-1-S2O-01-TXB | C135: 'ATC探索者科技挑战赛项' | D135: ATC探索者-智慧城市' | E135: 小学组 | F135: 童心飞扬3队 | G135: 童心飞扬科技实验室 | H135: 杨明淦 | I135: 刘铭健|麦子誉 | J135: 十六强 | K135: 一等奖
A136: 86798 | B136: 2B8hXqY2-139-039-GG-041-1-WuH-01-pSh | C136: 'ATC探索者科技挑战赛项' | D136: ATC探索者-智慧城市' | E136: 小学组 | F136: 六小 智慧城市一队 | G136: 东莞市东城第六小学 | H136: 刘学文|陈辉芬 | I136: 麦楚昊|徐懿炜 | J136: 十六强 | K136: 一等奖
A137: 89458 | B137: 2B8hXXbj-139-039-uB-041-1-m7j-01-Icd | C137: 'ATC探索者科技挑战赛项' | D137: ATC探索者-智慧城市' | E137: 小学组 | F137: 深圳龙山联队 | G137: 深圳市龙岗区外国语学校 | H137: 王丽霞 | I137: 刘鸿烨|杨梓潇 | J137: 十六强 | K137: 一等奖
A138: 86183 | B138: 2B8hXqjm-139-039-wZ-041-1-JBY-01-8Uc | C138: 'ATC探索者科技挑战赛项' | D138: ATC探索者-智慧城市' | E138: 小学组 | F138: 水之彩 | G138: 青少儿活动中心梨园 | H138: 张乃欣 | I138: 赵浩文|牛一达 | J138: 十六强 | K138: 一等奖
A139: 77812 | B139: 2B8hXqlt-139-039-ss-041-1-Ods-01-OMH | C139: 'ATC探索者科技挑战赛项' | D139: ATC探索者-智慧城市' | E139: 小学组 | F139: 榴莲队 | G139: 北京市东城区全球学培训学校 | H139: 许统 | I139: 田家睿|王宇森|刘奕兰 | J139: 十六强 | K139: 一等奖
A140: 78252 | B140: 2B8hXqlB-139-039-mD-041-1-Fbg-01-7D5 | C140: 'ATC探索者科技挑战赛项' | D140: ATC探索者-智慧城市' | E140: 小学组 | F140: 揽胜队 | G140: 卡大博创中心 | H140: 林君锐 | I140: 魏彤格|苏夏桓 | J140: 十六强 | K140: 一等奖
A141: 80555 | B141: 2B8hXqYv-139-039-km-041-1-dpy-01-okL | C141: 'ATC探索者科技挑战赛项' | D141: ATC探索者-智慧城市' | E141: 小学组 | F141: 华平小超人南岗一队 | G141: 广州华平小超人 | H141: 宋小莉 | I141: 张昊翔|覃冬阳|陈子浩 | J141: 十六强 | K141: 一等奖
A142: 88977 | B142: 2B8hXXqs-139-039-Cl-041-1-g4L-01-b6n | C142: 'ATC探索者科技挑战赛项' | D142: ATC探索者-智慧城市' | E142: 小学组 | F142: 开天辟地 | G142: 华中科技大学同济医学院附属小学 武汉市育才第二小学 | H142: 韩少飞|李成阳 | I142: 邓屿城|段奕辰 | J142: 十六强 | K142: 一等奖
A143: 77942 | B143: 2B8hXqlM-139-039-Pk-041-1-vSW-01-Ois | C143: 'ATC探索者科技挑战赛项' | D143: ATC探索者-智慧城市' | E143: 小学组 | F143: 怀柔城市一队 | G143: 怀柔青少儿科技活动中心 | H143: 王祝 | I143: 杨璐嘉|于子悦 | J143: 17 | K143: 二等奖
A144: 86155 | B144: 2B8hXqjn-139-039-0q-041-1-M2q-01-mmq | C144: 'ATC探索者科技挑战赛项' | D144: ATC探索者-智慧城市' | E144: 小学组 | F144: 花之彩 | G144: 青少儿科技活动中心梨园 | H144: 张乃欣 | I144: 高迪莘|孙逸晗 | J144: 18 | K144: 二等奖
A145: 86999 | B145: 2B8hXqYL-139-039-WV-041-1-ScD-01-75D | C145: 'ATC探索者科技挑战赛项' | D145: ATC探索者-智慧城市' | E145: 小学组 | F145: 六小 智慧城市二队 | G145: 东莞市东城第六小学 | H145: 彭志华|袁立敏 | I145: 朱宇轩|王梓龙 | J145: 19 | K145: 二等奖
A146: 77566 | B146: 2B8hXqYb-139-039-EF-041-1-EL8-01-8Ao | C146: 'ATC探索者科技挑战赛项' | D146: ATC探索者-智慧城市' | E146: 小学组 | F146: 城市探索者二队 | G146: 广州市海珠区琶洲乐博教育咨询中心 | H146: 刘烨群 | I146: 何政嵘|燕思危 | J146: 20 | K146: 二等奖
A147: 90747 | B147: 2B8hXXbM-139-039-h2-041-1-6dp-01-8lg | C147: 'ATC探索者科技挑战赛项' | D147: ATC探索者-智慧城市' | E147: 小学组 | F147: 中心小学一队 | G147: 深圳市龙岗区横岗中心学校 | H147: 温世强|钟远云 | I147: 江嘉恒|吴铮 | J147: 21 | K147: 二等奖
A148: 77954 | B148: 2B8hXqlJ-139-039-YV-041-1-MqK-01-i04 | C148: 'ATC探索者科技挑战赛项' | D148: ATC探索者-智慧城市' | E148: 小学组 | F148: 怀柔城市二队 | G148: 卡巴怀柔校区青少儿科技活动中心 | H148: 王祝 | I148: 姜雨昊|任家琦 | J148: 22 | K148: 二等奖
A149: 86793 | B149: 2B8hXqls-139-039-p6-041-1-LL5-01-aM2 | C149: 'ATC探索者科技挑战赛项' | D149: ATC探索者-智慧城市' | E149: 小学组 | F149: 深圳清林创新联队 | G149: 深圳市龙岗区清林小学 | H149: 白静 | I149: 林秋言|夏圣哲 | J149: 23 | K149: 二等奖
A150: 90310 | B150: 2B8hXXGt-139-039-Sg-041-1-WZV-01-9ix | C150: 'ATC探索者科技挑战赛项' | D150: ATC探索者-智慧城市' | E150: 小学组 | F150: 中科玩芯三队 | G150: 中科玩芯科普基地 | H150: 常亮 | I150: 吴奕泽|蒋昕恒|常振皓 | J150: 24 | K150: 二等奖
A151: 90656 | B151: 2B8hXXqa-139-039-UI-041-1-19K-01-se7 | C151: 'ATC探索者科技挑战赛项' | D151: ATC探索者-智慧城市' | E151: 小学组 | F151: 梦之翼战队 | G151: 乐创教育鞍山中心 | H151: 吕鹏 | I151: 杨锦昊|王鹍瑀 | J151: 25 | K151: 二等奖
A152: 78056 | B152: 2B8hXqYt-139-039-M4-041-1-OIi-01-GOO | C152: 'ATC探索者科技挑战赛项' | D152: ATC探索者-智慧城市' | E152: 小学组 | F152: 城市探索者四队 | G152: 广州市海珠区琶洲乐博教育咨询中心 | H152: 刘烨群 | I152: 夏诗雨|林安涛 | J152: 26 | K152: 二等奖
A153: 89166 | B153: 2B8hXXqY-139-039-OA-041-1-3TP-01-X2T | C153: 'ATC探索者科技挑战赛项' | D153: ATC探索者-智慧城市' | E153: 小学组 | F153: 汇智回民七队 | G153: 汇智创科机器人俱乐部 | H153: 刘成龙 | I153: 郑博太|张圣涵|常时硕 | J153: 27 | K153: 二等奖
A154: 90383 | B154: 2B8hXXGh-139-039-o1-041-1-OLO-01-ARl | C154: 'ATC探索者科技挑战赛项' | D154: ATC探索者-智慧城市' | E154: 小学组 | F154: 优必学猎豹队 | G154: 泰安市嘉喆昌教育培训学校 | H154: 郗俊杰 | I154: 刘奕萱|李璟彦|刘翰林|王维民 | J154: 28 | K154: 二等奖
... A239: 89516 | B239: 2B8hXXtv-139-039-f0-041-1-rcf-03-xX2 | C239: 'ATC探索者科技挑战赛项' | D239: ATC探索者-智慧城市' | E239: 中学组 | F239: 上外龙附博毅班小分队 | G239: 深圳市龙岗区上海外国语大学附属龙岗学校 | H239: 周兴权|丘运华 | I239: 罗璟熙|眭涛|刘柏嘉 | J239: 3 | K239: 一等奖(季军)
A240: 78810 | B240: 2B8hXqTv-139-039-Nt-041-1-Mef-03-Oyg | C240: 'ATC探索者科技挑战赛项' | D240: ATC探索者-智慧城市' | E240: 中学组 | F240: 现代技术指导队 | G240: 泉州现代中学 | H240: 何燕阳 | I240: 黄威|王嘉豪 | J240: 四强 | K240: 一等奖
A241: 78266 | B241: 2B8hXqTR-139-039-lu-041-1-CNO-03-PBI | C241: 'ATC探索者科技挑战赛项' | D241: ATC探索者-智慧城市' | E241: 中学组 | F241: 胜利2队 | G241: 巢湖市第三中学 | H241: 赵靖雯 | I241: 陈锐轩|陈曦|徐书楷 | J241: 八强 | K241: 一等奖
A242: 89383 | B242: 2B8hXXtz-139-039-8H-041-1-6wT-03-yTk | C242: 'ATC探索者科技挑战赛项' | D242: ATC探索者-智慧城市' | E242: 中学组 | F242: 深圳龙岗区龙城初级中学B队 | G242: 深圳市龙岗区龙城高级中学（教育集团）龙城初级中学 | H242: 范金城 | I242: 曾诗瀚|林烨宸 | J242: 八强 | K242: 一等奖
A243: 80873 | B243: 2B8hXqTc-139-039-Y1-041-1-Us4-03-RwK | C243: 'ATC探索者科技挑战赛项' | D243: ATC探索者-智慧城市' | E243: 中学组 | F243: 童心飞扬1队 | G243: 童心飞扬科技实验室 | H243: 黄钰池 | I243: 何泓霆|李子墨 | J243: 八强 | K243: 一等奖
A244: 89576 | B244: 2B8hXXtt-139-039-br-041-1-8a2-03-6wb | C244: 'ATC探索者科技挑战赛项' | D244: ATC探索者-智慧城市' | E244: 中学组 | F244: 深圳怎么玩机器人王之队 | G244: 深圳市怎么玩机器人俱乐部 | H244: 罗丛礼 | I244: 魏楚惟|丘昊 | J244: 八强 | K244: 一等奖
A245: 78175 | B245: 2B8hXqTQ-139-039-x5-041-1-Vyq-03-un3 | C245: 'ATC探索者科技挑战赛项' | D245: ATC探索者-智慧城市' | E245: 中学组 | F245: 胜利1队 | G245: 巢湖市第七中学 巢湖市第三中学 | H245: 叶文涛 | I245: 魏浩宇|徐王昊|谈思辰 | J245: 9 | K245: 二等奖
A246: 89124 | B246: 2B8hXXth-139-039-DW-041-1-J3Q-03-jic | C246: 'ATC探索者科技挑战赛项' | D246: ATC探索者-智慧城市' | E246: 中学组 | F246: 深圳龙岗区龙城初级中学A队 | G246: 深圳市龙岗区龙城高级中学（教育集团）龙城初级中学 | H246: 范金城 | I246: 戴睿兴|戴子恒 | J246: 10 | K246: 二等奖
A247: 90895 | B247: 2B8hXX5C-139-039-Te-041-1-NTA-03-u2g | C247: 'ATC探索者科技挑战赛项' | D247: ATC探索者-智慧城市' | E247: 中学组 | F247: 深中龙岗一队 | G247: 深圳市龙岗区深圳中学龙岗学校 | H247: 袁浩鹏 | I247: 施劲成|叶艺骋 | J247: 11 | K247: 二等奖
A248: 89425 | B248: 2B8hXXt4-139-039-64-041-1-LJk-03-On5 | C248: 'ATC探索者科技挑战赛项' | D248: ATC探索者-智慧城市' | E248: 中学组 | F248: 天誉实验龙城初级联队 | G248: 深圳市龙岗区天誉实验学校 | H248: 周腾 | I248: 祝睿|黄增贤 | J248: 12 | K248: 二等奖
A249: 89856 | B249: 2B8hXXtI-139-039-UP-041-1-k5L-03-Meh | C249: 'ATC探索者科技挑战赛项' | D249: ATC探索者-智慧城市' | E249: 中学组 | F249: 深圳市珊蒂泉龙岗实验联队 | G249: 深圳市怎么玩机器人俱乐部 | H249: 罗丛礼 | I249: 梁骐超|黄宇镐 | J249: 13 | K249: 二等奖
A250: 77760 | B250: 2B8hXqTK-139-039-sM-041-1-Oy6-03-0L4 | C250: 'ATC探索者科技挑战赛项' | D250: ATC探索者-智慧城市' | E250: 中学组 | F250: 海德双语1队 | G250: 东莞市海德双语学校 | H250: 廖棋光|李戎彦 | I250: 殷天朗|谢汶熹 | J250: 14 | K250: 二等奖
A251: 89076 | B251: 2B8hXXta-139-039-Ta-041-1-OAB-03-2t9 | C251: 'ATC探索者科技挑战赛项' | D251: ATC探索者-智慧城市' | E251: 中学组 | F251: 深圳宝龙平安里联队 | G251: 深圳市龙岗区宝龙学校 | H251: 萧利峰 | I251: 陈楷译|黄翰霖 | J251: 15 | K251: 二等奖
A252: 77787 | B252: 2B8hXqTO-139-039-ro-041-1-WTj-03-sfS | C252: 'ATC探索者科技挑战赛项' | D252: ATC探索者-智慧城市' | E252: 中学组 | F252: 海德双语3队 | G252: 东莞市海德双语学校 | H252: 刘发林|祝嘉穗 | I252: 李振宇|谢峻安 | J252: 16 | K252: 二等奖
A253: 87325 | B253: 2B8hXqTq-139-039-IL-041-1-Bc7-03-t5o | C253: 'ATC探索者科技挑战赛项' | D253: ATC探索者-智慧城市' | E253: 中学组 | F253: 德琳突击队 | G253: 深圳市龙岗区德琳学校 | H253: 沙国君 | I253: 聂郡江|叶子煊 | J253: 17 | K253: 二等奖
A254: 89083 | B254: 2B8hXXtP-139-039-tr-041-1-Y6D-03-l8B | C254: 'ATC探索者科技挑战赛项' | D254: ATC探索者-智慧城市' | E254: 中学组 | F254: 龙岗区外国语学校建文学校联队 | G254: 深圳市龙岗区外国语学校 | H254: 薛雪|白净 | I254: 何轩毅|罗鸿 | J254: 18 | K254: 二等奖
A255: 86268 | B255: 2B8hXqHy-139-039-WJ-041-1-33C-03-whC | C255: 'ATC探索者科技挑战赛项' | D255: ATC探索者-智慧城市' | E255: 中学组 | F255: 童心飞扬2队 | G255: 童心飞扬科技实验室 | H255: 黄钰池 | I255: 陈楹|韩彦喆 | J255: 19 | K255: 二等奖
A256: 78637 | B256: 2B8hXqTy-139-039-58-041-1-rSL-03-RqF | C256: 'ATC探索者科技挑战赛项' | D256: ATC探索者-智慧城市' | E256: 中学组 | F256: 向阳腾飞队 | G256: 汕头市龙湖区香阳学校 | H256: 王琳 | I256: 袁铄|林崇博|张泽霖|谢博涵 | J256: 20 | K256: 二等奖
... A291: 88996 | B291: 2B8hXqHX-139-039-lh-041-1-cR3-03-NBL | C291: 'ATC探索者科技挑战赛项' | D291: ATC探索者-智慧城市' | E291: 中学组 | F291: 南师龙附705班 | G291: 深圳市龙岗区南京师范大学附属龙岗学校 | H291: 李莉莎|毕磊 | I291: 刘成钢|刘中源|杨明杰 | J291: 55 | K291: 三等奖

Sheet NeuroMaster 脑科学人工智能挑战赛项
A1: 2023世界机器人大赛总决赛-青少年机器人设计大赛-NeuroMaster 脑科学人工智能挑战赛项获奖名单
A2: 报名编号 | B2: 激活码 | C2: 赛道 | D2: 赛项 | E2: 组别 | F2: 队伍名称 | G2: 申报单位 | H2: 教练信息 | I2: 学生信息 | J2: 比赛分数 | K2: 成绩排名 | L2: 奖项
A3: 85171 | B3: 2B8hXqQX-139-042-BK-043-1-aSV-01-EJH | C3: NeuroMaster 脑科学人工智能挑战赛项' | D3: NeuroMaster未来之城' | E3: 小学组 | F3: 临沂三河口小学和德战队 | G3: 临沂三河口小学 | H3: 姜莉莉 | I3: 杨雅惠 |密良瑞蕊|季俣含|唐志彬 | J3: 晋级决赛 | K3: 冠军 | L3: 一等奖(冠军)
A4: 85394 | B4: 2B8hXqQa-139-042-oZ-043-1-eBF-01-gnQ | C4: 'NeuroMaster 脑科学人工智能挑战赛项' | D4: NeuroMaster未来之城' | E4: 小学组 | F4: 临沂三河口小学和谦战队 | G4: 临沂三河口小学 | H4: 王烁晗 | I4: 孙阳|李昊轩|伊相明 | J4: 晋级决赛 | K4: 亚军 | L4: 一等奖(亚军)
A5: 85169 | B5: 2B8hXqQi-139-042-Ww-043-1-mrE-01-2bq | C5: 'NeuroMaster 脑科学人工智能挑战赛项' | D5: NeuroMaster未来之城' | E5: 小学组 | F5: 三河口小学和润战队 | G5: 临沂三河口小学 | H5: 王烁晗 | I5: 巩隽瑶|巩隽成|曹原|张可昕 | J5: 晋级决赛 | K5: 季军 | L5: 一等奖(季军)
A6: 84719 | B6: 2B8hXq8N-139-042-Ov-043-1-WeT-01-4F6 | C6: 'NeuroMaster 脑科学人工智能挑战赛项' | D6: NeuroMaster未来之城' | E6: 小学组 | F6: 琅琊腾势 | G6: 兰山区培优人工智能工作室 | H6: 杜庆富 | I6: 王珑锦|董文硕|惠梓宸|牛孝之 | J6: 晋级决赛 | K6: 4 | L6: 一等奖
A7: 86992 | B7: 2B8hXJ9p-139-042-0B-043-1-839-01-HI0 | C7: 'NeuroMaster 脑科学人工智能挑战赛项' | D7: NeuroMaster未来之城' | E7: 小学组 | F7: 乐善未来 | G7: 南京致远外国语小学乐山路分校 | H7: 徐涵|王佳雯 | I7: 金晟豪|乔思涵|蔡江恒|姜俊彤 | J7: 未晋级决赛 | K7: 5 | L7: 一等奖
A8: 85635 | B8: 2B8hXq84-139-042-7c-043-1-OY0-01-VDB | C8: 'NeuroMaster 脑科学人工智能挑战赛项' | D8: NeuroMaster未来之城' | E8: 小学组 | F8: 凤凰湖小学2队 | G8: 广州市黄埔区凤凰湖小学 | H8: 陈兴豪|曾新有 | I8: 刘宸煜|朱梓瑶|黄语薇 | J8: 未晋级决赛 | K8: 6 | L8: 一等奖
A9: 91276 | B9: 2B8hXJ9F-139-042-HT-043-1-lTk-01-UgL | C9: 'NeuroMaster 脑科学人工智能挑战赛项' | D9: NeuroMaster未来之城' | E9: 小学组 | F9: 机御创未来3队 | G9: 机御未来青少年科技中心 | H9: 赵子豪|王宇光 | I9: 王嘉弈|初尚锟|陈昱霖|黄帆 | J9: 未晋级决赛 | K9: 7 | L9: 一等奖
A10: 85616 | B10: 2B8hXq8U-139-042-0Z-043-1-6uj-01-xBn | C10: 'NeuroMaster 脑科学人工智能挑战赛项' | D10: NeuroMaster未来之城' | E10: 小学组 | F10: 广州黄埔少年宫5队 | G10: 广州黄埔少年宫 | H10: 张晓君 | I10: 彭仁谦|林东昇|欧阳旭俊 | J10: 未晋级决赛 | K10: 8 | L10: 二等奖
A11: 85275 | B11: 2B8hXqHe-139-042-Kl-043-1-Omz-01-71c | C11: 'NeuroMaster 脑科学人工智能挑战赛项' | D11: NeuroMaster未来之城' | E11: 小学组 | F11: 经开1队 | G11: 肥东经济开发区中心学校 | H11: 方学雄|吴勇虎 | I11: 刘宇轩|李海洋 | J11: 未晋级决赛 | K11: 9 | L11: 二等奖
A12: 87442 | B12: 2B8hXq8X-139-042-ww-043-1-uHV-01-ycb | C12: 'NeuroMaster 脑科学人工智能挑战赛项' | D12: NeuroMaster未来之城' | E12: 小学组 | F12: 广州黄埔少年宫2队 | G12: 广州市黄埔区青少年宫 | H12: 张晓君 | I12: 班智杰|李通 | J12: 未晋级决赛 | K12: 10 | L12: 二等奖
A13: 85667 | B13: 2B8hXq8M-139-042-JD-043-1-FCu-01-Ss3 | C13: 'NeuroMaster 脑科学人工智能挑战赛项' | D13: NeuroMaster未来之城' | E13: 小学组 | F13: 湖师小学8队 | G13: 湖南师范大学附属黄埔实验学校 | H13: 钟丽明|钟朴正 | I13: 何宇航|曾嘉毅|阙紫瑜|万云翔 | J13: 未晋级决赛 | K13: 11 | L13: 二等奖
A14: 82820 | B14: 2B8hXqHn-139-042-lM-043-1-nor-01-CHU | C14: 'NeuroMaster 脑科学人工智能挑战赛项' | D14: NeuroMaster未来之城' | E14: 小学组 | F14: 惠州2队 | G14: 惠州市南山学校和第十一小学方直分校和惠州市第一小学联队 | H14: 李勇|邬焕文 | I14: 周红星|周思宇|唐圣杰 | J14: 未晋级决赛 | K14: 12 | L14: 二等奖
A15: 85487 | B15: 2B8hXqQG-139-042-1q-043-1-bVD-01-ph1 | C15: 'NeuroMaster 脑科学人工智能挑战赛项' | D15: NeuroMaster未来之城' | E15: 小学组 | F15: 凤小未来之城1队 | G15: 深圳市龙岗区平湖凤凰山小学 | H15: 辛若雯 | I15: 何奕宏|吴狄|王元晔|高茂城 | J15: 未晋级决赛 | K15: 13 | L15: 二等奖
A16: 85689 | B16: 2B8hXq8J-139-042-ui-043-1-JMO-01-5sg | C16: 'NeuroMaster 脑科学人工智能挑战赛项' | D16: NeuroMaster未来之城' | E16: 小学组 | F16: 香雪小学2队 | G16: 广州市黄埔区香雪小学 | H16: 莫绮丽|李铭均 | I16: 张诗涵|钟振华|董幸妤|岳樊恒 | J16: 未晋级决赛 | K16: 14 | L16: 二等奖
A17: 85602 | B17: 2B8hXq8y-139-042-ko-043-1-SCY-01-r8z | C17: 'NeuroMaster 脑科学人工智能挑战赛项' | D17: NeuroMaster未来之城' | E17: 小学组 | F17: 回民小学3队 | G17: 广州市回民小学 | H17: 胡欣华 | I17: 何俊锋|陈希乐|张曜宁|张津铭 | J17: 未晋级决赛 | K17: 15 | L17: 二等奖
... A49: 80656 | B49: 2B8hXqHN-139-042-PV-043-1-Ln4-01-lYO | C49: 'NeuroMaster 脑科学人工智能挑战赛项' | D49: NeuroMaster未来之城' | E49: 小学组 | F49: 珠海火焰队 | G49: 珠海市香洲区茵卓小学 | H49: 吴禹全|吴丹 | I49: 郑媛媛|关皓薪|冼鑫|朱子轩 | J49: 未晋级决赛 | K49: 46 | L49: 三等奖
A51: 86846 | B51: 2B8hX5R8-139-042-ky-043-1-bn3-03-Lx6 | C51: 'NeuroMaster 脑科学人工智能挑战赛项' | D51: NeuroMaster未来之城' | E51: 中学组 | F51: 新城初中2队 | G51: 南京师范大学附属中学新城初级中学 | H51: 张健平 | I51: 周子圳|王佑予|缪均霖 | J51: 晋级决赛 | K51: 冠军 | L51: 一等奖(冠军)
A52: 86608 | B52: 2B8hXJCQ-139-042-Ob-043-1-rAp-03-YoB | C52: 'NeuroMaster 脑科学人工智能挑战赛项' | D52: NeuroMaster未来之城' | E52: 中学组 | F52: Mind Crafters | G52: 深圳市盐田区实验学校 | H52: 姚佳静|周之 | I52: 谢霖韩|刁誉恒|陈晓灵|刘津津 | J52: 晋级决赛 | K52: 亚军 | L52: 一等奖(亚军)
A53: 86776 | B53: 2B8hX5RQ-139-042-xA-043-1-5QP-03-q8Q | C53: 'NeuroMaster 脑科学人工智能挑战赛项' | D53: NeuroMaster未来之城' | E53: 中学组 | F53: 新城初中1队 | G53: 南京师范大学附属中学新城初级中学 | H53: 何嘉欢 | I53: 张曦之|杭乾悦|徐一树 | J53: 晋级决赛 | K53: 季军 | L53: 一等奖(季军)
A54: 84900 | B54: 2B8hX5R3-139-042-4b-043-1-a2x-03-ChO | C54: 'NeuroMaster 脑科学人工智能挑战赛项' | D54: NeuroMaster未来之城' | E54: 中学组 | F54: 临沂四中脑科学1队 | G54: 临沂第四中学 | H54: 吕海涛 | I54: 林青泽|杜振瑄|王帅涵|康荣智 | J54: 晋级决赛 | K54: 4 | L54: 一等奖
A55: 87009 | B55: 2B8hX5RR-139-042-7q-043-1-opw-03-A3x | C55: 'NeuroMaster 脑科学人工智能挑战赛项' | D55: NeuroMaster未来之城' | E55: 中学组 | F55: 新城初中3队 | G55: 诚昱创机器人俱乐部 | H55: 何嘉欢|张健平 | I55: 杭乾恺|曹琰坤|查钧砾 | J55: 未晋级决赛 | K55: 5 | L55: 一等奖
A56: 87339 | B56: 2B8hXJCA-139-042-vt-043-1-M7q-03-ISO | C56: 'NeuroMaster 脑科学人工智能挑战赛项' | D56: NeuroMaster未来之城' | E56: 中学组 | F56: 南京市第二十九中学 | G56: 南京市第二十九中学 | H56: 张宏亮|袁京莉 | I56: 崔时瑞|缪舒帆|孙浩轩|宋恩泽 | J56: 未晋级决赛 | K56: 6 | L56: 一等奖
A57: 91235 | B57: 2B8hXJC1-139-042-7U-043-1-CoU-03-zNF | C57: 'NeuroMaster 脑科学人工智能挑战赛项' | D57: NeuroMaster未来之城' | E57: 中学组 | F57: 机御创未来2队 | G57: 机御未来青少年科技中心 | H57: 王宇光|赵子豪 | I57: 张曦文|夏锦源|徐君涵 | J57: 未晋级决赛 | K57: 7 | L57: 二等奖
A58: 87417 | B58: 2B8hXJC6-139-042-KU-043-1-IMq-03-ewB | C58: 'NeuroMaster 脑科学人工智能挑战赛项' | D58: NeuroMaster未来之城' | E58: 中学组 | F58: 临沂第四中学2队 | G58: 临沂第四中学 | H58: 程嘉 | I58: 张凤艺|冯冠祥|刘耀泽|贺俊尧 | J58: 未晋级决赛 | K58: 8 | L58: 二等奖
A59: 86119 | B59: 2B8hX5RT-139-042-el-043-1-w8j-03-MaN | C59: 'NeuroMaster 脑科学人工智能挑战赛项' | D59: NeuroMaster未来之城' | E59: 中学组 | F59: 未来战士队 | G59: 育才三中、石厦学校、哈工大实验学校、第三高级中学 | H59: 路开尧 | I59: 钟佳洋|张倍飒|路可忎 |白冰宏 | J59: 未晋级决赛 | K59: 9 | L59: 二等奖
A60: 81416 | B60: 2B8hX58D-139-042-RN-043-1-Pi4-03-blh | C60: 'NeuroMaster 脑科学人工智能挑战赛项' | D60: NeuroMaster未来之城' | E60: 中学组 | F60: 东莞机械联盟13队 | G60: 东莞市东城实验中学 | H60: 张伟华 | I60: 张涛|李金阳|廖张沛杰|陆海峰 | J60: 未晋级决赛 | K60: 10 | L60: 二等奖
A61: 84336 | B61: 2B8hX5RW-139-042-eG-043-1-Q3p-03-hgG | C61: 'NeuroMaster 脑科学人工智能挑战赛项' | D61: NeuroMaster未来之城' | E61: 中学组 | F61: 山海学校未来之城 | G61: 深圳市盐田区山海学校 | H61: 彭海辉|许立希 | I61: 邹文程|张王杰|周尹晨 | J61: 未晋级决赛 | K61: 11 | L61: 二等奖
A62: 91146 | B62: 2B8hXJC3-139-042-H1-043-1-M0A-03-NDx | C62: 'NeuroMaster 脑科学人工智能挑战赛项' | D62: NeuroMaster未来之城' | E62: 中学组 | F62: 机御创未来1队 | G62: 机御未来青少年科技中心 | H62: 王宇光|赵子豪 | I62: 夏泽轩|马睿儿|李天瑞|李祺峰 | J62: 未晋级决赛 | K62: 12 | L62: 二等奖
A63: 86217 | B63: 2B8hX5Rf-139-042-zd-043-1-WJM-03-l59 | C63: 'NeuroMaster 脑科学人工智能挑战赛项' | D63: NeuroMaster未来之城' | E63: 中学组 | F63: 电击小子队 | G63: 火星人俱乐部 | H63: 陶一宁 | I63: 资镓闻|郑翔瑀 | J63: 未晋级决赛 | K63: 13 | L63: 二等奖
A64: 87397 | B64: 2B8hXJCc-139-042-o1-043-1-O3O-03-S3H | C64: 'NeuroMaster 脑科学人工智能挑战赛项' | D64: NeuroMaster未来之城' | E64: 中学组 | F64: 湖师初中4队 | G64: 湖南师范大学附属黄埔实验学校 | H64: 朱木花 | I64: 蒋雨轩|邓涵予|钟诜愉 | J64: 未晋级决赛 | K64: 14 | L64: 二等奖
A65: 90479 | B65: 2B8hXJCf-139-042-QI-043-1-Cb3-03-0A7 | C65: 'NeuroMaster 脑科学人工智能挑战赛项' | D65: NeuroMaster未来之城' | E65: 中学组 | F65: 深圳市南山区赤湾学校中学代表队 | G65: 深圳市南山区赤湾学校 | H65: 孙万钢|赵高林 | I65: 刘楚珈|肖涵墨 | J65: 未晋级决赛 | K65: 14 | L65: 二等奖
... A89: 79988 | B89: 2B8hX5R4-139-042-Hn-043-1-uuC-03-M4k | C89: 'NeuroMaster 脑科学人工智能挑战赛项' | D89: NeuroMaster未来之城' | E89: 中学组 | F89: 天才队 | G89: 南京市鼓楼实验中学 南京英国国际学校 南京梅园中学 | H89: 肖彤 | I89: 徐宁蔓|万峻杰|孟冠宇|袁施正 | J89: 未晋级决赛 | K89: 39 | L89: 三等奖
A91: 报名编号 | B91: 激活码 | C91: 赛道 | D91: 赛项 | E91: 组别 | F91: 队伍名称 | G91: 申报单位 | H91: 教练信息 | I91: 学生信息 | J91: 比赛分数 | K91: 成绩排名 | L91: 奖项 | M91: 相同得分 完成时间为第二排名依据
A92: 84486 | B92: 2B8hXqnw-139-042-LA-044-1-V2J-01-PJh | C92: NeuroMaster 脑科学人工智能挑战赛项' | D92: NeuroMaster火星救援' | E92: 小学组 | F92: 锦绣星火队 | G92: 安阳市龙安区锦绣学校 | H92: 刘亚琼 | I92: 文嘉珂|翟梓旭|蒋佳锐 | J92: 420 | K92: 冠军 | L92: 一等奖(冠军)
A93: 84210 | B93: 2B8hXqn3-139-042-Gw-044-1-Mti-01-tH1 | C93: 'NeuroMaster 脑科学人工智能挑战赛项' | D93: NeuroMaster火星救援' | E93: 小学组 | F93: 学府一小 | G93: 南山区第二外国语学校（集团）学府一小 | H93: 青春妍|周大勇 | I93: 余思妍|钟睿曦|邓慧怡 | J93: 360 | K93: 亚军 | L93: 一等奖(亚军)
A94: 85378 | B94: 2B8hXqn4-139-042-YK-044-1-hrP-01-QjK | C94: 'NeuroMaster 脑科学人工智能挑战赛项' | D94: NeuroMaster火星救援' | E94: 小学组 | F94: 锦绣星耀战队 | G94: 安阳市龙安区锦绣学校 | H94: 马磊 | I94: 纪陶宁|翟骐筠|郭博宇 | J94: 340 | K94: 季军 | L94: 一等奖(季军)
A95: 79585 | B95: 2B8hXqna-139-042-JQ-044-1-9wY-01-GnP | C95: 'NeuroMaster 脑科学人工智能挑战赛项' | D95: NeuroMaster火星救援' | E95: 小学组 | F95: 科苑+荔园战队 | G95: 深圳市南山外国语学校（集团）科苑小学+荔园外国语小学 | H95: 朱宇 | I95: 蓝翊轩|罗歆然|陈玥彤 | J95: 340 | K95: 4 | L95: 一等奖
A96: 79626 | B96: 2B8hXqnS-139-042-Ku-044-1-b6H-01-DQL | C96: 'NeuroMaster 脑科学人工智能挑战赛项' | D96: NeuroMaster火星救援' | E96: 小学组 | F96: 南科大实验一小战队 | G96: 南科大实验一小 | H96: 黄凯琳|刘安 | I96: 蔡尚楷|郑淏|刘子颉 | J96: 290 | K96: 5 | L96: 一等奖
A97: 85185 | B97: 2B8hXqEE-139-042-Xb-044-1-rqj-01-wQh | C97: 'NeuroMaster 脑科学人工智能挑战赛项' | D97: NeuroMaster火星救援' | E97: 小学组 | F97: 创启之星二队 | G97: 创启之星青少年机器人活动中心 | H97: 欧骏志 | I97: 钮淇|李霈羽|国释恩 | J97: 290 | K97: 6 | L97: 一等奖
A98: 86094 | B98: 2B8hXqn8-139-042-E1-044-1-wOa-01-0EJ | C98: 'NeuroMaster 脑科学人工智能挑战赛项' | D98: NeuroMaster火星救援' | E98: 小学组 | F98: 浙江省武义县壶山小学 | G98: 浙江省武义县壶山小学 | H98: 刘庆红 |王宪阳 | I98: 郑一骁|顾尧胜|项楚岚 | J98: 290 | K98: 7 | L98: 二等奖
A99: 81891 | B99: 2B8hXqnB-139-042-St-044-1-Fvc-01-D2n | C99: 'NeuroMaster 脑科学人工智能挑战赛项' | D99: NeuroMaster火星救援' | E99: 小学组 | F99: 深南创队 | G99: 深圳市深中南山创新学校 | H99: 许炎霖|张璐 | I99: 陈无忧|朱伦宏|李沐暄 | J99: 290 | K99: 8 | L99: 二等奖
A100: 79147 | B100: 2B8hXqnN-139-042-1Q-044-1-n6S-01-PSA | C100: 'NeuroMaster 脑科学人工智能挑战赛项' | D100: NeuroMaster火星救援' | E100: 小学组 | F100: 飞向宇宙队 | G100: 深圳市光明区楼村小学 | H100: 李卉|黄晓婷 | I100: 代泽昊|唐从洵|肖天宇 | J100: 290 | K100: 9 | L100: 二等奖
A101: 85366 | B101: 2B8hXqnU-139-042-mq-044-1-aCh-01-c90 | C101: 'NeuroMaster 脑科学人工智能挑战赛项' | D101: NeuroMaster火星救援' | E101: 小学组 | F101: 锦绣雄鹰小队 | G101: 安阳市龙安区锦绣学校 | H101: 党晓海 | I101: 党傲翔|王艺珂|张劭姮 | J101: 280 | K101: 10 | L101: 二等奖
A102: 85865 | B102: 2B8hXqES-139-042-MD-044-1-vYq-01-Dsk | C102: 'NeuroMaster 脑科学人工智能挑战赛项' | D102: NeuroMaster火星救援' | E102: 小学组 | F102: 小米二队 | G102: 小米机器人 | H102: 杨可强 | I102: 陈洛琪|廖英剀|张宸骏 | J102: 280 | K102: 11 | L102: 二等奖
A103: 84883 | B103: 2B8hXqEe-139-042-cr-044-1-XkV-01-wRd | C103: 'NeuroMaster 脑科学人工智能挑战赛项' | D103: NeuroMaster火星救援' | E103: 小学组 | F103: 智慧星光 | G103: 北京智慧百家 | H103: 王婷婷|李文婷 | I103: 周鸿骞|陈乐娴 | J103: 270 | K103: 12 | L103: 二等奖
A104: 87665 | B104: 2B8hXquZ-139-042-rf-044-1-AQR-01-mqA | C104: 'NeuroMaster 脑科学人工智能挑战赛项' | D104: NeuroMaster火星救援' | E104: 小学组 | F104: 超能先锋 | G104: 乐蔻叮少儿科技素养中心 | H104: 马丹娜 | I104: 刘子墨|陶梓睿|谭泽中 | J104: 270 | K104: 13 | L104: 二等奖
A105: 78999 | B105: 2B8hXqnP-139-042-LN-044-1-WED-01-7Ib | C105: 'NeuroMaster 脑科学人工智能挑战赛项' | D105: NeuroMaster火星救援' | E105: 小学组 | F105: 壮志凌云 | G105: 石家庄凤栖桐科普赛事俱乐部 | H105: 胡雪丽|靳岱楠 | I105: 洪帅帅|王锦墨|魏雨烁 | J105: 190 | K105: 14 | L105: 二等奖
A106: 85176 | B106: 2B8hXquP-139-042-rr-044-1-Mwg-01-H5T | C106: 'NeuroMaster 脑科学人工智能挑战赛项' | D106: NeuroMaster火星救援' | E106: 小学组 | F106: 暴风雪 | G106: 乐蔻叮少儿科技素养中心 | H106: 王戈 | I106: 吴泓伯|王景煊|唐海峻 | J106: 190 | K106: 15 | L106: 二等奖
... A127: 79560 | B127: 2B8hXqnr-139-042-vU-044-1-O7t-01-pDm | C127: 'NeuroMaster 脑科学人工智能挑战赛项' | D127: NeuroMaster火星救援' | E127: 小学组 | F127: 南科一小+第二实验战队 | G127: 南科大实验一小+南科大第二实验学校 | H127: 黄凯琳|孙志业 | I127: 唐嘉远|张书源|麦卓乔 | J127: 20 | K127: 36 | L127: 三等奖
A129: 87348 | B129: 2B8hXJ9I-139-042-DU-044-1-8iu-03-BZP | C129: 'NeuroMaster 脑科学人工智能挑战赛项' | D129: NeuroMaster火星救援' | E129: 中学组 | F129: 南京市第二十九中学队 | G129: 南京市第二十九中学 | H129: 孙春艳|沙佟祎 | I129: 刘子杰|卢杰|徐乐添 | J129: 360 | K129: 冠军 | L129: 一等奖(冠军)
A130: 83143 | B130: 2B8hXq3G-139-042-Sz-044-1-1zg-03-vPh | C130: 'NeuroMaster 脑科学人工智能挑战赛项' | D130: NeuroMaster火星救援' | E130: 中学组 | F130: 赤峰红旗队 | G130: 赤峰二中国际实验学校 | H130: 郭淑梅|王振学 | I130: 刘硕|郭子贤|韩天为 | J130: 360 | K130: 亚军 | L130: 一等奖(亚军)
A131: 80830 | B131: 2B8hXq1v-139-042-hx-044-1-wPa-03-zOO | C131: 'NeuroMaster 脑科学人工智能挑战赛项' | D131: NeuroMaster火星救援' | E131: 中学组 | F131: 海德学校中学队 | G131: 深圳市南山区第二外国语学校（集团）海德学校 | H131: 罗灵 | I131: 徐芷灵|刘子瑞|白佳彤 | J131: 340 | K131: 季军 | L131: 一等奖(季军)
A132: 87359 | B132: 2B8hXq3k-139-042-Ln-044-1-Ohr-03-7KI | C132: 'NeuroMaster 脑科学人工智能挑战赛项' | D132: NeuroMaster火星救援' | E132: 中学组 | F132: 育才二中必胜队 | G132: 深圳市蛇口育才教育集团育才二中 | H132: 唐帆|吴晓茜 | I132: 吴锘辰|陈仰祈|陈峻希 | J132: 340 | K132: 4 | L132: 一等奖
A133: 85820 | B133: 2B8hXq14-139-042-vO-044-1-Vag-03-Rou | C133: 'NeuroMaster 脑科学人工智能挑战赛项' | D133: NeuroMaster火星救援' | E133: 中学组 | F133: 101中学、威力塔斯学校哈英联队 | G133: 哈英联盟 | H133: 李阳|储启明 | I133: 方泊雅|杨睎睿 | J133: 300 | K133: 5 | L133: 二等奖
A134: 86700 | B134: 2B8hXq3o-139-042-MT-044-1-j07-03-xag | C134: 'NeuroMaster 脑科学人工智能挑战赛项' | D134: NeuroMaster火星救援' | E134: 中学组 | F134: 小米五队 | G134: 小米机器人 | H134: 杨可强 | I134: 缪言|陈思吉|李岱晔 | J134: 290 | K134: 6 | L134: 二等奖
A135: 85668 | B135: 2B8hXq3p-139-042-Nm-044-1-daQ-03-9A3 | C135: 'NeuroMaster 脑科学人工智能挑战赛项' | D135: NeuroMaster火星救援' | E135: 中学组 | F135: 创启之星队 | G135: 创启之星青少年机器人活动中心 | H135: 欧骏志 | I135: 范雨鑫|蒋牧成|谢茗朗 | J135: 290 | K135: 7 | L135: 二等奖
A136: 84013 | B136: 2B8hXq3q-139-042-p8-044-1-xBo-03-5wt | C136: 'NeuroMaster 脑科学人工智能挑战赛项' | D136: NeuroMaster火星救援' | E136: 中学组 | F136: 红旗飘扬二队 | G136: 赤峰红旗中学 | H136: 郭淑梅 | I136: 韩岳|康杨|郭依飞 | J136: 190 | K136: 8 | L136: 二等奖
A137: 84146 | B137: 2B8hXq3t-139-042-6D-044-1-aJw-03-qIo | C137: 'NeuroMaster 脑科学人工智能挑战赛项' | D137: NeuroMaster火星救援' | E137: 中学组 | F137: 红旗飘扬一队 | G137: 赤峰红旗中学 | H137: 王振学 | I137: 苗淞淋|吴依凡|马宇新 | J137: 110 | K137: 9 | L137: 二等奖
A138: 86196 | B138: 2B8hXq17-139-042-2i-044-1-69C-03-6kQ | C138: 'NeuroMaster 脑科学人工智能挑战赛项' | D138: NeuroMaster火星救援' | E138: 中学组 | F138: 祝融队 | G138: 呼和浩特市第二中学 | H138: 姜波|范囿伊 | I138: 胡和|张珏|包云启 | J138: 100 | K138: 10 | L138: 二等奖
A139: 83028 | B139: 2B8hXq3n-139-042-5q-044-1-iIw-03-OlK | C139: 'NeuroMaster 脑科学人工智能挑战赛项' | D139: NeuroMaster火星救援' | E139: 中学组 | F139: 大脑王国智联队 | G139: 大脑王国学能中心 | H139: 韩梅|姜丽丽 | I139: 刘文泽|白伟萱|白伟悦 | J139: 90 | K139: 11 | L139: 二等奖
A140: 90044 | B140: 2B8hXq3f-139-042-PJ-044-1-9By-03-uoR | C140: 'NeuroMaster 脑科学人工智能挑战赛项' | D140: NeuroMaster火星救援' | E140: 中学组 | F140: 火力少年王 | G140: 甘肃昱晟职业技能培训学校俱乐部 | H140: 韩建国|姜曼 | I140: 韩沛芷|高洋|梁家玮 | J140: 90 | K140: 12 | L140: 二等奖
A141: 87374 | B141: 2B8hXq3s-139-042-ec-044-1-XKw-03-Jf0 | C141: 'NeuroMaster 脑科学人工智能挑战赛项' | D141: NeuroMaster火星救援' | E141: 中学组 | F141: 育才二中梦之队 | G141: 深圳市蛇口育才教育集团育才二中 | H141: 唐帆|吴晓茜 | I141: 汪煜城|陈奕涵|欧阳嘉骋 | J141: 90 | K141: 13 | L141: 三等奖
A142: 85808 | B142: 2B8hXq3c-139-042-cL-044-1-mAO-03-jdb | C142: 'NeuroMaster 脑科学人工智能挑战赛项' | D142: NeuroMaster火星救援' | E142: 中学组 | F142: BY队 | G142: 呼和浩特市第二中学 | H142: 姜波|尹敩 | I142: 赖博扬|张庭熙|渠鸿宇 | J142: 90 | K142: 14 | L142: 三等奖
A143: 87399 | B143: 2B8hXJ9i-139-042-tO-044-1-3st-03-ENB | C143: 'NeuroMaster 脑科学人工智能挑战赛项' | D143: NeuroMaster火星救援' | E143: 中学组 | F143: 齐鲁天骄队 | G143: 凯迪俱乐部 | H143: 张兆伟 | I143: 张馨戈|刘一峰|高剑峰 | J143: 80 | K143: 15 | L143: 三等奖
... A151: 86122 | B151: 2B8hXq1P-139-042-XL-044-1-Qrl-03-LH6 | C151: 'NeuroMaster 脑科学人工智能挑战赛项' | D151: NeuroMaster火星救援' | E151: 中学组 | F151: 超越极限队 | G151: 呼和浩特市第二中学 | H151: 姜波|尹敩 | I151: 杜浩然|倪新家鸣 | J151: 10 | K151: 23 | L151: 三等奖

Sheet YAI赛项
A1: 2023世界机器人大赛总决赛-青少年机器人设计大赛-YAI赛项获奖名单
A2: 报名编号 | B2: 激活码 | C2: 赛道 | D2: 赛项 | E2: 组别 | F2: 队伍名称 | G2: 申报单位 | H2: 教练信息 | I2: 学生信息 | J2: 成绩排名 | K2: 奖项
A3: 91402 | B3: 2B8hXX6n-139-045-yY-048-1-8GQ-01-aBt | C3: YAI赛项' | D3: YAI元宇宙探索' | E3: 小学组 | F3: 布吉突击队 | G3: 深圳南湾学校，深圳诺思外国语学校，深圳塘坑学校 | H3: 郑静琼 | I3: 江岳衡|刘宇谦|王梓荣 | J3: 1冠军 | K3: 一等奖(冠军)
A4: 84035 | B4: 2B8hXJVm-139-045-86-048-1-1Nd-01-FE5 | C4: 'YAI赛项' | D4: YAI元宇宙探索' | E4: 小学组 | F4: 晋阳七队 | G4: 太原市小店区长治路小学校 | H4: 张静霜 | I4: 原羽昊|刘钊语|张锐浩 | J4: 2亚军 | K4: 一等奖(亚军)
A5: 75978 | B5: 2B8hXqgS-139-045-Kh-048-1-k70-01-m4w | C5: 'YAI赛项' | D5: YAI元宇宙探索' | E5: 小学组 | F5: 春秋队 | G5: 昆明盘龙小学、昆明红旗小学、玉溪生态实验小学 | H5: 林志刚 | I5: 张瀚|毕骏一|李佳蔓 | J5: 3季军 | K5: 一等奖(季军)
A6: 84073 | B6: 2B8hXJfv-139-045-eV-048-1-4yj-01-CfZ | C6: 'YAI赛项' | D6: YAI元宇宙探索' | E6: 小学组 | F6: 银河战神队 | G6: 太原市小店区大营盘小学校 | H6: 李文杰 | I6: 邸贾辰|王皓镜|张子玥 | J6: 4 | K6: 一等奖
A7: 88926 | B7: 2B8hXJIn-139-045-Bs-048-1-Pl4-01-R3G | C7: 'YAI赛项' | D7: YAI元宇宙探索' | E7: 小学组 | F7: 超级齿轮 | G7: 云南省昆明市官渡区钟英小学 | H7: 闻若羽 | I7: 刘梦琪|吴炳贤 | J7: 5 | K7: 一等奖
A8: 84059 | B8: 2B8hXJVD-139-045-51-048-1-VHV-01-zya | C8: 'YAI赛项' | D8: YAI元宇宙探索' | E8: 小学组 | F8: 坚如磐石队 | G8: 太原市小店区大营盘小学校 | H8: 郭宇翔 | I8: 霍一辰|李佳玺|王晟恺 | J8: 6 | K8: 一等奖
A9: 93961 | B9: 2B8hXa6A-139-045-Nf-048-1-fHs-01-Duv | C9: 'YAI赛项' | D9: YAI元宇宙探索' | E9: 小学组 | F9: 龙井花茶 | G9: 北京宇星国科国际教育科技中心 | H9: 纪沂成 | I9: 樊梓烁|孙年墨|张铂伟 | J9: 7 | K9: 一等奖
A10: 89010 | B10: 2B8hXJIg-139-045-gp-048-1-Wc8-01-GQv | C10: 'YAI赛项' | D10: YAI元宇宙探索' | E10: 小学组 | F10: 云南省活动中心元宇宙2队 | G10: 云南省昆明市红云小学 | H10: 蔡启玲 | I10: 刘一|海心然|全奕宁 | J10: 8 | K10: 一等奖
A11: 93987 | B11: 2B8hXa6u-139-045-yW-048-1-rUf-01-7uM | C11: 'YAI赛项' | D11: YAI元宇宙探索' | E11: 小学组 | F11: 天下第一队 | G11: 深圳市华锌网络科技中心 | H11: 郑静琼 | I11: 林谦|何致远 | J11: 9 | K11: 一等奖
A12: 84597 | B12: 2B8hXJfn-139-045-QL-048-1-ym9-01-4Mk | C12: 'YAI赛项' | D12: YAI元宇宙探索' | E12: 小学组 | F12: 下瓦房九队 | G12: 下瓦房叁号积木工坊 | H12: 杨易华 | I12: 王海宁|杨佩荞 | J12: 10 | K12: 一等奖
A13: 76100 | B13: 2B8hXqgU-139-045-so-048-1-YZp-01-Bzx | C13: 'YAI赛项' | D13: YAI元宇宙探索' | E13: 小学组 | F13: 沙园Tobey托比1队 | G13: 广州东山培正小学 | H13: 赵崇德|李伯泉 | I13: 诸俊贤|黄桉琳 | J13: 11 | K13: 一等奖
A14: 76458 | B14: 2B8hXqgi-139-045-UC-048-1-OcL-01-Mlt | C14: 'YAI赛项' | D14: YAI元宇宙探索' | E14: 小学组 | F14: 黄埔飞跃队 | G14: 庙头小学、广州市天河区车陂小学、广州市开发区第二小学联队 | H14: 周杨 | I14: 林栩瑶|苏航铭|赵彦皓 | J14: 12 | K14: 一等奖
A15: 78392 | B15: 2B8hXqdh-139-045-Xw-048-1-hHa-01-tGs | C15: 'YAI赛项' | D15: YAI元宇宙探索' | E15: 小学组 | F15: 雄鹿队 | G15: 卡巴青少儿编程 | H15: 陈晨 | I15: 刘子坤|王紫宸 | J15: 13 | K15: 一等奖
A16: 91399 | B16: 2B8hXX6Q-139-045-VU-048-1-e6y-01-OH5 | C16: 'YAI赛项' | D16: YAI元宇宙探索' | E16: 小学组 | F16: 布吉胜利队 | G16: 深圳市龙岗区南湾学校 | H16: 郑静琼 | I16: 薛梦阳|薛楚凡|黄俊霖 | J16: 14 | K16: 一等奖
A17: 84121 | B17: 2B8hXJVI-139-045-M7-048-1-hlp-01-Cfs | C17: 'YAI赛项' | D17: YAI元宇宙探索' | E17: 小学组 | F17: 府西天璇 | G17: 太原杏花岭区北大街小学太原杏花岭区杏东小学太原万柏林凤凰双语小学 | H17: 高超 | I17: 温思涵|郭书恺|张梓航 | J17: 15 | K17: 一等奖
... A220: 91017 | B220: 2B8hXXST-139-045-UV-048-1-qHa-01-Lid | C220: 'YAI赛项' | D220: YAI元宇宙探索' | E220: 小学组 | F220: 科贝思给力队 | G220: 盐城市机器人学会 | H220: 汪成 | I220: 颜子棋|虞镇萌 | J220: 218 | K220: 三等奖
A222: 报名编号 | B222: 激活码 | C222: 赛道 | D222: 赛项 | E222: 组别 | F222: 队伍名称 | G222: 申报单位 | H222: 教练信息 | I222: 学生信息 | J222: 成绩排名 | K222: 奖项
A223: 88777 | B223: 2B8hXJ5A-139-045-X5-047-1-5ZU-01-JZy | C223: YAI赛项' | D223: YAI城市资源争夺战' | E223: 小学组 | F223: 锋锐战刀 | G223: 泉州实验中学丰泽附属小学 | H223: 谢苗芬 | I223: 潘彦锋|林泓锐 | J223: 1冠军 | K223: 一等奖(冠军)
A224: 87079 | B224: 2B8hXJ5w-139-045-q0-047-1-w0v-01-7DP | C224: 'YAI赛项' | D224: YAI城市资源争夺战' | E224: 小学组 | F224: 创世纪 | G224: 泉州市第三实验小学 | H224: 温春龙 | I224: 陈文永|陈卓 | J224: 2亚军 | K224: 一等奖(亚军)
A225: 75445 | B225: 2B8hXqgB-139-045-vC-047-1-vpM-01-hc8 | C225: 'YAI赛项' | D225: YAI城市资源争夺战' | E225: 小学组 | F225: 勇往直前 | G225: 旭优森科教体验馆 | H225: 李铸珉 | I225: 周振华|周挺 | J225: 3季军 | K225: 一等奖(季军)
A226: 84984 | B226: 2B8hXJ5p-139-045-uB-047-1-fYd-01-r3k | C226: 'YAI赛项' | D226: YAI城市资源争夺战' | E226: 小学组 | F226: 无敌先锋队 | G226: 深圳市龙华区第二外国语学校 | H226: 冯唐海 | I226: 袁伟华|王皓辰|侯若谷 | J226: 4 | K226: 一等奖
A227: 80180 | B227: 2B8hXqgT-139-045-mL-047-1-unt-01-lcH | C227: 'YAI赛项' | D227: YAI城市资源争夺战' | E227: 小学组 | F227: 机械师 | G227: 泉州市立成小学 | H227: 叶剑平|林国师 | I227: 林立轩|钟宇涵 | J227: 5 | K227: 一等奖
A228: 75819 | B228: 2B8hXqeP-139-045-1s-047-1-8Zr-01-U27 | C228: 'YAI赛项' | D228: YAI城市资源争夺战' | E228: 小学组 | F228: 双迅组合 | G228: 佛山市实验学校 | H228: 周小虹 | I228: 麦宇迅|罗邦迅 | J228: 6 | K228: 一等奖
A229: 79082 | B229: 2B8hXqgn-139-045-BS-047-1-mww-01-fZl | C229: 'YAI赛项' | D229: YAI城市资源争夺战' | E229: 小学组 | F229: LOKAR谦骞有力队 | G229: LOKAR创客中心 | H229: 李嘉权|何天培 | I229: 何沛谦|吴子骞 | J229: 7 | K229: 二等奖
A230: 83896 | B230: 2B8hXJ5I-139-045-YO-047-1-20l-01-jKc | C230: 'YAI赛项' | D230: YAI城市资源争夺战' | E230: 小学组 | F230: 万柳2队 | G230: 北京市海淀区科创学校 | H230: 徐贺 | I230: 李卓霖|牛潇亦 | J230: 8 | K230: 二等奖
A231: 80097 | B231: 2B8hXJ5M-139-045-pC-047-1-6Vu-01-PVu | C231: 'YAI赛项' | D231: YAI城市资源争夺战' | E231: 小学组 | F231: 亚运村资源争夺 | G231: 北京市朝阳区亚运村科创学校 | H231: 孙玉丰 | I231: 杨若慈|杨云杰 | J231: 9 | K231: 二等奖
A232: 77454 | B232: 2B8hXqg8-139-045-xR-047-1-PC3-01-ENJ | C232: 'YAI赛项' | D232: YAI城市资源争夺战' | E232: 小学组 | F232: LOKAR宝贝队 | G232: LOKAR机器人俱乐部 | H232: 杨泳珊|罗嘉键 | I232: 何明谦|吴承宇 | J232: 10 | K232: 二等奖
A233: 84009 | B233: 2B8hXJ5Z-139-045-FP-047-1-Dhh-01-VU9 | C233: 'YAI赛项' | D233: YAI城市资源争夺战' | E233: 小学组 | F233: 望京城市资源一队 | G233: 青少儿望京科技中心 | H233: 皮兆强 | I233: 王浩然|高悦航 | J233: 11 | K233: 二等奖
A234: 86529 | B234: 2B8hXqgQ-139-045-GL-047-1-lYR-01-GSG | C234: 'YAI赛项' | D234: YAI城市资源争夺战' | E234: 小学组 | F234: 泉州市丰泽区第三实验小学 | G234: 泉州市丰泽区第三实验小学 | H234: 雷虹虹 | I234: 吴家锐|黄培熙 | J234: 12 | K234: 二等奖
A235: 86321 | B235: 2B8hXJ5z-139-045-3R-047-1-jwW-01-qaD | C235: 'YAI赛项' | D235: YAI城市资源争夺战' | E235: 小学组 | F235: 六里桥1队 | G235: 机器人编程中心六里桥校区 | H235: 黄润卯 | I235: 朱妙妍|赵钰珵 | J235: 13 | K235: 二等奖
A236: 84471 | B236: 2B8hXJ5S-139-045-oe-047-1-Skf-01-onZ | C236: 'YAI赛项' | D236: YAI城市资源争夺战' | E236: 小学组 | F236: 芯卫莱1 | G236: 郑州芯卫莱赛考活动中心 | H236: 吴静文 | I236: 褚俞茗|郭秋懿 | J236: 14 | K236: 二等奖
A237: 84541 | B237: 2B8hXJ5C-139-045-Jh-047-1-Oa9-01-Yw1 | C237: 'YAI赛项' | D237: YAI城市资源争夺战' | E237: 小学组 | F237: 芯卫莱2 | G237: 郑州芯卫莱赛考活动中心 | H237: 吴静文 | I237: 卢烁宇|张彬 | J237: 15 | K237: 二等奖
... A260: 91780 | B260: 2B8hXa5B-139-045-q0-047-1-WNO-01-qIy | C260: 'YAI赛项' | D260: YAI城市资源争夺战' | E260: 小学组 | F260: 科技光战队 | G260: 临沂沂河实验小学 | H260: 张荣华 | I260: 霍梓睿|陈禹成|段昊辰 | J260: 38 | K260: 三等奖
A262: 88808 | B262: 2B8hXXMt-139-045-bn-047-1-nqp-02-IFo | C262: 'YAI赛项' | D262: YAI城市资源争夺战' | E262: 初中组 | F262: 星空战舰 | G262: 泉州市第九中学 | H262: 傅子阳|曾志勇 | I262: 苏宗浩|庄喻淋 | J262: 1冠军 | K262: 一等奖(冠军)
A263: 91793 | B263: 2B8hXat7-139-045-lr-047-1-var-02-Cau | C263: 'YAI赛项' | D263: YAI城市资源争夺战' | E263: 初中组 | F263: 哦对对对对对 | G263: 无锡贝尔机器人编程中心 | H263: 张林却 | I263: 李诚|柏顺韬|谢王轩 | J263: 2亚军 | K263: 一等奖(亚军)
A264: 91811 | B264: 2B8hXatw-139-045-Vi-047-1-k5Q-02-0sR | C264: 'YAI赛项' | D264: YAI城市资源争夺战' | E264: 初中组 | F264: 无锡市江南中学队 | G264: 无锡市江南中学 | H264: 刘妍 | I264: 王麒翔|毛禹滔 | J264: 3季军 | K264: 一等奖(季军)
A265: 88863 | B265: 2B8hXqDJ-139-045-CF-047-1-swS-02-SqN | C265: 'YAI赛项' | D265: YAI城市资源争夺战' | E265: 初中组 | F265: 一中下埔校区1队 | G265: 惠州市第一中学（下埔校区） | H265: 张惠娜 | I265: 陈品荣|邹镇声 | J265: 4 | K265: 一等奖
A266: 85251 | B266: 2B8hXqDG-139-045-Mc-047-1-JUS-02-JBj | C266: 'YAI赛项' | D266: YAI城市资源争夺战' | E266: 初中组 | F266: 兴华实验一队 | G266: 郑州市二七区兴华实验学校 | H266: 王树|靳艳琳 | I266: 唐伯英|周凌岚|靳楠哲 | J266: 5 | K266: 二等奖
A267: 80282 | B267: 2B8hXqDA-139-045-kw-047-1-SkR-02-hWm | C267: 'YAI赛项' | D267: YAI城市资源争夺战' | E267: 初中组 | F267: 北苑网易资源中学1队 | G267: 北京智汇有道科创中心 | H267: 赵清滨 | I267: 王奕天|杨宇晨 | J267: 6 | K267: 二等奖
A268: 77565 | B268: 2B8hXqen-139-045-U7-047-1-tVr-02-nuv | C268: 'YAI赛项' | D268: YAI城市资源争夺战' | E268: 初中组 | F268: 实附初中队 | G268: 惠州市实验中学附属学校 | H268: 张倩红 | I268: 廖昱瀚|周峻泽 | J268: 7 | K268: 二等奖
A269: 89465 | B269: 2B8hXXM2-139-045-P9-047-1-Sp7-02-Ioq | C269: 'YAI赛项' | D269: YAI城市资源争夺战' | E269: 初中组 | F269: 无名战队1 | G269: 邦德教育 | H269: 曾雪琴 | I269: 符楷琦|叶子淳 | J269: 8 | K269: 二等奖
A270: 84092 | B270: 2B8hXqe8-139-045-dO-047-1-yED-02-vHO | C270: 'YAI赛项' | D270: YAI城市资源争夺战' | E270: 初中组 | F270: 谢谢礼队 | G270: 东莞中学松山湖学校 | H270: 莫淦超|郑敏祥 | I270: 谢惠恒|谢裕泰|高礼墨 | J270: 9 | K270: 二等奖
A271: 83266 | B271: 2B8hXqDy-139-045-Z1-047-1-nbY-02-ZHu | C271: 'YAI赛项' | D271: YAI城市资源争夺战' | E271: 初中组 | F271: 乐比乐得 | G271: RoboCode科创中心 | H271: 杨文跃 | I271: 杨子琪|杨子琰 | J271: 10 | K271: 二等奖
A272: 80339 | B272: 2B8hXqeg-139-045-CM-047-1-PiF-02-dH8 | C272: 'YAI赛项' | D272: YAI城市资源争夺战' | E272: 初中组 | F272: 创新先锋队 | G272: 襄阳市第四中学义务教育部，襄阳市第四十八中学 | H272: 曾萍|程阳 | I272: 姜玥阳|李文康 | J272: 11 | K272: 二等奖
A273: 87478 | B273: 2B8hXqeE-139-045-Ui-047-1-eOG-02-QOC | C273: 'YAI赛项' | D273: YAI城市资源争夺战' | E273: 初中组 | F273: 能量爆表队 | G273: 襄阳市第三十一中学 | H273: 张刚|袁雷 | I273: 袁浩轩|张子涵 | J273: 12 | K273: 二等奖
A274: 78526 | B274: 2B8hXqDh-139-045-lR-047-1-UDI-02-8Jf | C274: 'YAI赛项' | D274: YAI城市资源争夺战' | E274: 初中组 | F274: 博览星辰 | G274: 北京通州区科创学校 | H274: 刘续隆 | I274: 王俊博|李宇辰 | J274: 13 | K274: 二等奖
A275: 91344 | B275: 2B8hXX6C-139-045-8G-047-1-bmp-02-tt6 | C275: 'YAI赛项' | D275: YAI城市资源争夺战' | E275: 初中组 | F275: 登峰战队 | G275: 华东师范大学附属、深圳高级中学北、深圳实验学校 | H275: 陈豪 | I275: 黄浩|林晨懿|鄢子骞 | J275: 14 | K275: 三等奖
A276: 86072 | B276: 2B8hXqDf-139-045-0O-047-1-SkU-02-0om | C276: 'YAI赛项' | D276: YAI城市资源争夺战' | E276: 初中组 | F276: 泰山双语学校-2队 | G276: 泰山学院附属中学 | H276: 张皓闻|孙怡菲 | I276: 贾文烁|马苒栩 | J276: 15 | K276: 三等奖
... A287: 89501 | B287: 2B8hXXM5-139-045-Dv-047-1-vSc-02-VTu | C287: 'YAI赛项' | D287: YAI城市资源争夺战' | E287: 初中组 | F287: 城市资源无敌3队 | G287: 昆明市盘龙区云才文翰学校 | H287: 袁红超|唐洁 | I287: 司昊承|艾思迪|吴佩恒 | J287: 26 | K287: 三等奖

Sheet 九宫（IER）智能挑战赛项
A1: 2023世界机器人大赛总决赛-青少年机器人设计大赛-九宫（IER）智能挑战赛项获奖名单
A2: 报名编号 | B2: 激活码 | C2: 赛道 | D2: 赛项 | E2: 组别 | F2: 队伍名称 | G2: 申报单位 | H2: 教练信息 | I2: 学生信息 | J2: 分数 | K2: 时间 | L2: 名次 | M2: 奖项
A3: 86011 | B3: 2B8hX5vO-139-046-yW-050-1-tqj-01-oSh | C3: 九宫（IER）智能挑战赛项' | D3: '九宫竞速赛' | E3: 小学组 | F3: 海亮小学-7 | G3: 海亮小学 | H3: 章杭琪 | I3: 洪翊宸 | J3: 160 | K3: 0.00051435185 | L3: 1 | M3: 一等奖(冠军)
A4: 85961 | B4: 2B8hX5vS-139-046-pW-050-1-hma-01-mIj | C4: '九宫（IER）智能挑战赛项' | D4: '九宫竞速赛' | E4: 小学组 | F4: 海亮小学-4 | G4: 海亮小学 | H4: 钱春燕 | I4: 金明泽 | J4: 160 | K4: 0.00059131944 | L4: 2 | M4: 一等奖(亚军)
A5: 86949 | B5: 2B8hXVQn-139-046-Ma-050-1-jNR-01-QGS | C5: '九宫（IER）智能挑战赛项' | D5: '九宫竞速赛' | E5: 小学组 | F5: 旭码1号战队 | G5: 龙泉市东升教育集团 | H5: 周彪 | I5: 叶益豪 | J5: 160 | K5: 0.00073587963 | L5: 3 | M5: 一等奖(季军)
A6: 79574 | B6: 2B8hX5PJ-139-046-r5-050-1-iE5-01-vhC | C6: '九宫（IER）智能挑战赛项' | D6: '九宫竞速赛' | E6: 小学组 | F6: 天长世纪小学普及赛7队 | G6: 杭州市临平区天长世纪小学 | H6: 於前锋 | I6: 王邹义恒 | J6: 160 | K6: 0.00096608796 | L6: 4 | M6: 一等奖
A7: 79554 | B7: 2B8hX5PT-139-046-oO-050-1-A5j-01-LYb | C7: '九宫（IER）智能挑战赛项' | D7: '九宫竞速赛' | E7: 小学组 | F7: 天长世纪小学普及赛6队 | G7: 杭州市临平区天长世纪小学 | H7: 於前锋 | I7: 戚翌凡 | J7: 160 | K7: 0.0010280093 | L7: 5 | M7: 一等奖
A8: 85949 | B8: 2B8hX5vx-139-046-hK-050-1-BPd-01-vGo | C8: '九宫（IER）智能挑战赛项' | D8: '九宫竞速赛' | E8: 小学组 | F8: 海亮小学-2 | G8: 海亮小学 | H8: 楼姬琼 | I8: 何熙 | J8: 160 | K8: 0.0010288194 | L8: 6 | M8: 一等奖
A9: 80017 | B9: 2B8hX5PL-139-046-8w-050-1-1pQ-01-3Q2 | C9: '九宫（IER）智能挑战赛项' | D9: '九宫竞速赛' | E9: 小学组 | F9: 临平区青少年宫普及赛1队 | G9: 杭州市临平区青少年宫 | H9: 张欢 | I9: 杨浩宇 | J9: 160 | K9: 0.0013157407 | L9: 7 | M9: 一等奖
A10: 79193 | B10: 2B8hX5P6-139-046-9K-050-1-be3-01-oVE | C10: '九宫（IER）智能挑战赛项' | D10: '九宫竞速赛' | E10: 小学组 | F10: 天长世纪小学普及赛1队 | G10: 杭州市临平区天长世纪小学 | H10: 张东娇 | I10: 丁陈诚 | J10: 160 | K10: 0.001321875 | L10: 8 | M10: 一等奖
A11: 80430 | B11: 2B8hX5Pc-139-046-IN-050-1-FVL-01-70b | C11: '九宫（IER）智能挑战赛项' | D11: '九宫竞速赛' | E11: 小学组 | F11: 临平区青少年宫普及赛3队 | G11: 杭州市临平区青少年宫 | H11: 夏建栋 | I11: 陈洪轩 | J11: 160 | K11: 0.0013341435 | L11: 9 | M11: 一等奖
A12: 79236 | B12: 2B8hX5PK-139-046-UR-050-1-Wjk-01-WVR | C12: '九宫（IER）智能挑战赛项' | D12: '九宫竞速赛' | E12: 小学组 | F12: 天长世纪小学普及赛2队 | G12: 杭州市临平区天长世纪小学 | H12: 张东娇 | I12: 陈昕泽 | J12: 160 | K12: 0.0013766204 | L12: 10 | M12: 一等奖
A13: 85969 | B13: 2B8hX5vC-139-046-qC-050-1-dBu-01-uMY | C13: '九宫（IER）智能挑战赛项' | D13: '九宫竞速赛' | E13: 小学组 | F13: 海亮小学-5 | G13: 海亮小学 | H13: 冯斐煜 | I13: 方炫祺 | J13: 150 | K13: 0.00094016204 | L13: 11 | M13: 一等奖
A14: 87549 | B14: 2B8hXV8P-139-046-NF-050-1-fzY-01-G8p | C14: '九宫（IER）智能挑战赛项' | D14: '九宫竞速赛' | E14: 小学组 | F14: 光影梦之队 | G14: 福州市温泉小学 | H14: 黄学翔 | I14: 林诗轩 | J14: 140 | K14: 0.00084606481 | L14: 12 | M14: 一等奖
... A306: 79031 | B306: 2B8hX5w0-139-046-Ah-050-1-hfo-04-NMj | C306: '九宫（IER）智能挑战赛项' | D306: '九宫竞速赛' | E306: 高中组 | F306: 青岛西海岸新区第九高级中学1队 | G306: 青岛西海岸新区第九高级中学 | H306: 曹春梅 | I306: 刘兴泽 | J306: 10 | K306: 0.00091319444 | L306: 158 | M306: 三等奖
A308: 报名编号 | B308: 激活码 | C308: 赛道 | D308: 赛项 | E308: 组别 | F308: 队伍名称 | G308: 申报单位 | H308: 教练信息 | I308: 学生信息 | J308: 分数 | K308: 时间 | L308: 名次 | M308: 奖项
A309: 83883 | B309: 2B8hXqkN-139-046-Kh-049-1-c9B-01-ZKw | C309: '九宫（IER）智能挑战赛项' | D309: '九宫AI购物' | E309: 小学组 | F309: 云霄立人学校小学组2队 | G309: 云霄立人学校 | H309: 陈小兵 | I309: 汤珞欣|林德嘉 | J309: 1130 | K309: 0.0052295139 | L309: 1 | M309: 一等奖(冠军)
A310: 78226 | B310: 2B8hXqkl-139-046-5X-049-1-uSk-01-zXf | C310: '九宫（IER）智能挑战赛项' | D310: '九宫AI购物' | E310: 小学组 | F310: 薛家湾第三小学A队 | G310: 薛家湾第三小学 | H310: 李鹏|杨佳 | I310: 李梓轩|杨凯轩 | J310: 1100 | K310: 0.0044446759 | L310: 2 | M310: 一等奖(亚军)
A311: 81106 | B311: 2B8hXqkJ-139-046-M0-049-1-vxN-01-cg4 | C311: '九宫（IER）智能挑战赛项' | D311: '九宫AI购物' | E311: 小学组 | F311: 天长世纪小学挑战赛3队 | G311: 杭州市临平区天长世纪小学 | H311: 张东娇 | I311: 周雨欣|沈骏捷 | J311: 1070 | K311: 0.0044331019 | L311: 3 | M311: 一等奖(季军)
A312: 86088 | B312: 2B8hXqDj-139-046-wK-049-1-PJw-01-sxG | C312: '九宫（IER）智能挑战赛项' | D312: '九宫AI购物' | E312: 小学组 | F312: 海亮小学-Y | G312: 海亮小学 | H312: 陈艺鹏 | I312: 余尚臻|傅梓萱 | J312: 785 | K312: 0.0038328704 | L312: 4 | M312: 二等奖
A313: 81444 | B313: 2B8hXqko-139-046-pr-049-1-P0N-01-sdT | C313: '九宫（IER）智能挑战赛项' | D313: '九宫AI购物' | E313: 小学组 | F313: 云霄立人学校小学1队 | G313: 云霄立人学校 | H313: 方添生 | I313: 林惠燕|朱钰瑄 | J313: 785 | K313: 0.0054417824 | L313: 5 | M313: 二等奖
A314: 79381 | B314: 2B8hXqkR-139-046-IV-049-1-jxb-01-Xz1 | C314: '九宫（IER）智能挑战赛项' | D314: '九宫AI购物' | E314: 小学组 | F314: 天长世纪小学挑战赛2队 | G314: 杭州市临平区天长世纪小学 | H314: 於前锋 | I314: 戚翌凡|王邹义恒 | J314: 695 | K314: 0.0046274306 | L314: 6 | M314: 二等奖
A315: 84855 | B315: 2B8hXqkq-139-046-Ko-049-1-YbC-01-6qg | C315: '九宫（IER）智能挑战赛项' | D315: '九宫AI购物' | E315: 小学组 | F315: 普小骁龙队 | G315: 舟山市普陀小学 | H315: 方义|罗可昕 | I315: 朱佳浩|吴宗桓 | J315: 550 | K315: 0.0048077546 | L315: 7 | M315: 三等奖
A316: 80092 | B316: 2B8hXqkY-139-046-xP-049-1-aLv-01-lZj | C316: '九宫（IER）智能挑战赛项' | D316: '九宫AI购物' | E316: 小学组 | F316: 临平区青少年宫挑战赛2队 | G316: 杭州市临平区青少年宫 | H316: 夏建栋 | I316: 陈洪轩|滕一诺 | J316: 445 | K316: 0.0026238426 | L316: 8 | M316: 三等奖
A317: 79970 | B317: 2B8hXqkm-139-046-aD-049-1-dRJ-01-qtH | C317: '九宫（IER）智能挑战赛项' | D317: '九宫AI购物' | E317: 小学组 | F317: 临平区青少年宫挑战赛1队 | G317: 杭州市临平区青少年宫 | H317: 张欢 | I317: 杨浩宇|丁翌潇 | J317: 370 | K317: 0.0050125 | L317: 9 | M317: 三等奖
A318: 86069 | B318: 2B8hXqDl-139-046-xJ-049-1-H2Z-01-VsR | C318: '九宫（IER）智能挑战赛项' | D318: '九宫AI购物' | E318: 小学组 | F318: 海亮小学-X | G318: 海亮小学 | H318: 陈艺鹏 | I318: 杨宇宸|张堉 | J318: 265 | K318: 0.0051105324 | L318: 10 | M318: 三等奖
A319: 84530 | B319: 2B8hXqDN-139-046-k8-049-1-Xs7-01-6kS | C319: '九宫（IER）智能挑战赛项' | D319: '九宫AI购物' | E319: 小学组 | F319: 大关祥符6队 | G319: 杭州市祥符小学 | H319: 韩芳 | I319: 周桢皓|田齐越 | J319: 80 | K319: 0.0051457176 | L319: 11 | M319: 三等奖
A321: 77568 | B321: 2B8hXqsl-139-046-zs-049-1-AYf-03-0Jg | C321: '九宫（IER）智能挑战赛项' | D321: '九宫AI购物' | E321: 中学组 | F321: 准格尔旗第九中学A队 | G321: 准格尔旗第九中学 | H321: 李福祥|王春霞 | I321: 李懿泽|白浩月 | J321: 1150 | K321: 0.005003588 | L321: 1 | M321: 一等奖(冠军)
... A330: 82007 | B330: 2B8hXqFY-139-046-TZ-049-1-rjZ-03-atR | C330: '九宫（IER）智能挑战赛项' | D330: '九宫AI购物' | E330: 中学组 | F330: 四队 | G330: 南京田家炳高级中学 | H330: 倪浩 | I330: 晏阳|朱浩轩 | J330: 40 | K330: 0.001568287 | L330: 10 | M330: 三等奖

Sheet DOBOT智造大挑战赛项
A1: 2023世界机器人大赛总决赛-青少年机器人设计大赛-DOBOT智造大挑战赛项获奖名单
A2: 报名编号 | B2: 激活码 | C2: 赛道 | D2: 赛项 | E2: 组别 | F2: 队伍名称 | G2: 申报单位 | H2: 教练信息 | I2: 学生信息 | J2: 比赛分数 | K2: 比赛用时 | L2: 成绩排名 | M2: 奖项
A3: 77222 | B3: 2B8hX5U9-139-051-qw-052-1-JBO-01-itl | C3: DOBOT智造大挑战赛项' | D3: DOBOT智造大挑战-航天英雄挑战赛' | E3: 小学组 | F3: 深圳市盐田区云海学校小学组2队 | G3: 深圳市盐田区云海学校 | H3: 钟丽霞 | I3: 刘蔚蒈|张思昂|孙城杰|何焯远 | J3: 444 | K3: 213 | L3: =ROW()-2 -> 1 | M3: 一等奖(冠军)
A4: 84391 | B4: 2B8hX5Gn-139-051-Yu-052-1-Fwt-01-AIo | C4: 'DOBOT智造大挑战赛项' | D4: DOBOT智造大挑战-航天英雄挑战赛' | E4: 小学组 | F4: 解放区实验学校队 | G4: 焦作市解放区实验学校 | H4: 邱洁|李燕燕 | I4: 刘洪博|熊嘉佑|张溪|王艺锦 | J4: 425 | K4: 297 | L4: =ROW()-2 -> 2 | M4: 一等奖(亚军)
A5: 87944 | B5: 2B8hX54x-139-051-gi-052-1-UOL-01-KLE | C5: 'DOBOT智造大挑战赛项' | D5: DOBOT智造大挑战-航天英雄挑战赛' | E5: 小学组 | F5: 焦作丰泽园学生路树人外国语联合队 | G5: 焦作市解放区丰泽园小学 焦作市树人外国语学校 | H5: 廉秋芬|孔哲 | I5: 张其瑞|毋昱程|卢梓珺 | J5: 415 | K5: 298 | L5: =ROW()-2 -> 3 | M5: 一等奖(季军)
A6: 86559 | B6: 2B8hX5GB-139-051-18-052-1-aQI-01-hVQ | C6: 'DOBOT智造大挑战赛项' | D6: DOBOT智造大挑战-航天英雄挑战赛' | E6: 小学组 | F6: 中站实验小学队 | G6: 焦作市中站区实验小学 | H6: 张鑫伟|梁冬 | I6: 张旋|张轩豪|侯桠楠 | J6: 415 | K6: 299 | L6: =ROW()-2 -> 4 | M6: 一等奖
A7: 76926 | B7: 2B8hX5US-139-051-z6-052-1-Gac-01-4vM | C7: 'DOBOT智造大挑战赛项' | D7: DOBOT智造大挑战-航天英雄挑战赛' | E7: 小学组 | F7: 深圳市盐田区云海学校小学组1队 | G7: 深圳市盐田区云海学校 | H7: 李彩华 | I7: 邱熙蕾|刘楚轩|叶展麟|王誉臻 | J7: 411 | K7: 204 | L7: =ROW()-2 -> 5 | M7: 一等奖
A8: 87260 | B8: 2B8hX5Uh-139-051-pa-052-1-O2w-01-2jZ | C8: 'DOBOT智造大挑战赛项' | D8: DOBOT智造大挑战-航天英雄挑战赛' | E8: 小学组 | F8: 航天英雄组 | G8: 内蒙古农业大学附属学校 | H8: 董建义|梁秀珍 | I8: 哈琳娜|张澍泽|龙建宇|龙泓宇 | J8: 409 | K8: 242 | L8: =ROW()-2 -> 6 | M8: 一等奖
A9: 76897 | B9: 2B8hX5Uc-139-051-LR-052-1-SwC-01-Nez | C9: 'DOBOT智造大挑战赛项' | D9: DOBOT智造大挑战-航天英雄挑战赛' | E9: 小学组 | F9: 深圳南头城队 | G9: 深圳市南山区教育科学研究院附属学校教育集团南头城学校 | H9: 邓伟 | I9: 龙厚霖|尹思源 | J9: 405 | K9: 282 | L9: =ROW()-2 -> 7 | M9: 二等奖
A10: 76745 | B10: 2B8hX54R-139-051-JI-052-1-SmG-01-T2o | C10: 'DOBOT智造大挑战赛项' | D10: DOBOT智造大挑战-航天英雄挑战赛' | E10: 小学组 | F10: 创未来光明队 | G10: 青岛创未来机器人 | H10: 陆涵宁|崔培栋 | I10: 易羽晗|于明君|迟仲尘|乔泓瑞 | J10: 405 | K10: 297 | L10: =ROW()-2 -> 8 | M10: 二等奖
A11: 81694 | B11: 2B8hX5U0-139-051-Ht-052-1-45O-01-RKI | C11: 'DOBOT智造大挑战赛项' | D11: DOBOT智造大挑战-航天英雄挑战赛' | E11: 小学组 | F11: 共创机器人队 | G11: 东莞市翰林实验学校 | H11: 黄欣 | I11: 陈俊宇|吴涵|王晞安 | J11: 397 | K11: 279 | L11: =ROW()-2 -> 9 | M11: 二等奖
A12: 85374 | B12: 2B8hX5Gq-139-051-9d-052-1-oxo-01-bVU | C12: 'DOBOT智造大挑战赛项' | D12: DOBOT智造大挑战-航天英雄挑战赛' | E12: 小学组 | F12: 福清市城关小学教育集团2队 | G12: 福清市城关小学教育集团（东部校区） | H12: 薛明|林小娟 | I12: 郑铖宇|方琬懿 | J12: 395 | K12: 301 | L12: =ROW()-2 -> 10 | M12: 二等奖
A13: 86732 | B13: 2B8hX540-139-051-Ol-052-1-OhK-01-3zQ | C13: 'DOBOT智造大挑战赛项' | D13: DOBOT智造大挑战-航天英雄挑战赛' | E13: 小学组 | F13: 海岸致远 | G13: 深圳市南山区第二外国语学校（集团）海岸小学 | H13: 丁泽霞|何嘉慧 | I13: 池政喆|唐与岳 | J13: 395 | K13: 317 | L13: =ROW()-2 -> 11 | M13: 二等奖
A14: 87872 | B14: 2B8hX54V-139-051-OF-052-1-Vx3-01-2ZQ | C14: 'DOBOT智造大挑战赛项' | D14: DOBOT智造大挑战-航天英雄挑战赛' | E14: 小学组 | F14: 学生路小学一队 | G14: 焦作市学生路小学 | H14: 付军明|吴娟 | I14: 林疆域|田冬旭|宋昊轩|杨智明 | J14: 385 | K14: 294 | L14: =ROW()-2 -> 12 | M14: 二等奖
... A41: 85408 | B41: 2B8hX5Ux-139-051-H3-052-1-jQd-01-nTR | C41: 'DOBOT智造大挑战赛项' | D41: DOBOT智造大挑战-航天英雄挑战赛' | E41: 小学组 | F41: 二外启航 | G41: 深圳市南山区第二外国语学校（集团） | H41: 何嘉慧|丁泽霞 | I41: 马孝天|胡富超|郭爱婕 | J41: 80 | K41: 235 | L41: =ROW()-2 -> 39 | M41: 三等奖
A43: 77541 | B43: 2B8hX5qK-139-051-oP-052-1-IN0-02-b7G | C43: 'DOBOT智造大挑战赛项' | D43: DOBOT智造大挑战-航天英雄挑战赛' | E43: 初中组 | F43: 深圳市盐田区云海学校初中组1队 | G43: 深圳市盐田区云海学校 | H43: 方俊川|钟丽霞 | I43: 黄一鸣|陈厚霖|林宇浩|王誉瑾 | J43: 556 | K43: =VLOOKUP(F43,[1]初中组!I:N,6,0) -> 309 | L43: 1 | M43: 一等奖(冠军)
A44: 77548 | B44: 2B8hX5qC-139-051-xu-052-1-ryR-02-MpB | C44: 'DOBOT智造大挑战赛项' | D44: DOBOT智造大挑战-航天英雄挑战赛' | E44: 初中组 | F44: 深圳市盐田区云海学校初中组2队 | G44: 深圳市盐田区云海学校 | H44: 方俊川|李彩华 | I44: 张晴乐|周睿|王子晗|黄嘉瑞 | J44: 546 | K44: =VLOOKUP(F44,[1]初中组!I:N,6,0) -> 301 | L44: 2 | M44: 一等奖(亚军)
A45: 85384 | B45: 2B8hX554-139-051-E0-052-1-zFh-02-IGT | C45: 'DOBOT智造大挑战赛项' | D45: DOBOT智造大挑战-航天英雄挑战赛' | E45: 初中组 | F45: 东方天宇 | G45: 青岛市市北区新东方艺术培训学校 | H45: 王敏 | I45: 周蔡涵|齐悦钦|张湛岳|黄迪 | J45: 470 | K45: =VLOOKUP(F45,[1]初中组!I:N,6,0) -> 331 | L45: 3 | M45: 一等奖(季军)
A46: 85027 | B46: 2B8hX55l-139-051-wd-052-1-C36-02-pdO | C46: 'DOBOT智造大挑战赛项' | D46: DOBOT智造大挑战-航天英雄挑战赛' | E46: 初中组 | F46: 广实覃思队 | G46: 广州实验中学 | H46: 张盛兰|吴跃辉 | I46: 谭炜耀|袁子栩|陈天成|何立轩 | J46: 457 | K46: =VLOOKUP(F46,[1]初中组!I:N,6,0) -> 322 | L46: 4 | M46: 二等奖
A47: 82029 | B47: 2B8hX5tq-139-051-7o-052-1-uO9-02-ELM | C47: 'DOBOT智造大挑战赛项' | D47: DOBOT智造大挑战-航天英雄挑战赛' | E47: 初中组 | F47: 鸿鹰翱翔 | G47: 福建省福州第十八中学 | H47: 吴烜|涂志鹃 | I47: 张仕炎|黄宏义|杨晟熠|陈国涵 | J47: 456 | K47: =VLOOKUP(F47,[1]初中组!I:N,6,0) -> 316 | L47: 5 | M47: 二等奖
A48: 89724 | B48: 2B8hX55k-139-051-h3-052-1-VZy-02-WUn | C48: 'DOBOT智造大挑战赛项' | D48: DOBOT智造大挑战-航天英雄挑战赛' | E48: 初中组 | F48: 贵州省遵义市第五十五中学 | G48: 贵州省遵义市第五十五中学 | H48: 凌静|杨兴祥 | I48: 贾瑜丞|张胜溢|杨济华|刘佳豪 | J48: 416 | K48: =VLOOKUP(F48,[1]初中组!I:N,6,0) -> 360 | L48: 6 | M48: 二等奖
A49: 85395 | B49: 2B8hX55f-139-051-pb-052-1-4Oj-02-Fk9 | C49: 'DOBOT智造大挑战赛项' | D49: DOBOT智造大挑战-航天英雄挑战赛' | E49: 初中组 | F49: 东方腾辉 | G49: 青岛市市北区新东方艺术培训学校 | H49: 徐倩倩 | I49: 张有友|袁浩喆|侯城鑫 | J49: 371 | K49: =VLOOKUP(F49,[1]初中组!I:N,6,0) -> 360 | L49: 7 | M49: 二等奖
A50: 85410 | B50: 2B8hX55S-139-051-ki-052-1-CGp-02-kos | C50: 'DOBOT智造大挑战赛项' | D50: DOBOT智造大挑战-航天英雄挑战赛' | E50: 初中组 | F50: 东方饮月 | G50: 青岛市城阳区新东方科技艺术培训学校 | H50: 付雨杭 | I50: 王翌修|陈元希|戴睿翰|尹元路 | J50: 366 | K50: =VLOOKUP(F50,[1]初中组!I:N,6,0) -> 360 | L50: 8 | M50: 二等奖
A51: 85350 | B51: 2B8hX5qe-139-051-FQ-052-1-6ns-02-8Qp | C51: 'DOBOT智造大挑战赛项' | D51: DOBOT智造大挑战-航天英雄挑战赛' | E51: 初中组 | F51: 东方凌霄 | G51: 青岛市市南区新东方教育培训学校 | H51: 于颖若 | I51: 庞凯|周雨阳|刘其乐 | J51: 366 | K51: =VLOOKUP(F51,[1]初中组!I:N,6,0) -> 360 | L51: 9 | M51: 二等奖
A52: 81287 | B52: 2B8hX5tt-139-051-Ud-052-1-2Oe-02-seT | C52: 'DOBOT智造大挑战赛项' | D52: DOBOT智造大挑战-航天英雄挑战赛' | E52: 初中组 | F52: 思齐1队 | G52: 厦门市海沧区北附学校教育集团思齐中学 | H52: 李晶 | I52: 吴宗业|鲍文博 | J52: 358 | K52: =VLOOKUP(F52,[1]初中组!I:N,6,0) -> 360 | L52: 10 | M52: 二等奖
A53: 85638 | B53: 2B8hX559-139-051-5v-052-1-U5A-02-9wG | C53: 'DOBOT智造大挑战赛项' | D53: DOBOT智造大挑战-航天英雄挑战赛' | E53: 初中组 | F53: 东方行远 | G53: 青岛市城阳区新东方科技艺术培训学校 | H53: 付雨杭 | I53: 孙玉玮|隋棠|邢柏筝 | J53: 322 | K53: =VLOOKUP(F53,[1]初中组!I:N,6,0) -> 351 | L53: 11 | M53: 二等奖
A54: 86684 | B54: 2B8hX5qo-139-051-VJ-052-1-DwI-02-RFr | C54: 'DOBOT智造大挑战赛项' | D54: DOBOT智造大挑战-航天英雄挑战赛' | E54: 初中组 | F54: 深外宝初中一组 | G54: 深圳外国语学校宝安学校 | H54: 李方济|钟文婷 | I54: 江一帆|谭浩轩 | J54: 319 | K54: =VLOOKUP(F54,[1]初中组!I:N,6,0) -> 322 | L54: 12 | M54: 三等奖
... A63: 81839 | B63: 2B8hX5qO-139-051-IN-052-1-rof-02-w6s | C63: 'DOBOT智造大挑战赛项' | D63: DOBOT智造大挑战-航天英雄挑战赛' | E63: 初中组 | F63: 山海学校航天英雄队 | G63: 深圳市盐田区山海学校 | H63: 覃浩|祝紫渝 | I63: 何志谦|刘超宇 | J63: 10 | K63: =VLOOKUP(F63,[1]初中组!I:N,6,0) -> 150 | L63: 21 | M63: 三等奖
A65: 77096 | B65: 2B8hX5Vq-139-051-KP-052-1-tka-04-rhZ | C65: 'DOBOT智造大挑战赛项' | D65: DOBOT智造大挑战-航天英雄挑战赛' | E65: 高中组 | F65: 北京161中学 | G65: 北京市第一六一中学 | H65: 赵志伟|吴海燕 | I65: 张皓然|刘梦同|马元良|汪皓宇 | J65: 618 | K65: 272 | L65: 1 | M65: 一等奖(冠军)
A66: 78968 | B66: 2B8hX5Vw-139-051-FC-052-1-Mcl-04-G3g | C66: 'DOBOT智造大挑战赛项' | D66: DOBOT智造大挑战-航天英雄挑战赛' | E66: 高中组 | F66: 章丘四中高中队 | G66: 济南市章丘区第四中学 | H66: 于兵|李昌旺 | I66: 董熹袁|苏石|李政华|赵婉汝 | J66: 565 | K66: 384 | L66: 2 | M66: 一等奖(亚军)
A67: 78300 | B67: 2B8hX5cz-139-051-1O-052-1-zWP-04-TOE | C67: 'DOBOT智造大挑战赛项' | D67: DOBOT智造大挑战-航天英雄挑战赛' | E67: 高中组 | F67: 深大实验惟实1队 | G67: 深圳大学附属实验中学 | H67: 王李想|苏嘉豪 | I67: 林振鑫|熊映铭|宋睿鹏 | J67: 525 | K67: 304 | L67: 3 | M67: 一等奖(季军)
A68: 78962 | B68: 2B8hX5fS-139-051-Bb-052-1-4sw-04-qtr | C68: 'DOBOT智造大挑战赛项' | D68: DOBOT智造大挑战-航天英雄挑战赛' | E68: 高中组 | F68: 台州市黄岩区第二职业技术学校 | G68: 台州市黄岩区第二职业技术学校 | H68: 祁杰|陈柳邑 | I68: 张宇龙|谢陈南|陈春毅|程宏扬 | J68: 518 | K68: 254 | L68: 4 | M68: 一等奖
A69: 82991 | B69: 2B8hX5fL-139-051-z2-052-1-p8z-04-Quu | C69: 'DOBOT智造大挑战赛项' | D69: DOBOT智造大挑战-航天英雄挑战赛' | E69: 高中组 | F69: 希希队 | G69: 遵义市第二十一中学 | H69: 简忠玉|周家满 | I69: 田鑫鑫|卢欣然|母晨希|罗俊 | J69: 486 | K69: 458 | L69: 5 | M69: 二等奖
A70: 78984 | B70: 2B8hX5cL-139-051-as-052-1-afd-04-hp3 | C70: 'DOBOT智造大挑战赛项' | D70: DOBOT智造大挑战-航天英雄挑战赛' | E70: 高中组 | F70: 深大实验惟实2队 | G70: 深圳大学附属实验中学 | H70: 王李想|郑伊唯 | I70: 熊浩成|廖宏荣|王毅锐 | J70: 448 | K70: 210 | L70: 6 | M70: 二等奖
A71: 76609 | B71: 2B8hX5V4-139-051-7X-052-1-ft3-04-WIq | C71: 'DOBOT智造大挑战赛项' | D71: DOBOT智造大挑战-航天英雄挑战赛' | E71: 高中组 | F71: 龙行龘龘一队 | G71: 河北衡水中学 | H71: 李聪|杨阅同 | I71: 田瑷玮|张名浩|张昊洋|张思尧 | J71: 435 | K71: 324 | L71: 7 | M71: 二等奖
A72: 79457 | B72: 2B8hX5cF-139-051-XQ-052-1-mEd-04-6Ym | C72: 'DOBOT智造大挑战赛项' | D72: DOBOT智造大挑战-航天英雄挑战赛' | E72: 高中组 | F72: 济南二中2023战队 | G72: 山东省济南第二中学 | H72: 周勤磊|王童童 | I72: 于世全|刘士杰|武尚|孙家乐 | J72: 426 | K72: 328 | L72: 8 | M72: 二等奖
A73: 86663 | B73: 2B8hX5cd-139-051-NE-052-1-gjK-04-YN9 | C73: 'DOBOT智造大挑战赛项' | D73: DOBOT智造大挑战-航天英雄挑战赛' | E73: 高中组 | F73: 北斗创客一队 | G73: 山东省桓台第一中学 | H73: 张云涛 | I73: 张峻伟|张富霖|翟铭昊|薛烨彤 | J73: 401 | K73: 444 | L73: 9 | M73: 二等奖
A74: 79112 | B74: 2B8hX5cU-139-051-OI-052-1-osr-04-HwL | C74: 'DOBOT智造大挑战赛项' | D74: DOBOT智造大挑战-航天英雄挑战赛' | E74: 高中组 | F74: 未来智造队 | G74: 东莞松山湖未来学校 | H74: 宋广晨|谢稳根 | I74: 何婧|姚权烽|许深睿 | J74: 375 | K74: 338 | L74: 10 | M74: 二等奖
A75: 84645 | B75: 2B8hX5t3-139-051-Zm-052-1-WNw-04-MBK | C75: 'DOBOT智造大挑战赛项' | D75: DOBOT智造大挑战-航天英雄挑战赛' | E75: 高中组 | F75: 准格尔旗第一中学1队 | G75: 准格尔旗第一中学 | H75: 杨拥军|石海涛 | I75: 田凯宁|张家赫|任越|赵升辉 | J75: 315 | K75: 480 | L75: 11 | M75: 二等奖
A76: 83449 | B76: 2B8hX5fP-139-051-KU-052-1-eiK-04-Z7s | C76: 'DOBOT智造大挑战赛项' | D76: DOBOT智造大挑战-航天英雄挑战赛' | E76: 高中组 | F76: 一中创客 | G76: 甘肃省通渭县第一中学 | H76: 金胜书|杨岚 | I76: 李明泽|王颢臻|雷竣杰 | J76: 306 | K76: 360 | L76: 12 | M76: 二等奖
... A92: 84154 | B92: 2B8hX5cB-139-051-hj-052-1-T8J-04-qM5 | C92: 'DOBOT智造大挑战赛项' | D92: DOBOT智造大挑战-航天英雄挑战赛' | E92: 高中组 | F92: 临朐高中队 | G92: 临朐引智教育科技 | H92: 尹同振 | I92: 张博洋|王子涵|张钧栋|赵子杰 | J92: 15 | K92: 35 | L92: 28 | M92: 三等奖

Sheet FTF 青少年无人机赛项
A1: 2023世界机器人大赛总决赛-青少年机器人设计大赛-FTF 青少年无人机赛项获奖名单
A2: 报名编号 | B2: 激活码 | C2: 赛道 | D2: 赛项 | E2: 组别 | F2: 队伍名称 | G2: 申报单位 | H2: 教练信息 | I2: 学生信息 | J2: 比赛分数 | K2: 比赛用时 | L2: 成绩排名 | M2: 奖项
A3: 89323 | B3: 2B8hX6mB-139-053-qA-054-1-s9C-01-QR6 | C3: FTF 青少年无人机赛项' | D3: FTF极速穿越障碍赛' | E3: 小学组 | F3: 天骄小学极速3队 | G3: 深圳市宝安区天骄小学 | H3: 侯燕玲|张家嘉 | I3: 郑宝奕|周宇平 | K3: 137.34 | L3: 1 | M3: 一等奖(冠军)
A4: 81265 | B4: 2B8hX5Iw-139-053-KP-054-1-tbc-01-7uI | C4: 'FTF 青少年无人机赛项' | D4: FTF极速穿越障碍赛' | E4: 小学组 | F4: 锦鲤队 | G4: 宁波市青少年科技教育协会 | H4: 常敬虚|施莉莉 | I4: 毕高诚|王博源 | K4: 143.29 | L4: 2 | M4: 一等奖(亚军)
A5: 89420 | B5: 2B8hX6uB-139-053-PA-054-1-GQy-01-fgt | C5: 'FTF 青少年无人机赛项' | D5: FTF极速穿越障碍赛' | E5: 小学组 | F5: 鸿鹰 | G5: 北京市海淀区五一小学、北京市西城区师范学校附属小学 | H5: 刘忠华 | I5: 徐晨涵|刘心竹 | K5: 194.63 | L5: 3 | M5: 一等奖(季军)
A6: 81340 | B6: 2B8hX5I2-139-053-PQ-054-1-pgD-01-UDO | C6: 'FTF 青少年无人机赛项' | D6: FTF极速穿越障碍赛' | E6: 小学组 | F6: 追光队 | G6: 宁波市青少年科技教育协会 | H6: 徐锴琦|常敬虚 | I6: 吕乐航|胡博文 | K6: 206.32 | L6: 4 | M6: 一等奖
A7: 81389 | B7: 2B8hX5Iy-139-053-tw-054-1-MdN-01-Szu | C7: 'FTF 青少年无人机赛项' | D7: FTF极速穿越障碍赛' | E7: 小学组 | F7: 启航.队 | G7: 宁波市实验小学 | H7: 陶其获|史益挺 | I7: 周驰皓|郑骁 | K7: 218.44 | L7: 5 | M7: 一等奖
A8: 82519 | B8: 2B8hX5Ib-139-053-g1-054-1-IJN-01-w9E | C8: 'FTF 青少年无人机赛项' | D8: FTF极速穿越障碍赛' | E8: 小学组 | F8: 菲梦 | G8: 宁波市青少年科技教育协会 | H8: 马克 | I8: 洪瑞辰|项星源 | K8: 224.47 | L8: 6 | M8: 一等奖
A9: 89315 | B9: 2B8hX6m1-139-053-Qx-054-1-OXR-01-51S | C9: 'FTF 青少年无人机赛项' | D9: FTF极速穿越障碍赛' | E9: 小学组 | F9: 天骄小学极速2队 | G9: 深圳市宝安区天骄小学 | H9: 侯燕玲|张家嘉 | I9: 王诣钧|叶旭佑 | K9: 229.72 | L9: 7 | M9: 一等奖
A10: 89783 | B10: 2B8hX6u5-139-053-mz-054-1-N9S-01-NwB | C10: 'FTF 青少年无人机赛项' | D10: FTF极速穿越障碍赛' | E10: 小学组 | F10: 尚德鲲鹏战队 | G10: 吉林省星恒泰职业技能培训学校 | H10: 许喆 | I10: 王奕豪|李昊洋 | K10: 250.72 | L10: 8 | M10: 一等奖
A11: 77570 | B11: 2B8hX5Mz-139-053-Vb-054-1-lnL-01-alT | C11: 'FTF 青少年无人机赛项' | D11: FTF极速穿越障碍赛' | E11: 小学组 | F11: 象峰联盟 | G11: 福州市象峰学校，闽侯县甘蔗中心小学 | H11: 谢晓倩|郑卉 | I11: 柯翔骏|黄秋与 | K11: 265 | L11: 9 | M11: 一等奖
A12: 81631 | B12: 2B8hX5Mt-139-053-Rr-054-1-dJ0-01-YAC | C12: 'FTF 青少年无人机赛项' | D12: FTF极速穿越障碍赛' | E12: 小学组 | F12: 济宁孔子学校飞龙战队 | G12: 济宁孔子学校 | H12: 吴成伟|韦悬 | I12: 杨昊龙|孙浚杰 | K12: 266.41 | L12: 10 | M12: 二等奖
A13: 89781 | B13: 2B8hX6uq-139-053-a3-054-1-hFa-01-E32 | C13: 'FTF 青少年无人机赛项' | D13: FTF极速穿越障碍赛' | E13: 小学组 | F13: 状元精英队 | G13: 吉林省星恒泰职业技能培训学校 | H13: 李辉 | I13: 曲逸檬|冯千玳 | K13: 269.31 | L13: 11 | M13: 二等奖
A14: 81657 | B14: 2B8hX5MV-139-053-1k-054-1-PDW-01-Urp | C14: 'FTF 青少年无人机赛项' | D14: FTF极速穿越障碍赛' | E14: 小学组 | F14: 济宁孔子学校鲲鹏战队 | G14: 济宁孔子学校 | H14: 吴成伟|韦悬 | I14: 韩迦麒|魏海鲲 | K14: 271 | L14: 12 | M14: 二等奖
... A63: 74786 | B63: 2B8hX63w-139-053-ew-054-1-SeF-01-YGy | C63: 'FTF 青少年无人机赛项' | D63: FTF极速穿越障碍赛' | E63: 小学组 | F63: 临沂金盾小学 | G63: 临沂金盾小学 | H63: 李敏|王英剑 | I63: 岳俊泽|朱政硕 | K63: 360 | L63: 61 | M63: 三等奖
A65: 报名编号 | B65: 激活码 | C65: 赛道 | D65: 赛项 | E65: 组别 | F65: 队伍名称 | G65: 申报单位 | H65: 教练信息 | I65: 学生信息 | J65: 比赛分数 | K65: 比赛用时 | L65: 成绩排名 | M65: 奖项
A66: 90130 | B66: 2B8hXXan-139-053-nj-054-1-DfT-03-tkI | C66: 'FTF 青少年无人机赛项' | D66: FTF极速穿越障碍赛' | E66: 中学组 | F66: 搏 | G66: 雄安容和第一高级中学 | H66: 张梦雅|胡友永 | I66: 王博 | J66: 60 | K66: 37.66 | L66: 1 | M66: 一等奖(冠军)
A67: 75615 | B67: 2B8hX5xv-139-053-Gp-054-1-o8C-03-AEh | C67: 'FTF 青少年无人机赛项' | D67: FTF极速穿越障碍赛' | E67: 中学组 | F67: 赵子豪 | G67: 河北衡水中学 | H67: 李聪|杨阅同 | I67: 赵子豪 | J67: 60 | K67: 41.69 | L67: 2 | M67: 一等奖(亚军)
A68: 89504 | B68: 2B8hXXMa-139-053-Zv-054-1-l2p-03-tDF | C68: 'FTF 青少年无人机赛项' | D68: FTF极速穿越障碍赛' | E68: 中学组 | F68: 吉林圆宇飞翔队 | G68: 圆宇智能无人飞行中心 | H68: 刘宇 | I68: 杨佳恒 | J68: 60 | K68: 48.71 | L68: 3 | M68: 一等奖(季军)
A69: 90285 | B69: 2B8hXXMO-139-053-X7-054-1-H9o-03-vwJ | C69: 'FTF 青少年无人机赛项' | D69: FTF极速穿越障碍赛' | E69: 中学组 | F69: 吉林圆宇畅想队 | G69: 圆宇智能无人机教育中心 | H69: 张晶 | I69: 程万珵 | J69: 40 | K69: 47.22 | L69: 4 | M69: 一等奖
A70: 81367 | B70: 2B8hX5Ml-139-053-e4-054-1-ggH-03-OYj | C70: 'FTF 青少年无人机赛项' | D70: FTF极速穿越障碍赛' | E70: 中学组 | F70: 菲向未来 | G70: 宁波市青少年科技教育协会 | H70: 马克 | I70: 冯斌 | J70: 40 | K70: 47.72 | L70: 5 | M70: 一等奖
A71: 76599 | B71: 2B8hX5xh-139-053-iC-054-1-xpV-03-6JT | C71: 'FTF 青少年无人机赛项' | D71: FTF极速穿越障碍赛' | E71: 中学组 | F71: 赵一漓 | G71: 河北衡水中学 | H71: 李聪|杨阅同 | I71: 赵一漓 | J71: 40 | K71: 49.94 | L71: 6 | M71: 二等奖
A72: 90274 | B72: 2B8hXXM9-139-053-16-054-1-JLS-03-1XW | C72: 'FTF 青少年无人机赛项' | D72: FTF极速穿越障碍赛' | E72: 中学组 | F72: 吉林圆宇突破队 | G72: 圆宇智能无人机教育中心 | H72: 孟岩 | I72: 郑凯文 | J72: 40 | K72: 52.57 | L72: 7 | M72: 二等奖
A73: 89487 | B73: 2B8hXXMJ-139-053-yM-054-1-tiC-03-r8E | C73: 'FTF 青少年无人机赛项' | D73: FTF极速穿越障碍赛' | E73: 中学组 | F73: 吉林圆宇队 | G73: 圆宇智能无人飞行器中心 | H73: 刘宇 | I73: 赵偲涵 | J73: 40 | K73: 57.5 | L73: 8 | M73: 二等奖
A74: 78289 | B74: 2B8hX5Mn-139-053-R5-054-1-239-03-IN8 | C74: 'FTF 青少年无人机赛项' | D74: FTF极速穿越障碍赛' | E74: 中学组 | F74: 幼鹰展翅 | G74: 佛山市三水区实验小学 | H74: 欧浩明 | I74: 卢喆 | J74: 40 | K74: 62 | L74: 9 | M74: 二等奖
A75: 78292 | B75: 2B8hX5Mu-139-053-VE-054-1-0DC-03-07F | C75: 'FTF 青少年无人机赛项' | D75: FTF极速穿越障碍赛' | E75: 中学组 | F75: 北研极速一队 | G75: 北研飞行学院 | H75: 李敏枫 | I75: 卢日朗 | J75: 40 | K75: 64 | L75: 10 | M75: 二等奖
A76: 90291 | B76: 2B8hXXMj-139-053-t9-054-1-Gcx-03-PUR | C76: 'FTF 青少年无人机赛项' | D76: FTF极速穿越障碍赛' | E76: 中学组 | F76: 吉林圆宇晴朗队 | G76: 圆宇智能无人机教育中心 | H76: 韩琳 | I76: 郑钧元 | J76: 40 | K76: 64.72 | L76: 11 | M76: 二等奖
A77: 91969 | B77: 2B8hXXaR-139-053-Sj-054-1-NFO-03-rpT | C77: 'FTF 青少年无人机赛项' | D77: FTF极速穿越障碍赛' | E77: 中学组 | F77: 筝 | G77: 雄安容和第一高级中学 | H77: 张梦雅|白晓哲 | I77: 马正一 | J77: 40 | K77: 65.33 | L77: 12 | M77: 二等奖
... A96: 80310 | B96: 2B8hX5x2-139-053-5m-054-1-p9h-03-RKm | C96: 'FTF 青少年无人机赛项' | D96: FTF极速穿越障碍赛' | E96: 中学组 | F96: 大田小飞侠 | G96: 大田县鸿图中学 | H96: 巫庆国|杜晓婷 | I96: 巫晓节 | J96: 20 | K96: 180 | L96: 31 | M96: 三等奖
A98: 报名编号 | B98: 激活码 | C98: 赛道 | D98: 赛项 | E98: 组别 | F98: 队伍名称 | G98: 申报单位 | H98: 教练信息 | I98: 学生信息 | J98: 比赛分数 | K98: 比赛用时 | L98: 成绩排名 | M98: 奖项
A99: 91333 | B99: 2B8hX61H-139-053-CW-055-1-C4Y-01-gD3 | C99: 'FTF 青少年无人机赛项' | D99: FTF编程物流搬运赛' | E99: 小学组 | F99: 皓豪 | G99: 玉林市玉州区东环小学 | H99: 陈雪梅|黄飞萍 | I99: 孔钒皓|曾梓豪 | J99: 105 | K99: 2.44.94 | L99: 1 | M99: 一等奖(冠军)
A100: 75897 | B100: 2B8hX6BI-139-053-Oa-055-1-4gY-01-hw5 | C100: 'FTF 青少年无人机赛项' | D100: FTF编程物流搬运赛' | E100: 小学组 | F100: 牛剑花儿小组 | G100: 广州市花都区黄广牛剑小学 | H100: 梁瑞睿 | I100: 李金珊|于雨晨 | J100: 104 | K100: 2.37.00 | L100: 2 | M100: 一等奖(亚军)
A101: 78357 | B101: 2B8hX5JK-139-053-17-055-1-FQ7-01-GBN | C101: 'FTF 青少年无人机赛项' | D101: FTF编程物流搬运赛' | E101: 小学组 | F101: 德琳雏鹰队 | G101: 深圳市龙岗区德琳学校 | H101: 朱子俊|康福艳 | I101: 胡堉浩|杨哲宇 | J101: 101 | K101: 2.59.40 | L101: 3 | M101: 一等奖(季军)
A102: 90625 | B102: 2B8hX61Y-139-053-3k-055-1-oXo-01-cIk | C102: 'FTF 青少年无人机赛项' | D102: FTF编程物流搬运赛' | E102: 小学组 | F102: 飞扬 | G102: 玉林市玉州区东环小学 | H102: 李金符|张茵 | I102: 孔淇雯|李一诺 | J102: 90 | K102: 2.19.97 | L102: 4 | M102: 一等奖
A103: 84097 | B103: 2B8hX5JH-139-053-jB-055-1-i9o-01-6SM | C103: 'FTF 青少年无人机赛项' | D103: FTF编程物流搬运赛' | E103: 小学组 | F103: JL战队 | G103: 玉林市创客协会 | H103: 肖成夏|陈琼芳 | I103: 蒋昊君|梁科阳 | J103: 88 | K103: 2.55.53 | L103: 5 | M103: 一等奖
A104: 75889 | B104: 2B8hX5JE-139-053-f9-055-1-OUI-01-U2F | C104: 'FTF 青少年无人机赛项' | D104: FTF编程物流搬运赛' | E104: 小学组 | F104: 牛剑雄鹰小组 | G104: 广州市花都区黄广牛剑小学 | H104: 梁瑞睿 | I104: 蔡礼谦|黄裕轩 | J104: 85 | K104: 3.00.00 | L104: 6 | M104: 一等奖
A105: 89874 | B105: 2B8hX6Bp-139-053-zd-055-1-4Fq-01-pYt | C105: 'FTF 青少年无人机赛项' | D105: FTF编程物流搬运赛' | E105: 小学组 | F105: 凡圣宇 刘俊毅 | G105: 南通市启秀市北小学 | H105: 苗依|韩兵 | I105: 凡圣宇|刘俊毅 | J105: 80 | K105: 3.00.00 | L105: 7 | M105: 一等奖
A106: 89137 | B106: 2B8hX6B4-139-053-Ff-055-1-FMr-01-lEO | C106: 'FTF 青少年无人机赛项' | D106: FTF编程物流搬运赛' | E106: 小学组 | F106: 飞跃地平线 | G106: 南京市宝船小学 | H106: 孟焕弟 | I106: 孙康溢|徐伟钦 | J106: 76 | K106: 3.00.00 | L106: 8 | M106: 一等奖
A107: 75895 | B107: 2B8hX6Bf-139-053-eg-055-1-mQR-01-xd7 | C107: 'FTF 青少年无人机赛项' | D107: FTF编程物流搬运赛' | E107: 小学组 | F107: 牛剑给力小组 | G107: 广州市花都区黄广牛剑小学 | H107: 梁瑞睿 | I107: 童熙雯|杨家逸 | J107: 73 | K107: 2.53.59 | L107: 9 | M107: 一等奖
A108: 79976 | B108: 2B8hX5Jp-139-053-z8-055-1-BPD-01-iz3 | C108: 'FTF 青少年无人机赛项' | D108: FTF编程物流搬运赛' | E108: 小学组 | F108: 最靓的仔 | G108: 深圳市宝安区天骄小学 | H108: 张家嘉|侯燕玲 | I108: 伊霄|冯子衍 | J108: 55 | K108: 1.55.69 | L108: 10 | M108: 一等奖
A109: 91812 | B109: 2B8hX6B8-139-053-Vp-055-1-xQW-01-QAY | C109: 'FTF 青少年无人机赛项' | D109: FTF编程物流搬运赛' | E109: 小学组 | F109: 杨彭少|李承昊 | G109: 南通市五山小学|南通经济技术开发区星湖小学 | H109: 王镭 | I109: 杨彭少|李承昊 | J109: 55 | K109: 2.14.16 | L109: 11 | M109: 一等奖
A110: 89889 | B110: 2B8hX6B0-139-053-TN-055-1-Ejt-01-OY0 | C110: 'FTF 青少年无人机赛项' | D110: FTF编程物流搬运赛' | E110: 小学组 | F110: 石煜文 姚禹羲 | G110: 南通市启秀市北小学 | H110: 苗依|周培培 | I110: 石煜文|姚禹羲 | J110: 55 | K110: 2.26.31 | L110: 12 | M110: 二等奖
... A121: 82141 | B121: 2B8hX5J8-139-053-IR-055-1-8lR-01-7VO | C121: 'FTF 青少年无人机赛项' | D121: FTF编程物流搬运赛' | E121: 小学组 | F121: 浦北县第一小学1队 | G121: 浦北县第一小学 | H121: 黄敬珍 | I121: 何佳静|林宗宇 | J121: 25 | K121: 2.02.87 | L121: 23 | M121: 二等奖
A122: 89135 | B122: 2B8hX6rZ-139-053-cZ-055-1-sGE-01-n9v | C122: 'FTF 青少年无人机赛项' | D122: FTF编程物流搬运赛' | E122: 小学组 | F122: 红旗队 | G122: 卡巴青少儿科技活动中心远大路校区 | H122: 杨鹏 | I122: 苏航|贾俊瑄 | J122: 20 | K122: 24.16 | L122: 24 | M122: 二等奖
A123: 90482 | B123: 2B8hX6rX-139-053-XG-055-1-goD-01-sOA | C123: 'FTF 青少年无人机赛项' | D123: FTF编程物流搬运赛' | E123: 小学组 | F123: 奇袭暗夜小队 | G123: 北京学梓编程中心 | H123: 郭钰 | I123: 张梓鑫|田一涵 | J123: 20 | K123: 3.00.00 | L123: 25 | M123: 二等奖
A124: 90792 | B124: 2B8hX61n-139-053-bb-055-1-F4Q-01-4Ce | C124: 'FTF 青少年无人机赛项' | D124: FTF编程物流搬运赛' | E124: 小学组 | F124: 双星飞侠队 | G124: 成都市泡桐树小学 | H124: 陈锡清 | I124: 余宛唐|余知唐 | J124: 18 | K124: 2.52.26 | L124: 26 | M124: 二等奖
A125: 89386 | B125: 2B8hX6rf-139-053-4C-055-1-8At-01-EuB | C125: 'FTF 青少年无人机赛项' | D125: FTF编程物流搬运赛' | E125: 小学组 | F125: 翔天队 | G125: 首都师范大学附属小学 | H125: 杜海波 | I125: 吕天承|张翔嘉 | J125: 15 | K125: 16.03 | L125: 27 | M125: 二等奖
A126: 90182 | B126: 2B8hX5Jh-139-053-Xa-055-1-w7p-01-ds8 | C126: 'FTF 青少年无人机赛项' | D126: FTF编程物流搬运赛' | E126: 小学组 | F126: 瓶窑二小星航少年队 | G126: 杭州市余杭区瓶窑镇第二小学 | H126: 李英明 | I126: 宋王哲|沈俊亿 | J126: 15 | K126: 2.02.47 | L126: 28 | M126: 二等奖
A127: 88999 | B127: 2B8hX6Br-139-053-OG-055-1-EvF-01-LUi | C127: 'FTF 青少年无人机赛项' | D127: FTF编程物流搬运赛' | E127: 小学组 | F127: 显眼包一队 | G127: 卡巴青少儿科技活动中心远大路校区 | H127: 丁阳 | I127: 桑梓硕|汪子翔 | J127: 10 | K127: 0.20.00 | L127: 29 | M127: 二等奖
A128: 84038 | B128: 2B8hX5JU-139-053-jw-055-1-boj-01-LH8 | C128: 'FTF 青少年无人机赛项' | D128: FTF编程物流搬运赛' | E128: 小学组 | F128: 孝顺小学1 | G128: 金华市金东区孝顺镇中心小学 | H128: 张申东|盛珊珊 | I128: 杨靖博|陶子涵 | J128: 10 | K128: 0.25.25 | L128: 30 | M128: 二等奖
A129: 89261 | B129: 2B8hX6rb-139-053-tE-055-1-ASO-01-S6i | C129: 'FTF 青少年无人机赛项' | D129: FTF编程物流搬运赛' | E129: 小学组 | F129: 奇思妙想战队 | G129: 卡巴青少儿科技活动中心远大路校区 | H129: 孙义鋆 | I129: 宫艺菲|冯梓峻 | J129: 10 | K129: 0.29.71 | L129: 31 | M129: 二等奖
A130: 76979 | B130: 2B8hX5xO-139-053-Vj-055-1-2DU-01-Xaa | C130: 'FTF 青少年无人机赛项' | D130: FTF编程物流搬运赛' | E130: 小学组 | F130: 北研飞行一队 | G130: 北研飞行学院 | H130: 李敏枫 | I130: 尹梓恒|罗梓皓 | J130: 10 | K130: 0.30.47 | L130: 32 | M130: 二等奖
A131: 89365 | B131: 2B8hX6rq-139-053-MG-055-1-uP6-01-IPJ | C131: 'FTF 青少年无人机赛项' | D131: FTF编程物流搬运赛' | E131: 小学组 | F131: 尖刀队 | G131: 首都师范大学附属小学 | H131: 徐春燕 | I131: 杨诗怡|谭淇文 | J131: 10 | K131: 0.34.22 | L131: 33 | M131: 二等奖
A132: 88985 | B132: 2B8hX5xg-139-053-dG-055-1-9pw-01-ZGO | C132: 'FTF 青少年无人机赛项' | D132: FTF编程物流搬运赛' | E132: 小学组 | F132: 临安育才三队 | G132: 杭州市临安区青山湖科技城育才学校 | H132: 孔一铠 | I132: 谢一睿|潘雨泽 | J132: 10 | K132: 0.42.47 | L132: 34 | M132: 二等奖
A133: 91848 | B133: 2B8hX618-139-053-K7-055-1-VJc-01-zD2 | C133: 'FTF 青少年无人机赛项' | D133: FTF编程物流搬运赛' | E133: 小学组 | F133: 双梓 | G133: 玉林市玉州区第五实验小学 | H133: 梁晓翰|梁柯 | I133: 曾梓棋|王梓淇 | J133: 10 | K133: 0.45.22 | L133: 35 | M133: 二等奖
A134: 90007 | B134: 2B8hX61s-139-053-A1-055-1-yMW-01-MTM | C134: 'FTF 青少年无人机赛项' | D134: FTF编程物流搬运赛' | E134: 小学组 | F134: 中央路小学代表队 | G134: 中央路小学 | H134: 陈丽丽 | I134: 许悦|司响 | J134: 10 | K134: 0.45.3 | L134: 36 | M134: 三等奖
A135: 84112 | B135: 2B8hX5JY-139-053-3e-055-1-eIw-01-7YQ | C135: 'FTF 青少年无人机赛项' | D135: FTF编程物流搬运赛' | E135: 小学组 | F135: 深中光明怎么飞都队 | G135: 深圳中学光明科学城学校 | H135: 李杨桓|吴镁镁 | I135: 何锦濠|郭招阳 | J135: 10 | K135: 0.47.04 | L135: 37 | M135: 三等奖
A136: 89096 | B136: 2B8hX6r7-139-053-k9-055-1-OYu-01-EH2 | C136: 'FTF 青少年无人机赛项' | D136: FTF编程物流搬运赛' | E136: 小学组 | F136: 好未来队 | G136: 卡巴青少儿科技活动中心远大路校区 | H136: 迈阔 | I136: 魏伯昀|郝和军 | J136: 10 | K136: 0.47.09 | L136: 38 | M136: 三等奖
A137: 92097 | B137: 2B8hX6Bo-139-053-4M-055-1-dUE-01-Lm9 | C137: 'FTF 青少年无人机赛项' | D137: FTF编程物流搬运赛' | E137: 小学组 | F137: 重庆大沙小雄鹰2队 | G137: 重庆大学城沙坪坝小学校 | H137: 钱龙跃|刘沛 | I137: 周蜀渝|唐御轩 | J137: 10 | K137: 0.48.4 | L137: 39 | M137: 三等奖
... A144: 89062 | B144: 2B8hX6BF-139-053-hB-055-1-uOW-01-XmO | C144: 'FTF 青少年无人机赛项' | D144: FTF编程物流搬运赛' | E144: 小学组 | F144: 烈焰小队 | G144: 卡巴青少儿科技活动中心远大路校区 | H144: 迈阔 | I144: 李汇福|陈屹晨 | J144: 10 | K144: 1.00.66 | L144: 46 | M144: 三等奖
A145: / | B145: / | C145: 'FTF 青少年无人机赛项' | D145: FTF编程物流搬运赛' | E145: 小学组 | F145: DSKTE1-A | G145: EZ CUTE ROBOTS SDN BHD | H145: MUHAMMAD SYAZWAN BIN JOHARI | I145: UMAR BIN HAZIMAN| MUHAMMAD ADAM RAZIN BIN MOHD REDZUAN | J145: 10 | K145: 1.03.29 | L145: 47 | M145: 三等奖
A146: 89865 | B146: 2B8hX61d-139-053-gV-055-1-QYy-01-3JD | C146: 'FTF 青少年无人机赛项' | D146: FTF编程物流搬运赛' | E146: 小学组 | F146: 知所猿理工央小代表队 | G146: 知所猿飞行基地 | H146: 陈涛 | I146: 周洲|朱可夫 | J146: 10 | K146: 1.03.97 | L146: 48 | M146: 三等奖
A147: 89074 | B147: 2B8hX6dq-139-053-ix-055-1-MMB-01-eae | C147: 'FTF 青少年无人机赛项' | D147: FTF编程物流搬运赛' | E147: 小学组 | F147: 南京无人机昱翌队 | G147: 南京市力学小学 南师附中新城小学北校区 | H147: 王鑫 | I147: 廖翌轩|宋昱慷 | J147: 10 | K147: 1.04.18 | L147: 49 | M147: 三等奖
A148: 91753 | B148: 2B8hX6BY-139-053-Jv-055-1-wfs-01-RWE | C148: 'FTF 青少年无人机赛项' | D148: FTF编程物流搬运赛' | E148: 小学组 | F148: 闵喆桐|薛惠严 | G148: 南通师范学校第一附属小学 | H148: 王镭 | I148: 闵喆桐|薛惠严 | J148: 10 | K148: 1.11.51 | L148: 50 | M148: 三等奖
A149: 90287 | B149: 2B8hX6rN-139-053-cA-055-1-67f-01-OgT | C149: 'FTF 青少年无人机赛项' | D149: FTF编程物流搬运赛' | E149: 小学组 | F149: 空中超人队 | G149: hello编程机器人 | H149: 刘逸欣 | I149: 高健皓|王溥泽 | J149: 10 | K149: 1.13.59 | L149: 51 | M149: 三等奖
A150: 91650 | B150: 2B8hX6Bm-139-053-1A-055-1-XVn-01-Of9 | C150: 'FTF 青少年无人机赛项' | D150: FTF编程物流搬运赛' | E150: 小学组 | F150: 睿智队 | G150: 南通经济技术开发区星湖小学 | H150: 徐阳|樊婧依 | I150: 茅钦睿|王善之 | J150: 10 | K150: 1.16.00 | L150: 52 | M150: 三等奖
A151: 84232 | B151: 2B8hX5JZ-139-053-gE-055-1-tfy-01-uOL | C151: 'FTF 青少年无人机赛项' | D151: FTF编程物流搬运赛' | E151: 小学组 | F151: 孝顺小学2 | G151: 金华市金东区孝顺镇中心小学 | H151: 张申东|钟佳良 | I151: 盛司潼|李昊宸 | J151: 10 | K151: 1.29.13 | L151: 53 | M151: 三等奖
A152: 75892 | B152: 2B8hX6Bt-139-053-Yu-055-1-jZf-01-uED | C152: 'FTF 青少年无人机赛项' | D152: FTF编程物流搬运赛' | E152: 小学组 | F152: 牛剑飞虎小组 | G152: 广州市花都区黄广牛剑小学 | H152: 梁瑞睿 | I152: 汪瑾修|古俊健 | J152: 10 | K152: 1.30.15 | L152: 54 | M152: 三等奖
A153: 89033 | B153: 2B8hX6Bk-139-053-8q-055-1-toB-01-emH | C153: 'FTF 青少年无人机赛项' | D153: FTF编程物流搬运赛' | E153: 小学组 | F153: 显眼包二队 | G153: 卡巴青少儿科技活动中心远大路校区 | H153: 丁阳 | I153: 丁墨含|李昕承 | J153: 10 | K153: 1.38.78 | L153: 55 | M153: 三等奖
A154: / | B154: / | C154: 'FTF 青少年无人机赛项' | D154: FTF编程物流搬运赛' | E154: 小学组 | F154: DSKTE1-B | G154: EZ CUTE ROBOTS SDN BHD | H154: MUHAMMAD SYAZWAN BIN JOHARI | I154: MUHAMMAD NAUFAL SHAKIL BIN NORHAZAM| MUHAMMAD RAYYAN HAIKAL BIN MOHAMAD NOOR AZAM | J154: 10 | K154: 1.43.56 | L154: 56 | M154: 三等奖
A155: 77605 | B155: 2B8hX5Jc-139-053-iT-055-1-RhU-01-Snj | C155: 'FTF 青少年无人机赛项' | D155: FTF编程物流搬运赛' | E155: 小学组 | F155: 蓝润天使小队 | G155: 蓝润天使外国语实验学校 | H155: 何*婷 | I155: 朱迪|沈文乐 | J155: 10 | K155: 1.49.19 | L155: 57 | M155: 三等奖
A156: 75891 | B156: 2B8hX6BG-139-053-pS-055-1-1rm-01-fJu | C156: 'FTF 青少年无人机赛项' | D156: FTF编程物流搬运赛' | E156: 小学组 | F156: 牛剑勇气小组 | G156: 广州市花都区黄广牛剑小学 | H156: 梁瑞睿 | I156: 谢知涵|邓子涵 | J156: 10 | K156: 2.31.50 | L156: 58 | M156: 三等奖
A157: 90058 | B157: 2B8hX6Bz-139-053-aW-055-1-y0O-01-xNq | C157: 'FTF 青少年无人机赛项' | D157: FTF编程物流搬运赛' | E157: 小学组 | F157: 扬帆远航 | G157: 南京市宝船小学 | H157: 孟焕弟 | I157: 张若南|王骁贤 | J157: 10 | K157: 2.37.65 | L157: 59 | M157: 三等奖
A158: 91906 | B158: 2B8hX6Ba-139-053-KN-055-1-8Y4-01-MGn | C158: 'FTF 青少年无人机赛项' | D158: FTF编程物流搬运赛' | E158: 小学组 | F158: 重庆大沙小雄鹰1队 | G158: 重庆大学城沙坪坝小学校 | H158: 游春虹|王建海 | I158: 王皓宸|刘素谦 | J158: 10 | K158: 3.00.00 | L158: 60 | M158: 三等奖
A159: 89908 | B159: 2B8hX61F-139-053-2l-055-1-G8p-01-Pwa | C159: 'FTF 青少年无人机赛项' | D159: FTF编程物流搬运赛' | E159: 小学组 | F159: 知所猿成小紫金代表队 | G159: 知所猿飞行基地 | H159: 陈涛 | I159: 鲁泽正|王诣喆 | J159: 5 | K159: 0.47.93 | L159: 61 | M159: 三等奖
A160: 75524 | B160: 2B8hX5xn-139-053-a9-055-1-9DF-01-tlO | C160: 'FTF 青少年无人机赛项' | D160: FTF编程物流搬运赛' | E160: 小学组 | F160: 百变天才必胜队 | G160: 广州市海珠区绿翠小学 | H160: 朱达志|钟幸君 | I160: 周持约|白翎 | J160: 5 | K160: 1.34.63 | L160: 62 | M160: 三等奖
A161: 90661 | B161: 2B8hX61B-139-053-9U-055-1-cVs-01-l38 | C161: 'FTF 青少年无人机赛项' | D161: FTF编程物流搬运赛' | E161: 小学组 | F161: 宜宾人小R战队 | G161: 宜宾市人民路小学校 | H161: 向华|段朝礼 | I161: 刘子逸|李泓霖 | J161: 5 | K161: 1.58.75 | L161: 63 | M161: 三等奖
A162: 82111 | B162: 2B8hX5J1-139-053-Ha-055-1-57I-01-IXF | C162: 'FTF 青少年无人机赛项' | D162: FTF编程物流搬运赛' | E162: 小学组 | F162: 灵宝市博雅一小翔翼二队 | G162: 灵宝市第一小学 | H162: 王鹏冰|张侃侃 | I162: 吴思远|阎赫正 | J162: 5 | K162: 2.17.96 | L162: 64 | M162: 三等奖
A163: 90568 | B163: 2B8hX61m-139-053-0r-055-1-8Cn-01-aBU | C163: 'FTF 青少年无人机赛项' | D163: FTF编程物流搬运赛' | E163: 小学组 | F163: 宜宾人小X战队 | G163: 宜宾市人民路小学校 | H163: 向华|段朝礼 | I163: 熊思诚|熊思瑞 | J163: 5 | K163: 2.33.65 | L163: 65 | M163: 三等奖
A164: 90103 | B164: 2B8hX6B2-139-053-tM-055-1-oCG-01-9qq | C164: 'FTF 青少年无人机赛项' | D164: FTF编程物流搬运赛' | E164: 小学组 | F164: 灵宝市博雅一小翔翼三队 | G164: 灵宝市第一小学 | H164: 翟旭辉|马彩珍 | I164: 薛凯菲儿|许梦桐 | J164: 5 | K164: 2.43.57 | L164: 66 | M164: 三等奖
A165: 89068 | B165: 2B8hX6df-139-053-Zq-055-1-6t2-01-DHg | C165: 'FTF 青少年无人机赛项' | D165: FTF编程物流搬运赛' | E165: 小学组 | F165: 美少女战士 | G165: 北京市西城区黄城根小学 | H165: 金园园 | I165: 刘思墨|刘思彤 | J165: 5 | K165: 2.47.13 | L165: 67 | M165: 三等奖
A166: 90374 | B166: 2B8hX6BK-139-053-2i-055-1-9sE-01-tHI | C166: 'FTF 青少年无人机赛项' | D166: FTF编程物流搬运赛' | E166: 小学组 | F166: 海曙小学 | G166: 浙江省杭州市余杭区未来科技城海曙小学 | H166: 劳熙婷 | I166: 陈其煜|李陈贤 | J166: 5 | K166: 2.50.46 | L166: 68 | M166: 三等奖
... A168: 82031 | B168: 2B8hX5JI-139-053-jn-055-1-S7s-01-w5e | C168: 'FTF 青少年无人机赛项' | D168: FTF编程物流搬运赛' | E168: 小学组 | F168: 海港区青少年活动中心无人机小队 | G168: 秦皇岛市海港区青少年活动中心 | H168: 囤丰 | I168: 周涵逸|甘雨来 | J168: 5 | K168: 3.00.00 | L168: 70 | M168: 三等奖
A170: 报名编号 | B170: 激活码 | C170: 赛道 | D170: 赛项 | E170: 组别 | F170: 队伍名称 | G170: 申报单位 | H170: 教练信息 | I170: 学生信息 | J170: 比赛分数 | K170: 比赛用时 | L170: 成绩排名 | M170: 奖项
A171: 82151 | B171: 2B8hX5XY-139-053-lX-055-1-N0L-03-3em | C171: 'FTF 青少年无人机赛项' | D171: FTF编程物流搬运赛' | E171: 中学组 | F171: 宁外秋分队 | G171: 宁波外国语学校 | H171: 蔡立维|郭莹 | I171: 黄小楼|吕潇楠 | J171: 65 | K171: 2.09.47 | L171: 1 | M171: 一等奖(冠军)
A172: 91227 | B172: 2B8hX5XW-139-053-PP-055-1-j2c-03-eJL | C172: 'FTF 青少年无人机赛项' | D172: FTF编程物流搬运赛' | E172: 中学组 | F172: 挑战者联盟 | G172: 长春汽车经济技术开发区青少年活动中心 | H172: 李洋|程杰 | I172: 陈恭安悦|肖淳 | J172: 55 | K172: 2.41.12 | L172: 2 | M172: 一等奖(亚军)
A173: 90052 | B173: 2B8hX6gy-139-053-wL-055-1-Snm-03-93T | C173: 'FTF 青少年无人机赛项' | D173: FTF编程物流搬运赛' | E173: 中学组 | F173: 起飞小鱼 | G173: 雄安容和第一高级中学 | H173: 张梦雅|王娟 | I173: 田子诺|王润佳 | J173: 50 | K173: 2.12.78 | L173: 3 | M173: 一等奖(季军)
A174: 90086 | B174: 2B8hX5X3-139-053-tL-055-1-Ouz-03-wNS | C174: 'FTF 青少年无人机赛项' | D174: FTF编程物流搬运赛' | E174: 中学组 | F174: 思齐无人机3队 | G174: 厦门市海沧区北附学校教育集团思齐中学 | H174: 顿卜双 | I174: 王文轩|何一铭 | J174: 50 | K174: 3.00.00 | L174: 4 | M174: 一等奖
A175: 76823 | B175: 2B8hX5az-139-053-zc-055-1-OO5-03-XOn | C175: 'FTF 青少年无人机赛项' | D175: FTF编程物流搬运赛' | E175: 中学组 | F175: 行者天下队 | G175: 南京青檬智能培训中心 | H175: 姜浩冉 | I175: 王胥钧|陈志行 | J175: 45 | K175: 1.41.47 | L175: 5 | M175: 一等奖
A176: 84132 | B176: 2B8hX5aU-139-053-3O-055-1-J72-03-bmq | C176: 'FTF 青少年无人机赛项' | D176: FTF编程物流搬运赛' | E176: 中学组 | F176: 只有深中光明飞得队 | G176: 深圳中学光明科学城学校 | H176: 李杨桓|吴镁镁 | I176: 郑洱仁|郑榕霆 | J176: 40 | K176: 2.59.51 | L176: 6 | M176: 二等奖
A177: 91992 | B177: 2B8hXXSb-139-053-IC-055-1-hZW-03-D8G | C177: 'FTF 青少年无人机赛项' | D177: FTF编程物流搬运赛' | E177: 中学组 | F177: Van Dark | G177: 雄安容和第一高级中学 | H177: 张梦雅|白晓哲 | I177: 高尔玺|张鹏博 | J177: 35 | K177: 1.50.97 | L177: 7 | M177: 二等奖
A178: 78443 | B178: 2B8hX5aS-139-053-SS-055-1-QNO-03-wPU | C178: 'FTF 青少年无人机赛项' | D178: FTF编程物流搬运赛' | E178: 中学组 | F178: LT战队 | G178: 深圳市龙岗区外国语学校(集团)新亚洲学校深圳市龙岗区实验学校联队 | H178: 梁志雄|邓嘉描 | I178: 吴泽林|曾稚庭 | J178: 30 | K178: 2.11.88 | L178: 8 | M178: 二等奖
A179: 91116 | B179: 2B8hX6dl-139-053-3V-055-1-dPe-03-fZn | C179: 'FTF 青少年无人机赛项' | D179: FTF编程物流搬运赛' | E179: 中学组 | F179: 琴岗少年 | G179: 上杭县第二中学 | H179: 傅淑琴|林金海 | I179: 张思溶|邱荣富 | J179: 25 | K179: 1.38.81 | L179: 9 | M179: 二等奖
A180: 83313 | B180: 2B8hX5ab-139-053-YJ-055-1-6HB-03-7Tk | C180: 'FTF 青少年无人机赛项' | D180: FTF编程物流搬运赛' | E180: 中学组 | F180: 冰星队 | G180: 玉林市锡昂中学 | H180: 梁书英|张馨文 | I180: 石玉妍|任金霖 | J180: 15 | K180: 0.29.47 | L180: 10 | M180: 二等奖
A181: 83747 | B181: 2B8hX5aL-139-053-dK-055-1-x2k-03-yqi | C181: 'FTF 青少年无人机赛项' | D181: FTF编程物流搬运赛' | E181: 中学组 | F181: 深中光明对对队 | G181: 深圳中学光明科学城学校 | H181: 李杨桓|吴镁镁 | I181: 黄柏康|汤晟昊 | J181: 15 | K181: 0.32.12 | L181: 11 | M181: 二等奖
A182: 91347 | B182: 2B8hX6de-139-053-DT-055-1-mMk-03-TJm | C182: 'FTF 青少年无人机赛项' | D182: FTF编程物流搬运赛' | E182: 中学组 | F182: 思齐无人机4队 | G182: 厦门市海沧区北附学校教育集团思齐中学 | H182: 顿卜双 | I182: 姚载熙|吴昊宇 | J182: 15 | K182: 0.42.00 | L182: 12 | M182: 二等奖
... A204: 89455 | B204: 2B8hX6gq-139-053-6l-055-1-kdC-03-y32 | C204: 'FTF 青少年无人机赛项' | D204: FTF编程物流搬运赛' | E204: 中学组 | F204: 雄鹰001 | G204: 山东省东营市第一中学 山东省临淄英才中学 | H204: 张家辉|唐彩龙 | I204: 战珈睿|刘敬霖 | J204: 5 | K204: 2.48.52 | L204: 34 | M204: 三等奖
A206: 报名编号 | B206: 激活码 | C206: 赛道 | D206: 赛项 | E206: 组别 | F206: 队伍名称 | G206: 申报单位 | H206: 教练信息 | I206: 学生信息 | J206: 比赛分数 | K206: 比赛用时 | L206: 成绩排名 | M206: 奖项
A207: 89809 | B207: 2B8hX6sz-139-053-PU-056-1-lPf-03-Sxr | C207: 'FTF 青少年无人机赛项' | D207: FTF球形无人机对抗赛' | E207: 中学组 | F207: 雄安歼-21 | G207: 雄安容和第一高级中学 | H207: 张梦雅|柳璇 | I207: 李梦磊|李康硕|周勃宇 | J207: 97 | L207: 1 | M207: 一等奖(冠军)
A208: 91907 | B208: 2B8hXatO-139-053-nd-056-1-iNX-03-WR1 | C208: 'FTF 青少年无人机赛项' | D208: FTF球形无人机对抗赛' | E208: 中学组 | F208: 自由之翼 | G208: 雄安容和兴贤初级中学 | H208: 柳璇|张荐旗 | I208: 于天硕|张翔越|袁宇航 | J208: 86 | L208: 2 | M208: 一等奖(亚军)
...

Sheet AI创无界赛项
A1: 2023世界机器人大赛总决赛-青少年机器人设计大赛-AI创无界赛项获奖名单
A2: 报名编号 | B2: 激活码 | C2: 赛道 | D2: 赛项 | E2: 组别 | F2: 队伍名称 | G2: 申报单位 | H2: 教练信息 | I2: 学生信息 | J2: 联赛分数 | K2: 成绩排名 | L2: 奖项 | M2: 决赛成绩
A3: A区
A4: 82054 | B4: 2B8hXtWi-139-057-4g-059-1-RPk-08-5Mc | C4: AI创无界赛项' | D4: 'AI创无界之环球无界' | E4: 小学低龄组 | F4: 勇士三队 | G4: 佛山市南海区南海实验小学 | H4: 陈曼思 | I4: 罗竣菖|罗梓耀 | J4: 108 | K4: 冠军 | L4: 一等奖(冠军) | M4: 139
A5: 78621 | B5: 2B8hXtpI-139-057-aN-059-1-jej-08-x2t | C5: 'AI创无界赛项' | D5: 'AI创无界之环球无界' | E5: 小学低龄组 | F5: 百脉泉队 | G5: 济南斯坦星球学习中心 | H5: 杨明利 | I5: 高沐阳|栾司骏 | J5: 107.67 | K5: 冠军 | L5: 一等奖(冠军) | M5: 139
A6: 79433 | B6: 2B8hXtpl-139-057-Gv-059-1-zma-08-UKP | C6: 'AI创无界赛项' | D6: 'AI创无界之环球无界' | E6: 小学低龄组 | F6: 斯坦星球飞越队 | G6: 斯坦星球百官校区 | H6: 马盛浩 | I6: 阮文晏|王梓晨|李亦然 | J6: 100.33 | K6: 亚军 | L6: 一等奖(亚军) | M6: 139
A7: 82010 | B7: 2B8hXtWS-139-057-j3-059-1-ZDs-08-kKF | C7: 'AI创无界赛项' | D7: 'AI创无界之环球无界' | E7: 小学低龄组 | F7: 勇士四队 | G7: 广东省佛山市禅城区东华里小学 | H7: 曹丽 | I7: 叶宇浩|陈漪岚|龚奕博 | J7: 100 | K7: 亚军 | L7: 一等奖(亚军) | M7: 139
A8: 77195 | B8: 2B8hXt9B-139-057-xP-059-1-SSD-08-BsG | C8: 'AI创无界赛项' | D8: 'AI创无界之环球无界' | E8: 小学低龄组 | F8: 博佳2队 | G8: 丹东市博佳机器人 | H8: 王一澄 | I8: 解佳航|姜钧航 | J8: 109 | K8: 季军 | L8: 一等奖(季军) | M8: 124
A9: 79444 | B9: 2B8hXtj0-139-057-7y-059-1-yeC-08-5mJ | C9: 'AI创无界赛项' | D9: 'AI创无界之环球无界' | E9: 小学低龄组 | F9: 新疆乐赢勇往直前队 | G9: 乌鲁木齐乐赢乐创科技中心 | H9: 汤佳丽 | I9: 刘昊霖|赵梓豪 | J9: 108.67 | K9: 季军 | L9: 一等奖(季军) | M9: 124
A10: 78488 | B10: 2B8hXtND-139-057-jK-059-1-Y0x-08-Nha | C10: 'AI创无界赛项' | D10: 'AI创无界之环球无界' | E10: 小学低龄组 | F10: 衡水之星 | G10: 衡水市桃城区科乐乐高英语培训学校 | H10: 薛冬 | I10: 周泽凡|张圣帅|薛铭泽 | J10: 127.33 | K10: 7 | L10: 一等奖
A11: 78692 | B11: 2B8hXtpk-139-057-WR-059-1-kAt-08-dwa | C11: 'AI创无界赛项' | D11: 'AI创无界之环球无界' | E11: 小学低龄组 | F11: 第一梯队 | G11: 斯坦星球温州欧洲城学习中心 | H11: 朱迪 | I11: 吴柏铖|董锦佑|叶峻屹 | J11: 124.67 | K11: 8 | L11: 一等奖
A12: 82132 | B12: 2B8hXtOr-139-057-WG-059-1-7mv-08-VL2 | C12: 'AI创无界赛项' | D12: 'AI创无界之环球无界' | E12: 小学低龄组 | F12: 追风七队 | G12: 佛山市惠景小学 | H12: 王静怡 | I12: 何庭玮|关子悦|陈嘉峻 | J12: 114 | K12: 9 | L12: 一等奖
A13: 81101 | B13: 2B8hXtNr-139-057-wk-059-1-a4k-08-23K | C13: 'AI创无界赛项' | D13: 'AI创无界之环球无界' | E13: 小学低龄组 | F13: 孤勇者队 | G13: 石家庄市桥西区汤米家培训学校 | H13: 张天 | I13: 赵宇皓 | J13: 110 | K13: 10 | L13: 二等奖
A14: 81832 | B14: 2B8hXtOH-139-057-og-059-1-tjx-08-yL0 | C14: 'AI创无界赛项' | D14: 'AI创无界之环球无界' | E14: 小学低龄组 | F14: 超越五队 | G14: 佛山市南海区桂城街道南海师范附属小学 | H14: 冯楚庭 | I14: 徐昊添|陈卓涵|鄂峻霆 | J14: 106.67 | K14: 11 | L14: 二等奖
A15: 78681 | B15: 2B8hXtpD-139-057-4B-059-1-Mna-08-Ou8 | C15: 'AI创无界赛项' | D15: 'AI创无界之环球无界' | E15: 小学低龄组 | F15: 有bear而来队 | G15: 斯坦星球温州学习中心 | H15: 卢成源 | I15: 董泓墨|徐梓豪|林嘉宏 | J15: 105.33 | K15: 12 | L15: 二等奖
A16: 80926 | B16: 2B8hXtN3-139-057-cE-059-1-CSa-08-3WS | C16: 'AI创无界赛项' | D16: 'AI创无界之环球无界' | E16: 小学低龄组 | F16: GC队 | G16: 石家庄市桥西区汤米家培训学校 | H16: 白杨露 | I16: 高乾雯|崔隽阁 | J16: 105.33 | K16: 13 | L16: 二等奖
A17: 80037 | B17: 2B8hXtCe-139-057-5h-059-1-CJH-08-1Mg | C17: 'AI创无界赛项' | D17: 'AI创无界之环球无界' | E17: 小学低龄组 | F17: 趣高1队 | G17: 上海市浦东新区新场实验小学 | H17: 陈晓峰 | I17: 梁羿啸|金宸宇 | J17: 105.33 | K17: 14 | L17: 二等奖
A18: 82431 | B18: 2B8hXtO0-139-057-0w-059-1-HY7-08-G95 | C18: 'AI创无界赛项' | D18: 'AI创无界之环球无界' | E18: 小学低龄组 | F18: 王牌五队 | G18: 佛山市南海区听音湖实验学校 | H18: 黄家伟 | I18: 兰亭序|卢振岚|劳俊景 | J18: 104.67 | K18: 15 | L18: 二等奖
A19: 82312 | B19: 2B8hXtOx-139-057-VX-059-1-mUO-08-75q | C19: 'AI创无界赛项' | D19: 'AI创无界之环球无界' | E19: 小学低龄组 | F19: 天佑城战队3队 | G19: 佛山市顺德区乐从第一实验学校 | H19: 黎洁明 | I19: 高宏贺|陈沛延|彭宇涵 | J19: 104.33 | K19: 16 | L19: 二等奖
A20: 80475 | B20: 2B8hXtCk-139-057-v7-059-1-WqV-08-ilI | C20: 'AI创无界赛项' | D20: 'AI创无界之环球无界' | E20: 小学低龄组 | F20: 趣高3队 | G20: 上海市浦东新区新场实验小学 | H20: 陈晓峰 | I20: 马时齐修|马时齐治 | J20: 104 | K20: 17 | L20: 二等奖
A21: 78310 | B21: 2B8hXt9x-139-057-GQ-059-1-d2O-08-8WZ | C21: 'AI创无界赛项' | D21: 'AI创无界之环球无界' | E21: 小学低龄组 | F21: 小青蛙一队 | G21: 上海青浦区世外学校 | H21: 朱程炜 | I21: 谢道衍|钱君阳|陈田宇 | J21: 102 | K21: 18 | L21: 二等奖
... A62: 81880 | B62: 2B8hXtOw-139-057-SN-059-1-Y0q-08-Go9 | C62: 'AI创无界赛项' | D62: 'AI创无界之环球无界' | E62: 小学低龄组 | F62: 飞跃十队 | G62: 佛山市禅城区协同学校 | H62: 邓秋晓 | I62: 谭卓曦|潘泺霖 | J62: 53.33 | K62: 59 | L62: 三等奖
A63: B区
A64: 82575 | B64: 2B8hXtNY-139-057-Bx-059-1-0yy-08-2Cp | C64: 'AI创无界赛项' | D64: 'AI创无界之环球无界' | E64: 小学低龄组 | F64: 余姚冠军队 | G64: 余姚神奇科学家 | H64: 黄烨 | I64: 张泽锴|蒋知安|赵展 | J64: 115.33 | K64: 冠军 | L64: 一等奖(冠军) | M64: 141
A65: 82625 | B65: 2B8hXtNR-139-057-qC-059-1-8da-08-gY3 | C65: 'AI创无界赛项' | D65: 'AI创无界之环球无界' | E65: 小学低龄组 | F65: 夺冠队 | G65: 余姚神奇科学家 | H65: 黄烨 | I65: 姚涵|杨奕航|许洋溥 | J65: 115.33 | K65: 冠军 | L65: 一等奖(冠军) | M65: 141
A66: 79167 | B66: 2B8hXtp0-139-057-uf-059-1-kqr-08-TRy | C66: 'AI创无界赛项' | D66: 'AI创无界之环球无界' | E66: 小学低龄组 | F66: 斯坦星球梦想队 | G66: 上虞区实验小学、斯坦星球上虞校区 | H66: 周雅芳|夏清清 | I66: 俞沁妍|范易旻|江陈实 | J66: 116.67 | K66: 亚军 | L66: 一等奖(亚军) | M66: 135
A67: 82208 | B67: 2B8hXtW4-139-057-IL-059-1-4rI-08-tgW | C67: 'AI创无界赛项' | D67: 'AI创无界之环球无界' | E67: 小学低龄组 | F67: 晨曦四队 | G67: 佛山市南海外国语学校 | H67: 方芳 | I67: 姚子政|莫梓泓 | J67: 116 | K67: 亚军 | L67: 一等奖(亚军) | M67: 135
A68: 79415 | B68: 2B8hXtjY-139-057-l6-059-1-ulT-08-mfJ | C68: 'AI创无界赛项' | D68: 'AI创无界之环球无界' | E68: 小学低龄组 | F68: 新疆乐赢机械队 | G68: 乌鲁木齐乐赢乐创科技中心 | H68: 刘聪 | I68: 孙昊泽|王泽宇|刘思涵 | J68: 108.67 | K68: 季军 | L68: 一等奖(季军) | M68: 133
A69: 78052 | B69: 2B8hXt0q-139-057-hT-059-1-XrJ-08-I6e | C69: 'AI创无界赛项' | D69: 'AI创无界之环球无界' | E69: 小学低龄组 | F69: 斯坦星球盐城雷霆队 | G69: 斯坦星球盐城中心 | H69: 冯加琪 | I69: 颜子涵|俞礼璟 | J69: 107.33 | K69: 季军 | L69: 一等奖(季军) | M69: 133
A70: 78032 | B70: 2B8hXt0L-139-057-ek-059-1-Op3-08-l5R | C70: 'AI创无界赛项' | D70: 'AI创无界之环球无界' | E70: 小学低龄组 | F70: 斯坦星球盐城猛虎队 | G70: 斯坦星球盐城中心 | H70: 冯加琪 | I70: 姜昀谦|华语涵 | J70: 121.33 | K70: 7 | L70: 一等奖
A71: 78700 | B71: 2B8hXtNW-139-057-vB-059-1-ZE6-08-qdg | C71: 'AI创无界赛项' | D71: 'AI创无界之环球无界' | E71: 小学低龄组 | F71: 神奇科学家21队 | G71: 上海星河湾双语学校 上海市长宁区虹桥机场小学 | H71: 沈聪 | I71: 熊晨希|皋景行 | J71: 118.67 | K71: 8 | L71: 一等奖
A72: 79435 | B72: 2B8hXtjj-139-057-lc-059-1-FeV-08-TfM | C72: 'AI创无界赛项' | D72: 'AI创无界之环球无界' | E72: 小学低龄组 | F72: 新疆乐赢少年夺金队 | G72: 乌鲁木齐乐赢乐创科技中心 | H72: 汤佳丽 | I72: 孙元宝|魏莱 | J72: 114.67 | K72: 9 | L72: 一等奖
A73: 81166 | B73: 2B8hXt9a-139-057-56-059-1-mes-08-4sD | C73: 'AI创无界赛项' | D73: 'AI创无界之环球无界' | E73: 小学低龄组 | F73: 小球出击 | G73: 福州市仓山区第五中心小学、福州市温泉小学、棒棒贝贝 | H73: 费庭文 | I73: 郑思成|李子伦|蔡莙洋|王睿涵 | J73: 112.67 | K73: 10 | L73: 一等奖
A74: 80131 | B74: 2B8hXtNL-139-057-FR-059-1-Ggb-08-6oO | C74: 'AI创无界赛项' | D74: 'AI创无界之环球无界' | E74: 小学低龄组 | F74: 双宝队 | G74: 宁波翰香小学 | H74: 陈晓艇 | I74: 李明翰|霍俊钦 | J74: 111.33 | K74: 11 | L74: 二等奖
A75: 79080 | B75: 2B8hXtjH-139-057-1z-059-1-t18-08-gd1 | C75: 'AI创无界赛项' | D75: 'AI创无界之环球无界' | E75: 小学低龄组 | F75: 新疆乐赢战狼队 | G75: 乌鲁木齐乐赢乐创科技中心 | H75: 刘聪 | I75: 张春朝|袁浩哲 | J75: 110.33 | K75: 12 | L75: 二等奖
A76: 83262 | B76: 2B8hXtpL-139-057-k5-059-1-5ZO-08-KsU | C76: 'AI创无界赛项' | D76: 'AI创无界之环球无界' | E76: 小学低龄组 | F76: JAX一队 | G76: 斯坦星球吉安一校 | H76: 袁豪兵 | I76: 汪子涵 | J76: 110 | K76: 13 | L76: 二等奖
A77: 79500 | B77: 2B8hXtpn-139-057-tu-059-1-NBu-08-Lfl | C77: 'AI创无界赛项' | D77: 'AI创无界之环球无界' | E77: 小学低龄组 | F77: 斯坦星球奋勇队 | G77: 斯坦星球上虞百官校区 | H77: 石剑 | I77: 朱城旭|章茗嘉|罗煦清 | J77: 108.67 | K77: 14 | L77: 二等奖
A78: 79226 | B78: 2B8hXtpx-139-057-if-059-1-IAZ-08-Tdd | C78: 'AI创无界赛项' | D78: 'AI创无界之环球无界' | E78: 小学低龄组 | F78: 五龙潭队 | G78: 济南斯坦星球一校 | H78: 曹焕焕 | I78: 郜绪泓|唐嘉佑 | J78: 105.67 | K78: 15 | L78: 二等奖
A79: 80971 | B79: 2B8hXtCH-139-057-4k-059-1-UkP-08-EvN | C79: 'AI创无界赛项' | D79: 'AI创无界之环球无界' | E79: 小学低龄组 | F79: 轩辕队 | G79: 百变创造力 | H79: 杨宏宇 | I79: 范宸硕|阴洛 | J79: 105.67 | K79: 16 | L79: 二等奖
A80: 82642 | B80: 2B8hXtNn-139-057-cm-059-1-NPA-08-GbS | C80: 'AI创无界赛项' | D80: 'AI创无界之环球无界' | E80: 小学低龄组 | F80: 神奇科学家队 | G80: 余姚神奇科学家 | H80: 黄烨 | I80: 修恒|赵洛铭 | J80: 104.67 | K80: 17 | L80: 二等奖
A81: 82179 | B81: 2B8hXtOc-139-057-0n-059-1-Sfq-08-oVB | C81: 'AI创无界赛项' | D81: 'AI创无界之环球无界' | E81: 小学低龄组 | F81: 王牌二队 | G81: 佛山市顺德区罗沙小学 | H81: 张嘉妮 | I81: 齐金阔|杨熙媛|杨子琳 | J81: 104.33 | K81: 18 | L81: 二等奖
... A125: 79137 | B125: 2B8hXtjn-139-057-Yd-059-1-pK5-08-GUN | C125: 'AI创无界赛项' | D125: 'AI创无界之环球无界' | E125: 小学低龄组 | F125: 机器先锋 | G125: 新疆石榴创客 | H125: 刘枳屿 | I125: 单嘉豪|刘庆骅 | J125: 57.33 | K125: 62 | L125: 三等奖
A126: C区
A127: 79900 | B127: 2B8hXtC1-139-057-fh-059-1-DvA-08-r1N | C127: 'AI创无界赛项' | D127: 'AI创无界之环球无界' | E127: 小学低龄组 | F127: 趣高2队 | G127: 上海市浦东新区新场实验小学 | H127: 陈晓峰 | I127: 王子鑫|陈木曦 | J127: 133.67 | K127: 冠军 | L127: 一等奖(冠军) | M127: 152
A128: 86827 | B128: 2B8hXtj3-139-057-Xx-059-1-bzK-08-xcO | C128: 'AI创无界赛项' | D128: 'AI创无界之环球无界' | E128: 小学低龄组 | F128: 新疆韦哲机器人3队 | G128: 乌鲁木齐韦哲机器人 | H128: 董云 | I128: 祁子洋|杨雯媛|李伟豪|杨云添 | J128: 127.33 | K128: 冠军 | L128: 一等奖(冠军) | M128: 152
A129: 78653 | B129: 2B8hXtNC-139-057-Lm-059-1-I4s-08-qob | C129: 'AI创无界赛项' | D129: 'AI创无界之环球无界' | E129: 小学低龄组 | F129: 神奇科学家19队 | G129: 上海市朝春中心小学 宋庆龄小学 | H129: 蒋事博 | I129: 沈奕梵|Samuel Shen | J129: 96.67 | K129: 亚军 | L129: 一等奖(亚军) | M129: 136
A130: 81900 | B130: 2B8hXtWl-139-057-kz-059-1-cEU-08-QQ4 | C130: 'AI创无界赛项' | D130: 'AI创无界之环球无界' | E130: 小学低龄组 | F130: 勇士六队 | G130: 佛山市南海区桂城街道灯湖第六小学 | H130: 王俊新 | I130: 梁祖睿|杨尚谦|陈圳泓 | J130: 93.67 | K130: 亚军 | L130: 一等奖(亚军) | M130: 136
A131: 80322 | B131: 2B8hXt9D-139-057-fJ-059-1-uKQ-08-4qV | C131: 'AI创无界赛项' | D131: 'AI创无界之环球无界' | E131: 小学低龄组 | F131: 晟航强者联盟队 | G131: 金童晟航机器人俱乐部 | H131: 李伟杰 | I131: 周天择|毛鹏睿|刘峻宋|赵锡尧 | J131: 116.33 | K131: 季军 | L131: 一等奖(季军) | M131: 129
A132: 80095 | B132: 2B8hXtNw-139-057-Ku-059-1-kgZ-08-CGj | C132: 'AI创无界赛项' | D132: 'AI创无界之环球无界' | E132: 小学低龄组 | F132: 专业团队 | G132: 宁波翰香小学、宁波市镇海区中心学校 | H132: 孟繁静 | I132: 张浩锐|沈琛 | J132: 116.33 | K132: 季军 | L132: 一等奖(季军) | M132: 129
A133: 79299 | B133: 2B8hXtjd-139-057-1O-059-1-ARg-08-XpY | C133: 'AI创无界赛项' | D133: 'AI创无界之环球无界' | E133: 小学低龄组 | F133: 暗影青龙队 | G133: 乌鲁木齐优学汇乐高机器人中心 | H133: 张文宁 | I133: 曹天彪|鞠宗谚|袁宇辰 | J133: 122 | K133: 7 | L133: 一等奖
A134: 78647 | B134: 2B8hXtNo-139-057-RW-059-1-7J2-08-PlA | C134: 'AI创无界赛项' | D134: 'AI创无界之环球无界' | E134: 小学低龄组 | F134: 神奇科学家18队 | G134: 上外-黄浦外国语小学 上海市宝山区第一中心小学 | H134: 蒋事博 | I134: 蒲沛成|董晨曦 | J134: 116.67 | K134: 8 | L134: 一等奖
A135: 82304 | B135: 2B8hXtW7-139-057-Az-059-1-VKz-08-K5C | C135: 'AI创无界赛项' | D135: 'AI创无界之环球无界' | E135: 小学低龄组 | F135: 晨曦三队 | G135: 佛山市南海区桂城街道怡海第五小学 | H135: 李先梅 | I135: 邵屹玄|陈卓烨|罗奕晨 | J135: 116 | K135: 9 | L135: 一等奖
A136: 78580 | B136: 2B8hXtp4-139-057-RP-059-1-u7G-08-aFH | C136: 'AI创无界赛项' | D136: 'AI创无界之环球无界' | E136: 小学低龄组 | F136: 珍珠泉队 | G136: 济南斯坦星球一校 | H136: 曹焕焕 | I136: 吴若彬|李元彬 | J136: 114.67 | K136: 10 | L136: 二等奖
A137: 79531 | B137: 2B8hXtp1-139-057-WI-059-1-PbW-08-Mva | C137: 'AI创无界赛项' | D137: 'AI创无界之环球无界' | E137: 小学低龄组 | F137: 斯坦星球快乐队 | G137: 斯坦星球上虞百官校区 | H137: 石剑 | I137: 王铭睿|马珞齐|姚煜宸 | J137: 114.33 | K137: 11 | L137: 二等奖
A138: 82347 | B138: 2B8hXtYw-139-057-VS-059-1-i70-08-tHq | C138: 'AI创无界赛项' | D138: 'AI创无界之环球无界' | E138: 小学低龄组 | F138: 奇思妙象队 | G138: 未星来客乐高俱乐部 | H138: 罗倪四维 | I138: 李依宸|白泽臻|何姝瑶|李沐阳 | J138: 114 | K138: 12 | L138: 二等奖
A139: 82186 | B139: 2B8hXtWb-139-057-Hy-059-1-axI-08-TmU | C139: 'AI创无界赛项' | D139: 'AI创无界之环球无界' | E139: 小学低龄组 | F139: 晨曦五队 | G139: 佛山市南海区瀚文外国语学校 | H139: 冷锦涛 | I139: 黄骏宇|张殷然|朱浩翔 | J139: 111.67 | K139: 13 | L139: 二等奖
A140: 79464 | B140: 2B8hXtpQ-139-057-rY-059-1-64Q-08-K29 | C140: 'AI创无界赛项' | D140: 'AI创无界之环球无界' | E140: 小学低龄组 | F140: 斯坦星球飞跃队 | G140: 斯坦星球百官校区 | H140: 马盛浩 | I140: 王梓辰|李思齐|董文玘 | J140: 110 | K140: 14 | L140: 二等奖
A141: 79148 | B141: 2B8hXtpp-139-057-lv-059-1-uID-08-mEu | C141: 'AI创无界赛项' | D141: 'AI创无界之环球无界' | E141: 小学低龄组 | F141: 斯坦星球胜利队 | G141: 上虞区实验小学、上虞百官重华小学 | H141: 胡雨卉|朱园园 | I141: 朱羿宸|徐陶然 | J141: 109.67 | K141: 15 | L141: 二等奖
A142: 82181 | B142: 2B8hXtlD-139-057-AV-059-1-MjE-08-1iw | C142: 'AI创无界赛项' | D142: 'AI创无界之环球无界' | E142: 小学低龄组 | F142: 卓越五队 | G142: 佛山市南海区桂城街道桂江第三小学 | H142: 杨凤杰 | I142: 刘嘉浚|邵泓斌|麦紫轩 | J142: 108.67 | K142: 16 | L142: 二等奖
A143: 86467 | B143: 2B8hXtjc-139-057-OH-059-1-apc-08-5Yr | C143: 'AI创无界赛项' | D143: 'AI创无界之环球无界' | E143: 小学低龄组 | F143: 荣耀1队 | G143: 长沙乐驰培训中心 | H143: 倪志强|辛锋 | I143: 戚乐一|欧宸宇 | J143: 108.33 | K143: 17 | L143: 二等奖
A144: 80168 | B144: 2B8hXtNA-139-057-VH-059-1-kz5-08-E29 | C144: 'AI创无界赛项' | D144: 'AI创无界之环球无界' | E144: 小学低龄组 | F144: 阿尔法分队 | G144: 海曙中心小学、宋诏桥小学 | H144: 孟繁静 | I144: 施晨乐|陈曦 | J144: 104 | K144: 18 | L144: 二等奖
... A183: 81784 | B183: 2B8hXtOP-139-057-5h-059-1-ArS-08-rvD | C183: 'AI创无界赛项' | D183: 'AI创无界之环球无界' | E183: 小学低龄组 | F183: 黎洁明 | G183: 佛山市顺德区乐从第一实验学校 | H183: 黎洁明 | I183: 王茹玥|刘沛霖 | J183: 49 | K183: 57 | L183: 三等奖
A184: F区
A185: 78715 | B185: 2B8hXtRT-139-057-6g-059-1-umP-09-Qyt | C185: 'AI创无界赛项' | D185: 'AI创无界之环球无界' | E185: 小学高龄组 | F185: 神奇科学家3队 | G185: 上海市第三女子初级中学 上海耀中外籍人员子女学校 | H185: 任朋 | I185: 陈诺|裘梓文 | J185: 123.33 | K185: 冠军 | L185: 一等奖(冠军) | M185: 132
A186: 78708 | B186: 2B8hXtRC-139-057-Vm-059-1-nFm-09-Lsz | C186: 'AI创无界赛项' | D186: 'AI创无界之环球无界' | E186: 小学高龄组 | F186: 神奇科学家1队 | G186: 上海中学国际部 协和双语学校虹桥校区 骏博外国语学校 | H186: 张勇 | I186: 吴亦寒|赵梓杰|林泽源 | J186: 104 | K186: 冠军 | L186: 一等奖(冠军) | M186: 132
A187: 80422 | B187: 2B8hXtdE-139-057-61-059-1-HWk-09-iRU | C187: 'AI创无界赛项' | D187: 'AI创无界之环球无界' | E187: 小学高龄组 | F187: 金元素F组 | G187: 上海市民办阳浦小学、上海音乐学院实验学校 | H187: 李雅格 | I187: 田屹禾|刘睿阳 | J187: 137.67 | K187: 亚军 | L187: 一等奖(亚军) | M187: 127
A188: 78719 | B188: 2B8hXtRE-139-057-Ww-059-1-rF1-09-F7h | C188: 'AI创无界赛项' | D188: 'AI创无界之环球无界' | E188: 小学高龄组 | F188: 神奇科学家9队 | G188: 华东师范大学第二附属中学前滩学校 上海交通大学附属小学 | H188: 陈炜 | I188: 冯靖喆|冯添瑜 | J188: 125 | K188: 亚军 | L188: 一等奖(亚军) | M188: 127
A189: 75929 | B189: 2B8hXtQd-139-057-Py-059-1-Jpo-09-9Dt | C189: 'AI创无界赛项' | D189: 'AI创无界之环球无界' | E189: 小学高龄组 | F189: 福山五队 | G189: 上海市浦东新区福山外国语小学 | H189: 吕立晨 | I189: 梁皓天|王哲逸|唐嘉骐 | J189: 102.33 | K189: 季军 | L189: 一等奖(季军) | M189: 117
A190: 79121 | B190: 2B8hXtE2-139-057-YY-059-1-vVX-09-dOM | C190: 'AI创无界赛项' | D190: 'AI创无界之环球无界' | E190: 小学高龄组 | F190: 神奇科学家15队 | G190: 上外黄浦外国语小学 万科实验小学 浦东新区万科实验小学 | H190: 杨静 | I190: 祝天宇|夏在希|王嘉昊 | J190: 99.33 | K190: 季军 | L190: 一等奖(季军) | M190: 117
A191: 79095 | B191: 2B8hXtEz-139-057-lu-059-1-uvr-09-EM5 | C191: 'AI创无界赛项' | D191: 'AI创无界之环球无界' | E191: 小学高龄组 | F191: 神奇科学家12队 | G191: 上海市莘光学校 上海宋庆龄学校 | H191: 张琦 | I191: 王嘉妮|金登杰 | J191: 96 | K191: 7 | L191: 一等奖
A192: 80485 | B192: 2B8hXt1D-139-057-aS-059-1-H77-09-kwm | C192: 'AI创无界赛项' | D192: 'AI创无界之环球无界' | E192: 小学高龄组 | F192: 勇闯天涯队 | G192: 5+2乐高机器人俱乐部 | H192: 吴思政 | I192: 鲜乙睿|杨子涵|龙羿豪 | J192: 95 | K192: 8 | L192: 一等奖
A193: 80564 | B193: 2B8hXtdu-139-057-wF-059-1-3Jj-09-XpC | C193: 'AI创无界赛项' | D193: 'AI创无界之环球无界' | E193: 小学高龄组 | F193: 金元素G组 | G193: 上海音乐学院实验学校、上海市第二师范学校附属小学 | H193: 李雅格 | I193: 杨壹然|沈思渺 | J193: 88 | K193: 9 | L193: 一等奖
A194: 79063 | B194: 2B8hXtRg-139-057-KC-059-1-W0i-09-iA9 | C194: 'AI创无界赛项' | D194: 'AI创无界之环球无界' | E194: 小学高龄组 | F194: 神奇科学家6队 | G194: 福山外国语小学 第二师范附属小学 东方阶梯双语学校 | H194: 申楠 | I194: 尚天哲|程耀辉|李昕睿|孙慕宸 | J194: 87 | K194: 10 | L194: 二等奖
A195: 86351 | B195: 2B8hXtmY-139-057-wK-059-1-BiY-09-mX4 | C195: 'AI创无界赛项' | D195: 'AI创无界之环球无界' | E195: 小学高龄组 | F195: 斯坦星球XG2队 | G195: 斯坦星球西安一校 | H195: 陈佳萌 | I195: 许沈榆|曹益衡 | J195: 85.67 | K195: 11 | L195: 二等奖
A196: 81902 | B196: 2B8hXtmp-139-057-1l-059-1-yIq-09-Omq | C196: 'AI创无界赛项' | D196: 'AI创无界之环球无界' | E196: 小学高龄组 | F196: 斯坦星球义乌一队 | G196: 斯坦星球义乌校区 | H196: 赵劲 | I196: 王聿怀|吴昱澄|龚晞睿 | J196: 85.33 | K196: 12 | L196: 二等奖
A197: 79630 | B197: 2B8hXtu2-139-057-Ba-059-1-vLU-09-sBy | C197: 'AI创无界赛项' | D197: 'AI创无界之环球无界' | E197: 小学高龄组 | F197: 乐清仨队 | G197: 斯坦星球乐清一校 | H197: 宋婕妤 | I197: 卓哲震|林子彤|陈启之 | J197: 84.67 | K197: 13 | L197: 二等奖
A198: 77097 | B198: 2B8hXt82-139-057-TE-059-1-VH1-09-Ci7 | C198: 'AI创无界赛项' | D198: 'AI创无界之环球无界' | E198: 小学高龄组 | F198: 橙色动力A | G198: 上海市莘城学校 | H198: 刘素光 | I198: 丁烨莹|于子涵 | J198: 84.67 | K198: 14 | L198: 二等奖
A199: 82418 | B199: 2B8hXtmt-139-057-Tb-059-1-aHc-09-SMm | C199: 'AI创无界赛项' | D199: 'AI创无界之环球无界' | E199: 小学高龄组 | F199: 斯坦星球唐山夺冠一队 | G199: 斯坦星球唐山校区 | H199: 谢丹祺 | I199: 侯皓添|王辰硕|裘竣涵 | J199: 84.33 | K199: 15 | L199: 二等奖
A200: 77452 | B200: 2B8hXtHa-139-057-gH-059-1-tyU-09-QjJ | C200: 'AI创无界赛项' | D200: 'AI创无界之环球无界' | E200: 小学高龄组 | F200: 安师大学附属小学 芜湖北塘小学 | G200: 安徽师范大学附属文昌西路小学 芜湖市北塘小学 | H200: 谢军|叶喜娟 | I200: 胡恪妍|杨梓荣 | J200: 83.67 | K200: 16 | L200: 二等奖
A201: 77829 | B201: 2B8hxt8I-139-057-OS-059-1-3KX-09-CLq | C201: 'AI创无界赛项' | D201: 'AI创无界之环球无界' | E201: 小学高龄组 | F201: 蓝天队 | G201: 华东师范大学附属第二中学前滩学校 上海市闵行区实验小学 | H201: 纪自达 | I201: 叶子苒|王圣一 | J201: 83.33 | K201: 17 | L201: 二等奖
A202: 81015 | B202: 2B8hXt8S-139-057-4N-059-1-UiK-09-t34 | C202: 'AI创无界赛项' | D202: 'AI创无界之环球无界' | E202: 小学高龄组 | F202: 王者巅峰队 | G202: 上海市黄浦区巨鹿路小学/上海师范大学附属卢湾实验小学 | H202: 杨宏宇 | I202: 季子轩|杨明逸 | J202: 82.33 | K202: 18 | L202: 二等奖
... A244: 80749 | B244: 2B8hXtEo-139-057-Za-059-1-Ios-09-3Jr | C244: 'AI创无界赛项' | D244: 'AI创无界之环球无界' | E244: 小学高龄组 | F244: 高考铭视队 | G244: 石家庄市裕华区乐丰教育培训学校 | H244: 巩博轩 | I244: 高梓铭|邢视考 | J244: 30.67 | K244: 60 | L244: 三等奖
A245: G区
A246: 79678 | B246: 2B8hXtnT-139-057-nL-059-1-2OM-09-xqO | C246: 'AI创无界赛项' | D246: 'AI创无界之环球无界' | E246: 小学高龄组 | F246: 地表最强 | G246: 福州斯坦星球二校 | H246: 黄国域 | I246: 陈瑞昀|蒋予恒 | J246: 94.33 | K246: 冠军 | L246: 一等奖(冠军) | M246: 124
A247: 87020 | B247: 2B8hXtBW-139-057-qg-059-1-ria-09-LwL | C247: 'AI创无界赛项' | D247: 'AI创无界之环球无界' | E247: 小学高龄组 | F247: 新疆韦哲机器人2队 | G247: 乌鲁木齐韦哲机器人 | H247: 董云 | I247: 董子睿|吴奕辰|侯胜越 | J247: 94 | K247: 冠军 | L247: 一等奖(冠军) | M247: 124
A248: 79076 | B248: 2B8hXtRs-139-057-Gx-059-1-1EO-09-P0z | C248: 'AI创无界赛项' | D248: 'AI创无界之环球无界' | E248: 小学高龄组 | F248: 神奇科学家8队 | G248: 复旦大学附属闵行实验学校 新梅小学 | H248: 陈炜 | I248: 林听|华正祥 | J248: 115.67 | K248: 亚军 | L248: 一等奖(亚军) | M248: 121
A249: 78714 | B249: 2B8hXtRW-139-057-Ul-059-1-lzb-09-UnM | C249: 'AI创无界赛项' | D249: 'AI创无界之环球无界' | E249: 小学高龄组 | F249: 神奇科学家2队 | G249: 长宁区愚园路第一小学 华师大二附中前滩学校 普陀区朝春中心小学 | H249: 张勇 | I249: 冯熙|杨凡|罗翊宁 | J249: 110.33 | K249: 亚军 | L249: 一等奖(亚军) | M249: 121
A250: 77532 | B250: 2B8hXtnF-139-057-K9-059-1-P3Z-09-Em5 | C250: 'AI创无界赛项' | D250: 'AI创无界之环球无界' | E250: 小学高龄组 | F250: 辰雨战队 | G250: 斯坦星球财富汇一校 | H250: 冯斌 | I250: 宋辰雨|杨一宸 | J250: 93 | K250: 季军 | L250: 一等奖(季军) | M250: 108
A251: 78830 | B251: 2B8hXtT8-139-057-O2-059-1-3Wf-09-WYZ | C251: 'AI创无界赛项' | D251: 'AI创无界之环球无界' | E251: 小学高龄组 | F251: 征途队 | G251: 哈尔滨童心树教育咨询中心 | H251: 张欣怡 | I251: 李昀泽|孙浩宸 | J251: 91.67 | K251: 季军 | L251: 一等奖(季军) | M251: 108
A252: 77813 | B252: 2B8hXt8c-139-057-vs-059-1-IhN-09-gEQ | C252: 'AI创无界赛项' | D252: 'AI创无界之环球无界' | E252: 小学高龄组 | F252: 奇迹队· | G252: 上海闵行区民办德闳学校 上海市民办万源城协和双语学校 | H252: 刘素光 | I252: 张成榆|贾唯凯 | J252: 122 | K252: 7 | L252: 一等奖
A253: 79378 | B253: 2B8hXtm5-139-057-eo-059-1-e4d-09-nAO | C253: 'AI创无界赛项' | D253: 'AI创无界之环球无界' | E253: 小学高龄组 | F253: 斯坦星球元气满满队 | G253: 斯坦星球上虞校区 | H253: 夏清清 | I253: 许艺馨|刘思琪|朱晨鑫 | J253: 120.33 | K253: 8 | L253: 一等奖
A254: 84005 | B254: 2B8hXtHL-139-057-9n-059-1-kuf-09-zwt | C254: 'AI创无界赛项' | D254: 'AI创无界之环球无界' | E254: 小学高龄组 | F254: 棒贝冠军队 | G254: 佛山市梦之幻文化传播学校 | H254: 莫闵乔 | I254: 丘轩恺|周子杰 | J254: 105.33 | K254: 9 | L254: 一等奖
A255: 82558 | B255: 2B8hXtEq-139-057-ic-059-1-SUL-09-PC5 | C255: 'AI创无界赛项' | D255: 'AI创无界之环球无界' | E255: 小学高龄组 | F255: 神奇小队 | G255: 余姚神奇科学家 | H255: 黄烨 | I255: 张梦涵|俞欣宜|洪绍恩 | J255: 104 | K255: 10 | L255: 一等奖
A256: 75934 | B256: 2B8hXtQk-139-057-qR-059-1-Eut-09-fPU | C256: 'AI创无界赛项' | D256: 'AI创无界之环球无界' | E256: 小学高龄组 | F256: 铠尔铂金战队 | G256: 浦东万科学校、进才实验学校 | H256: 陈观美 | I256: 胡誉邺|赵胤瑞 | J256: 103 | K256: 11 | L256: 二等奖
A257: 83037 | B257: 2B8hXtHw-139-057-OD-059-1-HsM-09-pxC | C257: 'AI创无界赛项' | D257: 'AI创无界之环球无界' | E257: 小学高龄组 | F257: 棒贝飞翔队 | G257: 佛山市梦之幻文化传播学校 | H257: 吴佳城 | I257: 王昊然|李宇深 | J257: 100.33 | K257: 12 | L257: 二等奖
A258: 76294 | B258: 2B8hXtnp-139-057-Bu-059-1-6QM-09-jic | C258: 'AI创无界赛项' | D258: 'AI创无界之环球无界' | E258: 小学高龄组 | F258: 斯坦星球东莞九队 | G258: 东莞斯坦星球二校 | H258: 郑鉴城 | I258: 杨钦泽|余政远|韩雨檬 | J258: 99.33 | K258: 13 | L258: 二等奖
A259: 80480 | B259: 2B8hXt1d-139-057-DA-059-1-oId-09-YBp | C259: 'AI创无界赛项' | D259: 'AI创无界之环球无界' | E259: 小学高龄组 | F259: 棒棒贝贝必胜队 | G259: 棒棒贝贝望城培训学校 | H259: 黄靖毅 | I259: 李尚非|谢昭锐 | J259: 98.33 | K259: 14 | L259: 二等奖
A260: 79073 | B260: 2B8hXtRk-139-057-sl-059-1-RRv-09-ubW | C260: 'AI创无界赛项' | D260: 'AI创无界之环球无界' | E260: 小学高龄组 | F260: 神奇科学家7队 | G260: 上海市世外小学 上海市闵行区新梅小学 | H260: 申楠 | I260: 吴戈|郭恪岩 | J260: 98 | K260: 15 | L260: 二等奖
A261: 82324 | B261: 2B8hXt3g-139-057-uf-059-1-ses-09-loQ | C261: 'AI创无界赛项' | D261: 'AI创无界之环球无界' | E261: 小学高龄组 | F261: 超能一队 | G261: 佛山市南海外国语学校 | H261: 方芳 | I261: 邓嘉畅|谭竣洋 | J261: 95.33 | K261: 16 | L261: 二等奖
A262: 84599 | B262: 2B8hXtu3-139-057-NB-059-1-5k7-09-0OL | C262: 'AI创无界赛项' | D262: 'AI创无界之环球无界' | E262: 小学高龄组 | F262: 智永双全队 | G262: 佛山搭搭乐乐 | H262: 温华永 | I262: 张智楠|陈峻堂|李柏宁 | J262: 95 | K262: 17 | L262: 二等奖
...

Sheet BoxBot机器人格斗赛项
A1: 2023世界机器人大赛总决赛-青少年机器人设计大赛-BoxBot机器人格斗赛项获奖名单
A2: 报名编号 | B2: 激活码 | C2: 赛道 | D2: 赛项 | E2: 组别 | F2: 队伍名称 | G2: 申报单位 | H2: 教练信息 | I2: 学生信息 | J2: 成绩 | K2: 排名 | L2: 奖项
A3: 77774 | B3: 2B8hX5KA-139-058-tF-060-1-5gD-01-A3O | C3: BoxBot机器人格斗赛项' | D3: BoxBot地面格斗羽量级' | E3: 小学组 | F3: 凌云少年队 | G3: 北京市第八中学京西附属小学 北京市丰台区第五小学本校区 | H3: 龚壮壮 | I3: 乔骏诚|赵俊夏 | J3: 冠军 | K3: 1 | L3: 一等奖(冠军)
A4: 84578 | B4: 2B8hX5KC-139-058-Vf-060-1-sVp-01-iLH | C4: 'BoxBot机器人格斗赛项' | D4: BoxBot地面格斗羽量级' | E4: 小学组 | F4: 灵魂队 | G4: 埃尔曼儿童科创中心 | H4: 赵福杰 | I4: 黎釨汘|詹新扬|马学馗 | J4: 亚军 | K4: 2 | L4: 一等奖(亚军)
A5: 84713 | B5: 2B8hX5Kc-139-058-ox-060-1-0Cu-01-kDO | C5: 'BoxBot机器人格斗赛项' | D5: BoxBot地面格斗羽量级' | E5: 小学组 | F5: 埃尔曼飞龙队 | G5: 埃尔曼儿童科创中心 | H5: 赵福杰 | I5: 钟佑濠|钟佐濠|王智善 | J5: 季军 | K5: 3 | L5: 一等奖(季军)
A6: 77795 | B6: 2B8hX5Kb-139-058-yP-060-1-iKg-01-hh3 | C6: 'BoxBot机器人格斗赛项' | D6: BoxBot地面格斗羽量级' | E6: 小学组 | F6: 姚智瀚刘昊明汪学成 | G6: 西关小学北外附属辽海外国语学校 | H6: 董祥彬 | I6: 姚智瀚|刘昊明|汪学成 | J6: 全国四强 | K6: 4 | L6: 二等奖
A7: 81719 | B7: 2B8hX5K7-139-058-d1-060-1-8va-01-PGa | C7: 'BoxBot机器人格斗赛项' | D7: BoxBot地面格斗羽量级' | E7: 小学组 | F7: 成志少年3队 | G7: 清华大学附属小学商务中心区实验小学 | H7: 韩策|金骞 | I7: 王雅晨|李泰杭 | J7: 全国六强 | K7: 5 | L7: 二等奖
A8: 77715 | B8: 2B8hX5Ky-139-058-F5-060-1-Frj-01-Qyf | C8: 'BoxBot机器人格斗赛项' | D8: BoxBot地面格斗羽量级' | E8: 小学组 | F8: 范俊逸王宣霓 | G8: 西关小学 | H8: 杨丹平 | I8: 王宣霓|范俊逸 | J8: 全国六强 | K8: 5 | L8: 二等奖
A9: 91404 | B9: 2B8hX5KS-139-058-VP-060-1-qVZ-01-UKs | C9: 'BoxBot机器人格斗赛项' | D9: BoxBot地面格斗羽量级' | E9: 小学组 | F9: 天河蓝队 | G9: 易升榜机器人俱乐部 | H9: 王会民 | I9: 李想 | J9: 小组未出线 | K9: 7 | L9: 三等奖
A10: 91787 | B10: 2B8hX5os-139-058-LV-060-1-qp1-01-AqU | C10: 'BoxBot机器人格斗赛项' | D10: BoxBot地面格斗羽量级' | E10: 小学组 | F10: 成志少年队 | G10: 清华大学附属小学商务中心区实验小学 | H10: 韩策|金骞 | I10: 寿竑人|袁子承 | J10: 小组未出线 | K10: 7 | L10: 三等奖
A11: 92192 | B11: 2B8hX5KM-139-058-ec-060-1-7hD-01-fM1 | C11: 'BoxBot机器人格斗赛项' | D11: BoxBot地面格斗羽量级' | E11: 小学组 | F11: SUPER STAR | G11: 晋元高级中学附属学校 同济大学附属新江湾城实验学校 | H11: 李洪良 | I11: 林钰稀|叶佳霈 | J11: 小组未出线 | K11: 7 | L11: 三等奖
A12: 90186 | B12: 2B8hX5KJ-139-058-p4-060-1-jiA-01-nPC | C12: 'BoxBot机器人格斗赛项' | D12: BoxBot地面格斗羽量级' | E12: 小学组 | F12: 梓言队 | G12: 宁波海曙外国语学校 | H12: 张甜甜 | I12: 宋梓言 | J12: 小组未出线 | K12: 7 | L12: 三等奖
A13: 87158 | B13: 2B8hX5Kp-139-058-Nn-060-1-IZG-01-mae | C13: 'BoxBot机器人格斗赛项' | D13: BoxBot地面格斗羽量级' | E13: 小学组 | F13: 李政翰 黄逸枫 | G13: 埃尔曼儿童科创中心 | H13: 李润 | I13: 黄逸枫|李政翰 | J13: 小组未出线 | K13: 7 | L13: 三等奖
A14: 83870 | B14: 2B8hX5K2-139-058-EH-060-1-a7a-01-3qX | C14: 'BoxBot机器人格斗赛项' | D14: BoxBot地面格斗羽量级' | E14: 小学组 | F14: 秋意寒 | G14: 怀柔乐创机器人活动中心 | H14: 孟凯 | I14: 印秋铭|党同懿|臧涵琪 | J14: 小组未出线 | K14: 7 | L14: 三等奖
... A238: 90936 | B238: 2B8hX6Y9-139-058-J6-062-1-LHr-04-emY | C238: 'BoxBot机器人格斗赛项' | D238: BoxBot地面格斗大师级' | E238: 高中组 | F238: 尹耀洋战队 | G238: 南通大学附属中学 | H238: 葛云唐 | I238: 尹耀洋 | J238: 第一轮被淘汰 | K238: 43 | L238: 三等奖
A239: 2023世界机器人大赛总决赛-青少年机器人设计大赛-BoxBot空中机器人对抗赛项获奖名单
A240: 报名编号 | B240: 激活码 | C240: 赛道 | D240: 赛项 | E240: 组别 | F240: 队伍名称 | G240: 申报单位 | H240: 教练信息 | I240: 学生信息 | J240: 比赛分数 | K240: 比赛用时 | L240: 成绩排名 | M240: 奖项
A241: 85254 | B241: 2B8hX5TI-139-058-Tz-063-1-SF5-01-CzD | C241: BoxBot机器人格斗赛项' | D241: BoxBot空中机器人对抗' | E241: 小学组 | F241: 经开3队 | G241: 肥东经济开发区中心学校 | H241: 吴勇虎|方学雄 | I241: 刘宇轩|李海洋 | J241: 1800 | K241: 24S | L241: 1 | M241: 一等奖(冠军)
A242: 77429 | B242: 2B8hX5jN-139-058-JO-063-1-Ock-01-b10 | C242: 'BoxBot机器人格斗赛项' | D242: BoxBot空中机器人对抗' | E242: 小学组 | F242: 太平一小2队 | G242: 天津市滨海新区大港太平第一小学 | H242: 刘培柱|王成 | I242: 刘德坤|冯泓溥 | J242: 1650 | K242: 25S | L242: 2 | M242: 一等奖(亚军)
A243: 77407 | B243: 2B8hX5Y1-139-058-gQ-063-1-tyP-01-tDr | C243: 'BoxBot机器人格斗赛项' | D243: BoxBot空中机器人对抗' | E243: 小学组 | F243: 梓林战队 | G243: 北京市朝阳区垂杨柳中心小学馨园分校 | H243: 李晓宇 | I243: 郑梓恩|孟繁林 | J243: 1500 | K243: 30S | L243: 3 | M243: 一等奖(季军)
A244: 78591 | B244: 2B8hX5TZ-139-058-sf-063-1-YY6-01-ogr | C244: 'BoxBot机器人格斗赛项' | D244: BoxBot空中机器人对抗' | E244: 小学组 | F244: 南门小学boxbot2队 | G244: 合肥市南门小学 | H244: 陈学文 | I244: 张弋杭|徐新博 | J244: 1400 | K244: 31S | L244: 4 | M244: 一等奖
A245: 77434 | B245: 2B8hX5jO-139-058-6a-063-1-OF7-01-rVN | C245: 'BoxBot机器人格斗赛项' | D245: BoxBot空中机器人对抗' | E245: 小学组 | F245: 太平一小3队 | G245: 天津市滨海新区大港太平第一小学 | H245: 刘培柱|王成 | I245: 窦泽岳|窦伟超 | J245: 1300 | K245: 32S | L245: 5 | M245: 一等奖
A246: 77289 | B246: 2B8hX5je-139-058-6O-063-1-9VD-01-rWW | C246: 'BoxBot机器人格斗赛项' | D246: BoxBot空中机器人对抗' | E246: 小学组 | F246: 广华2队 | G246: 清华大学附属中学广华学校 | H246: 王宇 | I246: 石韵旸|王睿旸 | J246: 1200 | K246: 34S | L246: 6 | M246: 一等奖
A247: 77396 | B247: 2B8hX5YE-139-058-4O-063-1-u8M-01-Gqv | C247: 'BoxBot机器人格斗赛项' | D247: BoxBot空中机器人对抗' | E247: 小学组 | F247: 艺童战队 | G247: 北京市东城区史家胡同小学 | H247: 李鑫坤 | I247: 郭艺添|童诗珺 | J247: 1125 | K247: 37S | L247: 7 | M247: 一等奖
A248: 77723 | B248: 2B8hX5jW-139-058-qu-063-1-E6V-01-cDb | C248: 'BoxBot机器人格斗赛项' | D248: BoxBot空中机器人对抗' | E248: 小学组 | F248: 太平一小4队 | G248: 天津市滨海新区大港太平第一小学 | H248: 刘培柱|王成 | I248: 窦怡曼|窦浩铭 | J248: 1050 | K248: 34S | L248: 8 | M248: 一等奖
A249: 90998 | B249: 2B8hXJ6S-139-058-XL-063-1-ZmM-01-9xH | C249: 'BoxBot机器人格斗赛项' | D249: BoxBot空中机器人对抗' | E249: 小学组 | F249: 梦想腾飞 | G249: 郑州市高新区无线电模型运动协会 | H249: 张龙 | I249: 孙尚一|贺晨旭 | J249: 975 | K249: 35S | L249: 9 | M249: 一等奖
A250: 86593 | B250: 2B8hXJil-139-058-U7-063-1-UcQ-01-YtK | C250: 'BoxBot机器人格斗赛项' | D250: BoxBot空中机器人对抗' | E250: 小学组 | F250: 河南省实验小学九队 | G250: 河南省实验小学 | H250: 姜旭媛 | I250: 李嘉明|韩俊喆 | J250: 900 | K250: 37S | L250: 10 | M250: 一等奖
A251: 77310 | B251: 2B8hX5Y2-139-058-30-063-1-j52-01-MlI | C251: 'BoxBot机器人格斗赛项' | D251: BoxBot空中机器人对抗' | E251: 小学组 | F251: 广华1队 | G251: 清华大学附属中学广华学校 | H251: 王宇 | I251: 王悦竹|叶美青 | J251: 850 | K251: 36S | L251: 11 | M251: 二等奖
A252: 77362 | B252: 2B8hX5Yo-139-058-uj-063-1-8BO-01-Cza | C252: 'BoxBot机器人格斗赛项' | D252: BoxBot空中机器人对抗' | E252: 小学组 | F252: 狮王战队 | G252: 北京市东城区史家胡同小学 | H252: 李鑫坤 | I252: 王续|刘妙诗 | J252: 800 | K252: 35S | L252: 12 | M252: 二等奖
... A334: 80606 | B334: 2B8hX5Qk-139-058-xB-063-1-5dw-03-Yym | C334: 'BoxBot机器人格斗赛项' | D334: BoxBot空中机器人对抗' | E334: 中学组 | F334: 蒲公英二队 | G334: 首都师范大学科技教育中心 | H334: 郭佳宁 | I334: 茹梓阳|施展浩 | J334: 100 | K334: 60S | L334: 29 | M334: 三等奖
