Workbook

Sheet 全能奖
A1: 2024世界机器人大赛昆明锦标赛-青少年机器人设计大赛-全能奖获奖名单
A2: 报名编号 | B2: 激活码 | C2: 赛道 | D2: 赛项 | E2: 组别 | F2: 队伍名称 | G2: 申报单位 | H2: 教练信息 | I2: 学生信息 | J2: 奖项
A3: 15527 | B3: rFc1i6R-44-003-UL-024-1-Qd4-01-BRR | C3: VEX系列赛项 | D3: VEX IQ风驰电掣 | E3: 小学组 | F3: 49145B | G3: 凯里四小 | H3: 赵晓龙 | I3: 杨齐彬|宋俊毅|高凯泽 | J3: 全能奖
A4: 13281 | B4: rFc1iab-44-003-nm-024-1-wfJ-02-aSv | C4: VEX系列赛项 | D4: VEX IQ风驰电掣 | E4: 初中组 | F4: 附中战队 | G4: 江苏省泰州中学附属初级中学 | H4: 赵俊 | I4: 陈杏泽|乔相宇|金贤宇 | J4: 全能奖
A5: 13310 | B5: rFc1ioO-44-003-eh-025-1-OeC-02-Usm | C5: 'VEX系列赛项' | D5: 'VEX VRC尖峰时刻' | E5: 初中组 | F5: 融侨2队 | G5: 重庆南开（融侨）中学校 | H5: 张志荣 | I5: 蒲昭舟|张垚晰|王钦震|傅钰轩 | J5: 全能奖
A6: 14698 | B6: rFc1i90-44-003-9I-025-1-KOK-03-jjN | C6: 'VEX系列赛项' | D6: 'VEX VRC尖峰时刻' | E6: 高中组 | F6: 令核2 | G6: 昆明市第三中学 | H6: 杨肖霞 | I6: 张继文|胡嘉文|王宇弌|张婷 | J6: 全能奖
A7: 10025 | B7: rFc1Mtv-44-001-VV-010-1-0Ti-02-sQS | C7: 'MakeX系列赛项' | D7: 'MakeX Explorer数智先锋' | E7: 初中组 | F7: 飞龙 | G7: 深圳市荔园外国语 | H7: 范永帅 | I7: 朱彦舟|赵梓宸 | J7: 全能奖
A8: 8516 | B8: rFc1MGt-44-001-Pz-009-1-0Xa-01-P3l | C8: 'MakeX系列赛项' | D8: 'MakeX Starter全芯征途' | E8: 小学组 | F8: 致远蓝鲸战队 | G8: 上海健生成长汇培训学校 | H8: 李涛|杨飞 | I8: 俞凡筠|骆廷敬 | J8: 全能奖
A9: 9881 | B9: rFc1MMb-44-001-g8-011-1-XPr-03-zy6 | C9: 'MakeX系列赛项' | D9: 'MakeX Challenge乘胜追机' | E9: 高中组 | F9: 探索者 | G9: 沿河思源实验学校 | H9: 安华松|崔康 | I9: 张雨涵|邓文韬|黎晨晔|田征|王佳叶 | J9: 全能奖
A10: 12798 | B10: rFc1MXy-44-016-u9-019-1-aT7-01-2jV | C10: 'NeuroMaster 脑科学人工智能挑战赛项' | D10: 'NeuroMaster脑机星球' | E10: 小学组 | F10: 未来之翼 | G10: 云南省昆明市西山区春苑小学 | H10: 沈宏超 | I10: 宋思莹 | J10: 全能奖
A11: 12375 | B11: rFc1Mat-44-029-gb-032-1-qXy-01-kmK | C11: '扣叮机器人赛项' | D11: '扣叮AI智能挑战赛' | E11: 小学组 | F11: 欧阳文杰队 | G11: 云南省昆明市五华区瑞和实验学校 | H11: 郎雅楠 | I11: 欧阳文杰 | J11: 全能奖
A12: 12552 | B12: rFc1MQN-44-029-ST-030-1-J2e-01-l5c | C12: '扣叮机器人赛项' | D12: '扣叮火星开发' | E12: 小学组 | F12: 元阳县民族小学 | G12: 云南省科普教育基地联合会 | H12: 杨昌福 | I12: 范彪瑞 | J12: 全能奖
A13: 15551 | B13: rFc1x71-44-044-ru-046-1-Tce-02-Nfy | C13: 'Robo Genius系列挑战赛项' | D13: 'Robo Genius新星行动' | E13: 初中组 | F13: 兴国七中二队 | G13: 兴国县教育体育局 | H13: 王元元|刘菁 | I13: 胡涛|胡轩宁 | J13: 全能奖
A14: 12462 | B14: rFc1xPJ-44-044-VC-045-1-Lvm-02-uYL | C14: 'Robo Genius系列挑战赛项' | D14: 'Robo Genius超能行动' | E14: 初中组 | F14: 宇睿战队 | G14: 重庆市第一实验中学校 | H14: 游艺芃|魏光静 | I14: 张昕宇|张恺睿 | J14: 全能奖

Sheet VEX系列赛项
A1: 2024世界机器人大赛昆明锦标赛-青少年机器人设计大赛-VEX系列赛项获奖名单
A2: 报名编号 | B2: 激活码 | C2: 赛道 | D2: 赛项 | E2: 组别 | F2: 队伍名称 | G2: 申报单位 | H2: 教练信息 | I2: 学生信息 | J2: 比赛分数 | K2: 资格赛排名 | L2: 奖项 | M2: 备注
A3: 13013 | B3: rFc1iJm-44-003-yl-024-1-zlf-01-NZe | C3: VEX系列赛项 | D3: VEX IQ风驰电掣 | E3: 小学组 | F3: 海珠三小/环市路小学联队 | G3: 广州市海珠区第三实验小学 | H3: 边永明 | I3: 杨颂佳|黄道弘|莫宸熙 | J3: 85.2 | K3: 7 | L3: 一等奖(冠军) | M3: 入围总决赛
A4: 13109 | B4: rFc1ii0-44-003-Wm-024-1-Py4-01-mMy | C4: VEX系列赛项 | D4: VEX IQ风驰电掣 | E4: 小学组 | F4: 麓山国际/黄兴小学/清水塘三小 | G4: 长沙麓山国际实验小学 | H4: 陈成|龚鑫宇 | I4: 李逸谦|曾源翊|陈柯予 | J4: 85 | K4: 8 | L4: 一等奖(冠军) | M4: 入围总决赛
A5: 15101 | B5: rFc1i6C-44-003-Dp-024-1-qwl-01-Cfc | C5: VEX系列赛项 | D5: VEX IQ风驰电掣 | E5: 小学组 | F5: 25502A | G5: 福建省厦门实验小学集美分校;厦门市集美区灌口中心小学 | H5: 方睿婷|杜雪妙 | I5: 苏禹铭|苏禹锐|王乔彦|王宇森 | J5: 87.4 | K5: 5 | L5: 一等奖(亚军) | M5: 入围总决赛
A6: 14375 | B6: rFc1i66-44-003-vG-024-1-Ejp-01-i2p | C6: VEX系列赛项 | D6: VEX IQ风驰电掣 | E6: 小学组 | F6: 33003F | G6: 温州市建设小学&温州市城南小学 | H6: 段升 | I6: 柳溢仁|谢王轩 | J6: 86.4 | K6: 6 | L6: 一等奖(亚军) | M6: 入围总决赛
A7: 13906 | B7: rFc1iii-44-003-qy-024-1-tWE-01-AYC | C7: VEX系列赛项 | D7: VEX IQ风驰电掣 | E7: 小学组 | F7: 32680C | G7: 广州市天河区员村小学 | H7: 钟智鸿|范皖豫 | I7: 李旻晏|邱奕康|洪子明|伍泓旭 | J7: 97.8 | K7: 1 | L7: 一等奖(季军) | M7: 入围总决赛
A8: 13207 | B8: rFc1i6t-44-003-xk-024-1-Jvv-01-PuJ | C8: VEX系列赛项 | D8: VEX IQ风驰电掣 | E8: 小学组 | F8: 奥克斯/康礼/湘一/麓山联队 | G8: 长沙市奥克斯实验小学 | H8: 陈成|龚鑫宇 | I8: 罗宸懿|任哲妤|龙彦舟|黄星睿 | J8: 87.8 | K8: 2 | L8: 一等奖(季军) | M8: 入围总决赛
A9: 15527 | B9: rFc1i6R-44-003-UL-024-1-Qd4-01-BRR | C9: VEX系列赛项 | D9: VEX IQ风驰电掣 | E9: 小学组 | F9: 49145B | G9: 凯里四小 | H9: 赵晓龙 | I9: 杨齐彬|宋俊毅|高凯泽 | J9: 87.6 | K9: 4 | L9: 二等奖
A10: 13690 | B10: rFc1iJs-44-003-4g-024-1-Uz2-01-YG3 | C10: VEX系列赛项 | D10: VEX IQ风驰电掣 | E10: 小学组 | F10: 北京西城区梦想启航联队 | G10: 育民小学/展览路第一小学/北京第二实验小学/西单小学 | H10: 曹源|赵钦 | I10: 黄翊凯|乔梓峰|孔德望|王奕凝 | J10: 87.6 | K10: 3 | L10: 二等奖
A11: 12623 | B11: rFc1iiA-44-003-Vx-024-1-Th4-01-YtB | C11: VEX系列赛项 | D11: VEX IQ风驰电掣 | E11: 小学组 | F11: 66566H | G11: 重庆高新技术产业开发区第一实验小学校 | H11: 戴瑜|郭玥 | I11: 李煊胤|谭景云|刘鸿霖|曾凡宸 | J11: 81.6 | K11: 9 | L11: 二等奖
A12: 12411 | B12: rFc1i6g-44-003-a7-024-1-oNL-01-SIP | C12: VEX系列赛项 | D12: VEX IQ风驰电掣 | E12: 小学组 | F12: 武汉江岸区一元路小学、汉铁小学 | G12: 江岸区汉铁小学，江岸区一元路小学 | H12: 吴双|胡珏佩 | I12: 卢子铭|付雨沐|王荃涵 | J12: 80.4 | K12: 10 | L12: 二等奖
A13: 14660 | B13: rFc1i6n-44-003-0y-024-1-n30-01-nPh | C13: VEX系列赛项 | D13: VEX IQ风驰电掣 | E13: 小学组 | F13: 东方启明小学队 | G13: 兰州东方学校 | H13: 李承儒|范志坚 | I13: 季宸宇|李昊宇|梁轩挺 | J13: 80 | K13: 11 | L13: 二等奖
A14: 12403 | B14: rFc1ii8-44-003-YO-024-1-twy-01-0eX | C14: VEX系列赛项 | D14: VEX IQ风驰电掣 | E14: 小学组 | F14: 好奇战队 | G14: 东莞市松山湖第二小学 | H14: 苟涛|廖发康 | I14: 曹聿灵|曾可馨|马沐晨|尹子墨 | J14: 76.8 | K14: 12 | L14: 二等奖
A15: 15572 | B15: rFc1iXb-44-003-IQ-024-1-IOl-01-Ive | C15: VEX系列赛项 | D15: VEX IQ风驰电掣 | E15: 小学组 | F15: 熊王金牌队 | G15: 顺德区京师励耘实验学校 广东碧桂园学校 佛山市顺德德胜学校 联队 | H15: 张雄炜|李浩 | I15: 胡子朗|卢国治|李仲羲 | J15: 74.8 | K15: 13 | L15: 二等奖
A16: 12478 | B16: rFc1iiE-44-003-YI-024-1-zZo-01-MwJ | C16: VEX系列赛项 | D16: VEX IQ风驰电掣 | E16: 小学组 | F16: 松湖战队 | G16: 东莞市松山湖第二小学 | H16: 苟涛|廖发康 | I16: 陈明志|王烁普|刘星洋|傅楚涵 | J16: 74 | K16: 14 | L16: 二等奖
A17: 15236 | B17: rFc1iiv-44-003-WS-024-1-HpW-01-cfZ | C17: VEX系列赛项 | D17: VEX IQ风驰电掣 | E17: 小学组 | F17: 青龙队 | G17: 昆明市盘龙区明通小学 | H17: 林志刚 | I17: 赵南宇|李傲茗|袁浩诚|太彦然 | J17: 72.4 | K17: 15 | L17: 二等奖
A18: 12757 | B18: rFc1ii1-44-003-mM-024-1-ym2-01-VMI | C18: VEX系列赛项 | D18: VEX IQ风驰电掣 | E18: 小学组 | F18: 小海豚战队 | G18: 泰州实验学校 | H18: 赵俊 | I18: 李铖轩|范奕凡|沈星阳 | J18: 70.2 | K18: 16 | L18: 二等奖
A19: 14460 | B19: rFc1i6e-44-003-2f-024-1-P6t-01-7Cs | C19: VEX系列赛项 | D19: VEX IQ风驰电掣 | E19: 小学组 | F19: 江岸区沈阳路小学、长春街第二小学 | G19: 武汉市江岸区沈阳路小学 | H19: 吴双|胡珏佩 | I19: 刘禹辰|程煜哲 | J19: 69.6 | K19: 17 | L19: 二等奖
A20: 15154 | B20: rFc1i6N-44-003-rM-024-1-z1z-01-GiL | C20: VEX系列赛项 | D20: VEX IQ风驰电掣 | E20: 小学组 | F20: 25502D | G20: 厦门市集美区三社小学;厦门实验小学集美分校 | H20: 方睿婷|周雅娴 | I20: 陈宏宇|陈耀源|叶盛|熊逸宸 | J20: 68 | K20: 18 | L20: 二等奖
... A43: 15017 | B43: rFc1iX2-44-003-AX-024-1-sFQ-01-FWb | C43: VEX系列赛项 | D43: VEX IQ风驰电掣 | E43: 小学组 | F43: 5666B | G43: 哈尔滨工业大学附属中学校 | H43: 王海南|周方恬 | I43: 贾岫驰|蔡万基|滕冠杉 | J43: 34.2 | K43: 41 | L43: 三等奖
A45: 13797 | B45: rFc1iaA-44-003-no-024-1-FYw-02-iQ7 | C45: VEX系列赛项 | D45: VEX IQ风驰电掣 | E45: 初中组 | F45: 77797B | G45: 衢州市青少年宫 | H45: 徐大庆 | I45: 孙卓安|刘泽昊|邵奕辰 | J45: 93 | K45: 5 | L45: 一等奖(冠军) | M45: 入围总决赛
A46: 14272 | B46: rFc1iaa-44-003-pa-024-1-RDQ-02-GJe | C46: VEX系列赛项 | D46: VEX IQ风驰电掣 | E46: 初中组 | F46: 77797C | G46: 衢州市青少年宫 | H46: 徐大庆 | I46: 曾语喆|刘锦煜|缪艺涵 | J46: 90.67 | K46: 6 | L46: 一等奖(冠军) | M46: 入围总决赛
A47: 13712 | B47: rFc1iXl-44-003-Ed-024-1-Uz7-02-fjl | C47: VEX系列赛项 | D47: VEX IQ风驰电掣 | E47: 初中组 | F47: 火蓝之心 | G47: 广州市番外外国语学校 | H47: 陈金兰 | I47: 李国明|吴杋|黄俊玮 | J47: 88.5 | K47: 7 | L47: 一等奖(亚军) | M47: 入围总决赛
A48: 15574 | B48: rFc1iS7-44-003-Nn-024-1-fAn-02-SPd | C48: VEX系列赛项 | D48: VEX IQ风驰电掣 | E48: 初中组 | F48: 白虎队 | G48: 盘龙小学、云南师范大学附属小学、玖如堂小学、江滨小学 | H48: 林志刚 | I48: 岳骋沛|洪嘉钟|王韩与|罗艺凌 | J48: 86.5 | K48: 8 | L48: 一等奖(亚军) | M48: 入围总决赛
A49: 15657 | B49: rFc1iaE-44-003-03-024-1-VAM-02-OUY | C49: VEX系列赛项 | D49: VEX IQ风驰电掣 | E49: 初中组 | F49: KLucky | G49: 深圳市南山外国语学校（集团）文华学校 | H49: 卓绍钦 | I49: 陈亮豪|王潇|秦炜杰 | J49: 123.17 | K49: 1 | L49: 一等奖(季军) | M49: 入围总决赛
A50: 15708 | B50: rFc1ia8-44-003-dy-024-1-rig-02-7sG | C50: VEX系列赛项 | D50: VEX IQ风驰电掣 | E50: 初中组 | F50: KL-Kylin | G50: 广州市实验外语学校 | H50: 秦彬 | I50: 吴曜曦|周亮宇|陈赞宇 | J50: 118.83 | K50: 2 | L50: 一等奖(季军) | M50: 入围总决赛
A51: 13281 | B51: rFc1iab-44-003-nm-024-1-wfJ-02-aSv | C51: VEX系列赛项 | D51: VEX IQ风驰电掣 | E51: 初中组 | F51: 附中战队 | G51: 江苏省泰州中学附属初级中学 | H51: 赵俊 | I51: 陈杏泽|乔相宇|金贤宇 | J51: 101.67 | K51: 3 | L51: 二等奖
A52: 15343 | B52: rFc1iad-44-003-41-024-1-Zzu-02-oNF | C52: VEX系列赛项 | D52: VEX IQ风驰电掣 | E52: 初中组 | F52: 猎豹队 | G52: 中山大学附属中学；广州市天河区华实学校；广州市海珠区知信小学 | H52: 刘林|郑林皓 | I52: 许格安|潘沚榆|张立恒 | J52: 95 | K52: 4 | L52: 二等奖
A53: 15352 | B53: rFc1iae-44-003-Cf-024-1-1uB-02-v4H | C53: VEX系列赛项 | D53: VEX IQ风驰电掣 | E53: 初中组 | F53: Vesibay IQ1 | G53: 珠海市斗门区实验中学 | H53: 陈广轩 | I53: 曾张毅|杨炎功|何海华 | J53: 81 | K53: 9 | L53: 二等奖
A54: 13920 | B54: rFc1iaL-44-003-65-024-1-MnK-02-o47 | C54: VEX系列赛项 | D54: VEX IQ风驰电掣 | E54: 初中组 | F54: 东方启明初中队 | G54: 兰州东方学校 | H54: 李承儒|范志坚 | I54: 李潇然|郭力玮|董恒希 | J54: 80.17 | K54: 10 | L54: 二等奖
A55: 15342 | B55: rFc1iac-44-003-eo-024-1-hPu-02-15w | C55: VEX系列赛项 | D55: VEX IQ风驰电掣 | E55: 初中组 | F55: 探索队 | G55: 云师大附属世纪金源学校 | H55: 马思南 | I55: 唐孝宇|陈舜天|尹俊茂|刘冠锦 | J55: 78.33 | K55: 11 | L55: 二等奖
A56: 13787 | B56: rFc1iaz-44-003-n8-024-1-YWN-02-pCf | C56: VEX系列赛项 | D56: VEX IQ风驰电掣 | E56: 初中组 | F56: 77797A | G56: 衢州市青少年宫 | H56: 徐大庆 | I56: 余庚庭|姜彦|余泽勋 | J56: 78.17 | K56: 12 | L56: 二等奖
A57: 14384 | B57: rFc1iXs-44-003-BE-024-1-7cJ-02-8ff | C57: VEX系列赛项 | D57: VEX IQ风驰电掣 | E57: 初中组 | F57: TYSF2 | G57: 森孚科技活动中心 | H57: 王泽耀 | I57: 胡一阳|马韶隆|王梓鉴 | J57: 74 | K57: 13 | L57: 二等奖
A58: 15485 | B58: rFc1iap-44-003-wZ-024-1-GmC-02-0kA | C58: VEX系列赛项 | D58: VEX IQ风驰电掣 | E58: 初中组 | F58: 49145C | G58: 凯里学院附属中学 | H58: 刘毅 | I58: 洪奥博|杨翎|杨舜禹 | J58: 71.17 | K58: 14 | L58: 二等奖
A59: 13646 | B59: rFc1iXj-44-003-XS-024-1-Szq-02-A3U | C59: VEX系列赛项 | D59: VEX IQ风驰电掣 | E59: 初中组 | F59: 星移电掣 | G59: 云南师范大学附属中学 | H59: 蔡胜利 | I59: 刘禹呈|马继良|陈锴晖|仲崇菱 | J59: 68.5 | K59: 15 | L59: 二等奖
A60: 12922 | B60: rFc1iXn-44-003-lN-024-1-fqN-02-lvZ | C60: VEX系列赛项 | D60: VEX IQ风驰电掣 | E60: 初中组 | F60: 创世纪机器人战队 | G60: 昆区中小学综合实践学校 | H60: 唐贵杰|王可燕 | I60: 王雅萱|李英铭|刘宇森|闫艺馨 | J60: 68.17 | K60: 16 | L60: 二等奖
A61: 12970 | B61: rFc1iXm-44-003-b3-024-1-gal-02-Zp3 | C61: VEX系列赛项 | D61: VEX IQ风驰电掣 | E61: 初中组 | F61: 创世纪机器人B战队 | G61: 昆区中小学综合实践学校 | H61: 王宪斌|赵宇飞 | I61: 高梓澈|杨开宇|赵泽翰|张皓程 | J61: 66 | K61: 17 | L61: 三等奖
A62: 13452 | B62: rFc1iaJ-44-003-NF-024-1-kQO-02-Pem | C62: VEX系列赛项 | D62: VEX IQ风驰电掣 | E62: 初中组 | F62: 领越追风少年2队 | G62: 河南师范大学附属中学 | H62: 李鑫|王国军 | I62: 张舒翔|李炳圻 | J62: 63.67 | K62: 18 | L62: 三等奖
... A75: 14448 | B75: rFc1iaq-44-003-dB-024-1-68A-02-rjI | C75: VEX系列赛项 | D75: VEX IQ风驰电掣 | E75: 初中组 | F75: 8990b | G75: 成都市清波小学校 | H75: 赵燕会 | I75: 肖浩宸|徐宇航|罗浩宇 | J75: 44.67 | K75: 31 | L75: 三等奖
...

Sheet ENJOY AI系列赛项
A1: 2024世界机器人大赛昆明锦标赛-青少年机器人设计大赛-ENJOY AI系列赛项获奖名单
A2: 报名编号 | B2: 激活码 | C2: 赛道 | D2: 赛项 | E2: 组别 | F2: 队伍名称 | G2: 申报单位 | H2: 教练信息 | I2: 学生信息 | J2: 比赛分数 | K2: 比赛用时 | L2: 成绩排名 | M2: 奖项 | N2: 备注
A3: 14397 | B3: rFc1Xqj-44-012-90-015-1-OON-01-Kwm | C3: ENJOY AI系列赛项' | D3: 'ENJOY AI飞跃太空' | E3: 小学组 | F3: X-源码无人机2队 | G3: 宝鸡高新第三小学 宝鸡市三迪小学 | H3: 贾鹏 | I3: 郑龙沛|梁宸玮 | J3: 830 | K3: 183 | L3: 第1名 | M3: 一等奖(冠军) | N3: 入围总决赛
A4: 12852 | B4: rFc1X5E-44-012-YT-015-1-Bfc-01-iIn | C4: 'ENJOY AI系列赛项' | D4: 'ENJOY AI飞跃太空' | E4: 小学组 | F4: 梓溪飞翔队 | G4: 泸州市梓橦路小学渔子溪学校 | H4: 邓辉 | I4: 税与杨|包祥蕊 | J4: 800 | K4: 316 | L4: 第2名 | M4: 一等奖(亚军) | N4: 入围总决赛
A5: 9913 | B5: rFc1Xqe-44-012-yK-015-1-zcI-01-9ym | C5: 'ENJOY AI系列赛项' | D5: 'ENJOY AI飞跃太空' | E5: 小学组 | F5: 陕西省西安小学I无人机1队 | G5: 陕西省西安小学 | H5: 田丰 | I5: 金宥丞 | J5: 540 | K5: 311 | L5: 第3名 | M5: 一等奖(季军) | N5: 入围总决赛
A6: 12725 | B6: rFc1X5r-44-012-dT-015-1-ClW-01-wZR | C6: 'ENJOY AI系列赛项' | D6: 'ENJOY AI飞跃太空' | E6: 小学组 | F6: 泸州市大北街小学校 | G6: 泸州市大北街小学校 | H6: 官剑锋 | I6: 上官骏毅|郭以睿 | J6: 420 | K6: 336 | L6: 第4名 | M6: 二等奖
A7: 9926 | B7: rFc1X5U-44-012-4O-015-1-bG2-01-dyk | C7: 'ENJOY AI系列赛项' | D7: 'ENJOY AI飞跃太空' | E7: 小学组 | F7: 壶山小学3队 | G7: 武义县壶山小学 | H7: 刘庆红 | I7: 范宏宇|邵晗心培 | J7: 400 | K7: 255 | L7: 第5名 | M7: 二等奖
A8: 14413 | B8: rFc1XqQ-44-012-rH-015-1-jhK-01-XYN | C8: 'ENJOY AI系列赛项' | D8: 'ENJOY AI飞跃太空' | E8: 小学组 | F8: X-源码无人机8队 | G8: 宝鸡高新第三小学 宝鸡市金台区东仁堡小学 | H8: 贾鹏 | I8: 马菡悦|马彦辰 | J8: 380 | K8: 338 | L8: 第6名 | M8: 二等奖
A9: 14610 | B9: rFc1X5g-44-012-LA-015-1-XFw-01-Lpr | C9: 'ENJOY AI系列赛项' | D9: 'ENJOY AI飞跃太空' | E9: 小学组 | F9: 蠡小1队 | G9: 苏州市相城区蠡口实验小学 | H9: 查春 | I9: 王盺睿|张奕辰 | J9: 370 | K9: 352 | L9: 第7名 | M9: 二等奖
A10: 9408 | B10: rFc1X5w-44-012-0s-015-1-I9t-01-LFA | C10: 'ENJOY AI系列赛项' | D10: 'ENJOY AI飞跃太空' | E10: 小学组 | F10: 武义实验小学队 | G10: 浙江省武义县实验小学 | H10: 袁兆名 | I10: 管一铭|孙嘉轩 | J10: 350 | K10: 222 | L10: 第8名 | M10: 二等奖
A11: 9939 | B11: rFc1X5v-44-012-4N-015-1-a4M-01-VvW | C11: 'ENJOY AI系列赛项' | D11: 'ENJOY AI飞跃太空' | E11: 小学组 | F11: 陕西省西安小学无人机2队 | G11: 陕西省西安小学 | H11: 田丰 | I11: 曹珈语 | J11: 350 | K11: 345 | L11: 第9名 | M11: 二等奖
A12: 9949 | B12: rFc1X5P-44-012-ob-015-1-Yf8-01-q03 | C12: 'ENJOY AI系列赛项' | D12: 'ENJOY AI飞跃太空' | E12: 小学组 | F12: 陕西省西安小学无人机3队 | G12: 陕西省西安小学 | H12: 浦佳 | I12: 周苳语 | J12: 320 | K12: 284 | L12: 第10名 | M12: 二等奖
A13: 15366 | B13: rFc1X5a-44-012-De-015-1-AvY-01-N7x | C13: 'ENJOY AI系列赛项' | D13: 'ENJOY AI飞跃太空' | E13: 小学组 | F13: 蠡小2队 | G13: 苏州市相城区蠡口实验小学 | H13: 查春 | I13: 张语焱|徐易臻 | J13: 310 | K13: 360 | L13: 第11名 | M13: 二等奖
A14: 9929 | B14: rFc1X5q-44-012-XU-015-1-2tV-01-ZOG | C14: 'ENJOY AI系列赛项' | D14: 'ENJOY AI飞跃太空' | E14: 小学组 | F14: 壶山小学6队 | G14: 武义县壶山小学 | H14: 张淑英 | I14: 高翊展|朱轩毅 | J14: 300 | K14: 254 | L14: 第12名 | M14: 三等奖
A15: 12846 | B15: rFc1Xt7-44-012-Ns-015-1-jgT-01-ag9 | C15: 'ENJOY AI系列赛项' | D15: 'ENJOY AI飞跃太空' | E15: 小学组 | F15: 光影队 | G15: 陕西省西安市实验小学 西安市曲江第一小学 | H15: 魏鑫 | I15: 周圣哲|屈子舜 | J15: 290 | K15: 267 | L15: 第13名 | M15: 三等奖
A16: 13364 | B16: rFc1X5C-44-012-JN-015-1-yQ0-01-o3e | C16: 'ENJOY AI系列赛项' | D16: 'ENJOY AI飞跃太空' | E16: 小学组 | F16: 空天1号 | G16: 昆明市盘龙区青少年活动中心 | H16: 应吉 | I16: 宋伊一|庄沛儒 | J16: 270 | K16: 271 | L16: 第14名 | M16: 三等奖
A17: 9936 | B17: rFc1X5t-44-012-gZ-015-1-FgU-01-sDj | C17: 'ENJOY AI系列赛项' | D17: 'ENJOY AI飞跃太空' | E17: 小学组 | F17: 壶山小学5队 | G17: 武义县壶山小学 | H17: 高海轩 | I17: 鲍垚丞 | J17: 260 | K17: 176 | L17: 第15名 | M17: 三等奖
... A24: 13374 | B24: rFc1X5T-44-012-MM-015-1-Vlm-01-jOS | C24: 'ENJOY AI系列赛项' | D24: 'ENJOY AI飞跃太空' | E24: 小学组 | F24: 空天3号 | G24: 昆明市盘龙区青少年活动中心 | H24: 应吉 | I24: 李宣霖|刘书妤 | J24: 80 | K24: 360 | L24: 第22名 | M24: 三等奖
A26: 14855 | B26: rFc1X4u-44-012-ws-013-1-0As-02-luD | C26: 'ENJOY AI系列赛项' | D26: 'ENJOY AI运动会闭幕式' | E26: 初中组 | F26: 巢湖市第七中学 第三中学1队 | G26: 巢湖市第七中学 巢湖市第三中学 | H26: 丁同丽 | I26: 张宇轩|龙辰宇 | J26: 1010 | K26: 285 | L26: 第1名 | M26: 一等奖(冠军) | N26: 入围总决赛
A27: 11246 | B27: rFc1XyO-44-012-GH-013-1-dgH-02-Nu6 | C27: 'ENJOY AI系列赛项' | D27: 'ENJOY AI运动会闭幕式' | E27: 初中组 | F27: 科达随便三队 | G27: 南安市鹏峰中学 | H27: 陈千金 | I27: 王丰年 | J27: 1000 | K27: 293 | L27: 第2名 | M27: 一等奖(亚军) | N27: 入围总决赛
A28: 14896 | B28: rFc1X41-44-012-j8-013-1-snc-02-AdX | C28: 'ENJOY AI系列赛项' | D28: 'ENJOY AI运动会闭幕式' | E28: 初中组 | F28: 巢湖市第七中学1队 | G28: 巢湖市第七中学 | H28: 丁同丽 | I28: 王秉骁|刁子康 | J28: 900 | K28: 277 | L28: 第3名 | M28: 一等奖(季军) | N28: 入围总决赛
A29: 14061 | B29: rFc1XUT-44-012-rA-013-1-dcw-02-APm | C29: 'ENJOY AI系列赛项' | D29: 'ENJOY AI运动会闭幕式' | E29: 初中组 | F29: 科达随便四队 | G29: 南安市鹏峰中学 | H29: 黄婷婷 | I29: 李佳鸿 | J29: 880 | K29: 294 | L29: 第4名 | M29: 一等奖 | N29: 入围总决赛
A30: 11274 | B30: rFc1XyS-44-012-qH-013-1-81f-02-GSC | C30: 'ENJOY AI系列赛项' | D30: 'ENJOY AI运动会闭幕式' | E30: 初中组 | F30: 科达随便一队 | G30: 南安市实验中学 | H30: 黄天虎 | I30: 王劲成 | J30: 780 | K30: 294 | L30: 第5名 | M30: 一等奖 | N30: 入围总决赛
A31: 12067 | B31: rFc1Xyt-44-012-dK-013-1-V6j-02-Hbq | C31: 'ENJOY AI系列赛项' | D31: 'ENJOY AI运动会闭幕式' | E31: 初中组 | F31: 云轩队 | G31: 东北师范大学附属中学新城学校 | H31: 姜宏伟 | I31: 尚哲轩|李云泽 | J31: 700 | K31: 285 | L31: 第6名 | M31: 二等奖
A32: 13366 | B32: rFc1XUK-44-012-Tv-013-1-w2i-02-nA1 | C32: 'ENJOY AI系列赛项' | D32: 'ENJOY AI运动会闭幕式' | E32: 初中组 | F32: 包头市昆区包钢三中2403 | G32: 包头市昆都仑区意晨编程培训学校 | H32: 李航宇 | I32: 袁柏航|李明坤 | J32: 670 | K32: 258 | L32: 第7名 | M32: 二等奖
A33: 13393 | B33: rFc1XUp-44-012-8C-013-1-38O-02-kJM | C33: 'ENJOY AI系列赛项' | D33: 'ENJOY AI运动会闭幕式' | E33: 初中组 | F33: 包头市昆区第三十五中学2405 | G33: 包头市昆都仑区意晨编程培训学校 | H33: 潘昭刚 | I33: 董金豪|张轶然 | J33: 620 | K33: 300 | L33: 第8名 | M33: 二等奖
A34: 12172 | B34: rFc1Xym-44-012-9L-013-1-V2G-02-GME | C34: 'ENJOY AI系列赛项' | D34: 'ENJOY AI运动会闭幕式' | E34: 初中组 | F34: 机械公敌八队 | G34: 广西贵港市荷城第三初级中学 | H34: 韦炳宇 | I34: 覃国钧|罗蒙帝成 | J34: 610 | K34: 272 | L34: 第9名 | M34: 二等奖
A35: 11419 | B35: rFc1XyQ-44-012-kR-013-1-vl9-02-Ut7 | C35: 'ENJOY AI系列赛项' | D35: 'ENJOY AI运动会闭幕式' | E35: 初中组 | F35: 鲸创009 | G35: 郑州市郑东新区外国语学校 郑州市勤礼外语中学 | H35: 董元元 | I35: 刘灏轩|刘一霏 | J35: 570 | K35: 298 | L35: 第10名 | M35: 二等奖
A36: 12134 | B36: rFc1XyR-44-012-Fr-013-1-Gz6-02-vYF | C36: 'ENJOY AI系列赛项' | D36: 'ENJOY AI运动会闭幕式' | E36: 初中组 | F36: 机械公敌六队 | G36: 南宁市银海三雅学校 | H36: 陈前日 | I36: 欧峻安|周尊睿 | J36: 550 | K36: 251 | L36: 第11名 | M36: 二等奖
A37: 12189 | B37: rFc1Xyd-44-012-Ok-013-1-FWo-02-kpf | C37: 'ENJOY AI系列赛项' | D37: 'ENJOY AI运动会闭幕式' | E37: 初中组 | F37: 机械公敌五队 | G37: 广西柳州市第三十五中学 | H37: 刘莹 | I37: 廖崇杰|李佳恒 | J37: 550 | K37: 254 | L37: 第12名 | M37: 二等奖
A38: 13425 | B38: rFc1XUO-44-012-bf-013-1-0TE-02-fhW | C38: 'ENJOY AI系列赛项' | D38: 'ENJOY AI运动会闭幕式' | E38: 初中组 | F38: 包头市昆区第三十五中学2407 | G38: 包头市昆都仑区意晨编程培训学校 | H38: 李航宇 | I38: 孙昊远|安泽恺 | J38: 510 | K38: 272 | L38: 第13名 | M38: 二等奖
A39: 11294 | B39: rFc1Xy9-44-012-vY-013-1-HJO-02-GzY | C39: 'ENJOY AI系列赛项' | D39: 'ENJOY AI运动会闭幕式' | E39: 初中组 | F39: 科达随便二队 | G39: 南安市实验中学 | H39: 黄天虎 | I39: 杨俊铭 | J39: 500 | K39: 277 | L39: 第14名 | M39: 二等奖
A40: 14292 | B40: rFc1Xyc-44-012-sE-013-1-EIf-02-NFf | C40: 'ENJOY AI系列赛项' | D40: 'ENJOY AI运动会闭幕式' | E40: 初中组 | F40: 辰然队 | G40: 东北师范大学附属中学新城学校 | H40: 姜宏伟 | I40: 刘法辰|李星然 | J40: 500 | K40: 292 | L40: 第15名 | M40: 二等奖
A41: 13830 | B41: rFc1XUI-44-012-DY-013-1-gK0-02-v2p | C41: 'ENJOY AI系列赛项' | D41: 'ENJOY AI运动会闭幕式' | E41: 初中组 | F41: 白塔3队 | G41: 昆明市盘龙区白塔初级中学 | H41: 金晶 | I41: 郭铭谦|海庭睿 | J41: 480 | K41: 300 | L41: 第16名 | M41: 二等奖
A42: 15027 | B42: rFc1XUV-44-012-MM-013-1-tZX-02-tZw | C42: 'ENJOY AI系列赛项' | D42: 'ENJOY AI运动会闭幕式' | E42: 初中组 | F42: 一实验张金宝 | G42: 济南高新区第一实验学校 | H42: 卞春燕 | I42: 张金宝 | J42: 470 | K42: 276 | L42: 第17名 | M42: 二等奖
... A61: 14854 | B61: rFc1Xy7-44-012-5W-013-1-yx8-02-UhO | C61: 'ENJOY AI系列赛项' | D61: 'ENJOY AI运动会闭幕式' | E61: 初中组 | F61: 拏云一中队 | G61: 珠海市实验中学 | H61: 李琦 | I61: 李续|郭书豪 | J61: 40 | K61: 221 | L61: 第36名 | M61: 三等奖
A63: 11937 | B63: rFc1X7d-44-012-gZ-013-1-rEq-01-Vyj | C63: 'ENJOY AI系列赛项' | D63: 'ENJOY AI运动会闭幕式' | E63: 小学A组 | F63: 时代树一队 | G63: 昆明市呈贡区时代树教育培训学校 | H63: 冯涛 | I63: 吴卓轩|沈彦诺 | J63: 700 | K63: 285 | L63: 第1名 | M63: 一等奖(冠军) | N63: 入围总决赛
A64: 11450 | B64: rFc1XZy-44-012-A3-013-1-OLG-01-IM2 | C64: 'ENJOY AI系列赛项' | D64: 'ENJOY AI运动会闭幕式' | E64: 小学A组 | F64: 龙吟队 | G64: 重庆教科院巴蜀学校 | H64: 田玲娜 | I64: 冯梓豪|苗一然 | J64: 700 | K64: 287 | L64: 第2名 | M64: 一等奖(亚军) | N64: 入围总决赛
A65: 14165 | B65: rFc1XzQ-44-012-WV-013-1-4OV-01-nOo | C65: 'ENJOY AI系列赛项' | D65: 'ENJOY AI运动会闭幕式' | E65: 小学A组 | F65: 轩瑜队 | G65: 东北师范大学附属中学新城学校 | H65: 姜宏伟 | I65: 刘皓轩|龙耔瑜 | J65: 670 | K65: 276 | L65: 第3名 | M65: 一等奖(季军) | N65: 入围总决赛
A66: 14260 | B66: rFc1Xzr-44-012-zO-013-1-RJd-01-pyd | C66: 'ENJOY AI系列赛项' | D66: 'ENJOY AI运动会闭幕式' | E66: 小学A组 | F66: 思旭队 | G66: 东北师范大学附属中学新城学校 | H66: 姜宏伟 | I66: 陈思淇|刘冉旭 | J66: 650 | K66: 291 | L66: 第4名 | M66: 一等奖 | N66: 入围总决赛
...

Sheet MakeX系列赛项
A1: 2024世界机器人大赛昆明锦标赛-青少年机器人设计大赛-MakeX系列赛项获奖名单
A2: 报名编号 | B2: 激活码 | C2: 赛道 | D2: 赛项 | E2: 组别 | F2: 队伍名称 | G2: 申报单位 | H2: 教练信息 | I2: 学生信息 | J2: 比赛分数 | K2: 比赛用时 | L2: 成绩排名 | M2: 奖项 | N2: 备注
A3: 11127 | B3: rFc1Mzo-44-001-8d-007-1-knX-01-7jo | C3: MakeX系列赛项' | D3: 'MakeX Spark梦想家园' | E3: 小学组 | F3: 未来智能家 | G3: 烟台市牟平区宁海街道中心小学 | H3: 孔健 | I3: 夏睿临 | J3: =VLOOKUP(A3,[1]总分统计表!$B$2:$D$30,3,FALSE) -> 35.15 | K3: / | L3: 1 | M3: 一等奖(冠军) | N3: 入围总决赛
A4: 12996 | B4: rFc1Mzt-44-001-yg-007-1-PVt-01-BsZ | C4: 'MakeX系列赛项' | D4: 'MakeX Spark梦想家园' | E4: 小学组 | F4: 毛豆战队 | G4: 深圳市南山外国语学校（集团）大冲学校 | H4: 林羽晨 | I4: 黄启哲 | J4: =VLOOKUP(A4,[1]总分统计表!$B$2:$D$30,3,FALSE) -> 32.93 | K4: / | L4: 2 | M4: 一等奖(亚军) | N4: 入围总决赛
A5: 10224 | B5: rFc1MzH-44-001-Yg-007-1-N16-01-96k | C5: 'MakeX系列赛项' | D5: 'MakeX Spark梦想家园' | E5: 小学组 | F5: 邯郸市丛台区荀子实验第四小学 | G5: 邯郸市丛台区荀子实验第四小学 | H5: 李晶 | I5: 成其桓 | J5: =VLOOKUP(A5,[1]总分统计表!$B$2:$D$30,3,FALSE) -> 32.36 | K5: / | L5: 3 | M5: 一等奖(季军) | N5: 入围总决赛
A6: 10594 | B6: rFc1MzM-44-001-uP-007-1-2XO-01-Odf | C6: 'MakeX系列赛项' | D6: 'MakeX Spark梦想家园' | E6: 小学组 | F6: 智慧小分队 | G6: 西昌市第二小学 | H6: 杨涛 | I6: 杨马可 | J6: =VLOOKUP(A6,[1]总分统计表!$B$2:$D$30,3,FALSE) -> 31.54 | K6: / | L6: 4 | M6: 一等奖 | N6: 入围总决赛
A7: 15340 | B7: rFc1Mzq-44-001-fK-007-1-X2B-01-gpA | C7: 'MakeX系列赛项' | D7: 'MakeX Spark梦想家园' | E7: 小学组 | F7: 瑞和追梦 | G7: 昆明市五华区瑞和实验学校 | H7: 李晓慧 | I7: 吴佳涵|魏婡 | J7: =VLOOKUP(A7,[1]总分统计表!$B$2:$D$30,3,FALSE) -> 31.02 | K7: / | L7: 5 | M7: 二等奖
A8: 11119 | B8: rFc1MzS-44-001-mx-007-1-FGy-01-ODL | C8: 'MakeX系列赛项' | D8: 'MakeX Spark梦想家园' | E8: 小学组 | F8: 梦想家园 | G8: 深圳市龙岗区天誉实验学校 | H8: 曾幸婷 | I8: 苏语桐 | J8: =VLOOKUP(A8,[1]总分统计表!$B$2:$D$30,3,FALSE) -> 30.58 | K8: / | L8: 6 | M8: 二等奖
A9: 10881 | B9: rFc1MzT-44-001-pF-007-1-TRn-01-t1w | C9: 'MakeX系列赛项' | D9: 'MakeX Spark梦想家园' | E9: 小学组 | F9: 家园护卫队 | G9: 芜湖市北塘小学 | H9: 朱丽娜 | I9: 盛彦琋 | J9: =VLOOKUP(A9,[1]总分统计表!$B$2:$D$30,3,FALSE) -> 30.1 | K9: / | L9: 7 | M9: 二等奖
A10: 10450 | B10: rFc1Mzm-44-001-PC-007-1-ohB-01-dyt | C10: 'MakeX系列赛项' | D10: 'MakeX Spark梦想家园' | E10: 小学组 | F10: 庄泽琛 | G10: 无锡市育英锦园实验小学 | H10: 张琦峰 | I10: 庄泽琛 | J10: =VLOOKUP(A10,[1]总分统计表!$B$2:$D$30,3,FALSE) -> 26.19 | K10: / | L10: 8 | M10: 二等奖
A11: 15550 | B11: rFc1M7l-44-001-cy-007-1-9qo-01-N5n | C11: 'MakeX系列赛项' | D11: 'MakeX Spark梦想家园' | E11: 小学组 | F11: 瑞和圆梦 | G11: 昆明市五华区瑞和实验学校 | H11: 赖晶 | I11: 马萧远|张露藜 | J11: =VLOOKUP(A11,[1]总分统计表!$B$2:$D$30,3,FALSE) -> 25.73 | K11: / | L11: 9 | M11: 二等奖
A12: 10623 | B12: rFc1MzI-44-001-Jr-007-1-hWC-01-E1j | C12: 'MakeX系列赛项' | D12: 'MakeX Spark梦想家园' | E12: 小学组 | F12: 闪电战队 | G12: 武汉经开外国语学校 | H12: 汪倩 | I12: 宋欣泽 | J12: =VLOOKUP(A12,[1]总分统计表!$B$2:$D$30,3,FALSE) -> 24.92 | K12: / | L12: 10 | M12: 二等奖
A13: 10297 | B13: rFc1Mz8-44-001-iO-007-1-0Sj-01-zOv | C13: 'MakeX系列赛项' | D13: 'MakeX Spark梦想家园' | E13: 小学组 | F13: 声名赫赫队 | G13: 大连市东港第三小学 | H13: 吴利群 | I13: 温品赫 | J13: =VLOOKUP(A13,[1]总分统计表!$B$2:$D$30,3,FALSE) -> 24.61 | K13: / | L13: 11 | M13: 二等奖
A14: 15468 | B14: rFc1M7O-44-001-aN-007-1-kPZ-01-waS | C14: 'MakeX系列赛项' | D14: 'MakeX Spark梦想家园' | E14: 小学组 | F14: 瑞和筑梦 | G14: 昆明市五华区瑞和实验学校 | H14: 李于骁 | I14: 谢渝涵|刘方浩 | J14: =VLOOKUP(A14,[1]总分统计表!$B$2:$D$30,3,FALSE) -> 24.56 | K14: / | L14: 12 | M14: 二等奖
A15: 13898 | B15: rFc1M7R-44-001-ai-007-1-dfm-01-Psf | C15: 'MakeX系列赛项' | D15: 'MakeX Spark梦想家园' | E15: 小学组 | F15: 艾勇队 | G15: 楚雄市北浦小学 | H15: 李发芹 | I15: 鲁可|王梓涵 | J15: =VLOOKUP(A15,[1]总分统计表!$B$2:$D$30,3,FALSE) -> 24.43 | K15: / | L15: 13 | M15: 二等奖
A16: 10668 | B16: rFc1Mzx-44-001-1R-007-1-IAi-01-Cjh | C16: 'MakeX系列赛项' | D16: 'MakeX Spark梦想家园' | E16: 小学组 | F16: 开心战队 | G16: 武汉经开外国语学校 | H16: 汪倩 | I16: 胡钰熙 | J16: =VLOOKUP(A16,[1]总分统计表!$B$2:$D$30,3,FALSE) -> 22.97 | K16: / | L16: 14 | M16: 二等奖
A17: 12270 | B17: rFc1Mzp-44-001-5G-007-1-rW9-01-bb4 | C17: 'MakeX系列赛项' | D17: 'MakeX Spark梦想家园' | E17: 小学组 | F17: 小眼看世界 | G17: 武胜县民族小学校 | H17: 唐健 | I17: 曹子清 | J17: =VLOOKUP(A17,[1]总分统计表!$B$2:$D$30,3,FALSE) -> 22.15 | K17: / | L17: 15 | M17: 三等奖
A18: 10412 | B18: rFc1MzE-44-001-cP-007-1-FXD-01-Gj9 | C18: 'MakeX系列赛项' | D18: 'MakeX Spark梦想家园' | E18: 小学组 | F18: 枫林科创小子 | G18: 上海市徐汇区东二小学 | H18: 丁永刚 | I18: 倪恩铭 | J18: =VLOOKUP(A18,[1]总分统计表!$B$2:$D$30,3,FALSE) -> 21.18 | K18: / | L18: 16 | M18: 三等奖
... A30: 13902 | B30: rFc1MzU-44-001-U1-007-1-UFi-01-IOt | C30: 'MakeX系列赛项' | D30: 'MakeX Spark梦想家园' | E30: 小学组 | F30: 艾青队 | G30: 楚雄市北浦小学 | H30: 李发芹 | I30: 邓清宇|宋振源 | J30: =VLOOKUP(A30,[1]总分统计表!$B$2:$D$30,3,FALSE) -> 11.52 | K30: / | L30: 28 | M30: 三等奖
A32: 报名编号 | B32: 激活码 | C32: 赛道 | D32: 赛项 | E32: 组别 | F32: 队伍名称 | G32: 申报单位 | H32: 教练信息 | I32: 学生信息 | J32: 比赛分数 | K32: 比赛用时 | L32: 成绩排名 | M32: 奖项
A33: 14300 | B33: rFc1MwY-44-001-F5-008-1-b3H-01-Uru | C33: 'MakeX系列赛项' | D33: 'MakeX Inspire智慧物流' | E33: 小学组 | F33: 星期五战队 | G33: 北京市昌平区西府冠华学校 | H33: 吕春蕾 | I33: 王艺澄 | J33: 1000 | K33: 63.25 | L33: 1 | M33: 一等奖(冠军) | N33: 入围总决赛
A34: 8179 | B34: rFc1M2L-44-001-hR-008-1-tyO-01-0eM | C34: 'MakeX系列赛项' | D34: 'MakeX Inspire智慧物流' | E34: 小学组 | F34: Super-K14 | G34: 银川市实验小学 | H34: 程曦 | I34: 潘梓延 | J34: 1000 | K34: 68.57 | L34: 2 | M34: 一等奖(亚军) | N34: 入围总决赛
A35: 14307 | B35: rFc1Mwr-44-001-Y6-008-1-tMd-01-gS9 | C35: 'MakeX系列赛项' | D35: 'MakeX Inspire智慧物流' | E35: 小学组 | F35: 睿不可挡 | G35: 恩德里小学 | H35: 高鑫 | I35: 王睿 | J35: 1000 | K35: 81.41 | L35: 3 | M35: 一等奖(季军) | N35: 入围总决赛
A36: 12838 | B36: rFc1M2C-44-001-3k-008-1-c1t-01-OOI | C36: 'MakeX系列赛项' | D36: 'MakeX Inspire智慧物流' | E36: 小学组 | F36: 超级精英 | G36: 南京市卓越科技创新服务中心 | H36: 刘传奇 | I36: 沈学广 | J36: 1000 | K36: 92.71 | L36: 4 | M36: 一等奖 | N36: 入围总决赛
A37: 14654 | B37: rFc1Mwe-44-001-yw-008-1-wLE-01-hFR | C37: 'MakeX系列赛项' | D37: 'MakeX Inspire智慧物流' | E37: 小学组 | F37: 超级大哥 | G37: 北京市海淀区第二实验小学 | H37: 吕春蕾 | I37: 李若肇 | J37: 1000 | K37: 93.89 | L37: 5 | M37: 一等奖 | N37: 入围总决赛
A38: 7393 | B38: rFc1MA5-44-001-JE-008-1-s4L-01-s96 | C38: 'MakeX系列赛项' | D38: 'MakeX Inspire智慧物流' | E38: 小学组 | F38: 锦鳞团 | G38: 广州市第四中学附属耀华小学 | H38: 叶永杰 | I38: 戴铠聪 | J38: 1000 | K38: 98.45 | L38: 6 | M38: 一等奖 | N38: 入围总决赛
A39: 8173 | B39: rFc1M2w-44-001-TV-008-1-c04-01-4h1 | C39: 'MakeX系列赛项' | D39: 'MakeX Inspire智慧物流' | E39: 小学组 | F39: Super-K16 | G39: 银川市实验小学 | H39: 张昊 | I39: 翁佑安 | J39: 1000 | K39: 104.59 | L39: 7 | M39: 一等奖 | N39: 入围总决赛
A40: 14163 | B40: rFc1M2e-44-001-HB-008-1-NcG-01-bh4 | C40: 'MakeX系列赛项' | D40: 'MakeX Inspire智慧物流' | E40: 小学组 | F40: 百变先锋2队 | G40: 岳阳千亩湖小学 | H40: 姚强 | I40: 汤宣容 | J40: 1000 | K40: 104.6 | L40: 8 | M40: 一等奖 | N40: 入围总决赛
A41: 14281 | B41: rFc1M2H-44-001-62-008-1-wRo-01-Yyr | C41: 'MakeX系列赛项' | D41: 'MakeX Inspire智慧物流' | E41: 小学组 | F41: 百变先锋队 | G41: 岳阳楼区岳阳楼小学 | H41: 姚强 | I41: 任泽君 | J41: 1000 | K41: 112.22 | L41: 9 | M41: 一等奖 | N41: 入围总决赛
A42: 8423 | B42: rFc1MLZ-44-001-ls-008-1-q7L-01-nfb | C42: 'MakeX系列赛项' | D42: 'MakeX Inspire智慧物流' | E42: 小学组 | F42: 尚阳至美队 | G42: 成都高新区尚阳小学 | H42: 王宁 | I42: 韩杨咏絮 | J42: 1000 | K42: 115.19 | L42: 10 | M42: 一等奖 | N42: 入围总决赛
A43: 7500 | B43: rFc1MAf-44-001-a8-008-1-xGN-01-LK5 | C43: 'MakeX系列赛项' | D43: 'MakeX Inspire智慧物流' | E43: 小学组 | F43: 灵雀组 | G43: 广州市越秀区海珠中路小学 | H43: 赖林宝 | I43: 郑毅坤 | J43: 1000 | K43: 128.53 | L43: 11 | M43: 一等奖 | N43: 入围总决赛
A44: 7385 | B44: rFc1MAG-44-001-po-008-1-qOJ-01-oUA | C44: 'MakeX系列赛项' | D44: 'MakeX Inspire智慧物流' | E44: 小学组 | F44: 翠竹队 | G44: 广州市越秀区文德路小学 | H44: 叶永杰 | I44: 陈炜昕 | J44: 1000 | K44: 131.47 | L44: 12 | M44: 一等奖 | N44: 入围总决赛
... A47: 8399 | B47: rFc1MAU-44-001-xQ-008-1-O2T-01-BYT | C47: 'MakeX系列赛项' | D47: 'MakeX Inspire智慧物流' | E47: 小学组 | F47: 原子|GGboy | G47: 深圳市龙华区教育科学研究院附属实验学校 | H47: 黄妤璠 | I47: 高铭城 | J47: 1000 | K47: 143.38 | L47: 15 | M47: 一等奖 | N47: 入围总决赛
A48: 12711 | B48: rFc1M2o-44-001-k3-008-1-OOG-01-hqx | C48: 'MakeX系列赛项' | D48: 'MakeX Inspire智慧物流' | E48: 小学组 | F48: 星耀队 | G48: 南京韩博士青少年综合素质发展中心 | H48: 李媛媛 | I48: 李沐晨 | J48: 1000 | K48: 144.91 | L48: 16 | M48: 二等奖
A49: 9612 | B49: rFc1MA6-44-001-Pb-008-1-OOm-01-Lqa | C49: 'MakeX系列赛项' | D49: 'MakeX Inspire智慧物流' | E49: 小学组 | F49: 晋羽战队 | G49: 深圳市南山实验教育集团荔湾小学 | H49: 闫海亮 | I49: 连晋羽 | J49: 1000 | K49: 153.72 | L49: 17 | M49: 二等奖
A50: 10791 | B50: rFc1MLP-44-001-Kn-008-1-4gc-01-dlt | C50: 'MakeX系列赛项' | D50: 'MakeX Inspire智慧物流' | E50: 小学组 | F50: 尚阳至美1队 | G50: 成都高新区尚阳小学 | H50: 王宁 | I50: 陈宜霏 | J50: 1000 | K50: 164.22 | L50: 18 | M50: 二等奖
A51: 9834 | B51: rFc1MAj-44-001-Re-008-1-qud-01-DoQ | C51: 'MakeX系列赛项' | D51: 'MakeX Inspire智慧物流' | E51: 小学组 | F51: 凤凰机器人智慧2队 | G51: 深圳市龙岗区平湖中心学校 | H51: 邹其明 | I51: 杨俊杰 | J51: 1000 | K51: 165.05 | L51: 19 | M51: 二等奖
A52: 9641 | B52: rFc1MAK-44-001-1P-008-1-XvT-01-iWQ | C52: 'MakeX系列赛项' | D52: 'MakeX Inspire智慧物流' | E52: 小学组 | F52: 原点创客-辉耀 | G52: 江门市新会区原点创客格物斯坦机器人 | H52: 林欣华 | I52: 曾锦烨 | J52: 1000 | K52: 176.96 | L52: 20 | M52: 二等奖
A53: 7895 | B53: rFc1MAb-44-001-4F-008-1-2m9-01-5Hu | C53: 'MakeX系列赛项' | D53: 'MakeX Inspire智慧物流' | E53: 小学组 | F53: 原子哈喽队 | G53: 深圳市蛇口育才教育集团育才一小 | H53: 刘绮 | I53: 周浩宇 | J53: 1000 | K53: 180.37 | L53: 21 | M53: 二等奖
A54: 9886 | B54: rFc1MzB-44-001-AC-008-1-uAz-01-3xQ | C54: 'MakeX系列赛项' | D54: 'MakeX Inspire智慧物流' | E54: 小学组 | F54: 胡志冉 | G54: 昆明市中华小学 | H54: 赵紫娟 | I54: 胡志冉 | J54: 1000 | K54: 183.93 | L54: 22 | M54: 二等奖
...

Sheet NeuroMaster 脑科学人工智能挑战赛项
A1: 2024世界机器人大赛昆明锦标赛-青少年机器人设计大赛-NeuroMaster 脑科学人工智能挑战赛项获奖名单
A2: 报名编号 | B2: 激活码 | C2: 赛道 | D2: 赛项 | E2: 组别 | F2: 队伍名称 | G2: 申报单位 | H2: 教练信息 | I2: 学生信息 | J2: 比赛分数 | K2: 成绩排名 | L2: 奖项 | M2: 备注
A3: 13651 | B3: rFc1M6D-44-016-8w-019-1-Cmv-01-OGk | C3: NeuroMaster 脑科学人工智能挑战赛项' | D3: 'NeuroMaster脑机星球' | E3: 小学组 | F3: 昆一中附小N1 | G3: 昆明市第一中学附属小学 | H3: 王涛 | I3: 李源|操昊然 | J3: 1620 | K3: 冠军 | L3: 一等奖(冠军) | M3: 入围总决赛
A4: 14627 | B4: rFc1MX5-44-016-sQ-019-1-zkz-01-Oi5 | C4: 'NeuroMaster 脑科学人工智能挑战赛项' | D4: 'NeuroMaster脑机星球' | E4: 小学组 | F4: 宁波东海实验学校二队 | G4: 宁波东海实验学校 | H4: 朱英 | I4: 屈若涵|梁诗琦 | J4: 1539 | K4: 亚军 | L4: 一等奖(亚军) | M4: 入围总决赛
A5: 9285 | B5: rFc1M6e-44-016-oQ-019-1-QTD-01-dNu | C5: NeuroMaster 脑科学人工智能挑战赛项' | D5: 'NeuroMaster脑机星球' | E5: 小学组 | F5: 中华二队 | G5: 昆明市中华小学 | H5: 杨可强 | I5: 敖麒尧|李师诗 | J5: 1528 | K5: 季军 | L5: 一等奖(季军) | M5: 入围总决赛
A6: 14834 | B6: rFc1MXI-44-016-n0-019-1-whz-01-Mc6 | C6: 'NeuroMaster 脑科学人工智能挑战赛项' | D6: 'NeuroMaster脑机星球' | E6: 小学组 | F6: 宁波东海实验学校三队 | G6: 宁波东海实验学校 | H6: 李中兵 | I6: 袁涵羽|竺彦汐 | J6: 1420 | K6: 4 | L6: 二等奖
A7: 8891 | B7: rFc1M6B-44-016-0U-019-1-VMx-01-v1z | C7: 'NeuroMaster 脑科学人工智能挑战赛项' | D7: 'NeuroMaster脑机星球' | E7: 小学组 | F7: 师大附小二队 | G7: 云南师范大学附属小学 | H7: 杨可强 | I7: 唐浩芮|李星骏 | J7: 1126 | K7: 5 | L7: 二等奖
A8: 13726 | B8: rFc1M6s-44-016-VA-019-1-Xpe-01-fUN | C8: 'NeuroMaster 脑科学人工智能挑战赛项' | D8: 'NeuroMaster脑机星球' | E8: 小学组 | F8: 脑机2 | G8: 昆明市第一中学附属小学 | H8: 唐威 | I8: 王玥琪|曾宇辰 | J8: 1020 | K8: 6 | L8: 二等奖
A9: 14850 | B9: rFc1MX6-44-016-Qb-019-1-nZb-01-6bO | C9: 'NeuroMaster 脑科学人工智能挑战赛项' | D9: 'NeuroMaster脑机星球' | E9: 小学组 | F9: 宁波东海实验学校一队 | G9: 宁波东海实验学校 | H9: 朱英 | I9: 吴启涵|胡正凯 | J9: 1020 | K9: 7 | L9: 二等奖
A10: 8883 | B10: rFc1M6n-44-016-fS-019-1-nED-01-WiU | C10: 'NeuroMaster 脑科学人工智能挑战赛项' | D10: 'NeuroMaster脑机星球' | E10: 小学组 | F10: 师大附小一队 | G10: 云南师范大学附属小学 | H10: 杨可强 | I10: 何梦栩|尹梓轩 | J10: 968 | K10: 8 | L10: 二等奖
A11: 13816 | B11: rFc1MXz-44-016-Y4-019-1-l2U-01-srh | C11: 'NeuroMaster 脑科学人工智能挑战赛项' | D11: 'NeuroMaster脑机星球' | E11: 小学组 | F11: 临沂三河口小学和德队 | G11: 临沂三河口小学 | H11: 王烁晗 | I11: 刘竞泽|宋婉宁 | J11: 920 | K11: 9 | L11: 二等奖
A12: 9555 | B12: rFc1MX7-44-016-Ku-019-1-4lG-01-58H | C12: 'NeuroMaster 脑科学人工智能挑战赛项' | D12: 'NeuroMaster脑机星球' | E12: 小学组 | F12: 诸神黄昏 | G12: 中民大附中昆明西山实验小学&金源小学联队 | H12: 高乐燕 | I12: 彭梓炫|胡子洋 | J12: 920 | K12: 10 | L12: 三等奖
A13: 14645 | B13: rFc1MXV-44-016-Fm-019-1-IPW-01-HYR | C13: 'NeuroMaster 脑科学人工智能挑战赛项' | D13: 'NeuroMaster脑机星球' | E13: 小学组 | F13: 宁波东海实验学校四队 | G13: 宁波东海实验学校 | H13: 朱英 | I13: 李子轩|李依辰 | J13: 820 | K13: 11 | L13: 三等奖
A14: 12798 | B14: rFc1MXy-44-016-u9-019-1-aT7-01-2jV | C14: 'NeuroMaster 脑科学人工智能挑战赛项' | D14: 'NeuroMaster脑机星球' | E14: 小学组 | F14: 未来之翼 | G14: 云南省昆明市西山区春苑小学 | H14: 沈宏超 | I14: 宋思莹 | J14: 820 | K14: 12 | L14: 三等奖
A15: 9226 | B15: rFc1M6g-44-016-yl-019-1-7sO-01-fhG | C15: 'NeuroMaster 脑科学人工智能挑战赛项' | D15: 'NeuroMaster脑机星球' | E15: 小学组 | F15: 中华一队 | G15: 昆明市中华小学 | H15: 杨可强 | I15: 张博宇|陈思明 | J15: 726 | K15: 13 | L15: 三等奖
A16: 17398 | B16: 2B8h6ygG-44-016-RJ-019-1-SlK-01-bVF | C16: 'NeuroMaster 脑科学人工智能挑战赛项' | D16: 'NeuroMaster脑机星球' | E16: 小学组 | F16: 琅琊飞龙 | G16: 临沂三河口小学 | H16: 王烁晗 | I16: 牛孝之|曹砚礼 | J16: 400 | K16: 14 | L16: 三等奖
A17: 17403 | B17: 2B8h6ygq-44-016-BD-019-1-ce6-01-VoX | C17: 'NeuroMaster 脑科学人工智能挑战赛项' | D17: 'NeuroMaster脑机星球' | E17: 小学组 | F17: 琅琊雏凤 | G17: 临沂三河口小学 | H17: 李娟 | I17: 牛馨茉|惠泷 | J17: 320 | K17: 15 | L17: 三等奖
... A19: 15054 | B19: rFc1MXb-44-016-qO-019-1-0Or-01-Nqq | C19: 'NeuroMaster 脑科学人工智能挑战赛项' | D19: 'NeuroMaster脑机星球' | E19: 小学组 | F19: 临沂三河口小学和正队 | G19: 临沂三河口小学 | H19: 王烁晗 | I19: 密良瑞蕊|吕政轩 | J19: 20 | K19: 16 | L19: 三等奖
A21: 9273 | B21: rFc1MMd-44-016-NI-017-1-wod-01-jnO | C21: 'NeuroMaster 脑科学人工智能挑战赛项' | D21: 'NeuroMaster火星救援-重返地球' | E21: 小学组 | F21: GEM杨帆队 | G21: 格尔木市青少年活动中心 | H21: 赵书松 | I21: 严焜映|保善鸿|靳彤萱 | J21: 2179 | K21: 冠军 | L21: 一等奖(冠军) | M21: 入围总决赛
A22: 10444 | B22: rFc1MMu-44-016-O9-017-1-dJT-01-6DL | C22: 'NeuroMaster 脑科学人工智能挑战赛项' | D22: 'NeuroMaster火星救援-重返地球' | E22: 小学组 | F22: 青海启航队 | G22: 西宁市中庄小学 | H22: 杨文丽 | I22: 范嘉怡|李禹涵|李彦庆 | J22: 2151 | K22: 亚军 | L22: 一等奖(亚军) | M22: 入围总决赛
A23: 11818 | B23: rFc1MMm-44-016-qx-017-1-jFN-01-pKP | C23: 'NeuroMaster 脑科学人工智能挑战赛项' | D23: 'NeuroMaster火星救援-重返地球' | E23: 小学组 | F23: 凤凰城小分队二组 | G23: 广州市增城区凤凰城中英文学校 | H23: 周子薇 | I23: 李梓铭|郭芷琳|胡子豪 | J23: 2131 | K23: 季军 | L23: 一等奖(季军) | M23: 入围总决赛
A24: 15210 | B24: rFc1Mxi-44-016-9d-017-1-S09-01-fmN | C24: 'NeuroMaster 脑科学人工智能挑战赛项' | D24: 'NeuroMaster火星救援-重返地球' | E24: 小学组 | F24: 临沂三河口小学和润队 | G24: 临沂三河口小学 | H24: 王烁晗 | I24: 季俣含|巩隽瑶|李昊宸 | J24: 1620 | K24: 4 | L24: 一等奖 | M24: 入围总决赛
A25: 11544 | B25: rFc1Mxn-44-016-ZF-017-1-Jla-01-Bdj | C25: 'NeuroMaster 脑科学人工智能挑战赛项' | D25: 'NeuroMaster火星救援-重返地球' | E25: 小学组 | F25: 福建龙岩松涛小学联队 | G25: 福建省龙岩市松涛小学 | H25: 卢照芳 | I25: 陈政宇|邱畯楠|陈思豪 | J25: 1522 | K25: 5 | L25: 二等奖
A26: 11517 | B26: rFc1MxQ-44-016-1j-017-1-wN1-01-Wzo | C26: 'NeuroMaster 脑科学人工智能挑战赛项' | D26: 'NeuroMaster火星救援-重返地球' | E26: 小学组 | F26: 福建省龙岩溪南小学联队 | G26: 福建省龙岩溪南小学 | H26: 卢照芳 | I26: 卢凌聪|蔡梓鑫|廖翊云 | J26: 1478 | K26: 6 | L26: 二等奖
A27: 11774 | B27: rFc1Mxk-44-016-5H-017-1-lHC-01-xPN | C27: 'NeuroMaster 脑科学人工智能挑战赛项' | D27: 'NeuroMaster火星救援-重返地球' | E27: 小学组 | F27: 略施小计 | G27: 安徽省阜阳市实验小学 | H27: 李银环|周超 | I27: 郝奕铭|任庆宇|张妤婕 | J27: 1371 | K27: 7 | L27: 二等奖
A28: 15221 | B28: rFc1Mx9-44-016-2q-017-1-33l-01-zKa | C28: 'NeuroMaster 脑科学人工智能挑战赛项' | D28: 'NeuroMaster火星救援-重返地球' | E28: 小学组 | F28: 临沂三河口小学 2队 | G28: 临沂三河口小学 | H28: 王烁晗 | I28: 巩隽成|彭蓝|曹原 | J28: 1370 | K28: 8 | L28: 二等奖
A29: 11612 | B29: rFc1MJ7-44-016-SG-017-1-e16-01-hD5 | C29: 'NeuroMaster 脑科学人工智能挑战赛项' | D29: 'NeuroMaster火星救援-重返地球' | E29: 小学组 | F29: 益起逐梦队 | G29: 大连开发区童牛岭小学 | H29: 郭婷 | I29: 邹佳恩|邹易敖|张舒淼 | J29: 1334 | K29: 9 | L29: 二等奖
A30: 11555 | B30: rFc1Mx1-44-016-dm-017-1-961-01-rGy | C30: 'NeuroMaster 脑科学人工智能挑战赛项' | D30: 'NeuroMaster火星救援-重返地球' | E30: 小学组 | F30: 龙岩师范附属小学联队 | G30: 福建龙岩师范附属小学 | H30: 卢照芳 | I30: 袁匀信|吴梦晴|陈治宇 | J30: 1228 | K30: 10 | L30: 二等奖
A31: 13604 | B31: rFc1MxI-44-016-br-017-1-1gc-01-PnO | C31: 'NeuroMaster 脑科学人工智能挑战赛项' | D31: 'NeuroMaster火星救援-重返地球' | E31: 小学组 | F31: 昆一中附小2 | G31: 昆明市第一中学附属小学 | H31: 唐威 | I31: 刘思淼|杨苏航|刘源盛 | J31: 1220 | K31: 11 | L31: 二等奖
A32: 15224 | B32: rFc1Mx0-44-016-Jk-017-1-OxX-01-cvW | C32: 'NeuroMaster 脑科学人工智能挑战赛项' | D32: 'NeuroMaster火星救援-重返地球' | E32: 小学组 | F32: 临沂柳青苑小学临沂三河口小学联队 | G32: 临沂柳青苑小学临沂三河口小学联队 | H32: 李正伟 | I32: 张可昕|李金轩|姜宇泽 | J32: 1220 | K32: 12 | L32: 二等奖
A33: 9713 | B33: rFc1Mxw-44-016-8g-017-1-Ic9-01-zhb | C33: 'NeuroMaster 脑科学人工智能挑战赛项' | D33: 'NeuroMaster火星救援-重返地球' | E33: 小学组 | F33: 小米二战队 | G33: 昆明市中华小学 | H33: 李亚莉|杨可强 | I33: 贺宇锐|毕昕源|费宇腾 | J33: 1220 | K33: 13 | L33: 三等奖
A34: 11107 | B34: rFc1Mxb-44-016-e0-017-1-75p-01-vFB | C34: 'NeuroMaster 脑科学人工智能挑战赛项' | D34: 'NeuroMaster火星救援-重返地球' | E34: 小学组 | F34: 未来工坊7 | G34: 临翔区凤翔小学 | H34: 潘朝玉 | I34: 黄于涵|陈恩颉|陈俊同 | J34: 1170 | K34: 14 | L34: 三等奖
A35: 9693 | B35: rFc1MxP-44-016-hk-017-1-zAD-01-ZkB | C35: 'NeuroMaster 脑科学人工智能挑战赛项' | D35: 'NeuroMaster火星救援-重返地球' | E35: 小学组 | F35: 小米一战队 | G35: 昆明市呈贡区师大附属七彩云南小学 | H35: 王睿|杨可强 | I35: 杨臻荣|刘宇辰|高哲云 | J35: 1170 | K35: 15 | L35: 三等奖
A36: 11730 | B36: rFc1MJv-44-016-y3-017-1-Mhd-01-0VC | C36: 'NeuroMaster 脑科学人工智能挑战赛项' | D36: 'NeuroMaster火星救援-重返地球' | E36: 小学组 | F36: 小试牛刀 | G36: 安徽省阜阳市实验小学 | H36: 李银环|周超 | I36: 陈市博|周明熙|张铭洋 | J36: 1170 | K36: 15 | L36: 三等奖
... A44: 11721 | B44: rFc1MJP-44-016-dM-017-1-7OA-01-MFY | C44: 'NeuroMaster 脑科学人工智能挑战赛项' | D44: 'NeuroMaster火星救援-重返地球' | E44: 小学组 | F44: 青春飞扬队 | G44: 通辽市科尔沁区丑小鸭特殊教育学校 | H44: 陶静 | I44: 邓博扬|王浩然 | J44: 420 | K44: 24 | L44: 三等奖
A46: 15090 | B46: rFc1Sgq-44-016-n5-017-1-WpY-02-4JB | C46: 'NeuroMaster 脑科学人工智能挑战赛项' | D46: 'NeuroMaster火星救援-重返地球' | E46: 初中组 | F46: 卧龙队 | G46: 安徽省阜阳市城南中学 | H46: 周超|李银环 | I46: 周子杰|王丁睿|刘紫涵 | J46: 2429 | K46: 冠军 | L46: 一等奖(冠军) | M46: 入围总决赛
A47: 11197 | B47: rFc1MJe-44-016-Bk-017-1-WNL-02-ugc | C47: 'NeuroMaster 脑科学人工智能挑战赛项' | D47: 'NeuroMaster火星救援-重返地球' | E47: 初中组 | F47: 级数收敛 | G47: 安宁中学嵩华学校 | H47: 普彪|段文娟 | I47: 武奕轩|王梓涵|奎文博 | J47: 1973 | K47: 亚军 | L47: 一等奖(亚军) | M47: 入围总决赛
A48: 9198 | B48: rFc1MiP-44-016-hG-017-1-Usi-02-ufg | C48: 'NeuroMaster 脑科学人工智能挑战赛项' | D48: 'NeuroMaster火星救援-重返地球' | E48: 初中组 | F48: 这不队 | G48: 安宁市昆钢第一中学 | H48: 李梦厅|聂正艳 | I48: 周欣|彭博|姚海源 | J48: 1972 | K48: 季军 | L48: 一等奖(季军) | M48: 入围总决赛
A49: 12446 | B49: rFc1MJg-44-016-Fb-017-1-EVr-02-G5c | C49: 'NeuroMaster 脑科学人工智能挑战赛项' | D49: 'NeuroMaster火星救援-重返地球' | E49: 初中组 | F49: 昆仑之光 | G49: 青海省海西州大柴旦行委中心学校 | H49: 吴金虎 | I49: 王一恒|王爽|吕文昊 | J49: 1878 | K49: 4 | L49: 二等奖
A50: 11604 | B50: rFc1SgG-44-016-Lr-017-1-x4F-02-KhU | C50: 'NeuroMaster 脑科学人工智能挑战赛项' | D50: 'NeuroMaster火星救援-重返地球' | E50: 初中组 | F50: 育才二中梦之队 | G50: 深圳市蛇口育才教育集团育才二中 | H50: 吴晓茜|唐帆 | I50: 欧阳嘉骋|陈奕涵|汪煜城 | J50: 1677 | K50: 5 | L50: 二等奖
...

Sheet Super AI超级轨迹赛项
A1: 2024世界机器人大赛昆明锦标赛-青少年机器人设计大赛-Super AI超级轨迹赛项获奖名单
A2: 报名编号 | B2: 激活码 | C2: 赛道 | D2: 赛项 | E2: 组别 | F2: 队伍名称 | G2: 申报单位 | H2: 教练信息 | I2: 学生信息 | J2: 比赛分数 | K2: 比赛用时 | L2: 成绩排名 | M2: 奖项 | N2: 备注
A3: 6779 | B3: rFc1JvY-44-020-Qt-022-1-q9M-05-J6I | C3: Super AI超级轨迹赛项' | D3: Super AI超级轨迹赛-星际穿越 | E3: 小学低龄组 | F3: 卡比兽 | G3: 重庆市渝中区大田湾小学校 | H3: 李亭亭 | I3: 李涵瑜 | J3: 794 | K3: 65.52 | L3: 1 | M3: 一等奖(冠军) | N3: 入围总决赛
A4: 9891 | B4: rFc1xFD-44-020-OA-022-1-NSP-05-cwd | C4: 'Super AI超级轨迹赛项' | D4: Super AI超级轨迹赛-星际穿越 | E4: 小学低龄组 | F4: 比多战队 | G4: 玉林市创客协会 | H4: 吴坚 | I4: 陆羿亘 | J4: 782 | K4: 77.73 | L4: 2 | M4: 一等奖(亚军) | N4: 入围总决赛
A5: 10667 | B5: rFc1xFU-44-020-SE-022-1-PZk-05-NZd | C5: 'Super AI超级轨迹赛项' | D5: Super AI超级轨迹赛-星际穿越 | E5: 小学低龄组 | F5: 冲锋1队 | G5: 贵阳市云岩区达志学校 | H5: 姜涛 | I5: 杨允奕 | J5: 776 | K5: 83.47 | L5: 3 | M5: 一等奖(季军) | N5: 入围总决赛
A6: 6789 | B6: rFc1Jvn-44-020-aM-022-1-zpd-05-4mo | C6: 'Super AI超级轨迹赛项' | D6: Super AI超级轨迹赛-星际穿越 | E6: 小学低龄组 | F6: RPG火箭筒 | G6: 重庆市江北区江北嘴实验学校 | H6: 陈帅 | I6: 张谨文 | J6: 775 | K6: 84.91 | L6: 4 | M6: 一等奖 | N6: 入围总决赛
A7: 9780 | B7: rFc1xss-44-020-6T-022-1-V4W-05-s6u | C7: 'Super AI超级轨迹赛项' | D7: Super AI超级轨迹赛-星际穿越 | E7: 小学低龄组 | F7: 翱翔金雁 | G7: 广汉市金雁小学 | H7: 罗杰 | I7: 刘昕扬 | J7: 775 | K7: 85.41 | L7: 5 | M7: 一等奖 | N7: 入围总决赛
A8: 9188 | B8: rFc1xFk-44-020-uM-022-1-zra-05-yY6 | C8: 'Super AI超级轨迹赛项' | D8: Super AI超级轨迹赛-星际穿越 | E8: 小学低龄组 | F8: 广西玉林市玉州区第三实验小学战队 | G8: 玉林市玉州区第三实验小学 | H8: 马翠玲 | I8: 李钧廷 | J8: 770 | K8: 89.59 | L8: 6 | M8: 一等奖 | N8: 入围总决赛
A9: 8057 | B9: rFc1JPu-44-020-G4-022-1-pNr-05-ODe | C9: 'Super AI超级轨迹赛项' | D9: Super AI超级轨迹赛-星际穿越 | E9: 小学低龄组 | F9: 卓越队 | G9: 昆明滇池国家旅游度假区海贝中英文学校 | H9: 赵雅君 | I9: 胡恒铨 | J9: 757 | K9: 103.23 | L9: 7 | M9: 一等奖 | N9: 入围总决赛
A10: 7505 | B10: rFc1JPx-44-020-HE-022-1-Jbg-05-vog | C10: 'Super AI超级轨迹赛项' | D10: Super AI超级轨迹赛-星际穿越 | E10: 小学低龄组 | F10: 科瑾战队 | G10: 昆明理工大学附属小学 | H10: 王利坤 | I10: 李科瑾 | J10: 750 | K10: 104.57 | L10: 8 | M10: 一等奖 | N10: 入围总决赛
A11: 6859 | B11: rFc1xFP-44-020-Nn-022-1-49S-05-O0z | C11: 'Super AI超级轨迹赛项' | D11: Super AI超级轨迹赛-星际穿越 | E11: 小学低龄组 | F11: 芜湖市清水小学战队 | G11: 芜湖市清水小学 | H11: 方抒 | I11: 郁宗睿 | J11: 655 | K11: 69.4 | L11: 9 | M11: 一等奖 | N11: 入围总决赛
A12: 6959 | B12: rFc1xFw-44-020-C4-022-1-uOF-05-sVk | C12: 'Super AI超级轨迹赛项' | D12: Super AI超级轨迹赛-星际穿越 | E12: 小学低龄组 | F12: 凤鸣宸若队 | G12: 芜湖市凤鸣实验小学 | H12: 林林 | I12: 王宸若 | J12: 654 | K12: 71.76 | L12: 10 | M12: 一等奖 | N12: 入围总决赛
A13: 7103 | B13: rFc1JhP-44-020-oa-022-1-asj-05-vnH | C13: 'Super AI超级轨迹赛项' | D13: Super AI超级轨迹赛-星际穿越 | E13: 小学低龄组 | F13: 达志1队 | G13: 贵阳市云岩区达志学校 | H13: 姜涛 | I13: 胡诗琪 | J13: 650 | K13: 80.76 | L13: 11 | M13: 一等奖 | N13: 入围总决赛
A14: 6937 | B14: rFc1Jvr-44-020-HQ-022-1-iGr-05-U53 | C14: 'Super AI超级轨迹赛项' | D14: Super AI超级轨迹赛-星际穿越 | E14: 小学低龄组 | F14: 雾都王者 | G14: 重庆市北碚区锦林小学 | H14: 周伟 | I14: 王予贤 | J14: 640 | K14: 135.16 | L14: 12 | M14: 一等奖 | N14: 入围总决赛
... A16: 9384 | B16: rFc1JhA-44-020-Aw-022-1-Bu4-05-hRG | C16: 'Super AI超级轨迹赛项' | D16: Super AI超级轨迹赛-星际穿越 | E16: 小学低龄组 | F16: WRZ战队 | G16: 兰州市七里河区银滩泽华小学 | H16: 徐丽霞 | I16: 王瑞祖 | J16: 515 | K16: 101.69 | L16: 14 | M16: 一等奖 | N16: 入围总决赛
A17: 10041 | B17: rFc1xsv-44-020-NO-022-1-yBa-05-VAV | C17: 'Super AI超级轨迹赛项' | D17: Super AI超级轨迹赛-星际穿越 | E17: 小学低龄组 | F17: 广西玉林市玉州区大北小学 | G17: 广西玉林市大北小学 | H17: 庞若欣 | I17: 梁振宏 | J17: 515 | K17: 115.82 | L17: 15 | M17: 二等奖
A18: 12191 | B18: rFc1JPp-44-020-Rc-022-1-EGG-05-bIw | C18: 'Super AI超级轨迹赛项' | D18: Super AI超级轨迹赛-星际穿越 | E18: 小学低龄组 | F18: 心灵队 | G18: 昆明市西山区前卫南坝中心学校官庄分校 | H18: 贺雨婷 | I18: 杨欣霖 | J18: 515 | K18: 137.75 | L18: 16 | M18: 二等奖
A19: 8799 | B19: rFc1Jhy-44-020-Xu-022-1-fsA-05-JW3 | C19: 'Super AI超级轨迹赛项' | D19: Super AI超级轨迹赛-星际穿越 | E19: 小学低龄组 | F19: LSM战队 | G19: 兰州市七里河区安西路小学 | H19: 赵鹏 | I19: 李书民 | J19: 454 | K19: 85.2 | L19: 17 | M19: 二等奖
A20: 8455 | B20: rFc1JvD-44-020-o9-022-1-Ctv-05-3nS | C20: 'Super AI超级轨迹赛项' | D20: Super AI超级轨迹赛-星际穿越 | E20: 小学低龄组 | F20: 银河之星 | G20: 蒙自市银河小学 | H20: 徐亚娟 | I20: 杨舒梵 | J20: 420 | K20: 67.87 | L20: 18 | M20: 二等奖
A21: 6784 | B21: rFc1Jv8-44-020-cK-022-1-SrI-05-NhC | C21: 'Super AI超级轨迹赛项' | D21: Super AI超级轨迹赛-星际穿越 | E21: 小学低龄组 | F21: 中国中车 | G21: 重庆市南城巴川学校 | H21: 陈功 | I21: 黄梓轩 | J21: 390 | K21: 67.22 | L21: 19 | M21: 二等奖
A22: 9709 | B22: rFc1xsh-44-020-dv-022-1-SPn-05-8hW | C22: 'Super AI超级轨迹赛项' | D22: Super AI超级轨迹赛-星际穿越 | E22: 小学低龄组 | F22: 猛虎队 | G22: 玉林市创客协会 | H22: 钟蓓宏 | I22: 阮梓扬 | J22: 385 | K22: 93.88 | L22: 20 | M22: 二等奖
A23: 11429 | B23: rFc1xsl-44-020-SP-022-1-8A1-05-vZR | C23: 'Super AI超级轨迹赛项' | D23: Super AI超级轨迹赛-星际穿越 | E23: 小学低龄组 | F23: 桂雅1队 | G23: 广西南宁市桂雅路小学桂花校区 | H23: 莫剑明 | I23: 李书睿 | J23: 385 | K23: 110.5 | L23: 21 | M23: 二等奖
A24: 9586 | B24: rFc1xFr-44-020-Af-022-1-Sir-05-Uda | C24: 'Super AI超级轨迹赛项' | D24: Super AI超级轨迹赛-星际穿越 | E24: 小学低龄组 | F24: 鼎佳启学队 | G24: 玉林市玉州区东环小学 | H24: 陈凤 | I24: 张亦涵 | J24: 350 | K24: 128.2 | L24: 22 | M24: 二等奖
A25: 6791 | B25: rFc1Jv3-44-020-TB-022-1-cOs-05-Zeq | C25: 'Super AI超级轨迹赛项' | D25: Super AI超级轨迹赛-星际穿越 | E25: 小学低龄组 | F25: Mag x | G25: 重庆市渝中区中华路小学校 | H25: 邓下红 | I25: 向智弘 | J25: 335 | K25: 59.86 | L25: 23 | M25: 二等奖
A26: 7322 | B26: rFc1JhX-44-020-9J-022-1-VJe-05-zj4 | C26: 'Super AI超级轨迹赛项' | D26: Super AI超级轨迹赛-星际穿越 | E26: 小学低龄组 | F26: 达德1队 | G26: 贵阳市南明区达德学校 | H26: 孙凤丹 | I26: 罗盛蓝 | J26: 325 | K26: 121.77 | L26: 24 | M26: 二等奖
A27: 6750 | B27: rFc1Jvl-44-020-gA-022-1-Mtl-05-OIf | C27: 'Super AI超级轨迹赛项' | D27: Super AI超级轨迹赛-星际穿越 | E27: 小学低龄组 | F27: 熠之光战队 | G27: 重庆市渝北区龙山小学校 | H27: 付赛 | I27: 严赫凡 | J27: 320 | K27: 73.71 | L27: 25 | M27: 二等奖
A28: 6852 | B28: rFc1Jv1-44-020-qL-022-1-fro-05-dDE | C28: 'Super AI超级轨迹赛项' | D28: Super AI超级轨迹赛-星际穿越 | E28: 小学低龄组 | F28: ljy | G28: 重庆市渝北区渝开学校 | H28: 蒲彩霞 | I28: 李家宇 | J28: 315 | K28: 105.36 | L28: 26 | M28: 二等奖
... A94: 10076 | B94: rFc1JvN-44-020-9X-022-1-abM-05-Ybx | C94: 'Super AI超级轨迹赛项' | D94: Super AI超级轨迹赛-星际穿越 | E94: 小学低龄组 | F94: 乐学23队 | G94: 兰州市西固区玉门街小学 | H94: 阮蔚 | I94: 张楷沅 | J94: 95 | K94: 17.7 | L94: 92 | M94: 三等奖
A95: 小学高年级A组-上午场
A96: 6976 | B96: rFc1JhC-44-020-qO-022-1-Z9N-06-Tlu | C96: 'Super AI超级轨迹赛项' | D96: Super AI超级轨迹赛-星际穿越 | E96: 小学高龄组 | F96: 欣然战队 | G96: 凤鸣实验小学 | H96: 杨祥 | I96: 李欣然 | J96: 807 | K96: 53.53 | L96: 1 | M96: 一等奖(冠军) | N96: 入围总决赛
A97: 6996 | B97: rFc1JhY-44-020-nh-022-1-wtj-06-hbq | C97: 'Super AI超级轨迹赛项' | D97: Super AI超级轨迹赛-星际穿越 | E97: 小学高龄组 | F97: 浩哲战队 | G97: 凤鸣实验小学 | H97: 杨祥 | I97: 韦浩哲 | J97: 806 | K97: 53.58 | L97: 2 | M97: 一等奖(亚军) | N97: 入围总决赛
A98: 8642 | B98: rFc1JU3-44-020-TN-022-1-IgV-06-7xC | C98: 'Super AI超级轨迹赛项' | D98: Super AI超级轨迹赛-星际穿越 | E98: 小学高龄组 | F98: 逍遥战队 | G98: 蒙自市银河小学 | H98: 杨品 | I98: 李震逍 | J98: 803 | K98: 57.01 | L98: 3 | M98: 一等奖(季军) | N98: 入围总决赛
A99: 8583 | B99: rFc1JLu-44-020-fK-022-1-PJ4-06-698 | C99: 'Super AI超级轨迹赛项' | D99: Super AI超级轨迹赛-星际穿越 | E99: 小学高龄组 | F99: 开心六小 | G99: 射洪市第六小学校 | H99: 李冬华 | I99: 罗梓豪 | J99: 792 | K99: 68.34 | L99: 4 | M99: 一等奖 | N99: 入围总决赛
A100: 7723 | B100: rFc1J7b-44-020-69-022-1-RmN-06-7qI | C100: 'Super AI超级轨迹赛项' | D100: Super AI超级轨迹赛-星际穿越 | E100: 小学高龄组 | F100: 渭源县会川镇西关中心小学西行者2 | G100: 渭源县会川镇西关中心小学 | H100: 李勇 | I100: 杜昊 | J100: 788 | K100: 72.08 | L100: 5 | M100: 一等奖 | N100: 入围总决赛
A101: 12159 | B101: rFc1JA3-44-020-QJ-022-1-We3-06-FJO | C101: 'Super AI超级轨迹赛项' | D101: Super AI超级轨迹赛-星际穿越 | E101: 小学高龄组 | F101: 艾创小1队 | G101: 曲靖市麒麟区艾创机器人科技培训学校 | H101: 李陈 | I101: 舒仁波 | J101: 787 | K101: 72.17 | L101: 6 | M101: 一等奖 | N101: 入围总决赛
A102: 7600 | B102: rFc1JUK-44-020-yG-022-1-diZ-06-Y7O | C102: 'Super AI超级轨迹赛项' | D102: Super AI超级轨迹赛-星际穿越 | E102: 小学高龄组 | F102: 恒铭战队 | G102: 春城小学 | H102: 王利坤 | I102: 张恒铭 | J102: 786 | K102: 74.26 | L102: 7 | M102: 一等奖 | N102: 入围总决赛
A103: 7329 | B103: rFc1J5T-44-020-Fu-022-1-9Ei-06-fNc | C103: 'Super AI超级轨迹赛项' | D103: Super AI超级轨迹赛-星际穿越 | E103: 小学高龄组 | F103: 省府1队 | G103: 贵阳市省府路小学 | H103: 张熙 | I103: 梁珂豪 | J103: 785 | K103: 74.99 | L103: 8 | M103: 一等奖 | N103: 入围总决赛
A104: 12190 | B104: rFc1Jtw-44-020-Vg-022-1-IWj-06-ERK | C104: 'Super AI超级轨迹赛项' | D104: Super AI超级轨迹赛-星际穿越 | E104: 小学高龄组 | F104: 黄耀锋-星际创越 | G104: 开远市崇文小学校 | H104: 王艳梅 | I104: 黄耀锋 | J104: 781 | K104: 78.31 | L104: 9 | M104: 一等奖 | N104: 入围总决赛
A105: 12168 | B105: rFc1J5g-44-020-Oe-022-1-naV-06-4QH | C105: 'Super AI超级轨迹赛项' | D105: Super AI超级轨迹赛-星际穿越 | E105: 小学高龄组 | F105: 杨志强-星际创越 | G105: 开远市灵泉小学 | H105: 王元月 | I105: 杨志强 | J105: 781 | K105: 78.9 | L105: 10 | M105: 一等奖 | N105: 入围总决赛
A106: 8053 | B106: rFc1j4a-44-020-4S-022-1-ofG-06-qjD | C106: 'Super AI超级轨迹赛项' | D106: Super AI超级轨迹赛-星际穿越 | E106: 小学高龄组 | F106: 昆明高新一小科医路校区3队 | G106: 昆明高新一小教育集团科医路校区 | H106: 左俊 | I106: 王俊朝 | J106: 780 | K106: 80.03 | L106: 11 | M106: 一等奖 | N106: 入围总决赛
...

Sheet 扣叮机器人赛项
A1: 2024世界机器人大赛昆明锦标赛-青少年机器人设计大赛-扣叮机器人赛项获奖名单
A2: 报名编号 | B2: 激活码 | C2: 赛道 | D2: 赛项 | E2: 组别 | F2: 队伍名称 | G2: 申报单位 | H2: 教练信息 | I2: 学生信息 | J2: 比赛分数 | K2: 比赛用时 | L2: 成绩排名 | M2: 奖项 | N2: 备注
A3: 14270 | B3: rFc1MKn-44-029-Ce-032-1-Xdl-01-yXZ | C3: 扣叮机器人赛项' | D3: '扣叮AI智能挑战赛' | E3: 小学组 | F3: 附小7队 | G3: 云南师范大学附属小学 | H3: 猫良茜 | I3: 吴珞雨宸 | J3: 92 | K3: 56分34秒 | L3: 1 | M3: 一等奖(冠军) | N3: 入围总决赛
A4: 14488 | B4: rFc1MaY-44-029-Ln-032-1-NxE-01-pIv | C4: '扣叮机器人赛项' | D4: '扣叮AI智能挑战赛' | E4: 小学组 | F4: 红旗3队 | G4: 昆明市五华区红旗小学 | H4: 柴云霞 | I4: 姚宸睿 | J4: 89 | K4: 28分30秒 | L4: 2 | M4: 一等奖(亚军) | N4: 入围总决赛
A5: 9307 | B5: rFc1Mov-44-029-UD-032-1-WQP-01-ojJ | C5: '扣叮机器人赛项' | D5: '扣叮AI智能挑战赛' | E5: 小学组 | F5: 高新一小战队 | G5: 昆明高新一小教育集团海源校区 | H5: 夏锦瑶 | I5: 李思蔚 | J5: 89 | K5: 43分49秒 | L5: 3 | M5: 一等奖(季军) | N5: 入围总决赛
A6: 13232 | B6: rFc1M95-44-029-LG-032-1-93p-01-NG3 | C6: '扣叮机器人赛项' | D6: '扣叮AI智能挑战赛' | E6: 小学组 | F6: SuperRocket | G6: 云南师范大学附属小学 | H6: 黄铭卿 | I6: 袁槊 | J6: 88 | K6: 58分36秒 | L6: 4 | M6: 一等奖 | N6: 入围总决赛
A7: 14073 | B7: rFc1M9a-44-029-Jf-032-1-D48-01-rld | C7: '扣叮机器人赛项' | D7: '扣叮AI智能挑战赛' | E7: 小学组 | F7: 川师天娇 | G7: 四川师范大学附属昆明实验学校（天娇校区） | H7: 李琼州 | I7: 顾若瀚 | J7: 84 | K7: 37分41秒 | L7: 5 | M7: 一等奖 | N7: 入围总决赛
A8: 14182 | B8: rFc1MSm-44-029-94-032-1-zm8-01-svo | C8: '扣叮机器人赛项' | D8: '扣叮AI智能挑战赛' | E8: 小学组 | F8: 星火燎原队 | G8: 高新一小教育集团经典校区 | H8: 黎绍永 | I8: 杨永婷 | J8: 84 | K8: 59分44秒 | L8: 6 | M8: 一等奖 | N8: 入围总决赛
A9: 14121 | B9: rFc1MaX-44-029-Wv-032-1-IdE-01-wDE | C9: '扣叮机器人赛项' | D9: '扣叮AI智能挑战赛' | E9: 小学组 | F9: 昆明高新一小科医路校区编程1队 | G9: 昆明高新一小教育集团科医路校区 | H9: 左俊 | I9: 付宸皓 | J9: 82 | K9: 48分03秒 | L9: 7 | M9: 一等奖 | N9: 入围总决赛
A10: 12375 | B10: rFc1Mat-44-029-gb-032-1-qXy-01-kmK | C10: '扣叮机器人赛项' | D10: '扣叮AI智能挑战赛' | E10: 小学组 | F10: 欧阳文杰队 | G10: 云南省昆明市五华区瑞和实验学校 | H10: 郎雅楠 | I10: 欧阳文杰 | J10: 81 | K10: 54分04秒 | L10: 8 | M10: 一等奖 | N10: 入围总决赛
A11: 9270 | B11: rFc1MCL-44-029-J2-032-1-F1z-01-dzC | C11: '扣叮机器人赛项' | D11: '扣叮AI智能挑战赛' | E11: 小学组 | F11: 热爱科技小队 | G11: 深圳市南山区第二外国语学校（集团）海德学校 | H11: 罗琼菱子 | I11: 谢君钲 | J11: 80 | K11: 33分36秒 | L11: 9 | M11: 一等奖 | N11: 入围总决赛
A12: 11498 | B12: rFc1MCR-44-029-d8-032-1-Kyn-01-cXD | C12: '扣叮机器人赛项' | D12: '扣叮AI智能挑战赛' | E12: 小学组 | F12: 桥南小学 | G12: 天水市麦积区桥南小学 | H12: 刘朝华 | I12: 李睿 | J12: 80 | K12: 43分57秒 | L12: 10 | M12: 一等奖 | N12: 入围总决赛
A13: 15606 | B13: rFc1MCq-44-029-bq-032-1-4jx-01-MPd | C13: '扣叮机器人赛项' | D13: '扣叮AI智能挑战赛' | E13: 小学组 | F13: 附小22队 | G13: 云南师范大学附属小学 | H13: 许嘉豪 | I13: 付远 | J13: 79 | K13: 33分46秒 | L13: 11 | M13: 一等奖 | N13: 入围总决赛
A14: 9210 | B14: rFc1M9f-44-029-Hz-032-1-rOx-01-97m | C14: '扣叮机器人赛项' | D14: '扣叮AI智能挑战赛' | E14: 小学组 | F14: 开心之队 | G14: 昆明高新一小教育集团海源校区 | H14: 刘昆鹏 | I14: 魏杰 | J14: 79 | K14: 44分01秒 | L14: 12 | M14: 一等奖 | N14: 入围总决赛
A15: 14247 | B15: rFc1MS1-44-029-QU-032-1-5lv-01-uoG | C15: '扣叮机器人赛项' | D15: '扣叮AI智能挑战赛' | E15: 小学组 | F15: 扣叮战队 | G15: 昆明高新技术产业开发区第一小学经典校区 | H15: 唐建琴 | I15: 赵骏 | J15: 78 | K15: 18分57秒 | L15: 13 | M15: 二等奖
A16: 8922 | B16: rFc1MKy-44-029-VS-032-1-zDk-01-coy | C16: '扣叮机器人赛项' | D16: '扣叮AI智能挑战赛' | E16: 小学组 | F16: 米奇妙妙屋 | G16: 昆明市官渡区北京八十学校 | H16: 张淼 | I16: 缪宇宸 | J16: 78 | K16: 54分53秒 | L16: 14 | M16: 二等奖
A17: 11677 | B17: rFc1MKW-44-029-rW-032-1-nj5-01-L7J | C17: '扣叮机器人赛项' | D17: '扣叮AI智能挑战赛' | E17: 小学组 | F17: 生产队 | G17: 昆明市第一中学附属小学 | H17: 王涛 | I17: 李建坤 | J17: 77 | K17: 41分07秒 | L17: 15 | M17: 二等奖
A18: 14286 | B18: rFc1MKF-44-029-LD-032-1-xLz-01-m2j | C18: '扣叮机器人赛项' | D18: '扣叮AI智能挑战赛' | E18: 小学组 | F18: 附小8队 | G18: 云南师范大学附属小学 | H18: 猫良茜 | I18: 李树宁 | J18: 76 | K18: 36分39秒 | L18: 16 | M18: 二等奖
A19: 9906 | B19: rFc1Ma6-44-029-JC-032-1-Sb4-01-6R5 | C19: '扣叮机器人赛项' | D19: '扣叮AI智能挑战赛' | E19: 小学组 | F19: 发达队 | G19: 昆明高新一小教育集团海源校区 | H19: 保一 | I19: 申修同 | J19: 75 | K19: 45分30秒 | L19: 17 | M19: 二等奖
A20: 11969 | B20: rFc1MSi-44-029-hy-032-1-z8K-01-acv | C20: '扣叮机器人赛项' | D20: '扣叮AI智能挑战赛' | E20: 小学组 | F20: 蔚蓝星辰 | G20: 昆明市第八中学长城新城校区 | H20: 张记秀 | I20: 禄振钊 | J20: 75 | K20: 45分49秒 | L20: 18 | M20: 二等奖
A21: 15068 | B21: rFc1M9K-44-029-aS-032-1-4Ra-01-EDv | C21: '扣叮机器人赛项' | D21: '扣叮AI智能挑战赛' | E21: 小学组 | F21: 川师天娇二队 | G21: 四川师范大学附属昆明实验学校（天娇校区） | H21: 王正娇 | I21: 程凯捷 | J21: 74 | K21: 31分36秒 | L21: 19 | M21: 二等奖
A22: 14482 | B22: rFc1MaS-44-029-oU-032-1-57E-01-Cwa | C22: '扣叮机器人赛项' | D22: '扣叮AI智能挑战赛' | E22: 小学组 | F22: 红旗2队 | G22: 昆明市五华区红旗小学 | H22: 邓桂丽 | I22: 尹易之 | J22: 73 | K22: 31分53秒 | L22: 20 | M22: 二等奖
A23: 14326 | B23: rFc1M99-44-029-MH-032-1-bFA-01-JAM | C23: '扣叮机器人赛项' | D23: '扣叮AI智能挑战赛' | E23: 小学组 | F23: 附小扣叮2队 | G23: 云南师范大学附属小学 | H23: 郭兴照 | I23: 贺晨皓 | J23: 72 | K23: 31分36秒 | L23: 21 | M23: 二等奖
A24: 10442 | B24: rFc1MS8-44-029-Xs-032-1-BKs-01-i57 | C24: '扣叮机器人赛项' | D24: '扣叮AI智能挑战赛' | E24: 小学组 | F24: 迎难而上 | G24: 五华区大观小学 | H24: 林云云 | I24: 梁智闳 | J24: 71 | K24: 42分17秒 | L24: 22 | M24: 二等奖
A25: 12392 | B25: rFc1Mau-44-029-EX-032-1-stO-01-yaH | C25: '扣叮机器人赛项' | D25: '扣叮AI智能挑战赛' | E25: 小学组 | F25: 追梦队 | G25: 云南省昆明市五华区瑞和实验学校 | H25: 杜华玉 | I25: 李宸锐 | J25: 71 | K25: 45分09秒 | L25: 23 | M25: 二等奖
A26: 14290 | B26: rFc1Maz-44-029-r4-032-1-xLe-01-TIQ | C26: '扣叮机器人赛项' | D26: '扣叮AI智能挑战赛' | E26: 小学组 | F26: 城铭小队 | G26: 昆明高新技术产业开发区第一小学经典校区 | H26: 范莹 | I26: 郭城铭 | J26: 70 | K26: 46分53秒 | L26: 24 | M26: 二等奖
... A84: 14429 | B84: rFc1MS9-44-029-Sy-032-1-OB2-01-ygi | C84: '扣叮机器人赛项' | D84: '扣叮AI智能挑战赛' | E84: 小学组 | F84: 昆明高新一小科医路校区编程4队 | G84: 昆明高新一小教育集团科医路校区 | H84: 张建留 | I84: 张子辰 | J84: 20 | K84: 47分53秒 | L84: 82 | M84: 三等奖
A86: 14517 | B86: rFc1MOW-44-029-zD-030-1-QPQ-01-WtL | C86: '扣叮机器人赛项' | D86: '扣叮火星开发' | E86: 小学组 | F86: 红旗6队 | G86: 昆明市五华区红旗小学 | H86: 杨玲 | I86: 孔腾 | J86: 1316 | K86: 0.058240741 | L86: 1 | M86: 一等奖(冠军) | N86: 入围总决赛
A87: 14308 | B87: rFc1MOe-44-029-Sp-030-1-q2s-01-M09 | C87: '扣叮机器人赛项' | D87: '扣叮火星开发' | E87: 小学组 | F87: 附小9队 | G87: 云南师范大学附属小学 | H87: 猫良茜 | I87: 郭璋航 | J87: 1210 | K87: 0.047349537 | L87: 2 | M87: 一等奖(亚军) | N87: 入围总决赛
A88: 13355 | B88: rFc1MQq-44-029-Ii-030-1-L2V-01-ddq | C88: '扣叮机器人赛项' | D88: '扣叮火星开发' | E88: 小学组 | F88: 云南大学附属小学大学城校区 | G88: 云南大学附属中学大学城校区（小学部） | H88: 邓西明 | I88: 邓越洲 | J88: 1210 | K88: 0.063125 | L88: 3 | M88: 一等奖(季军) | N88: 入围总决赛
A89: 12552 | B89: rFc1MQN-44-029-ST-030-1-J2e-01-l5c | C89: '扣叮机器人赛项' | D89: '扣叮火星开发' | E89: 小学组 | F89: 元阳县民族小学 | G89: 云南省科普教育基地联合会 | H89: 杨昌福 | I89: 范彪瑞 | J89: 1187 | K89: 0.046712963 | L89: 4 | M89: 一等奖 | N89: 入围总决赛
A90: 11425 | B90: rFc1MRj-44-029-XU-030-1-oDp-01-5Gi | C90: '扣叮机器人赛项' | D90: '扣叮火星开发' | E90: 小学组 | F90: 扬帆队 | G90: 兰州大学附属学校 | H90: 倪云菲 | I90: 李欣 | J90: 1182 | K90: 0.046574074 | L90: 5 | M90: 一等奖 | N90: 入围总决赛
A91: 12432 | B91: rFc1MTt-44-029-bZ-030-1-cP7-01-8Gw | C91: '扣叮机器人赛项' | D91: '扣叮火星开发' | E91: 小学组 | F91: 莲华小学——赵玉坤 | G91: 五华区莲华小学 | H91: 蒋晓东 | I91: 赵玉坤 | J91: 1155 | K91: 0.060868056 | L91: 6 | M91: 一等奖 | N91: 入围总决赛
A92: 11132 | B92: rFc1M8y-44-029-MU-030-1-RcH-01-6T9 | C92: '扣叮机器人赛项' | D92: '扣叮火星开发' | E92: 小学组 | F92: 罗尘 | G92: 云南大学附属中学一二一校区小学部 | H92: 袁节 | I92: 罗尘 | J92: 1154 | K92: 0.060300926 | L92: 7 | M92: 一等奖 | N92: 入围总决赛
A93: 11828 | B93: rFc1MRf-44-029-hW-030-1-0II-01-IGM | C93: '扣叮机器人赛项' | D93: '扣叮火星开发' | E93: 小学组 | F93: 天水市实验小学战队 | G93: 天水市实验小学 | H93: 石瑞 | I93: 李茁 | J93: 1141 | K93: 0.057141204 | L93: 8 | M93: 一等奖 | N93: 入围总决赛
A94: 13167 | B94: rFc1MQ2-44-029-CE-030-1-dQi-01-0PH | C94: '扣叮机器人赛项' | D94: '扣叮火星开发' | E94: 小学组 | F94: 昆明市五华区武成小学 | G94: 昆明市五华区武成小学（人民路校区） | H94: 汪宇凡 | I94: 谭铮 | J94: 1135 | K94: 0.05056713 | L94: 9 | M94: 一等奖 | N94: 入围总决赛
A95: 14515 | B95: rFc1MHB-44-029-LF-030-1-vH8-01-2oa | C95: '扣叮机器人赛项' | D95: '扣叮火星开发' | E95: 小学组 | F95: 昆明市盘龙区明通小学 | G95: 云南省科普教育基地联合会 | H95: 杨昌福 | I95: 邹锦娴 | J95: 1134 | K95: 0.068055556 | L95: 10 | M95: 一等奖 | N95: 入围总决赛
A96: 14771 | B96: rFc1M8H-44-029-V3-030-1-DT6-01-q0r | C96: '扣叮机器人赛项' | D96: '扣叮火星开发' | E96: 小学组 | F96: 通达天下五队 | G96: 兰州市城关区通渭路小学 | H96: 赵妍 | I96: 李嘉乐 | J96: 1130 | K96: 0.057256944 | L96: 11 | M96: 一等奖 | N96: 入围总决赛
A97: 13055 | B97: rFc1Ml5-44-029-1o-030-1-1Qk-01-6N7 | C97: '扣叮机器人赛项' | D97: '扣叮火星开发' | E97: 小学组 | F97: 智芃 | G97: 昭通市昭阳区第十小学 | H97: 朱恒睿 | I97: 黄智芃 | J97: 1128 | K97: 0.059282407 | L97: 12 | M97: 一等奖 | N97: 入围总决赛
... A106: 12138 | B106: rFc1Mlq-44-029-bt-030-1-ekB-01-M0O | C106: '扣叮机器人赛项' | D106: '扣叮火星开发' | E106: 小学组 | F106: 禹诚 | G106: 昭通市实验小学 | H106: 徐莲 | I106: 朱禹诚 | J106: 1058 | K106: 0.076388889 | L106: 21 | M106: 一等奖 | N106: 入围总决赛
...

Sheet TAI挑战赛项
A1: 2024世界机器人大赛昆明锦标赛-青少年机器人设计大赛-TAI挑战赛项获奖名单
A2: 报名编号 | B2: 激活码 | C2: 赛道 | D2: 赛项 | E2: 组别 | F2: 队伍名称 | G2: 申报单位 | H2: 教练信息 | I2: 学生信息 | J2: 比赛分数 | K2: 成绩排名 | L2: 奖项 | M2: 备注 | N2: 时间分为 第二排名依据
A3: 11315 | B3: rFc1XIR-44-033-G5-034-1-atL-01-6c4 | C3: TAI挑战赛项' | D3: 'TAI智慧城市挑战赛' | E3: 小学A组 | F3: 毕节市实验学校A1队 | G3: 毕节市实验学校 | H3: 余庆先 | I3: 周宇轩|罗浩晨|张琮奇 | J3: 215 | K3: 1 | L3: 一等奖(冠军) | M3: 入围总决赛
A4: 9356 | B4: rFc1XI7-44-033-zC-034-1-Tb0-01-OAa | C4: 'TAI挑战赛项' | D4: 'TAI智慧城市挑战赛' | E4: 小学A组 | F4: 创新先锋 | G4: 重庆市渝中区大坪小学校 | H4: 张庆 | I4: 李乐轩|向致远 | J4: 215 | K4: 2 | L4: 一等奖(亚军) | M4: 入围总决赛
A5: 16591 | B5: 2B8h6ygu-44-033-Kp-034-1-rmS-01-n2Q | C5: 'TAI挑战赛项' | D5: 'TAI智慧城市挑战赛' | E5: 小学A组 | F5: 贝小科二队 | G5: 重庆市教科院巴蜀实验学校和重庆市南岸区珊瑚实验小学校 | H5: 李魏巍 | I5: 张奕恒|程沐艺 | J5: 200 | K5: 3 | L5: 一等奖(季军) | M5: 入围总决赛
A6: 12093 | B6: rFc1Xf1-44-033-0I-034-1-nHJ-01-JUy | C6: 'TAI挑战赛项' | D6: 'TAI智慧城市挑战赛' | E6: 小学A组 | F6: 大沙小机器巨人队 | G6: 重庆大学城沙坪坝小学校 | H6: 游春虹 | I6: 刘正豪|刘素谦 | J6: 200 | K6: 4 | L6: 一等奖 | M6: 入围总决赛
A7: 9411 | B7: rFc1XIA-44-033-PC-034-1-apm-01-2cC | C7: 'TAI挑战赛项' | D7: 'TAI智慧城市挑战赛' | E7: 小学A组 | F7: 梦想航行 | G7: 重庆市渝中区大坪小学校 | H7: 巫光阳 | I7: 郑伟宸|范宇航 | J7: 195 | K7: 5 | L7: 一等奖 | M7: 入围总决赛
A8: 10394 | B8: rFc1XfD-44-033-Hh-034-1-ufo-01-Q9K | C8: 'TAI挑战赛项' | D8: 'TAI智慧城市挑战赛' | E8: 小学A组 | F8: 重庆科学城科一小战队 | G8: 重庆科学城第一实验小学校 | H8: 罗鹏 | I8: 杨承玮|甘佩鑫|邓一夫 | J8: 195 | K8: 6 | L8: 一等奖 | M8: 入围总决赛
A9: 9329 | B9: rFc1XfT-44-033-S1-034-1-6VS-01-t6r | C9: 'TAI挑战赛项' | D9: 'TAI智慧城市挑战赛' | E9: 小学A组 | F9: 南开景阳朝阳队 | G9: 高新区南开景阳小学 | H9: 谢欢 | I9: 李阳萌|王祖新 | J9: 190 | K9: 7 | L9: 一等奖 | M9: 入围总决赛
A10: 10064 | B10: rFc1XV4-44-033-A8-034-1-znM-01-0mt | C10: 'TAI挑战赛项' | D10: 'TAI智慧城市挑战赛' | E10: 小学A组 | F10: 武汉大方战队 | G10: 华中师范大学附属保利南湖小学 | H10: 程晶 | I10: 左骏逸 | J10: 190 | K10: 8 | L10: 一等奖 | M10: 入围总决赛
A11: 7553 | B11: rFc1XxU-44-033-qo-034-1-5Kz-01-MGS | C11: 'TAI挑战赛项' | D11: 'TAI智慧城市挑战赛' | E11: 小学A组 | F11: 青科二队 | G11: 大连经济技术开发区青科小学 | H11: 宋先盛 | I11: 孙铭岳|刘子俊 | J11: 185 | K11: 9 | L11: 二等奖
A12: 17007 | B12: 2B8h6yeq-44-033-Hi-034-1-9Og-01-cVo | C12: 'TAI挑战赛项' | D12: 'TAI智慧城市挑战赛' | E12: 小学A组 | F12: 大沙小机械先驱队 | G12: 重庆大学城沙坪坝小学校 | H12: 徐菊 | I12: 严墨梵|唐思源 | J12: 180 | K12: 10 | L12: 二等奖
A13: 10544 | B13: rFc1XVe-44-033-No-034-1-3Oj-01-xPn | C13: 'TAI挑战赛项' | D13: 'TAI智慧城市挑战赛' | E13: 小学A组 | F13: 南宁市明天学校4队 | G13: 南宁市明天学校 | H13: 苏艳春 | I13: 赵宸瑜|蔡宜洋 | J13: 170 | K13: 11 | L13: 二等奖
A14: 6856 | B14: rFc1Xxw-44-033-pL-034-1-h8D-01-pt5 | C14: 'TAI挑战赛项' | D14: 'TAI智慧城市挑战赛' | E14: 小学A组 | F14: 青科一队 | G14: 大连经济技术开发区青科小学 | H14: 宋先盛 | I14: 徐浩宸|王梵旭 | J14: 165 | K14: 12 | L14: 二等奖
A15: 16554 | B15: 2B8h6yew-44-033-sc-034-1-rfJ-01-LuK | C15: 'TAI挑战赛项' | D15: 'TAI智慧城市挑战赛' | E15: 小学A组 | F15: 树人思贤机械精英队 | G15: 重庆科学城树人思贤小学校 | H15: 胡利华 | I15: 程泽溪|杜依依 | J15: 160 | K15: 13 | L15: 二等奖
A16: 7167 | B16: rFc1XMR-44-033-UC-034-1-o9w-01-OQ3 | C16: 'TAI挑战赛项' | D16: 'TAI智慧城市挑战赛' | E16: 小学A组 | F16: 新区小学爱创7队 | G16: 新乡市新区小学 | H16: 齐珂轩 | I16: 宋宇航|杨奡涵|白恩澔 | J16: 155 | K16: 14 | L16: 二等奖
A17: 11307 | B17: rFc1XVs-44-033-pP-034-1-D2V-01-PBX | C17: 'TAI挑战赛项' | D17: 'TAI智慧城市挑战赛' | E17: 小学A组 | F17: 洪山二小战队 | G17: 武汉市洪山区第二小学 | H17: 易凯 | I17: 何璟瑜 | J17: 145 | K17: 15 | L17: 二等奖
A18: 10123 | B18: rFc1XVA-44-033-jb-034-1-LbD-01-nlq | C18: 'TAI挑战赛项' | D18: 'TAI智慧城市挑战赛' | E18: 小学A组 | F18: 武大二附小战队 | G18: 武汉大学第二附属小学 | H18: 张龙 | I18: 周政彧 | J18: 145 | K18: 16 | L18: 二等奖
A19: 10529 | B19: rFc1XfR-44-033-es-034-1-DHk-01-DBX | C19: 'TAI挑战赛项' | D19: 'TAI智慧城市挑战赛' | E19: 小学A组 | F19: 人民融侨1队 | G19: 重庆人民（融侨）小学校 | H19: 黄建春 | I19: 颜梓默|云睿一 | J19: 140 | K19: 17 | L19: 二等奖
A20: 7147 | B20: rFc1Xxh-44-033-rC-034-1-dLa-01-gLj | C20: 'TAI挑战赛项' | D20: 'TAI智慧城市挑战赛' | E20: 小学A组 | F20: 实验小学爱创1队 | G20: 新乡市实验小学 | H20: 宋薇 | I20: 司晋羽|郭忠琰|戚智溥 | J20: 140 | K20: 18 | L20: 二等奖
A21: 10692 | B21: rFc1XMt-44-033-MO-034-1-RlX-01-LcY | C21: 'TAI挑战赛项' | D21: 'TAI智慧城市挑战赛' | E21: 小学A组 | F21: 智慧城市第二小组 | G21: 六盘水市水城区第二小学 | H21: 李溪 | I21: 王树森|罗卫星|曾杨瑾瑜 | J21: 130 | K21: 19 | L21: 二等奖
A22: 11905 | B22: rFc1XIx-44-033-tl-034-1-wCH-01-yER | C22: 'TAI挑战赛项' | D22: 'TAI智慧城市挑战赛' | E22: 小学A组 | F22: HDR | G22: 重庆市南岸区广阳湾珊瑚实验小学校 | H22: 黄艳红 | I22: 丁明熠|任品行 | J22: 130 | K22: 20 | L22: 二等奖
... A54: 13911 | B54: rFc1XIg-44-033-xy-034-1-jTT-01-ryk | C54: 'TAI挑战赛项' | D54: 'TAI智慧城市挑战赛' | E54: 小学A组 | F54: 滨河三组 | G54: 成都高新滨河学校 | H54: 刘馨鸿 | I54: 郑渊文|康奕博 | J54: 5 | K54: 52 | L54: 三等奖
A56: 7623 | B56: rFc1XVN-44-033-zU-034-1-DkV-01-QSZ | C56: 'TAI挑战赛项' | D56: 'TAI智慧城市挑战赛' | E56: 小学B组 | F56: Tomato战队 | G56: 丹东市实验小学 | H56: 赵鑫宇 | I56: 杨浩然|栾皓然 | J56: 230 | K56: 1 | L56: 一等奖(冠军) | M56: 入围总决赛
A57: 14783 | B57: rFc1XID-44-033-kO-034-1-elj-01-6MO | C57: 'TAI挑战赛项' | D57: 'TAI智慧城市挑战赛' | E57: 小学B组 | F57: 小贝二队 | G57: 重庆谢家湾小学校、重庆外国语学校森林小学 | H57: 文江林 | I57: 杨浩轩|段佳承 | J57: 220 | K57: 2 | L57: 一等奖(亚军) | M57: 入围总决赛
A58: 9089 | B58: rFc1XMI-44-033-LV-034-1-Ll7-01-dIe | C58: 'TAI挑战赛项' | D58: 'TAI智慧城市挑战赛' | E58: 小学B组 | F58: 艾莱特五组 | G58: 哈尔滨市泰山小学 | H58: 陈占坤 | I58: 杨皓宇|郭世元 | J58: 215 | K58: 3 | L58: 一等奖(季军) | M58: 入围总决赛
A59: 9305 | B59: rFc1XIU-44-033-eS-034-1-uO3-01-GJB | C59: 'TAI挑战赛项' | D59: 'TAI智慧城市挑战赛' | E59: 小学B组 | F59: 壶山小学1队 | G59: 浙江省武义县壶山小学 | H59: 刘庆红 | I59: 熊悠盛|姜霖睿 | J59: 210 | K59: 4 | L59: 一等奖 | M59: 入围总决赛
A60: 7268 | B60: rFc1XxI-44-033-ae-034-1-QNj-01-fQA | C60: 'TAI挑战赛项' | D60: 'TAI智慧城市挑战赛' | E60: 小学B组 | F60: 梦想飞扬队 | G60: 1.重庆大学城第二小学校 | H60: 杨娟 | I60: 黄麒睿翎|王馨瑶|舒若航 | J60: 200 | K60: 5 | L60: 一等奖 | M60: 入围总决赛
A61: 7152 | B61: rFc1XMk-44-033-Ch-034-1-46d-01-TYD | C61: 'TAI挑战赛项' | D61: 'TAI智慧城市挑战赛' | E61: 小学B组 | F61: 实验小学爱创2队 | G61: 新乡市实验小学 | H61: 王立康 | I61: 郭贺然|李懿轩|王鑫隆 | J61: 195 | K61: 6 | L61: 一等奖 | M61: 入围总决赛
A62: 11636 | B62: rFc1XMP-44-033-Rx-034-1-VDz-01-9tv | C62: 'TAI挑战赛项' | D62: 'TAI智慧城市挑战赛' | E62: 小学B组 | F62: 钜蛋小学1队 | G62: 秦皇岛市海港区新一路小学集团、迎宾路小学联队 | H62: 张莹晖 | I62: 宋佳栋|贾益蘅 | J62: 190 | K62: 7 | L62: 一等奖 | M62: 入围总决赛
A63: 11762 | B63: rFc1XMZ-44-033-GR-034-1-gRG-01-HuO | C63: 'TAI挑战赛项' | D63: 'TAI智慧城市挑战赛' | E63: 小学B组 | F63: 钜蛋小学2队 | G63: 秦皇岛海港区市新一路小学集团 | H63: 张莹晖 | I63: 赵绎添|张贤明 | J63: 190 | K63: 8 | L63: 二等奖
A64: 9087 | B64: rFc1XMf-44-033-xB-034-1-YfM-01-esU | C64: 'TAI挑战赛项' | D64: 'TAI智慧城市挑战赛' | E64: 小学B组 | F64: 艾莱特四组 | G64: 哈尔滨市继红小学 | H64: 陈占坤 | I64: 陈睿晨|赵一鸣 | J64: 185 | K64: 9 | L64: 二等奖
A65: 7542 | B65: rFc1Xxa-44-033-lz-034-1-dFE-01-xlX | C65: 'TAI挑战赛项' | D65: 'TAI智慧城市挑战赛' | E65: 小学B组 | F65: 智慧队 | G65: 四川外国语大学九龙坡区附属小学和重庆九龙坡区第一实验小学燕南校区 | H65: 郑晓洁 | I65: 苏泊槐|何生辉 | J65: 185 | K65: 10 | L65: 二等奖
A66: 7619 | B66: rFc1XVK-44-033-xr-034-1-xy8-01-8J5 | C66: 'TAI挑战赛项' | D66: 'TAI智慧城市挑战赛' | E66: 小学B组 | F66: 黄金双镖客 | G66: 丹东市实验小学 | H66: 赵鑫宇 | I66: 刘苏锐|高皓森 | J66: 175 | K66: 11 | L66: 二等奖
A67: 9200 | B67: rFc1XfC-44-033-KV-034-1-5BW-01-6OJ | C67: 'TAI挑战赛项' | D67: 'TAI智慧城市挑战赛' | E67: 小学B组 | F67: 梦想之队 | G67: 南京安生学校 | H67: 程正斌 | I67: 吴吟盈|陈昊男|毛君源 | J67: 175 | K67: 12 | L67: 二等奖
A68: 11191 | B68: rFc1XIn-44-033-KQ-034-1-FxK-01-cQp | C68: 'TAI挑战赛项' | D68: 'TAI智慧城市挑战赛' | E68: 小学B组 | F68: 小贝一队 | G68: 重庆高新技术产业开发区第一实验小学校、重庆市渝中区马家堡小学校 | H68: 周青松 | I68: 游然|蒲鑫尧 | J68: 175 | K68: 13 | L68: 二等奖
A69: 9093 | B69: rFc1XM6-44-033-AR-034-1-VX8-01-y6a | C69: 'TAI挑战赛项' | D69: 'TAI智慧城市挑战赛' | E69: 小学B组 | F69: 艾莱特七组 | G69: 哈尔滨工业大学附属中学小学部 | H69: 陈占坤 | I69: 席湛轩|李亿诚 | J69: 165 | K69: 14 | L69: 二等奖
A70: 9537 | B70: rFc1XfN-44-033-hB-034-1-nae-01-3n6 | C70: 'TAI挑战赛项' | D70: 'TAI智慧城市挑战赛' | E70: 小学B组 | F70: 创造之星 | G70: 南京市玄武外国语学校附属小学 南京市立贤小学、南京附中树人附小 | H70: 程正斌 | I70: 陆知行|向弋|朱芷萱 | J70: 165 | K70: 15 | L70: 二等奖
