Workbook

Sheet 全能奖
A1: 2024世界机器人大赛昆明锦标赛-青少年机器人设计大赛-全能奖获奖名单
A2: 报名编号 | B2: 激活码 | C2: 赛道 | D2: 赛项 | E2: 组别 | F2: 队伍名称 | G2: 申报单位 | H2: 教练信息 | I2: 学生信息 | J2: 奖项
A3: 15527 | B3: rFc1i6R-44-003-UL-024-1-Qd4-01-BRR | C3: VEX系列赛项 | D3: VEX IQ风驰电掣 | E3: 小学组 | F3: 49145B | G3: 凯里四小 | H3: 赵晓龙 | I3: 杨齐彬|宋俊毅|高凯泽 | J3: 全能奖
A4: 13281 | B4: rFc1iab-44-003-nm-024-1-wfJ-02-aSv | C4: VEX系列赛项 | D4: VEX IQ风驰电掣 | E4: 初中组 | F4: 附中战队 | G4: 江苏省泰州中学附属初级中学 | H4: 赵俊 | I4: 陈杏泽|乔相宇|金贤宇 | J4: 全能奖
A5: 13310 | B5: rFc1ioO-44-003-eh-025-1-OeC-02-Usm | C5: 'VEX系列赛项' | D5: 'VEX VRC尖峰时刻' | E5: 初中组 | F5: 融侨2队 | G5: 重庆南开（融侨）中学校 | H5: 张志荣 | I5: 蒲昭舟|张垚晰|王钦震|傅钰轩 | J5: 全能奖
A6: 14698 | B6: rFc1i90-44-003-9I-025-1-KOK-03-jjN | C6: 'VEX系列赛项' | D6: 'VEX VRC尖峰时刻' | E6: 高中组 | F6: 令核2 | G6: 昆明市第三中学 | H6: 杨肖霞 | I6: 张继文|胡嘉文|王宇弌|张婷 | J6: 全能奖
A7: 10025 | B7: rFc1Mtv-44-001-VV-010-1-0Ti-02-sQS | C7: 'MakeX系列赛项' | D7: 'MakeX Explorer数智先锋' | E7: 初中组 | F7: 飞龙 | G7: 深圳市荔园外国语 | H7: 范永帅 | I7: 朱彦舟|赵梓宸 | J7: 全能奖
A8: 8516 | B8: rFc1MGt-44-001-Pz-009-1-0Xa-01-P3l | C8: 'MakeX系列赛项' | D8: 'MakeX Starter全芯征途' | E8: 小学组 | F8: 致远蓝鲸战队 | G8: 上海健生成长汇培训学校 | H8: 李涛|杨飞 | I8: 俞凡筠|骆廷敬 | J8: 全能奖
A9: 9881 | B9: rFc1MMb-44-001-g8-011-1-XPr-03-zy6 | C9: 'MakeX系列赛项' | D9: 'MakeX Challenge乘胜追机' | E9: 高中组 | F9: 探索者 | G9: 沿河思源实验学校 | H9: 安华松|崔康 | I9: 张雨涵|邓文韬|黎晨晔|田征|王佳叶 | J9: 全能奖
A10: 12798 | B10: rFc1MXy-44-016-u9-019-1-aT7-01-2jV | C10: 'NeuroMaster 脑科学人工智能挑战赛项' | D10: 'NeuroMaster脑机星球' | E10: 小学组 | F10: 未来之翼 | G10: 云南省昆明市西山区春苑小学 | H10: 沈宏超 | I10: 宋思莹 | J10: 全能奖
A11: 12375 | B11: rFc1Mat-44-029-gb-032-1-qXy-01-kmK | C11: '扣叮机器人赛项' | D11: '扣叮AI智能挑战赛' | E11: 小学组 | F11: 欧阳文杰队 | G11: 云南省昆明市五华区瑞和实验学校 | H11: 郎雅楠 | I11: 欧阳文杰 | J11: 全能奖
A12: 12552 | B12: rFc1MQN-44-029-ST-030-1-J2e-01-l5c | C12: '扣叮机器人赛项' | D12: '扣叮火星开发' | E12: 小学组 | F12: 元阳县民族小学 | G12: 云南省科普教育基地联合会 | H12: 杨昌福 | I12: 范彪瑞 | J12: 全能奖
A13: 15551 | B13: rFc1x71-44-044-ru-046-1-Tce-02-Nfy | C13: 'Robo Genius系列挑战赛项' | D13: 'Robo Genius新星行动' | E13: 初中组 | F13: 兴国七中二队 | G13: 兴国县教育体育局 | H13: 王元元|刘菁 | I13: 胡涛|胡轩宁 | J13: 全能奖
A14: 12462 | B14: rFc1xPJ-44-044-VC-045-1-Lvm-02-uYL | C14: 'Robo Genius系列挑战赛项' | D14: 'Robo Genius超能行动' | E14: 初中组 | F14: 宇睿战队 | G14: 重庆市第一实验中学校 | H14: 游艺芃|魏光静 | I14: 张昕宇|张恺睿 | J14: 全能奖

Sheet VEX系列赛项
A1: 2024世界机器人大赛昆明锦标赛-青少年机器人设计大赛-VEX系列赛项获奖名单
A2: 报名编号 | B2: 激活码 | C2: 赛道 | D2: 赛项 | E2: 组别 | F2: 队伍名称 | G2: 申报单位 | H2: 教练信息 | I2: 学生信息 | J2: 比赛分数 | K2: 资格赛排名 | L2: 奖项 | M2: 备注
A3: 13013 | B3: rFc1iJm-44-003-yl-024-1-zlf-01-NZe | C3: VEX系列赛项 | D3: VEX IQ风驰电掣 | E3: 小学组 | F3: 海珠三小/环市路小学联队 | G3: 广州市海珠区第三实验小学 | H3: 边永明 | I3: 杨颂佳|黄道弘|莫宸熙 | J3: 85.2 | K3: 7 | L3: 一等奖(冠军) | M3: 入围总决赛
A4: 13109 | B4: rFc1ii0-44-003-Wm-024-1-Py4-01-mMy | C4: VEX系列赛项 | D4: VEX IQ风驰电掣 | E4: 小学组 | F4: 麓山国际/黄兴小学/清水塘三小 | G4: 长沙麓山国际实验小学 | H4: 陈成|龚鑫宇 | I4: 李逸谦|曾源翊|陈柯予 | J4: 85 | K4: 8 | L4: 一等奖(冠军) | M4: 入围总决赛
A5: 15101 | B5: rFc1i6C-44-003-Dp-024-1-qwl-01-Cfc | C5: VEX系列赛项 | D5: VEX IQ风驰电掣 | E5: 小学组 | F5: 25502A | G5: 福建省厦门实验小学集美分校;厦门市集美区灌口中心小学 | H5: 方睿婷|杜雪妙 | I5: 苏禹铭|苏禹锐|王乔彦|王宇森 | J5: 87.4 | K5: 5 | L5: 一等奖(亚军) | M5: 入围总决赛
A6: 14375 | B6: rFc1i66-44-003-vG-024-1-Ejp-01-i2p | C6: VEX系列赛项 | D6: VEX IQ风驰电掣 | E6: 小学组 | F6: 33003F | G6: 温州市建设小学&温州市城南小学 | H6: 段升 | I6: 柳溢仁|谢王轩 | J6: 86.4 | K6: 6 | L6: 一等奖(亚军) | M6: 入围总决赛
A7: 13906 | B7: rFc1iii-44-003-qy-024-1-tWE-01-AYC | C7: VEX系列赛项 | D7: VEX IQ风驰电掣 | E7: 小学组 | F7: 32680C | G7: 广州市天河区员村小学 | H7: 钟智鸿|范皖豫 | I7: 李旻晏|邱奕康|洪子明|伍泓旭 | J7: 97.8 | K7: 1 | L7: 一等奖(季军) | M7: 入围总决赛
A8: 13207 | B8: rFc1i6t-44-003-xk-024-1-Jvv-01-PuJ | C8: VEX系列赛项 | D8: VEX IQ风驰电掣 | E8: 小学组 | F8: 奥克斯/康礼/湘一/麓山联队 | G8: 长沙市奥克斯实验小学 | H8: 陈成|龚鑫宇 | I8: 罗宸懿|任哲妤|龙彦舟|黄星睿 | J8: 87.8 | K8: 2 | L8: 一等奖(季军) | M8: 入围总决赛
A9: 15527 | B9: rFc1i6R-44-003-UL-024-1-Qd4-01-BRR | C9: VEX系列赛项 | D9: VEX IQ风驰电掣 | E9: 小学组 | F9: 49145B | G9: 凯里四小 | H9: 赵晓龙 | I9: 杨齐彬|宋俊毅|高凯泽 | J9: 87.6 | K9: 4 | L9: 二等奖
A10: 13690 | B10: rFc1iJs-44-003-4g-024-1-Uz2-01-YG3 | C10: VEX系列赛项 | D10: VEX IQ风驰电掣 | E10: 小学组 | F10: 北京西城区梦想启航联队 | G10: 育民小学/展览路第一小学/北京第二实验小学/西单小学 | H10: 曹源|赵钦 | I10: 黄翊凯|乔梓峰|孔德望|王奕凝 | J10: 87.6 | K10: 3 | L10: 二等奖
A11: 12623 | B11: rFc1iiA-44-003-Vx-024-1-Th4-01-YtB | C11: VEX系列赛项 | D11: VEX IQ风驰电掣 | E11: 小学组 | F11: 66566H | G11: 重庆高新技术产业开发区第一实验小学校 | H11: 戴瑜|郭玥 | I11: 李煊胤|谭景云|刘鸿霖|曾凡宸 | J11: 81.6 | K11: 9 | L11: 二等奖
A12: 12411 | B12: rFc1i6g-44-003-a7-024-1-oNL-01-SIP | C12: VEX系列赛项 | D12: VEX IQ风驰电掣 | E12: 小学组 | F12: 武汉江岸区一元路小学、汉铁小学 | G12: 江岸区汉铁小学，江岸区一元路小学 | H12: 吴双|胡珏佩 | I12: 卢子铭|付雨沐|王荃涵 | J12: 80.4 | K12: 10 | L12: 二等奖
A13: 14660 | B13: rFc1i6n-44-003-0y-024-1-n30-01-nPh | C13: VEX系列赛项 | D13: VEX IQ风驰电掣 | E13: 小学组 | F13: 东方启明小学队 | G13: 兰州东方学校 | H13: 李承儒|范志坚 | I13: 季宸宇|李昊宇|梁轩挺 | J13: 80 | K13: 11 | L13: 二等奖
A14: 12403 | B14: rFc1ii8-44-003-YO-024-1-twy-01-0eX | C14: VEX系列赛项 | D14: VEX IQ风驰电掣 | E14: 小学组 | F14: 好奇战队 | G14: 东莞市松山湖第二小学 | H14: 苟涛|廖发康 | I14: 曹聿灵|曾可馨|马沐晨|尹子墨 | J14: 76.8 | K14: 12 | L14: 二等奖
A15: 15572 | B15: rFc1iXb-44-003-IQ-024-1-IOl-01-Ive | C15: VEX系列赛项 | D15: VEX IQ风驰电掣 | E15: 小学组 | F15: 熊王金牌队 | G15: 顺德区京师励耘实验学校 广东碧桂园学校 佛山市顺德德胜学校 联队 | H15: 张雄炜|李浩 | I15: 胡子朗|卢国治|李仲羲 | J15: 74.8 | K15: 13 | L15: 二等奖
A16: 12478 | B16: rFc1iiE-44-003-YI-024-1-zZo-01-MwJ | C16: VEX系列赛项 | D16: VEX IQ风驰电掣 | E16: 小学组 | F16: 松湖战队 | G16: 东莞市松山湖第二小学 | H16: 苟涛|廖发康 | I16: 陈明志|王烁普|刘星洋|傅楚涵 | J16: 74 | K16: 14 | L16: 二等奖
A17: 15236 | B17: rFc1iiv-44-003-WS-024-1-HpW-01-cfZ | C17: VEX系列赛项 | D17: VEX IQ风驰电掣 | E17: 小学组 | F17: 青龙队 | G17: 昆明市盘龙区明通小学 | H17: 林志刚 | I17: 赵南宇|李傲茗|袁浩诚|太彦然 | J17: 72.4 | K17: 15 | L17: 二等奖
A18: 12757 | B18: rFc1ii1-44-003-mM-024-1-ym2-01-VMI | C18: VEX系列赛项 | D18: VEX IQ风驰电掣 | E18: 小学组 | F18: 小海豚战队 | G18: 泰州实验学校 | H18: 赵俊 | I18: 李铖轩|范奕凡|沈星阳 | J18: 70.2 | K18: 16 | L18: 二等奖
A19: 14460 | B19: rFc1i6e-44-003-2f-024-1-P6t-01-7Cs | C19: VEX系列赛项 | D19: VEX IQ风驰电掣 | E19: 小学组 | F19: 江岸区沈阳路小学、长春街第二小学 | G19: 武汉市江岸区沈阳路小学 | H19: 吴双|胡珏佩 | I19: 刘禹辰|程煜哲 | J19: 69.6 | K19: 17 | L19: 二等奖
A20: 15154 | B20: rFc1i6N-44-003-rM-024-1-z1z-01-GiL | C20: VEX系列赛项 | D20: VEX IQ风驰电掣 | E20: 小学组 | F20: 25502D | G20: 厦门市集美区三社小学;厦门实验小学集美分校 | H20: 方睿婷|周雅娴 | I20: 陈宏宇|陈耀源|叶盛|熊逸宸 | J20: 68 | K20: 18 | L20: 二等奖
... A43: 15017 | B43: rFc1iX2-44-003-AX-024-1-sFQ-01-FWb | C43: VEX系列赛项 | D43: VEX IQ风驰电掣 | E43: 小学组 | F43: 5666B | G43: 哈尔滨工业大学附属中学校 | H43: 王海南|周方恬 | I43: 贾岫驰|蔡万基|滕冠杉 | J43: 34.2 | K43: 41 | L43: 三等奖
A45: 13797 | B45: rFc1iaA-44-003-no-024-1-FYw-02-iQ7 | C45: VEX系列赛项 | D45: VEX IQ风驰电掣 | E45: 初中组 | F45: 77797B | G45: 衢州市青少年宫 | H45: 徐大庆 | I45: 孙卓安|刘泽昊|邵奕辰 | J45: 93 | K45: 5 | L45: 一等奖(冠军) | M45: 入围总决赛
A46: 14272 | B46: rFc1iaa-44-003-pa-024-1-RDQ-02-GJe | C46: VEX系列赛项 | D46: VEX IQ风驰电掣 | E46: 初中组 | F46: 77797C | G46: 衢州市青少年宫 | H46: 徐大庆 | I46: 曾语喆|刘锦煜|缪艺涵 | J46: 90.67 | K46: 6 | L46: 一等奖(冠军) | M46: 入围总决赛
A47: 13712 | B47: rFc1iXl-44-003-Ed-024-1-Uz7-02-fjl | C47: VEX系列赛项 | D47: VEX IQ风驰电掣 | E47: 初中组 | F47: 火蓝之心 | G47: 广州市番外外国语学校 | H47: 陈金兰 | I47: 李国明|吴杋|黄俊玮 | J47: 88.5 | K47: 7 | L47: 一等奖(亚军) | M47: 入围总决赛
A48: 15574 | B48: rFc1iS7-44-003-Nn-024-1-fAn-02-SPd | C48: VEX系列赛项 | D48: VEX IQ风驰电掣 | E48: 初中组 | F48: 白虎队 | G48: 盘龙小学、云南师范大学附属小学、玖如堂小学、江滨小学 | H48: 林志刚 | I48: 岳骋沛|洪嘉钟|王韩与|罗艺凌 | J48: 86.5 | K48: 8 | L48: 一等奖(亚军) | M48: 入围总决赛
A49: 15657 | B49: rFc1iaE-44-003-03-024-1-VAM-02-OUY | C49: VEX系列赛项 | D49: VEX IQ风驰电掣 | E49: 初中组 | F49: KLucky | G49: 深圳市南山外国语学校（集团）文华学校 | H49: 卓绍钦 | I49: 陈亮豪|王潇|秦炜杰 | J49: 123.17 | K49: 1 | L49: 一等奖(季军) | M49: 入围总决赛
A50: 15708 | B50: rFc1ia8-44-003-dy-024-1-rig-02-7sG | C50: VEX系列赛项 | D50: VEX IQ风驰电掣 | E50: 初中组 | F50: KL-Kylin | G50: 广州市实验外语学校 | H50: 秦彬 | I50: 吴曜曦|周亮宇|陈赞宇 | J50: 118.83 | K50: 2 | L50: 一等奖(季军) | M50: 入围总决赛
A51: 13281 | B51: rFc1iab-44-003-nm-024-1-wfJ-02-aSv | C51: VEX系列赛项 | D51: VEX IQ风驰电掣 | E51: 初中组 | F51: 附中战队 | G51: 江苏省泰州中学附属初级中学 | H51: 赵俊 | I51: 陈杏泽|乔相宇|金贤宇 | J51: 101.67 | K51: 3 | L51: 二等奖
A52: 15343 | B52: rFc1iad-44-003-41-024-1-Zzu-02-oNF | C52: VEX系列赛项 | D52: VEX IQ风驰电掣 | E52: 初中组 | F52: 猎豹队 | G52: 中山大学附属中学；广州市天河区华实学校；广州市海珠区知信小学 | H52: 刘林|郑林皓 | I52: 许格安|潘沚榆|张立恒 | J52: 95 | K52: 4 | L52: 二等奖
A53: 15352 | B53: rFc1iae-44-003-Cf-024-1-1uB-02-v4H | C53: VEX系列赛项 | D53: VEX IQ风驰电掣 | E53: 初中组 | F53: Vesibay IQ1 | G53: 珠海市斗门区实验中学 | H53: 陈广轩 | I53: 曾张毅|杨炎功|何海华 | J53: 81 | K53: 9 | L53: 二等奖
A54: 13920 | B54: rFc1iaL-44-003-65-024-1-MnK-02-o47 | C54: VEX系列赛项 | D54: VEX IQ风驰电掣 | E54: 初中组 | F54: 东方启明初中队 | G54: 兰州东方学校 | H54: 李承儒|范志坚 | I54: 李潇然|郭力玮|董恒希 | J54: 80.17 | K54: 10 | L54: 二等奖
A55: 15342 | B55: rFc1iac-44-003-eo-024-1-hPu-02-15w | C55: VEX系列赛项 | D55: VEX IQ风驰电掣 | E55: 初中组 | F55: 探索队 | G55: 云师大附属世纪金源学校 | H55: 马思南 | I55: 唐孝宇|陈舜天|尹俊茂|刘冠锦 | J55: 78.33 | K55: 11 | L55: 二等奖
A56: 13787 | B56: rFc1iaz-44-003-n8-024-1-YWN-02-pCf | C56: VEX系列赛项 | D56: VEX IQ风驰电掣 | E56: 初中组 | F56: 77797A | G56: 衢州市青少年宫 | H56: 徐大庆 | I56: 余庚庭|姜彦|余泽勋 | J56: 78.17 | K56: 12 | L56: 二等奖
A57: 14384 | B57: rFc1iXs-44-003-BE-024-1-7cJ-02-8ff | C57: VEX系列赛项 | D57: VEX IQ风驰电掣 | E57: 初中组 | F57: TYSF2 | G57: 森孚科技活动中心 | H57: 王泽耀 | I57: 胡一阳|马韶隆|王梓鉴 | J57: 74 | K57: 13 | L57: 二等奖
A58: 15485 | B58: rFc1iap-44-003-wZ-024-1-GmC-02-0kA | C58: VEX系列赛项 | D58: VEX IQ风驰电掣 | E58: 初中组 | F58: 49145C | G58: 凯里学院附属中学 | H58: 刘毅 | I58: 洪奥博|杨翎|杨舜禹 | J58: 71.17 | K58: 14 | L58: 二等奖
A59: 13646 | B59: rFc1iXj-44-003-XS-024-1-Szq-02-A3U | C59: VEX系列赛项 | D59: VEX IQ风驰电掣 | E59: 初中组 | F59: 星移电掣 | G59: 云南师范大学附属中学 | H59: 蔡胜利 | I59: 刘禹呈|马继良|陈锴晖|仲崇菱 | J59: 68.5 | K59: 15 | L59: 二等奖
A60: 12922 | B60: rFc1iXn-44-003-lN-024-1-fqN-02-lvZ | C60: VEX系列赛项 | D60: VEX IQ风驰电掣 | E60: 初中组 | F60: 创世纪机器人战队 | G60: 昆区中小学综合实践学校 | H60: 唐贵杰|王可燕 | I60: 王雅萱|李英铭|刘宇森|闫艺馨 | J60: 68.17 | K60: 16 | L60: 二等奖
A61: 12970 | B61: rFc1iXm-44-003-b3-024-1-gal-02-Zp3 | C61: VEX系列赛项 | D61: VEX IQ风驰电掣 | E61: 初中组 | F61: 创世纪机器人B战队 | G61: 昆区中小学综合实践学校 | H61: 王宪斌|赵宇飞 | I61: 高梓澈|杨开宇|赵泽翰|张皓程 | J61: 66 | K61: 17 | L61: 三等奖
A62: 13452 | B62: rFc1iaJ-44-003-NF-024-1-kQO-02-Pem | C62: VEX系列赛项 | D62: VEX IQ风驰电掣 | E62: 初中组 | F62: 领越追风少年2队 | G62: 河南师范大学附属中学 | H62: 李鑫|王国军 | I62: 张舒翔|李炳圻 | J62: 63.67 | K62: 18 | L62: 三等奖
... A75: 14448 | B75: rFc1iaq-44-003-dB-024-1-68A-02-rjI | C75: VEX系列赛项 | D75: VEX IQ风驰电掣 | E75: 初中组 | F75: 8990b | G75: 成都市清波小学校 | H75: 赵燕会 | I75: 肖浩宸|徐宇航|罗浩宇 | J75: 44.67 | K75: 31 | L75: 三等奖
A77: 14684 | B77: rFc1iKJ-44-003-zF-025-1-cGh-02-uYd | C77: 'VEX系列赛项' | D77: 'VEX VRC尖峰时刻' | E77: 初中组 | F77: 合肥市安居苑小学 | G77: 合肥市安居苑小学 | H77: 方林 | I77: 陈琪岳|徐辛 | J77: 6-0-0 | K77: 2 | L77: 一等奖(冠军) | M77: 入围总决赛
A78: 15516 | B78: rFc1iSr-44-003-dp-025-1-Fai-02-oUq | C78: 'VEX系列赛项' | D78: 'VEX VRC尖峰时刻' | E78: 初中组 | F78: 北京市第三十五中学A队 | G78: 北京第三十五中学 | H78: 张博雅|赵卿硕 | I78: 朱子墨|朱致睿 | J78: 4-2-0 | K78: 19 | L78: 一等奖(冠军) | M78: 入围总决赛
A79: 15462 | B79: rFc1io2-44-003-qZ-025-1-tnG-02-ltI | C79: 'VEX系列赛项' | D79: 'VEX VRC尖峰时刻' | E79: 初中组 | F79: 2333A | G79: 宁波斑马机器人 | H79: 陈燕|潘锡浩 | I79: 张奕晨|姚力恺|陆一一 | J79: 5-1-0 | K79: 5 | L79: 一等奖(亚军) | M79: 入围总决赛
A80: 12928 | B80: rFc1iop-44-003-sE-025-1-oeQ-02-QDY | C80: 'VEX系列赛项' | D80: 'VEX VRC尖峰时刻' | E80: 初中组 | F80: 合肥市第45中学1队 | G80: 合肥市第45中学 | H80: 尚飞 | I80: 史一凡|王言廷|伏星羽 | J80: 3-3-0 | K80: 18 | L80: 一等奖(亚军) | M80: 入围总决赛
A81: 14667 | B81: rFc1ioH-44-003-0f-025-1-DOX-02-iwz | C81: 'VEX系列赛项' | D81: 'VEX VRC尖峰时刻' | E81: 初中组 | F81: 广东碧桂园学校88109Y队 | G81: 广东碧桂园学校 | H81: 李勇 | I81: 王天毅|王璟龙|高一豪 | J81: 4-2-0 | K81: 4 | L81: 一等奖(季军) | M81: 入围总决赛
A82: 14778 | B82: rFc1iKo-44-003-Ai-025-1-Abx-02-OIB | C82: 'VEX系列赛项' | D82: 'VEX VRC尖峰时刻' | E82: 初中组 | F82: 合肥市第五十中学西校2队 | G82: 合肥市第五十中学西校区 | H82: 陈传军 | I82: 俞昊辰|李明宇|陈鹏宇 | J82: 2-4-0 | K82: 33 | L82: 一等奖(季军) | M82: 入围总决赛
A83: 13310 | B83: rFc1ioO-44-003-eh-025-1-OeC-02-Usm | C83: 'VEX系列赛项' | D83: 'VEX VRC尖峰时刻' | E83: 初中组 | F83: 融侨2队 | G83: 重庆南开（融侨）中学校 | H83: 张志荣 | I83: 蒲昭舟|张垚晰|王钦震|傅钰轩 | J83: 4-2-0 | K83: 9 | L83: 一等奖 | M83: 入围总决赛
A84: 13103 | B84: rFc1io3-44-003-m1-025-1-XbN-02-6gL | C84: 'VEX系列赛项' | D84: 'VEX VRC尖峰时刻' | E84: 初中组 | F84: 合肥市第45中学2队 | G84: 合肥市第45中学 | H84: 尚飞 | I84: 程淑清|肖益 | J84: 6-0-0 | K84: 1 | L84: 二等奖
A85: 12656 | B85: rFc1ioV-44-003-VV-025-1-ByO-02-8TO | C85: 'VEX系列赛项' | D85: 'VEX VRC尖峰时刻' | E85: 初中组 | F85: 铠尔星河湾队 | G85: 上海市星河湾双语学校 | H85: 吴方强 | I85: 付祐禅|鄢子绚 | J85: 5-1-0 | K85: 3 | L85: 二等奖
A86: 14747 | B86: rFc1iK6-44-003-OD-025-1-pPU-02-xKO | C86: 'VEX系列赛项' | D86: 'VEX VRC尖峰时刻' | E86: 初中组 | F86: 合肥市第五十中学西校1队 | G86: 合肥市第五十中学西校区 | H86: 陈传军 | I86: 杨智翔|吴子猷 | J86: 4-2-0 | K86: 6 | L86: 二等奖
A87: 14792 | B87: rFc1iSs-44-003-YN-025-1-QY8-02-q7W | C87: 'VEX系列赛项' | D87: 'VEX VRC尖峰时刻' | E87: 初中组 | F87: 北京市中关村第三小学B队 | G87: 北京市中关村第三小学 | H87: 安绍辉|陶谦 | I87: 蔡明轩|蔡雨轩|丁艮行 | J87: 5-1-0 | K87: 7 | L87: 二等奖
A88: 15138 | B88: rFc1iKn-44-003-A6-025-1-xeO-02-Prm | C88: 'VEX系列赛项' | D88: 'VEX VRC尖峰时刻' | E88: 初中组 | F88: SHSF1 | G88: 上海森孚机器人教育 | H88: 李宇驰 | I88: 宋钊涵|徐权方|张子骞|师浩田 | J88: 4-2-0 | K88: 8 | L88: 二等奖
A89: 13995 | B89: rFc1iKz-44-003-CM-025-1-WG9-02-PQD | C89: 'VEX系列赛项' | D89: 'VEX VRC尖峰时刻' | E89: 初中组 | F89: 1573A | G89: 泸州市实验小学城西学校 | H89: 李德平|杨玉梅 | I89: 傅筠雅|冯晙霄|程浩瑜|梁雅棠|屈敬杰|冯诗然 | J89: 4-2-0 | K89: 10 | L89: 二等奖
A90: 13032 | B90: rFc1io9-44-003-fS-025-1-ZTn-02-TVc | C90: 'VEX系列赛项' | D90: 'VEX VRC尖峰时刻' | E90: 初中组 | F90: Ether Stakes | G90: 温州市第二实验中学 | H90: 朱迪 | I90: 陈奕恒|袁世凌 | J90: 4-2-0 | K90: 11 | L90: 二等奖
A91: 15538 | B91: rFc1iSk-44-003-y8-025-1-kW7-02-3zx | C91: 'VEX系列赛项' | D91: 'VEX VRC尖峰时刻' | E91: 初中组 | F91: 北京大学附属中学A队 | G91: 北京大学附属中学 | H91: 段建行 | I91: 黄毓晟|刘茗仁 | J91: 4-2-0 | K91: 12 | L91: 二等奖
A92: 15270 | B92: rFc1ioQ-44-003-jZ-025-1-9JR-02-v04 | C92: 'VEX系列赛项' | D92: 'VEX VRC尖峰时刻' | E92: 初中组 | F92: 88588A | G92: 余姚市青少年宫 | H92: 刘鑫 | I92: 叶凯凯|任哲雨|徐昊泽 | J92: 4-2-0 | K92: 13 | L92: 二等奖
A93: 15417 | B93: 2B8h6yfu-44-003-gE-025-1-4Pp-02-ERF | C93: 'VEX系列赛项' | D93: 'VEX VRC尖峰时刻' | E93: 初中组 | F93: 未来工程师 | G93: 深圳市南山区荟同学校 | H93: 李萌 | I93: 熊若言|周铂林|莫梓浚|山雨轩|李泽麒 | J93: 3-3-0 | K93: 14 | L93: 二等奖
A94: 16486 | B94: 2B8h6yfj-44-003-fV-025-1-jnF-02-ljn | C94: 'VEX系列赛项' | D94: 'VEX VRC尖峰时刻' | E94: 初中组 | F94: 大同初级/铁岭联队 | G94: 上海市大同初级中学、上海市铁岭中学 | H94: 陈观美 | I94: 周峰毅|蒋哲聿 | J94: 4-2-0 | K94: 15 | L94: 二等奖
A95: 15336 | B95: 2B8h6yfn-44-003-pg-025-1-wbB-02-r4q | C95: 'VEX系列赛项' | D95: 'VEX VRC尖峰时刻' | E95: 初中组 | F95: 名联1 | G95: 重庆市名校联合中学校 | H95: 陈健 | I95: 王子懿|徐泓轩|叶洪玮 | J95: 3-3-0 | K95: 16 | L95: 二等奖
... A120: 12986 | B120: rFc1iom-44-003-9i-025-1-LX4-02-EFZ | C120: 'VEX系列赛项' | D120: 'VEX VRC尖峰时刻' | E120: 初中组 | F120: 兰州市城关区耿家庄小学战队 | G120: 兰州市城关区耿家庄小学 | H120: 张丽兰 | I120: 赵翊涵|张康雨|李雨桐|张浩然 | J120: 0-6-0 | K120: 44 | L120: 三等奖
A122: 14352 | B122: rFc1iKs-44-003-Ej-025-1-SHF-03-RWs | C122: 'VEX系列赛项' | D122: 'VEX VRC尖峰时刻' | E122: 高中组 | F122: TYSF7 | G122: 森孚科技活动中心 | H122: 李宇驰 | I122: 张喆文|刘家琦|常孝萌 | J122: 4 | K122: 5-1-0 | L122: 一等奖(冠军) | M122: 入围总决赛
A123: 14029 | B123: rFc1i9c-44-003-m5-025-1-cbA-03-X7i | C123: 'VEX系列赛项' | D123: 'VEX VRC尖峰时刻' | E123: 高中组 | F123: 汤中VEX战队 | G123: 芜湖市汤沟中学 | H123: 汪军|王路路 | I123: 芮瑞|高仕博 | J123: 5 | K123: 4-2-0 | L123: 一等奖(冠军) | M123: 入围总决赛
A124: 15432 | B124: rFc1iK3-44-003-xP-025-1-vDa-03-JyE | C124: 'VEX系列赛项' | D124: 'VEX VRC尖峰时刻' | E124: 高中组 | F124: 2333B | G124: 宁波斑马机器人 | H124: 潘锡浩 | I124: 顾高齐 | J124: 1 | K124: 6-0-0 | L124: 一等奖(亚军) | M124: 入围总决赛
A125: 14311 | B125: rFc1i9q-44-003-Fl-025-1-Okq-03-MPG | C125: 'VEX系列赛项' | D125: 'VEX VRC尖峰时刻' | E125: 高中组 | F125: 博阳豪毅VEX联盟 | G125: 芜湖市镜湖区青少年科技活动中心 | H125: 王俊 | I125: 薛明博|时欣阳|韦子豪|刘弘毅 | J125: 3 | K125: 4-1-1 | L125: 一等奖(亚军) | M125: 入围总决赛
A126: 12932 | B126: rFc1i9S-44-003-CV-025-1-clm-03-8uG | C126: 'VEX系列赛项' | D126: 'VEX VRC尖峰时刻' | E126: 高中组 | F126: 双十中学-英才中学联队 | G126: 福建省厦门双十中学 | H126: 葛雨晴|王雪妍 | I126: 汤其睿|谢沛祺 | J126: 2 | K126: 5-1-0 | L126: 一等奖(季军) | M126: 入围总决赛
A127: 12606 | B127: rFc1i9U-44-003-9J-025-1-l8t-03-Kz0 | C127: 'VEX系列赛项' | D127: 'VEX VRC尖峰时刻' | E127: 高中组 | F127: 18618B | G127: 温附瓦市学校联队 | H127: 石义|彭惠慧 | I127: 杜笙睿|叶镇豪|林元琛 | J127: 7 | K127: 2-4-0 | L127: 一等奖(季军) | M127: 入围总决赛
A128: 14698 | B128: rFc1i90-44-003-9I-025-1-KOK-03-jjN | C128: 'VEX系列赛项' | D128: 'VEX VRC尖峰时刻' | E128: 高中组 | F128: 令核2 | G128: 昆明市第三中学 | H128: 杨肖霞 | I128: 张继文|胡嘉文|王宇弌|张婷 | J128: 6 | K128: 3-3-0 | L128: 三等奖
A129: 15734 | B129: rFc1i9R-44-003-BD-025-1-eu2-03-Dhz | C129: 'VEX系列赛项' | D129: 'VEX VRC尖峰时刻' | E129: 高中组 | F129: 广东碧桂园学校88109A | G129: 广东碧桂园学校 | H129: 李勇 | I129: 招达弘|刘枳辰|刘星宇 | J129: 8 | K129: 3-3-0 | L129: 三等奖
A130: 14588 | B130: rFc1i9N-44-003-ya-025-1-Igq-03-0xL | C130: 'VEX系列赛项' | D130: 'VEX VRC尖峰时刻' | E130: 高中组 | F130: 令核1 | G130: 昆明市第三中学 | H130: 杨肖霞 | I130: 李璨|蔡佳宇|陈子梵|乐语欣 | J130: 9 | K130: 1-5-0 | L130: 三等奖
A131: 12759 | B131: rFc1i9w-44-003-yk-025-1-6wu-03-Wa2 | C131: 'VEX系列赛项' | D131: 'VEX VRC尖峰时刻' | E131: 高中组 | F131: 18618A | G131: 育英二十一中联队 | H131: 陈学军|刘静洁 | I131: 王佑米|王卓麒 | J131: 10 | K131: 0-6-0 | L131: 三等奖
A132: 13828 | B132: rFc1i9z-44-003-3J-025-1-Cnp-03-mgJ | C132: 'VEX系列赛项' | D132: 'VEX VRC尖峰时刻' | E132: 高中组 | F132: 33003D | G132: 温州市鹿城区第十二中学 | H132: 邹君 | I132: 林珍成 | J132: 11 | K132: 0-6-0 | L132: 三等奖
A134: 12789 | B134: rFc1iM4-44-003-G0-023-1-DQN-01-76E | C134: VEX系列赛项 | D134: VEX GO城市建设 | E134: 小学组 | F134: 塞尔达队 | G134: 昆明市西山区春苑小学 | H134: 官文语 | I134: 刘兆吉|李欣汶 | J134: 10.75 | K134: 1 | L134: 一等奖(冠军) | M134: 入围总决赛
A135: 15216 | B135: rFc1iMT-44-003-Pm-023-1-xtT-01-dnA | C135: VEX系列赛项 | D135: VEX GO城市建设 | E135: 小学组 | F135: 海珠三小/新元小学联队 | G135: 广州市海珠区第三实验小学 | H135: 苏宇锴 | I135: 吴李霖|苏钲祺 | J135: 10.5 | K135: 2 | L135: 一等奖(冠军) | M135: 入围总决赛
A136: 13662 | B136: rFc1iMt-44-003-rR-023-1-Uk1-01-qF9 | C136: VEX系列赛项 | D136: VEX GO城市建设 | E136: 小学组 | F136: 广州市白云区少年宫 | G136: 广州市白云区少年宫 | H136: 李红宁|陈嘉慧 | I136: 尚子杰|蓝蔚|张柏睿 | J136: 9 | K136: 7 | L136: 一等奖(亚军) | M136: 入围总决赛
A137: 12827 | B137: rFc1iMU-44-003-H0-023-1-NOS-01-RCj | C137: VEX系列赛项 | D137: VEX GO城市建设 | E137: 小学组 | F137: 光速队 | G137: 昆明市五华区韶山小学、昆明理工大学附属小学 | H137: 隆奇 | I137: 杨翰松|王嘉杞 | J137: 9 | K137: 8 | L137: 一等奖(亚军) | M137: 入围总决赛
A138: 15709 | B138: rFc1ixA-44-003-7C-023-1-OoX-01-m5s | C138: VEX系列赛项 | D138: VEX GO城市建设 | E138: 小学组 | F138: 小北 庄佳好 横沙 李梓睿 | G138: 广州市越秀区小北路小学 | H138: 范皖豫 | I138: 庄佳好|李梓睿 | J138: 9.5 | K138: 5 | L138: 一等奖(季军) | M138: 入围总决赛
A139: 15561 | B139: rFc1ixD-44-003-J2-023-1-O6r-01-HbZ | C139: VEX系列赛项 | D139: VEX GO城市建设 | E139: 小学组 | F139: 飞驰雪碧队 | G139: 昆明理工大学附属小学&金康园小学 | H139: 李静 | I139: 杨子琦|吕梓睿 | J139: 9.25 | K139: 6 | L139: 一等奖(季军) | M139: 入围总决赛
A140: 15662 | B140: rFc1ix7-44-003-E0-023-1-lMw-01-ptM | C140: VEX系列赛项 | D140: VEX GO城市建设 | E140: 小学组 | F140: 铁一 阳佳诺 天一 杨博乔 | G140: 广州市越秀区铁一小学 | H140: 钟智鸿 | I140: 杨博乔|阳佳诺 | J140: 10.25 | K140: 3 | L140: 二等奖
A141: 15577 | B141: rFc1ixU-44-003-Mo-023-1-eBj-01-VG7 | C141: VEX系列赛项 | D141: VEX GO城市建设 | E141: 小学组 | F141: KL木林森战队 | G141: 深圳市南山实验教育集团白石洲学校 | H141: 钟嘉裕 | I141: 马子穆|吴宇森 | J141: 10 | K141: 4 | L141: 二等奖
A142: 15723 | B142: rFc1iJf-44-003-uC-023-1-lLv-01-m9Z | C142: VEX系列赛项 | D142: VEX GO城市建设 | E142: 小学组 | F142: 北市区GO6队 | G142: 云才文翰学校 | H142: 窦国伟 | I142: 张淳翕|江俊昱|张佳睿|何昕宸 | J142: 9 | K142: 9 | L142: 二等奖
A143: 13730 | B143: rFc1iMy-44-003-bp-023-1-kIi-01-ISm | C143: VEX系列赛项 | D143: VEX GO城市建设 | E143: 小学组 | F143: 广州市番禺区星海青少年宫 | G143: 广州市番禺区星海青少年宫 | H143: 李强|莫菲 | I143: 赵泊淳|张铭俊|李承远 | J143: 8.75 | K143: 10 | L143: 二等奖
A144: 15690 | B144: rFc1iJ4-44-003-9p-023-1-pVO-01-hO4 | C144: VEX系列赛项 | D144: VEX GO城市建设 | E144: 小学组 | F144: 北市区GO3队 | G144: 昆明市五华区红旗小学教育集团德润校区 | H144: 陈军平 | I144: 钱宁|曾维国|陈铭泽|李柯颉 | J144: 8 | K144: 11 | L144: 二等奖
A145: 15699 | B145: rFc1iJz-44-003-av-023-1-tGX-01-gI3 | C145: VEX系列赛项 | D145: VEX GO城市建设 | E145: 小学组 | F145: 北市区GO4队 | G145: 昆明市五华区韶山小学/云南师大附小金安校区 | H145: 陈军平 | I145: 姚琪轩|孙劭予|李沛林|包嘉明 | J145: 7.75 | K145: 12 | L145: 二等奖
A146: 15228 | B146: rFc1ixa-44-003-ei-023-1-79d-01-Rq8 | C146: VEX系列赛项 | D146: VEX GO城市建设 | E146: 小学组 | F146: 星际超越队—2966C | G146: 云南师范大学附属小学樱花语学校 | H146: 田岭艳 | I146: 姚皓天|何岩浩轩|杨雨航 | J146: 7.75 | K146: 13 | L146: 二等奖
A147: 15444 | B147: rFc1iJA-44-003-J0-023-1-6Ra-01-8Kc | C147: VEX系列赛项 | D147: VEX GO城市建设 | E147: 小学组 | F147: 闪电启程队 | G147: 昆明市五华区红云小学、昆明市五华区文林小学 | H147: 隆奇 | I147: 张钧皓|黄陈梓霖 | J147: 7.75 | K147: 14 | L147: 二等奖
A148: 14249 | B148: rFc1iMa-44-003-xY-023-1-DFh-01-4JQ | C148: VEX系列赛项 | D148: VEX GO城市建设 | E148: 小学组 | F148: 超星队 | G148: 广州市黄埔区青少年宫 | H148: 申太贵 | I148: 郑皓轩|唐钰 | J148: 7.5 | K148: 15 | L148: 二等奖
A149: 15707 | B149: rFc1iJV-44-003-Z0-023-1-BRO-01-mjA | C149: VEX系列赛项 | D149: VEX GO城市建设 | E149: 小学组 | F149: 北市区GO5队 | G149: 武成小学国福校区/滇池旅游度假区第二小学 | H149: 窦国伟 | I149: 张陶嘉|杨子毅|许杨坤|张彧文轩 | J149: 7.25 | K149: 16 | L149: 三等奖
A150: 15276 | B150: rFc1iMk-44-003-Pz-023-1-PKs-01-2Os | C150: VEX系列赛项 | D150: VEX GO城市建设 | E150: 小学组 | F150: 合胜 | G150: 兰州市西固区合水路小学 | H150: 王天信 | I150: 邢芝瑶|杨文博|张永泽 | J150: 7 | K150: 17 | L150: 三等奖
A151: 13708 | B151: rFc1iMK-44-003-wb-023-1-jrD-01-IOo | C151: VEX系列赛项 | D151: VEX GO城市建设 | E151: 小学组 | F151: 广州市白云区素质教育管理中心 | G151: 广州市白云区素质教育管理中心 | H151: 李红宁|陈嘉慧 | I151: 林睿辰|郭荣轩 | J151: 7 | K151: 18 | L151: 三等奖
... A162: 12896 | B162: rFc1iM0-44-003-kC-023-1-NVO-01-XZE | C162: VEX系列赛项 | D162: VEX GO城市建设 | E162: 小学组 | F162: 银河护卫队—2966A | G162: 云南师范大学附属小学樱花语校区 | H162: 田岭艳 | I162: 涂哲|冯艺佳|林昕尔 | J162: 3.5 | K162: 29 | L162: 三等奖

Sheet ENJOY AI系列赛项
A1: 2024世界机器人大赛昆明锦标赛-青少年机器人设计大赛-ENJOY AI系列赛项获奖名单
A2: 报名编号 | B2: 激活码 | C2: 赛道 | D2: 赛项 | E2: 组别 | F2: 队伍名称 | G2: 申报单位 | H2: 教练信息 | I2: 学生信息 | J2: 比赛分数 | K2: 比赛用时 | L2: 成绩排名 | M2: 奖项 | N2: 备注
A3: 14397 | B3: rFc1Xqj-44-012-90-015-1-OON-01-Kwm | C3: ENJOY AI系列赛项' | D3: 'ENJOY AI飞跃太空' | E3: 小学组 | F3: X-源码无人机2队 | G3: 宝鸡高新第三小学 宝鸡市三迪小学 | H3: 贾鹏 | I3: 郑龙沛|梁宸玮 | J3: 830 | K3: 183 | L3: 第1名 | M3: 一等奖(冠军) | N3: 入围总决赛
A4: 12852 | B4: rFc1X5E-44-012-YT-015-1-Bfc-01-iIn | C4: 'ENJOY AI系列赛项' | D4: 'ENJOY AI飞跃太空' | E4: 小学组 | F4: 梓溪飞翔队 | G4: 泸州市梓橦路小学渔子溪学校 | H4: 邓辉 | I4: 税与杨|包祥蕊 | J4: 800 | K4: 316 | L4: 第2名 | M4: 一等奖(亚军) | N4: 入围总决赛
A5: 9913 | B5: rFc1Xqe-44-012-yK-015-1-zcI-01-9ym | C5: 'ENJOY AI系列赛项' | D5: 'ENJOY AI飞跃太空' | E5: 小学组 | F5: 陕西省西安小学I无人机1队 | G5: 陕西省西安小学 | H5: 田丰 | I5: 金宥丞 | J5: 540 | K5: 311 | L5: 第3名 | M5: 一等奖(季军) | N5: 入围总决赛
A6: 12725 | B6: rFc1X5r-44-012-dT-015-1-ClW-01-wZR | C6: 'ENJOY AI系列赛项' | D6: 'ENJOY AI飞跃太空' | E6: 小学组 | F6: 泸州市大北街小学校 | G6: 泸州市大北街小学校 | H6: 官剑锋 | I6: 上官骏毅|郭以睿 | J6: 420 | K6: 336 | L6: 第4名 | M6: 二等奖
A7: 9926 | B7: rFc1X5U-44-012-4O-015-1-bG2-01-dyk | C7: 'ENJOY AI系列赛项' | D7: 'ENJOY AI飞跃太空' | E7: 小学组 | F7: 壶山小学3队 | G7: 武义县壶山小学 | H7: 刘庆红 | I7: 范宏宇|邵晗心培 | J7: 400 | K7: 255 | L7: 第5名 | M7: 二等奖
A8: 14413 | B8: rFc1XqQ-44-012-rH-015-1-jhK-01-XYN | C8: 'ENJOY AI系列赛项' | D8: 'ENJOY AI飞跃太空' | E8: 小学组 | F8: X-源码无人机8队 | G8: 宝鸡高新第三小学 宝鸡市金台区东仁堡小学 | H8: 贾鹏 | I8: 马菡悦|马彦辰 | J8: 380 | K8: 338 | L8: 第6名 | M8: 二等奖
A9: 14610 | B9: rFc1X5g-44-012-LA-015-1-XFw-01-Lpr | C9: 'ENJOY AI系列赛项' | D9: 'ENJOY AI飞跃太空' | E9: 小学组 | F9: 蠡小1队 | G9: 苏州市相城区蠡口实验小学 | H9: 查春 | I9: 王盺睿|张奕辰 | J9: 370 | K9: 352 | L9: 第7名 | M9: 二等奖
A10: 9408 | B10: rFc1X5w-44-012-0s-015-1-I9t-01-LFA | C10: 'ENJOY AI系列赛项' | D10: 'ENJOY AI飞跃太空' | E10: 小学组 | F10: 武义实验小学队 | G10: 浙江省武义县实验小学 | H10: 袁兆名 | I10: 管一铭|孙嘉轩 | J10: 350 | K10: 222 | L10: 第8名 | M10: 二等奖
A11: 9939 | B11: rFc1X5v-44-012-4N-015-1-a4M-01-VvW | C11: 'ENJOY AI系列赛项' | D11: 'ENJOY AI飞跃太空' | E11: 小学组 | F11: 陕西省西安小学无人机2队 | G11: 陕西省西安小学 | H11: 田丰 | I11: 曹珈语 | J11: 350 | K11: 345 | L11: 第9名 | M11: 二等奖
A12: 9949 | B12: rFc1X5P-44-012-ob-015-1-Yf8-01-q03 | C12: 'ENJOY AI系列赛项' | D12: 'ENJOY AI飞跃太空' | E12: 小学组 | F12: 陕西省西安小学无人机3队 | G12: 陕西省西安小学 | H12: 浦佳 | I12: 周苳语 | J12: 320 | K12: 284 | L12: 第10名 | M12: 二等奖
A13: 15366 | B13: rFc1X5a-44-012-De-015-1-AvY-01-N7x | C13: 'ENJOY AI系列赛项' | D13: 'ENJOY AI飞跃太空' | E13: 小学组 | F13: 蠡小2队 | G13: 苏州市相城区蠡口实验小学 | H13: 查春 | I13: 张语焱|徐易臻 | J13: 310 | K13: 360 | L13: 第11名 | M13: 二等奖
A14: 9929 | B14: rFc1X5q-44-012-XU-015-1-2tV-01-ZOG | C14: 'ENJOY AI系列赛项' | D14: 'ENJOY AI飞跃太空' | E14: 小学组 | F14: 壶山小学6队 | G14: 武义县壶山小学 | H14: 张淑英 | I14: 高翊展|朱轩毅 | J14: 300 | K14: 254 | L14: 第12名 | M14: 三等奖
A15: 12846 | B15: rFc1Xt7-44-012-Ns-015-1-jgT-01-ag9 | C15: 'ENJOY AI系列赛项' | D15: 'ENJOY AI飞跃太空' | E15: 小学组 | F15: 光影队 | G15: 陕西省西安市实验小学 西安市曲江第一小学 | H15: 魏鑫 | I15: 周圣哲|屈子舜 | J15: 290 | K15: 267 | L15: 第13名 | M15: 三等奖
A16: 13364 | B16: rFc1X5C-44-012-JN-015-1-yQ0-01-o3e | C16: 'ENJOY AI系列赛项' | D16: 'ENJOY AI飞跃太空' | E16: 小学组 | F16: 空天1号 | G16: 昆明市盘龙区青少年活动中心 | H16: 应吉 | I16: 宋伊一|庄沛儒 | J16: 270 | K16: 271 | L16: 第14名 | M16: 三等奖
A17: 9936 | B17: rFc1X5t-44-012-gZ-015-1-FgU-01-sDj | C17: 'ENJOY AI系列赛项' | D17: 'ENJOY AI飞跃太空' | E17: 小学组 | F17: 壶山小学5队 | G17: 武义县壶山小学 | H17: 高海轩 | I17: 鲍垚丞 | J17: 260 | K17: 176 | L17: 第15名 | M17: 三等奖
... A24: 13374 | B24: rFc1X5T-44-012-MM-015-1-Vlm-01-jOS | C24: 'ENJOY AI系列赛项' | D24: 'ENJOY AI飞跃太空' | E24: 小学组 | F24: 空天3号 | G24: 昆明市盘龙区青少年活动中心 | H24: 应吉 | I24: 李宣霖|刘书妤 | J24: 80 | K24: 360 | L24: 第22名 | M24: 三等奖
A26: 14855 | B26: rFc1X4u-44-012-ws-013-1-0As-02-luD | C26: 'ENJOY AI系列赛项' | D26: 'ENJOY AI运动会闭幕式' | E26: 初中组 | F26: 巢湖市第七中学 第三中学1队 | G26: 巢湖市第七中学 巢湖市第三中学 | H26: 丁同丽 | I26: 张宇轩|龙辰宇 | J26: 1010 | K26: 285 | L26: 第1名 | M26: 一等奖(冠军) | N26: 入围总决赛
A27: 11246 | B27: rFc1XyO-44-012-GH-013-1-dgH-02-Nu6 | C27: 'ENJOY AI系列赛项' | D27: 'ENJOY AI运动会闭幕式' | E27: 初中组 | F27: 科达随便三队 | G27: 南安市鹏峰中学 | H27: 陈千金 | I27: 王丰年 | J27: 1000 | K27: 293 | L27: 第2名 | M27: 一等奖(亚军) | N27: 入围总决赛
A28: 14896 | B28: rFc1X41-44-012-j8-013-1-snc-02-AdX | C28: 'ENJOY AI系列赛项' | D28: 'ENJOY AI运动会闭幕式' | E28: 初中组 | F28: 巢湖市第七中学1队 | G28: 巢湖市第七中学 | H28: 丁同丽 | I28: 王秉骁|刁子康 | J28: 900 | K28: 277 | L28: 第3名 | M28: 一等奖(季军) | N28: 入围总决赛
A29: 14061 | B29: rFc1XUT-44-012-rA-013-1-dcw-02-APm | C29: 'ENJOY AI系列赛项' | D29: 'ENJOY AI运动会闭幕式' | E29: 初中组 | F29: 科达随便四队 | G29: 南安市鹏峰中学 | H29: 黄婷婷 | I29: 李佳鸿 | J29: 880 | K29: 294 | L29: 第4名 | M29: 一等奖 | N29: 入围总决赛
A30: 11274 | B30: rFc1XyS-44-012-qH-013-1-81f-02-GSC | C30: 'ENJOY AI系列赛项' | D30: 'ENJOY AI运动会闭幕式' | E30: 初中组 | F30: 科达随便一队 | G30: 南安市实验中学 | H30: 黄天虎 | I30: 王劲成 | J30: 780 | K30: 294 | L30: 第5名 | M30: 一等奖 | N30: 入围总决赛
A31: 12067 | B31: rFc1Xyt-44-012-dK-013-1-V6j-02-Hbq | C31: 'ENJOY AI系列赛项' | D31: 'ENJOY AI运动会闭幕式' | E31: 初中组 | F31: 云轩队 | G31: 东北师范大学附属中学新城学校 | H31: 姜宏伟 | I31: 尚哲轩|李云泽 | J31: 700 | K31: 285 | L31: 第6名 | M31: 二等奖
A32: 13366 | B32: rFc1XUK-44-012-Tv-013-1-w2i-02-nA1 | C32: 'ENJOY AI系列赛项' | D32: 'ENJOY AI运动会闭幕式' | E32: 初中组 | F32: 包头市昆区包钢三中2403 | G32: 包头市昆都仑区意晨编程培训学校 | H32: 李航宇 | I32: 袁柏航|李明坤 | J32: 670 | K32: 258 | L32: 第7名 | M32: 二等奖
A33: 13393 | B33: rFc1XUp-44-012-8C-013-1-38O-02-kJM | C33: 'ENJOY AI系列赛项' | D33: 'ENJOY AI运动会闭幕式' | E33: 初中组 | F33: 包头市昆区第三十五中学2405 | G33: 包头市昆都仑区意晨编程培训学校 | H33: 潘昭刚 | I33: 董金豪|张轶然 | J33: 620 | K33: 300 | L33: 第8名 | M33: 二等奖
A34: 12172 | B34: rFc1Xym-44-012-9L-013-1-V2G-02-GME | C34: 'ENJOY AI系列赛项' | D34: 'ENJOY AI运动会闭幕式' | E34: 初中组 | F34: 机械公敌八队 | G34: 广西贵港市荷城第三初级中学 | H34: 韦炳宇 | I34: 覃国钧|罗蒙帝成 | J34: 610 | K34: 272 | L34: 第9名 | M34: 二等奖
A35: 11419 | B35: rFc1XyQ-44-012-kR-013-1-vl9-02-Ut7 | C35: 'ENJOY AI系列赛项' | D35: 'ENJOY AI运动会闭幕式' | E35: 初中组 | F35: 鲸创009 | G35: 郑州市郑东新区外国语学校 郑州市勤礼外语中学 | H35: 董元元 | I35: 刘灏轩|刘一霏 | J35: 570 | K35: 298 | L35: 第10名 | M35: 二等奖
A36: 12134 | B36: rFc1XyR-44-012-Fr-013-1-Gz6-02-vYF | C36: 'ENJOY AI系列赛项' | D36: 'ENJOY AI运动会闭幕式' | E36: 初中组 | F36: 机械公敌六队 | G36: 南宁市银海三雅学校 | H36: 陈前日 | I36: 欧峻安|周尊睿 | J36: 550 | K36: 251 | L36: 第11名 | M36: 二等奖
A37: 12189 | B37: rFc1Xyd-44-012-Ok-013-1-FWo-02-kpf | C37: 'ENJOY AI系列赛项' | D37: 'ENJOY AI运动会闭幕式' | E37: 初中组 | F37: 机械公敌五队 | G37: 广西柳州市第三十五中学 | H37: 刘莹 | I37: 廖崇杰|李佳恒 | J37: 550 | K37: 254 | L37: 第12名 | M37: 二等奖
A38: 13425 | B38: rFc1XUO-44-012-bf-013-1-0TE-02-fhW | C38: 'ENJOY AI系列赛项' | D38: 'ENJOY AI运动会闭幕式' | E38: 初中组 | F38: 包头市昆区第三十五中学2407 | G38: 包头市昆都仑区意晨编程培训学校 | H38: 李航宇 | I38: 孙昊远|安泽恺 | J38: 510 | K38: 272 | L38: 第13名 | M38: 二等奖
A39: 11294 | B39: rFc1Xy9-44-012-vY-013-1-HJO-02-GzY | C39: 'ENJOY AI系列赛项' | D39: 'ENJOY AI运动会闭幕式' | E39: 初中组 | F39: 科达随便二队 | G39: 南安市实验中学 | H39: 黄天虎 | I39: 杨俊铭 | J39: 500 | K39: 277 | L39: 第14名 | M39: 二等奖
A40: 14292 | B40: rFc1Xyc-44-012-sE-013-1-EIf-02-NFf | C40: 'ENJOY AI系列赛项' | D40: 'ENJOY AI运动会闭幕式' | E40: 初中组 | F40: 辰然队 | G40: 东北师范大学附属中学新城学校 | H40: 姜宏伟 | I40: 刘法辰|李星然 | J40: 500 | K40: 292 | L40: 第15名 | M40: 二等奖
A41: 13830 | B41: rFc1XUI-44-012-DY-013-1-gK0-02-v2p | C41: 'ENJOY AI系列赛项' | D41: 'ENJOY AI运动会闭幕式' | E41: 初中组 | F41: 白塔3队 | G41: 昆明市盘龙区白塔初级中学 | H41: 金晶 | I41: 郭铭谦|海庭睿 | J41: 480 | K41: 300 | L41: 第16名 | M41: 二等奖
A42: 15027 | B42: rFc1XUV-44-012-MM-013-1-tZX-02-tZw | C42: 'ENJOY AI系列赛项' | D42: 'ENJOY AI运动会闭幕式' | E42: 初中组 | F42: 一实验张金宝 | G42: 济南高新区第一实验学校 | H42: 卞春燕 | I42: 张金宝 | J42: 470 | K42: 276 | L42: 第17名 | M42: 二等奖
... A61: 14854 | B61: rFc1Xy7-44-012-5W-013-1-yx8-02-UhO | C61: 'ENJOY AI系列赛项' | D61: 'ENJOY AI运动会闭幕式' | E61: 初中组 | F61: 拏云一中队 | G61: 珠海市实验中学 | H61: 李琦 | I61: 李续|郭书豪 | J61: 40 | K61: 221 | L61: 第36名 | M61: 三等奖
A63: 11937 | B63: rFc1X7d-44-012-gZ-013-1-rEq-01-Vyj | C63: 'ENJOY AI系列赛项' | D63: 'ENJOY AI运动会闭幕式' | E63: 小学A组 | F63: 时代树一队 | G63: 昆明市呈贡区时代树教育培训学校 | H63: 冯涛 | I63: 吴卓轩|沈彦诺 | J63: 700 | K63: 285 | L63: 第1名 | M63: 一等奖(冠军) | N63: 入围总决赛
A64: 11450 | B64: rFc1XZy-44-012-A3-013-1-OLG-01-IM2 | C64: 'ENJOY AI系列赛项' | D64: 'ENJOY AI运动会闭幕式' | E64: 小学A组 | F64: 龙吟队 | G64: 重庆教科院巴蜀学校 | H64: 田玲娜 | I64: 冯梓豪|苗一然 | J64: 700 | K64: 287 | L64: 第2名 | M64: 一等奖(亚军) | N64: 入围总决赛
A65: 14165 | B65: rFc1XzQ-44-012-WV-013-1-4OV-01-nOo | C65: 'ENJOY AI系列赛项' | D65: 'ENJOY AI运动会闭幕式' | E65: 小学A组 | F65: 轩瑜队 | G65: 东北师范大学附属中学新城学校 | H65: 姜宏伟 | I65: 刘皓轩|龙耔瑜 | J65: 670 | K65: 276 | L65: 第3名 | M65: 一等奖(季军) | N65: 入围总决赛
A66: 14260 | B66: rFc1Xzr-44-012-zO-013-1-RJd-01-pyd | C66: 'ENJOY AI系列赛项' | D66: 'ENJOY AI运动会闭幕式' | E66: 小学A组 | F66: 思旭队 | G66: 东北师范大学附属中学新城学校 | H66: 姜宏伟 | I66: 陈思淇|刘冉旭 | J66: 650 | K66: 291 | L66: 第4名 | M66: 一等奖 | N66: 入围总决赛
A67: 12291 | B67: rFc1XzC-44-012-au-013-1-ORj-01-CNq | C67: 'ENJOY AI系列赛项' | D67: 'ENJOY AI运动会闭幕式' | E67: 小学A组 | F67: 喻翔队 | G67: 东北师范大学附属中学新城学校 | H67: 姜宏伟 | I67: 赵子喻|王奕翔 | J67: 640 | K67: 295 | L67: 第5名 | M67: 二等奖
A68: 14133 | B68: rFc1XzT-44-012-iO-013-1-GOE-01-Gjb | C68: 'ENJOY AI系列赛项' | D68: 'ENJOY AI运动会闭幕式' | E68: 小学A组 | F68: 毅瑞队 | G68: 东北师范大学附属中学新城学校 | H68: 姜宏伟 | I68: 赵望瑞|王毅诚 | J68: 620 | K68: 275 | L68: 第6名 | M68: 二等奖
A69: 14456 | B69: rFc1XzD-44-012-gM-013-1-RNm-01-Hdq | C69: 'ENJOY AI系列赛项' | D69: 'ENJOY AI运动会闭幕式' | E69: 小学A组 | F69: 朔涵队 | G69: 东北师范大学附属中学新城学校 | H69: 姜宏伟 | I69: 闫泽一|甄庆涵 | J69: 620 | K69: 286 | L69: 第7名 | M69: 二等奖
A70: 14457 | B70: rFc1Xzs-44-012-Wy-013-1-iMM-01-d8C | C70: ENJOY AI系列赛项' | D70: 'ENJOY AI运动会闭幕式' | E70: 小学A组 | F70: 金科1队 | G70: 重庆市南岸区南坪实验金科小学校 | H70: 王文旭 | I70: 赵慕宸|张家豪 | J70: 570 | K70: 294 | L70: 第8名 | M70: 二等奖
A71: 11414 | B71: rFc1XZV-44-012-Qd-013-1-6CG-01-sAD | C71: 'ENJOY AI系列赛项' | D71: 'ENJOY AI运动会闭幕式' | E71: 小学A组 | F71: 峰神队 | G71: 重庆教科院巴蜀学校 | H71: 田玲娜 | I71: 何宸佑|骆明宇 | J71: 560 | K71: 292 | L71: 第9名 | M71: 二等奖
A72: 11270 | B72: rFc1XZM-44-012-2H-013-1-IT1-01-yZH | C72: 'ENJOY AI系列赛项' | D72: 'ENJOY AI运动会闭幕式' | E72: 小学A组 | F72: 禾禾战队 | G72: 重庆市南岸区长生小学校 | H72: 蒋翼飞 | I72: 陈玺全 | J72: 520 | K72: 260 | L72: 第10名 | M72: 二等奖
A73: 14086 | B73: rFc1XzN-44-012-9l-013-1-drx-01-bkH | C73: 'ENJOY AI系列赛项' | D73: 'ENJOY AI运动会闭幕式' | E73: 小学A组 | F73: 锦睿队 | G73: 东北师范大学附属中学新城学校 | H73: 姜宏伟 | I73: 刘锦轩|王晟睿 | J73: 520 | K73: 299 | L73: 第11名 | M73: 二等奖
A74: 14186 | B74: rFc1Xzm-44-012-eF-013-1-ICi-01-XQQ | C74: 'ENJOY AI系列赛项' | D74: 'ENJOY AI运动会闭幕式' | E74: 小学A组 | F74: 启坤队 | G74: 东北师范大学附属中学新城学校 | H74: 姜宏伟 | I74: 付启辰|侯禹坤 | J74: 500 | K74: 277 | L74: 第12名 | M74: 二等奖
A75: 11332 | B75: rFc1XZI-44-012-Yj-013-1-AAI-01-a23 | C75: 'ENJOY AI系列赛项' | D75: 'ENJOY AI运动会闭幕式' | E75: 小学A组 | F75: 毅逸咦 | G75: 重庆市南岸区珊瑚浦辉实验小学 | H75: 胡钰竺 | I75: 沈恩毅|陆静逸 | J75: 500 | K75: 296 | L75: 第13名 | M75: 二等奖
A76: 14115 | B76: rFc1XzY-44-012-w8-013-1-utl-01-1c5 | C76: 'ENJOY AI系列赛项' | D76: 'ENJOY AI运动会闭幕式' | E76: 小学A组 | F76: 宣瑞队 | G76: 东北师范大学附属中学新城学校 | H76: 姜宏伟 | I76: 陈瑞晗|李宣韸 | J76: 480 | K76: 294 | L76: 第14名 | M76: 二等奖
A77: 12006 | B77: rFc1X7s-44-012-4f-013-1-yTk-01-qHj | C77: 'ENJOY AI系列赛项' | D77: 'ENJOY AI运动会闭幕式' | E77: 小学A组 | F77: 时代树三队 | G77: 昆明市呈贡区时代树教育培训学校 | H77: 冯涛 | I77: 卢翊宸|何楒宇 | J77: 460 | K77: 300 | L77: 第15名 | M77: 二等奖
A78: 11722 | B78: rFc1Xz4-44-012-5b-013-1-qaM-01-J6u | C78: 'ENJOY AI系列赛项' | D78: 'ENJOY AI运动会闭幕式' | E78: 小学A组 | F78: 时代树六队 | G78: 昆明市呈贡区时代树教育培训学校 | H78: 冯涛 | I78: 邵峻熙|浦锦恒 | J78: 440 | K78: 269 | L78: 第16名 | M78: 三等奖
... A91: 11957 | B91: rFc1X7g-44-012-4y-013-1-zNu-01-lv4 | C91: 'ENJOY AI系列赛项' | D91: 'ENJOY AI运动会闭幕式' | E91: 小学A组 | F91: 时代树五队 | G91: 昆明市呈贡区时代树教育培训学校 | H91: 冯涛 | I91: 张瀚之|何一铭 | J91: 170 | K91: 300 | L91: 第29名 | M91: 三等奖
A93: 13966 | B93: rFc1X2k-44-012-mh-013-1-Pht-01-ogR | C93: 'ENJOY AI系列赛项' | D93: 'ENJOY AI运动会闭幕式' | E93: 小学组 | F93: 安徽巢湖春晖学校1队 | G93: 安徽巢湖春晖学校 | H93: 方正辉 | I93: 刘元博|郁昌浩 | J93: 940 | K93: 282 | L93: 第1名 | M93: 一等奖(冠军) | N93: 入围总决赛
A94: 14806 | B94: rFc1XL7-44-012-Gb-013-1-70S-01-gdB | C94: 'ENJOY AI系列赛项' | D94: 'ENJOY AI运动会闭幕式' | E94: 小学组 | F94: 巢湖市世纪新都小学2队 | G94: 巢湖市世纪新都小学 | H94: 李燕 | I94: 陈昊宇|方擎天 | J94: 810 | K94: 261 | L94: 第2名 | M94: 一等奖(亚军) | N94: 入围总决赛
A95: 10503 | B95: rFc1XZC-44-012-ey-013-1-wvv-01-ZAy | C95: 'ENJOY AI系列赛项' | D95: 'ENJOY AI运动会闭幕式' | E95: 小学组 | F95: 梓淳必胜 | G95: 武汉市园博园学校 | H95: 顾姗迟 | I95: 熊梓淳 | J95: 790 | K95: 257 | L95: 第3名 | M95: 一等奖(季军) | N95: 入围总决赛
A96: 10281 | B96: rFc1XZ1-44-012-68-013-1-C6c-01-5k9 | C96: 'ENJOY AI系列赛项' | D96: 'ENJOY AI运动会闭幕式' | E96: 小学组 | F96: 郑州斯戴姆彬祺队 | G96: 郑州市郑东新区九年制实验学校 郑州市郑东新区康平小学 | H96: 崔芬 | I96: 崔恒彬|王安祺 | J96: 760 | K96: 280 | L96: 第4名 | M96: 一等奖 | N96: 入围总决赛
A97: 11985 | B97: rFc1Xwb-44-012-nd-013-1-Ojl-01-WL8 | C97: 'ENJOY AI系列赛项' | D97: 'ENJOY AI运动会闭幕式' | E97: 小学组 | F97: 实验小学黑马队 | G97: 南安市第一实验小学 | H97: 潘新花 | I97: 郑础骏 | J97: 680 | K97: 267 | L97: 第5名 | M97: 一等奖 | N97: 入围总决赛
A98: 9736 | B98: rFc1XhW-44-012-i1-013-1-J4q-01-itO | C98: 'ENJOY AI系列赛项' | D98: 'ENJOY AI运动会闭幕式' | E98: 小学组 | F98: 鲸创十队 | G98: 郑州市郑东新区康平小学 中原领航实验学校 | H98: 宋娟 | I98: 李子昂|晋若桐 | J98: 660 | K98: 239 | L98: 第6名 | M98: 一等奖 | N98: 入围总决赛
A99: 10237 | B99: rFc1XhE-44-012-He-013-1-nUh-01-QIq | C99: 'ENJOY AI系列赛项' | D99: 'ENJOY AI运动会闭幕式' | E99: 小学组 | F99: 樱乐珹鑫队 | G99: 上海市嘉定区德富路小学 上海市嘉定新城普通第二小学 | H99: 赵晨越 | I99: 施立珹|黄宥鑫 | J99: 590 | K99: 281 | L99: 第7名 | M99: 一等奖 | N99: 入围总决赛
A100: 12209 | B100: rFc1XAt-44-012-wr-013-1-OiV-01-wfL | C100: 'ENJOY AI系列赛项' | D100: 'ENJOY AI运动会闭幕式' | E100: 小学组 | F100: 和雅乘龙 | G100: 成都经济技术开发区实验小学校 | H100: 张然 | I100: 龚志轩|刘嘉欣 | J100: 580 | K100: 242 | L100: 第8名 | M100: 一等奖 | N100: 入围总决赛
A101: 12218 | B101: rFc1XAj-44-012-Dm-013-1-KJL-01-6ND | C101: 'ENJOY AI系列赛项' | D101: 'ENJOY AI运动会闭幕式' | E101: 小学组 | F101: 大北街小学战队 | G101: 泸州市大北街小学校 | H101: 徐焱清 | I101: 徐源伶|杨宗潮 | J101: 570 | K101: 262 | L101: 第9名 | M101: 一等奖 | N101: 入围总决赛
A102: 14436 | B102: rFc1XA1-44-012-fo-013-1-uOv-01-0Eq | C102: 'ENJOY AI系列赛项' | D102: 'ENJOY AI运动会闭幕式' | E102: 小学组 | F102: 大朋友 | G102: 济南高新区第一实验学校 | H102: 张贺春 | I102: 郭腾旭|张辰洋 | J102: 560 | K102: 271 | L102: 第10名 | M102: 一等奖 | N102: 入围总决赛
A103: 12749 | B103: rFc1XAo-44-012-aW-013-1-WYs-01-UDq | C103: 'ENJOY AI系列赛项' | D103: 'ENJOY AI运动会闭幕式' | E103: 小学组 | F103: 龙五小2队 | G103: 成都市龙泉驿区第五小学校 | H103: 余曜龙 | I103: 何心瑶|罗艺菲 | J103: 560 | K103: 287 | L103: 第11名 | M103: 一等奖 | N103: 入围总决赛
A104: 13239 | B104: rFc1Xwl-44-012-5a-013-1-tLQ-01-1Eo | C104: 'ENJOY AI系列赛项' | D104: 'ENJOY AI运动会闭幕式' | E104: 小学组 | F104: 泊衡战队 | G104: 云大附中（一二一校区）小学部 | H104: 张思超 | I104: 伍泊衡 | J104: 550 | K104: 300 | L104: 第12名 | M104: 一等奖 | N104: 入围总决赛
... A108: 10279 | B108: rFc1Xh8-44-012-36-013-1-xZB-01-Wbn | C108: 'ENJOY AI系列赛项' | D108: 'ENJOY AI运动会闭幕式' | E108: 小学组 | F108: 郑州斯戴姆鹏航队 | G108: 郑州市郑东新区康平小学 郑州市郑东新区蒲公英小学 | H108: 宋娟 | I108: 马鹏皓|石雨航 | J108: 520 | K108: 261 | L108: 第16名 | M108: 一等奖 | N108: 入围总决赛
A109: 12260 | B109: rFc1XAI-44-012-jH-013-1-DSz-01-Ykc | C109: 'ENJOY AI系列赛项' | D109: 'ENJOY AI运动会闭幕式' | E109: 小学组 | F109: 和雅宇宙双子星 | G109: 成都经济技术开发区实验小学校 | H109: 吴沁珂 | I109: 邹宇轩|曾宇恒 | J109: 520 | K109: 265 | L109: 第17名 | M109: 二等奖
A110: 10251 | B110: rFc1Xhj-44-012-t3-013-1-VHQ-01-u6S | C110: 'ENJOY AI系列赛项' | D110: 'ENJOY AI运动会闭幕式' | E110: 小学组 | F110: 鲸创八队 | G110: 郑州市金水区纬五路第二小学 郑州市郑东新区昆丽河小学 | H110: 辛雨甜 | I110: 刘子源|金楚钧 | J110: 510 | K110: 265 | L110: 第18名 | M110: 二等奖
A111: 14224 | B111: rFc1X2G-44-012-Yr-013-1-PEu-01-Frt | C111: 'ENJOY AI系列赛项' | D111: 'ENJOY AI运动会闭幕式' | E111: 小学组 | F111: 骄子队 | G111: 四川省广元天立学校 | H111: 林昕晨 | I111: 李俞希|杨鹏诚 | J111: 500 | K111: 267 | L111: 第19名 | M111: 二等奖
A112: 11322 | B112: rFc1Xwe-44-012-L7-013-1-fEi-01-n2Q | C112: 'ENJOY AI系列赛项' | D112: 'ENJOY AI运动会闭幕式' | E112: 小学组 | F112: 厚德队 | G112: 兰州新区第二小学 | H112: 吴韬宽 | I112: 王箔|范立轩 | J112: 500 | K112: 281 | L112: 第20名 | M112: 二等奖
A113: 12358 | B113: rFc1XwL-44-012-7u-013-1-0lD-01-IDt | C113: 'ENJOY AI系列赛项' | D113: 'ENJOY AI运动会闭幕式' | E113: 小学组 | F113: 渭源县清源学区小龙队 | G113: 渭源县清源学区 | H113: 王亚阵 | I113: 牛皓乾|王思翰 | J113: 490 | K113: 293 | L113: 第21名 | M113: 二等奖
A114: 13294 | B114: rFc1XAH-44-012-1h-013-1-0dx-01-kDB | C114: 'ENJOY AI系列赛项' | D114: 'ENJOY AI运动会闭幕式' | E114: 小学组 | F114: 酒城白虎队 | G114: 泸州市江阳区黄舣镇中心小学校 | H114: 毛安银 | I114: 毛俊麟|曾有邻 | J114: 480 | K114: 270 | L114: 第22名 | M114: 二等奖
A115: 11139 | B115: rFc1XZT-44-012-1B-013-1-mnW-01-tFo | C115: 'ENJOY AI系列赛项' | D115: 'ENJOY AI运动会闭幕式' | E115: 小学组 | F115: 南安市第五小学一队 | G115: 南安市第五小学 | H115: 梁艺全 | I115: 陈坤鸿 | J115: 480 | K115: 272 | L115: 第23名 | M115: 二等奖
A116: 11094 | B116: rFc1XZe-44-012-02-013-1-rVO-01-Whr | C116: 'ENJOY AI系列赛项' | D116: 'ENJOY AI运动会闭幕式' | E116: 小学组 | F116: 蔚蓝鲸创005 | G116: 郑州市郑东新区九年制实验学校 河南省实验学校郑东小学 | H116: 李莹莹 | I116: 任峻希|李子龙 | J116: 480 | K116: 275 | L116: 第24名 | M116: 二等奖
A117: 13223 | B117: rFc1Xwn-44-012-wf-013-1-iCa-01-a3F | C117: 'ENJOY AI系列赛项' | D117: 'ENJOY AI运动会闭幕式' | E117: 小学组 | F117: 浩铭战队 | G117: 昆明高新一小教育集团经典校区 | H117: 张晓清 | I117: 李浩铭 | J117: 480 | K117: 284 | L117: 第25名 | M117: 二等奖
A118: 13145 | B118: rFc1XAb-44-012-0S-013-1-cTg-01-ggG | C118: 'ENJOY AI系列赛项' | D118: 'ENJOY AI运动会闭幕式' | E118: 小学组 | F118: 鲸创007 | G118: 郑州市郑东新区外国语学校 | H118: 白璐 | I118: 焦逸歆|高尚 | J118: 470 | K118: 243 | L118: 第26名 | M118: 二等奖
A119: 13306 | B119: rFc1XAT-44-012-t7-013-1-gFL-01-tdd | C119: 'ENJOY AI系列赛项' | D119: 'ENJOY AI运动会闭幕式' | E119: 小学组 | F119: 酒城青龙队 | G119: 泸州市江阳区黄舣镇中心小学校 | H119: 张朝旭 | I119: 邓世涵|曾佳睿 | J119: 470 | K119: 257 | L119: 第27名 | M119: 二等奖
A120: 11358 | B120: rFc1Xwy-44-012-L4-013-1-t0U-01-qOb | C120: 'ENJOY AI系列赛项' | D120: 'ENJOY AI运动会闭幕式' | E120: 小学组 | F120: 鸟鼠同穴关山月 | G120: 渭源县清源镇河口学校 | H120: 谢晓龙 | I120: 陈紫夏|谢语涵 | J120: 460 | K120: 289 | L120: 第28名 | M120: 二等奖
... A198: 14934 | B198: rFc1X21-44-012-vG-013-1-JQk-01-42y | C198: 'ENJOY AI系列赛项' | D198: 'ENJOY AI运动会闭幕式' | E198: 小学组 | F198: 乌审旗第五队 | G198: 乌审旗嘎鲁图学校 | H198: 冯宗伟 | I198: 彭语函 | J198: 30 | K198: 300 | L198: 第106名 | M198: 三等奖

Sheet MakeX系列赛项
A1: 2024世界机器人大赛昆明锦标赛-青少年机器人设计大赛-MakeX系列赛项获奖名单
A2: 报名编号 | B2: 激活码 | C2: 赛道 | D2: 赛项 | E2: 组别 | F2: 队伍名称 | G2: 申报单位 | H2: 教练信息 | I2: 学生信息 | J2: 比赛分数 | K2: 比赛用时 | L2: 成绩排名 | M2: 奖项 | N2: 备注
A3: 11127 | B3: rFc1Mzo-44-001-8d-007-1-knX-01-7jo | C3: MakeX系列赛项' | D3: 'MakeX Spark梦想家园' | E3: 小学组 | F3: 未来智能家 | G3: 烟台市牟平区宁海街道中心小学 | H3: 孔健 | I3: 夏睿临 | J3: =VLOOKUP(A3,[1]总分统计表!$B$2:$D$30,3,FALSE) -> 35.15 | K3: / | L3: 1 | M3: 一等奖(冠军) | N3: 入围总决赛
A4: 12996 | B4: rFc1Mzt-44-001-yg-007-1-PVt-01-BsZ | C4: 'MakeX系列赛项' | D4: 'MakeX Spark梦想家园' | E4: 小学组 | F4: 毛豆战队 | G4: 深圳市南山外国语学校（集团）大冲学校 | H4: 林羽晨 | I4: 黄启哲 | J4: =VLOOKUP(A4,[1]总分统计表!$B$2:$D$30,3,FALSE) -> 32.93 | K4: / | L4: 2 | M4: 一等奖(亚军) | N4: 入围总决赛
A5: 10224 | B5: rFc1MzH-44-001-Yg-007-1-N16-01-96k | C5: 'MakeX系列赛项' | D5: 'MakeX Spark梦想家园' | E5: 小学组 | F5: 邯郸市丛台区荀子实验第四小学 | G5: 邯郸市丛台区荀子实验第四小学 | H5: 李晶 | I5: 成其桓 | J5: =VLOOKUP(A5,[1]总分统计表!$B$2:$D$30,3,FALSE) -> 32.36 | K5: / | L5: 3 | M5: 一等奖(季军) | N5: 入围总决赛
A6: 10594 | B6: rFc1MzM-44-001-uP-007-1-2XO-01-Odf | C6: 'MakeX系列赛项' | D6: 'MakeX Spark梦想家园' | E6: 小学组 | F6: 智慧小分队 | G6: 西昌市第二小学 | H6: 杨涛 | I6: 杨马可 | J6: =VLOOKUP(A6,[1]总分统计表!$B$2:$D$30,3,FALSE) -> 31.54 | K6: / | L6: 4 | M6: 一等奖 | N6: 入围总决赛
A7: 15340 | B7: rFc1Mzq-44-001-fK-007-1-X2B-01-gpA | C7: 'MakeX系列赛项' | D7: 'MakeX Spark梦想家园' | E7: 小学组 | F7: 瑞和追梦 | G7: 昆明市五华区瑞和实验学校 | H7: 李晓慧 | I7: 吴佳涵|魏婡 | J7: =VLOOKUP(A7,[1]总分统计表!$B$2:$D$30,3,FALSE) -> 31.02 | K7: / | L7: 5 | M7: 二等奖
A8: 11119 | B8: rFc1MzS-44-001-mx-007-1-FGy-01-ODL | C8: 'MakeX系列赛项' | D8: 'MakeX Spark梦想家园' | E8: 小学组 | F8: 梦想家园 | G8: 深圳市龙岗区天誉实验学校 | H8: 曾幸婷 | I8: 苏语桐 | J8: =VLOOKUP(A8,[1]总分统计表!$B$2:$D$30,3,FALSE) -> 30.58 | K8: / | L8: 6 | M8: 二等奖
A9: 10881 | B9: rFc1MzT-44-001-pF-007-1-TRn-01-t1w | C9: 'MakeX系列赛项' | D9: 'MakeX Spark梦想家园' | E9: 小学组 | F9: 家园护卫队 | G9: 芜湖市北塘小学 | H9: 朱丽娜 | I9: 盛彦琋 | J9: =VLOOKUP(A9,[1]总分统计表!$B$2:$D$30,3,FALSE) -> 30.1 | K9: / | L9: 7 | M9: 二等奖
A10: 10450 | B10: rFc1Mzm-44-001-PC-007-1-ohB-01-dyt | C10: 'MakeX系列赛项' | D10: 'MakeX Spark梦想家园' | E10: 小学组 | F10: 庄泽琛 | G10: 无锡市育英锦园实验小学 | H10: 张琦峰 | I10: 庄泽琛 | J10: =VLOOKUP(A10,[1]总分统计表!$B$2:$D$30,3,FALSE) -> 26.19 | K10: / | L10: 8 | M10: 二等奖
A11: 15550 | B11: rFc1M7l-44-001-cy-007-1-9qo-01-N5n | C11: 'MakeX系列赛项' | D11: 'MakeX Spark梦想家园' | E11: 小学组 | F11: 瑞和圆梦 | G11: 昆明市五华区瑞和实验学校 | H11: 赖晶 | I11: 马萧远|张露藜 | J11: =VLOOKUP(A11,[1]总分统计表!$B$2:$D$30,3,FALSE) -> 25.73 | K11: / | L11: 9 | M11: 二等奖
A12: 10623 | B12: rFc1MzI-44-001-Jr-007-1-hWC-01-E1j | C12: 'MakeX系列赛项' | D12: 'MakeX Spark梦想家园' | E12: 小学组 | F12: 闪电战队 | G12: 武汉经开外国语学校 | H12: 汪倩 | I12: 宋欣泽 | J12: =VLOOKUP(A12,[1]总分统计表!$B$2:$D$30,3,FALSE) -> 24.92 | K12: / | L12: 10 | M12: 二等奖
A13: 10297 | B13: rFc1Mz8-44-001-iO-007-1-0Sj-01-zOv | C13: 'MakeX系列赛项' | D13: 'MakeX Spark梦想家园' | E13: 小学组 | F13: 声名赫赫队 | G13: 大连市东港第三小学 | H13: 吴利群 | I13: 温品赫 | J13: =VLOOKUP(A13,[1]总分统计表!$B$2:$D$30,3,FALSE) -> 24.61 | K13: / | L13: 11 | M13: 二等奖
A14: 15468 | B14: rFc1M7O-44-001-aN-007-1-kPZ-01-waS | C14: 'MakeX系列赛项' | D14: 'MakeX Spark梦想家园' | E14: 小学组 | F14: 瑞和筑梦 | G14: 昆明市五华区瑞和实验学校 | H14: 李于骁 | I14: 谢渝涵|刘方浩 | J14: =VLOOKUP(A14,[1]总分统计表!$B$2:$D$30,3,FALSE) -> 24.56 | K14: / | L14: 12 | M14: 二等奖
A15: 13898 | B15: rFc1M7R-44-001-ai-007-1-dfm-01-Psf | C15: 'MakeX系列赛项' | D15: 'MakeX Spark梦想家园' | E15: 小学组 | F15: 艾勇队 | G15: 楚雄市北浦小学 | H15: 李发芹 | I15: 鲁可|王梓涵 | J15: =VLOOKUP(A15,[1]总分统计表!$B$2:$D$30,3,FALSE) -> 24.43 | K15: / | L15: 13 | M15: 二等奖
A16: 10668 | B16: rFc1Mzx-44-001-1R-007-1-IAi-01-Cjh | C16: 'MakeX系列赛项' | D16: 'MakeX Spark梦想家园' | E16: 小学组 | F16: 开心战队 | G16: 武汉经开外国语学校 | H16: 汪倩 | I16: 胡钰熙 | J16: =VLOOKUP(A16,[1]总分统计表!$B$2:$D$30,3,FALSE) -> 22.97 | K16: / | L16: 14 | M16: 二等奖
A17: 12270 | B17: rFc1Mzp-44-001-5G-007-1-rW9-01-bb4 | C17: 'MakeX系列赛项' | D17: 'MakeX Spark梦想家园' | E17: 小学组 | F17: 小眼看世界 | G17: 武胜县民族小学校 | H17: 唐健 | I17: 曹子清 | J17: =VLOOKUP(A17,[1]总分统计表!$B$2:$D$30,3,FALSE) -> 22.15 | K17: / | L17: 15 | M17: 三等奖
A18: 10412 | B18: rFc1MzE-44-001-cP-007-1-FXD-01-Gj9 | C18: 'MakeX系列赛项' | D18: 'MakeX Spark梦想家园' | E18: 小学组 | F18: 枫林科创小子 | G18: 上海市徐汇区东二小学 | H18: 丁永刚 | I18: 倪恩铭 | J18: =VLOOKUP(A18,[1]总分统计表!$B$2:$D$30,3,FALSE) -> 21.18 | K18: / | L18: 16 | M18: 三等奖
... A30: 13902 | B30: rFc1MzU-44-001-U1-007-1-UFi-01-IOt | C30: 'MakeX系列赛项' | D30: 'MakeX Spark梦想家园' | E30: 小学组 | F30: 艾青队 | G30: 楚雄市北浦小学 | H30: 李发芹 | I30: 邓清宇|宋振源 | J30: =VLOOKUP(A30,[1]总分统计表!$B$2:$D$30,3,FALSE) -> 11.52 | K30: / | L30: 28 | M30: 三等奖
A32: 报名编号 | B32: 激活码 | C32: 赛道 | D32: 赛项 | E32: 组别 | F32: 队伍名称 | G32: 申报单位 | H32: 教练信息 | I32: 学生信息 | J32: 比赛分数 | K32: 比赛用时 | L32: 成绩排名 | M32: 奖项
A33: 14300 | B33: rFc1MwY-44-001-F5-008-1-b3H-01-Uru | C33: 'MakeX系列赛项' | D33: 'MakeX Inspire智慧物流' | E33: 小学组 | F33: 星期五战队 | G33: 北京市昌平区西府冠华学校 | H33: 吕春蕾 | I33: 王艺澄 | J33: 1000 | K33: 63.25 | L33: 1 | M33: 一等奖(冠军) | N33: 入围总决赛
A34: 8179 | B34: rFc1M2L-44-001-hR-008-1-tyO-01-0eM | C34: 'MakeX系列赛项' | D34: 'MakeX Inspire智慧物流' | E34: 小学组 | F34: Super-K14 | G34: 银川市实验小学 | H34: 程曦 | I34: 潘梓延 | J34: 1000 | K34: 68.57 | L34: 2 | M34: 一等奖(亚军) | N34: 入围总决赛
A35: 14307 | B35: rFc1Mwr-44-001-Y6-008-1-tMd-01-gS9 | C35: 'MakeX系列赛项' | D35: 'MakeX Inspire智慧物流' | E35: 小学组 | F35: 睿不可挡 | G35: 恩德里小学 | H35: 高鑫 | I35: 王睿 | J35: 1000 | K35: 81.41 | L35: 3 | M35: 一等奖(季军) | N35: 入围总决赛
A36: 12838 | B36: rFc1M2C-44-001-3k-008-1-c1t-01-OOI | C36: 'MakeX系列赛项' | D36: 'MakeX Inspire智慧物流' | E36: 小学组 | F36: 超级精英 | G36: 南京市卓越科技创新服务中心 | H36: 刘传奇 | I36: 沈学广 | J36: 1000 | K36: 92.71 | L36: 4 | M36: 一等奖 | N36: 入围总决赛
A37: 14654 | B37: rFc1Mwe-44-001-yw-008-1-wLE-01-hFR | C37: 'MakeX系列赛项' | D37: 'MakeX Inspire智慧物流' | E37: 小学组 | F37: 超级大哥 | G37: 北京市海淀区第二实验小学 | H37: 吕春蕾 | I37: 李若肇 | J37: 1000 | K37: 93.89 | L37: 5 | M37: 一等奖 | N37: 入围总决赛
A38: 7393 | B38: rFc1MA5-44-001-JE-008-1-s4L-01-s96 | C38: 'MakeX系列赛项' | D38: 'MakeX Inspire智慧物流' | E38: 小学组 | F38: 锦鳞团 | G38: 广州市第四中学附属耀华小学 | H38: 叶永杰 | I38: 戴铠聪 | J38: 1000 | K38: 98.45 | L38: 6 | M38: 一等奖 | N38: 入围总决赛
A39: 8173 | B39: rFc1M2w-44-001-TV-008-1-c04-01-4h1 | C39: 'MakeX系列赛项' | D39: 'MakeX Inspire智慧物流' | E39: 小学组 | F39: Super-K16 | G39: 银川市实验小学 | H39: 张昊 | I39: 翁佑安 | J39: 1000 | K39: 104.59 | L39: 7 | M39: 一等奖 | N39: 入围总决赛
A40: 14163 | B40: rFc1M2e-44-001-HB-008-1-NcG-01-bh4 | C40: 'MakeX系列赛项' | D40: 'MakeX Inspire智慧物流' | E40: 小学组 | F40: 百变先锋2队 | G40: 岳阳千亩湖小学 | H40: 姚强 | I40: 汤宣容 | J40: 1000 | K40: 104.6 | L40: 8 | M40: 一等奖 | N40: 入围总决赛
A41: 14281 | B41: rFc1M2H-44-001-62-008-1-wRo-01-Yyr | C41: 'MakeX系列赛项' | D41: 'MakeX Inspire智慧物流' | E41: 小学组 | F41: 百变先锋队 | G41: 岳阳楼区岳阳楼小学 | H41: 姚强 | I41: 任泽君 | J41: 1000 | K41: 112.22 | L41: 9 | M41: 一等奖 | N41: 入围总决赛
A42: 8423 | B42: rFc1MLZ-44-001-ls-008-1-q7L-01-nfb | C42: 'MakeX系列赛项' | D42: 'MakeX Inspire智慧物流' | E42: 小学组 | F42: 尚阳至美队 | G42: 成都高新区尚阳小学 | H42: 王宁 | I42: 韩杨咏絮 | J42: 1000 | K42: 115.19 | L42: 10 | M42: 一等奖 | N42: 入围总决赛
A43: 7500 | B43: rFc1MAf-44-001-a8-008-1-xGN-01-LK5 | C43: 'MakeX系列赛项' | D43: 'MakeX Inspire智慧物流' | E43: 小学组 | F43: 灵雀组 | G43: 广州市越秀区海珠中路小学 | H43: 赖林宝 | I43: 郑毅坤 | J43: 1000 | K43: 128.53 | L43: 11 | M43: 一等奖 | N43: 入围总决赛
A44: 7385 | B44: rFc1MAG-44-001-po-008-1-qOJ-01-oUA | C44: 'MakeX系列赛项' | D44: 'MakeX Inspire智慧物流' | E44: 小学组 | F44: 翠竹队 | G44: 广州市越秀区文德路小学 | H44: 叶永杰 | I44: 陈炜昕 | J44: 1000 | K44: 131.47 | L44: 12 | M44: 一等奖 | N44: 入围总决赛
... A47: 8399 | B47: rFc1MAU-44-001-xQ-008-1-O2T-01-BYT | C47: 'MakeX系列赛项' | D47: 'MakeX Inspire智慧物流' | E47: 小学组 | F47: 原子|GGboy | G47: 深圳市龙华区教育科学研究院附属实验学校 | H47: 黄妤璠 | I47: 高铭城 | J47: 1000 | K47: 143.38 | L47: 15 | M47: 一等奖 | N47: 入围总决赛
A48: 12711 | B48: rFc1M2o-44-001-k3-008-1-OOG-01-hqx | C48: 'MakeX系列赛项' | D48: 'MakeX Inspire智慧物流' | E48: 小学组 | F48: 星耀队 | G48: 南京韩博士青少年综合素质发展中心 | H48: 李媛媛 | I48: 李沐晨 | J48: 1000 | K48: 144.91 | L48: 16 | M48: 二等奖
A49: 9612 | B49: rFc1MA6-44-001-Pb-008-1-OOm-01-Lqa | C49: 'MakeX系列赛项' | D49: 'MakeX Inspire智慧物流' | E49: 小学组 | F49: 晋羽战队 | G49: 深圳市南山实验教育集团荔湾小学 | H49: 闫海亮 | I49: 连晋羽 | J49: 1000 | K49: 153.72 | L49: 17 | M49: 二等奖
A50: 10791 | B50: rFc1MLP-44-001-Kn-008-1-4gc-01-dlt | C50: 'MakeX系列赛项' | D50: 'MakeX Inspire智慧物流' | E50: 小学组 | F50: 尚阳至美1队 | G50: 成都高新区尚阳小学 | H50: 王宁 | I50: 陈宜霏 | J50: 1000 | K50: 164.22 | L50: 18 | M50: 二等奖
A51: 9834 | B51: rFc1MAj-44-001-Re-008-1-qud-01-DoQ | C51: 'MakeX系列赛项' | D51: 'MakeX Inspire智慧物流' | E51: 小学组 | F51: 凤凰机器人智慧2队 | G51: 深圳市龙岗区平湖中心学校 | H51: 邹其明 | I51: 杨俊杰 | J51: 1000 | K51: 165.05 | L51: 19 | M51: 二等奖
A52: 9641 | B52: rFc1MAK-44-001-1P-008-1-XvT-01-iWQ | C52: 'MakeX系列赛项' | D52: 'MakeX Inspire智慧物流' | E52: 小学组 | F52: 原点创客-辉耀 | G52: 江门市新会区原点创客格物斯坦机器人 | H52: 林欣华 | I52: 曾锦烨 | J52: 1000 | K52: 176.96 | L52: 20 | M52: 二等奖
A53: 7895 | B53: rFc1MAb-44-001-4F-008-1-2m9-01-5Hu | C53: 'MakeX系列赛项' | D53: 'MakeX Inspire智慧物流' | E53: 小学组 | F53: 原子哈喽队 | G53: 深圳市蛇口育才教育集团育才一小 | H53: 刘绮 | I53: 周浩宇 | J53: 1000 | K53: 180.37 | L53: 21 | M53: 二等奖
A54: 9886 | B54: rFc1MzB-44-001-AC-008-1-uAz-01-3xQ | C54: 'MakeX系列赛项' | D54: 'MakeX Inspire智慧物流' | E54: 小学组 | F54: 胡志冉 | G54: 昆明市中华小学 | H54: 赵紫娟 | I54: 胡志冉 | J54: 1000 | K54: 183.93 | L54: 22 | M54: 二等奖
A55: 9502 | B55: rFc1MZO-44-001-Fx-008-1-sYQ-01-WYG | C55: 'MakeX系列赛项' | D55: 'MakeX Inspire智慧物流' | E55: 小学组 | F55: 周瑞铭 | G55: 安宁中学嵩华学校 | H55: 肖燕 | I55: 周瑞铭 | J55: 1000 | K55: 186.1 | L55: 23 | M55: 二等奖
A56: 11130 | B56: rFc1MA1-44-001-G3-008-1-5WP-01-SDO | C56: 'MakeX系列赛项' | D56: 'MakeX Inspire智慧物流' | E56: 小学组 | F56: 洞庭战队 | G56: 青岛市李沧区工大科技培训学校 | H56: 孙小媚 | I56: 崔文禹 | J56: 1000 | K56: 186.19 | L56: 24 | M56: 二等奖
A57: 7848 | B57: rFc1MAM-44-001-r7-008-1-lNb-01-Ns7 | C57: 'MakeX系列赛项' | D57: 'MakeX Inspire智慧物流' | E57: 小学组 | F57: 玄龟营 | G57: 江南新村第一小学青凤校区 | H57: 赖林宝 | I57: 苗浩轩 | J57: 1000 | K57: 189.57 | L57: 25 | M57: 二等奖
A58: 9979 | B58: rFc1MZo-44-001-mW-008-1-eeP-01-9LD | C58: 'MakeX系列赛项' | D58: 'MakeX Inspire智慧物流' | E58: 小学组 | F58: 张皓哲 | G58: 昆明市中华小学 | H58: 赵紫娟 | I58: 张皓哲 | J58: 1000 | K58: 190.97 | L58: 26 | M58: 二等奖
A59: 9971 | B59: rFc1MZv-44-001-J3-008-1-ghg-01-zrR | C59: 'MakeX系列赛项' | D59: 'MakeX Inspire智慧物流' | E59: 小学组 | F59: 陈俊融 | G59: 昆明市中华小学 | H59: 王飞梅 | I59: 陈俊融 | J59: 1000 | K59: 192.06 | L59: 27 | M59: 二等奖
... A130: 13795 | B130: rFc1M2u-44-001-pR-008-1-9zU-01-Gwj | C130: 'MakeX系列赛项' | D130: 'MakeX Inspire智慧物流' | E130: 小学组 | F130: 华东师范大学昆明实验学校2队 | G130: 华东师范大学昆明实验学校 | H130: 李涛 | I130: 刘潇 | J130: 50 | K130: 300 | L130: 98 | M130: 三等奖
A132: 报名编号 | B132: 激活码 | C132: 赛道 | D132: 赛项 | E132: 组别 | F132: 队伍名称 | G132: 申报单位 | H132: 教练信息 | I132: 学生信息 | J132: 比赛分数 | L132: 成绩排名 | M132: 奖项
A133: 11018 | B133: rFc1Mft-44-001-16-010-1-t4l-02-Vrj | C133: 'MakeX系列赛项' | D133: 'MakeX Explorer数智先锋' | E133: 初中组 | F133: 白泽战队 | G133: 工大科技培训学校 | H133: 蒋爽 | I133: 丁启洋|李译涵 | J133: 晋级决赛 | L133: 1 | M133: 一等奖(冠军) | N133: 入围总决赛
A134: 10820 | B134: rFc1Mf7-44-001-ta-010-1-rnp-02-Ujm | C134: 'MakeX系列赛项' | D134: 'MakeX Explorer数智先锋' | E134: 初中组 | F134: 望岳战队 | G134: 青岛市李沧区工大科技培训学校 | H134: 曹伟铭 | I134: 茅年睿|陈铮 | J134: 晋级决赛 | L134: 2 | M134: 一等奖(冠军) | N134: 入围总决赛
A135: 10982 | B135: rFc1MfA-44-001-yj-010-1-vnc-02-5Yj | C135: 'MakeX系列赛项' | D135: 'MakeX Explorer数智先锋' | E135: 初中组 | F135: 擎苍战队 | G135: 青岛市李沧区工大科技培训学校 | H135: 曹伟铭 | I135: 田东泽|张恩铖 | J135: 晋级决赛 | L135: 3 | M135: 一等奖(亚军) | N135: 入围总决赛
A136: 13085 | B136: rFc1Mf1-44-001-Mb-010-1-zLh-02-0bh | C136: 'MakeX系列赛项' | D136: 'MakeX Explorer数智先锋' | E136: 初中组 | F136: 怒火战队 | G136: 海淀实验二小、中关村一小 | H136: 吕春蕾|宋凯 | I136: 王叙欢|赵熠 | J136: 晋级决赛 | L136: 4 | M136: 一等奖(亚军) | N136: 入围总决赛
A137: 8152 | B137: rFc1M5E-44-001-iW-010-1-Vqv-02-Dho | C137: 'MakeX系列赛项' | D137: 'MakeX Explorer数智先锋' | E137: 初中组 | F137: 科睿幻影战队 | G137: 深圳市南山外国语学校（集团） 文华学校 | H137: 黄兴 | I137: 周正鸿|曹景泰 | J137: 晋级半决赛 | L137: 5 | M137: 一等奖(季军) | N137: 入围总决赛
A138: 8543 | B138: rFc1Mfl-44-001-Kw-010-1-W6j-02-aG7 | C138: 'MakeX系列赛项' | D138: 'MakeX Explorer数智先锋' | E138: 初中组 | F138: 海神守护者 | G138: 深圳月亮湾实验小学 | H138: 任珂 | I138: 杨子奇|黄瑞泽 | J138: 晋级半决赛 | L138: 6 | M138: 一等奖(季军) | N138: 入围总决赛
A139: 10025 | B139: rFc1Mtv-44-001-VV-010-1-0Ti-02-sQS | C139: 'MakeX系列赛项' | D139: 'MakeX Explorer数智先锋' | E139: 初中组 | F139: 飞龙 | G139: 深圳市荔园外国语 | H139: 范永帅 | I139: 朱彦舟|赵梓宸 | J139: 晋级半决赛 | L139: 7 | M139: 一等奖 | N139: 入围总决赛
A140: 8442 | B140: rFc1M5e-44-001-60-010-1-CAN-02-Frr | C140: 'MakeX系列赛项' | D140: 'MakeX Explorer数智先锋' | E140: 初中组 | F140: 无畏冲锋 | G140: 深圳市龙岗区龙城街道盛平小学 | H140: 陈璐 | I140: 莫文羽|林隆堃 | J140: 晋级半决赛 | L140: 8 | M140: 一等奖 | N140: 入围总决赛
A141: 13095 | B141: rFc1Mfr-44-001-KP-010-1-duG-02-F5N | C141: 'MakeX系列赛项' | D141: 'MakeX Explorer数智先锋' | E141: 初中组 | F141: 暴风战队 | G141: 万泉小学、首师大育新 | H141: 吕春蕾|宋凯 | I141: 张逸豪|林涵铮 | J141: 晋级16进8 | L141: 9 | M141: 一等奖 | N141: 入围总决赛
A142: 13072 | B142: rFc1Mfm-44-001-Yo-010-1-dne-02-sce | C142: 'MakeX系列赛项' | D142: 'MakeX Explorer数智先锋' | E142: 初中组 | F142: 烈焰战队 | G142: 回龙观小学、清华附属小学 | H142: 吕春蕾|宋凯 | I142: 江泓成|杨瑞航 | J142: 晋级16进8 | L142: 10 | M142: 一等奖 | N142: 入围总决赛
A143: 12435 | B143: rFc1M5R-44-001-Sl-010-1-HJs-02-Cxx | C143: 'MakeX系列赛项' | D143: 'MakeX Explorer数智先锋' | E143: 初中组 | F143: 科睿战甲战队 | G143: 卓雅小学 | H143: 张威 | I143: 曾晨茜|姜彧 | J143: 晋级16进8 | L143: 11 | M143: 一等奖 | N143: 入围总决赛
A144: 13296 | B144: rFc1Mc1-44-001-KR-010-1-lr1-02-Xtm | C144: 'MakeX系列赛项' | D144: 'MakeX Explorer数智先锋' | E144: 初中组 | F144: 屿实马行空战队 | G144: 重庆市璧山区机器人学会 | H144: 蒲榆|王进 | I144: 韩泞骏|康育诚|涂煜明|曹洲 | J144: 晋级16进8 | L144: 12 | M144: 一等奖 | N144: 入围总决赛
A145: 12473 | B145: rFc1M51-44-001-DQ-010-1-lDQ-02-xiY | C145: 'MakeX系列赛项' | D145: 'MakeX Explorer数智先锋' | E145: 初中组 | F145: 科睿风暴战队 | G145: 卓雅小学 | H145: 张威 | I145: 赵康安|仝士琨 | J145: 晋级16进8 | L145: 13 | M145: 一等奖 | N145: 入围总决赛
A146: 7621 | B146: rFc1Mt4-44-001-fY-010-1-z6W-02-0LK | C146: 'MakeX系列赛项' | D146: 'MakeX Explorer数智先锋' | E146: 初中组 | F146: 南外旭光 | G146: 深圳市南山外国语学校（集团）滨海学校 | H146: 黄颖佳|常子龙 | I146: 徐梓恩|徐梓芯|杨泽疆|郭耿圳 | J146: 晋级16进8 | L146: 14 | M146: 二等奖
A147: 13057 | B147: rFc1MfR-44-001-b7-010-1-x3i-02-R2r | C147: 'MakeX系列赛项' | D147: 'MakeX Explorer数智先锋' | E147: 初中组 | F147: 天乐战队 | G147: 北京小学、史家胡同小学 | H147: 吕春蕾|宋凯 | I147: 何承轩|宋语桐 | J147: 晋级16进8 | L147: 15 | M147: 二等奖
A148: 11028 | B148: rFc1MfI-44-001-xx-010-1-MO3-02-XZO | C148: 'MakeX系列赛项' | D148: 'MakeX Explorer数智先锋' | E148: 初中组 | F148: 迦南战队 | G148: 青岛工大科技培训学校 | H148: 力传强 | I148: 朱恩泽|马梓程 | J148: 晋级16进8 | L148: 16 | M148: 二等奖
A149: 8936 | B149: rFc1M5u-44-001-7Q-010-1-9aZ-02-OmA | C149: 'MakeX系列赛项' | D149: 'MakeX Explorer数智先锋' | E149: 初中组 | F149: ice cream战队 | G149: 深圳市南山区第二外国语学校（集团）学府第一小学 | H149: 梁桥 | I149: 谭沛辰|祝子敬|石庆格勒 | J149: 晋级32进16 | L149: 17 | M149: 二等奖
A150: 8073 | B150: rFc1MVB-44-001-8B-010-1-6mf-02-K7U | C150: 'MakeX系列赛项' | D150: 'MakeX Explorer数智先锋' | E150: 初中组 | F150: 枫叶小学和红星海小学联队 | G150: 大连枫叶国际学校 | H150: 李义 | I150: 董景墨|张曦泽|李昊恩|宋皓民 | J150: 晋级32进16 | L150: 18 | M150: 二等奖
A151: 13663 | B151: rFc1M5J-44-001-fv-010-1-9hP-02-b8I | C151: 'MakeX系列赛项' | D151: 'MakeX Explorer数智先锋' | E151: 初中组 | F151: 昆一西山龙战队 | G151: 昆明市第一中学西山学校 | H151: 蒋云龙|王鸿宇 | I151: 姚禹安|王韵绮|郑凯介 | J151: 晋级32进16 | L151: 19 | M151: 二等奖
A152: 11086 | B152: rFc1MtV-44-001-HZ-010-1-FtD-02-v2I | C152: 'MakeX系列赛项' | D152: 'MakeX Explorer数智先锋' | E152: 初中组 | F152: 雨花战队 | G152: 南京市卓越科技创新服务中心 | H152: 胡文丽 | I152: 刘子墨|仲杨厚泽 | J152: 晋级32进16 | L152: 20 | M152: 二等奖
A153: 8363 | B153: rFc1Mcd-44-001-uu-010-1-iMS-02-nUR | C153: 'MakeX系列赛项' | D153: 'MakeX Explorer数智先锋' | E153: 初中组 | F153: 华渝2队 | G153: 重庆市江北区华渝实验学校 | H153: 舒展 | I153: 彭翔熙|覃梓桐|洪诗杰 | J153: 晋级32进16 | L153: 21 | M153: 二等奖
A154: 8150 | B154: rFc1M5g-44-001-81-010-1-89s-02-E5C | C154: 'MakeX系列赛项' | D154: 'MakeX Explorer数智先锋' | E154: 初中组 | F154: LG-雷霆战队 | G154: 深圳市龙岗区龙城高级中学（教育集团）龙城创新学校 | H154: 邱明华 | I154: 戎奕鑫|吴昊霖 | J154: 晋级32进16 | L154: 22 | M154: 二等奖
A155: 8466 | B155: rFc1Mc0-44-001-QO-010-1-So2-02-46N | C155: 'MakeX系列赛项' | D155: 'MakeX Explorer数智先锋' | E155: 初中组 | F155: 昆山开发区实验Makex初中 | G155: 昆山开发区实验学校 | H155: 胡智欣|何东梅 | I155: 王晟睿|徐旭东 | J155: 晋级32进16 | L155: 23 | M155: 二等奖
A156: 10401 | B156: rFc1MVY-44-001-Gi-010-1-0PW-02-Kmr | C156: 'MakeX系列赛项' | D156: 'MakeX Explorer数智先锋' | E156: 初中组 | F156: 八一雄鹰队 | G156: 西藏自治区林芝市八一中学 | H156: 钟泽友|易大棚 | I156: 赵文豪|肖帅 | J156: 晋级32进16 | L156: 24 | M156: 二等奖
A157: 11109 | B157: rFc1MtH-44-001-se-010-1-nxn-02-O90 | C157: 'MakeX系列赛项' | D157: 'MakeX Explorer数智先锋' | E157: 初中组 | F157: 童小程丨WIN | G157: 深圳市螺岭外国语实验学校 深圳市南山实验教育集团麒麟中学 联队 | H157: 郭域|高鹏 | I157: 邓钧天|彭启丰|欧阳睿谦 | J157: 晋级32进16 | L157: 25 | M157: 二等奖
... A199: 14949 | B199: rFc1Mc8-44-001-oB-010-1-oIr-02-KIo | C199: 'MakeX系列赛项' | D199: 'MakeX Explorer数智先锋' | E199: 初中组 | F199: 宜昌开拓者队 | G199: 优趣青少儿科技活动中心 | H199: 史春洋 | I199: 陈禹墨|余奕璇 | J199: 未晋级淘汰赛 | L199: 67 | M199: 三等奖
C200: 'MakeX系列赛项' | D200: 'MakeX Explorer数智先锋' | E200: 初中组 | F200: American School of Bangkok Greenvalley | H200: Kittiwit Cooparatana | I200: Master .Arin Cooparatana|Miss.Pimolon Cooparatana | J200: 未晋级淘汰赛 | L200: 68 | M200: Third Prize
A201: 11030 | B201: rFc1Mtq-44-001-i1-010-1-y2s-02-mlS | C201: 'MakeX系列赛项' | D201: 'MakeX Explorer数智先锋' | E201: 初中组 | F201: 秦淮战队 | G201: 南京市卓越科技创新服务中心 | H201: 胡文丽 | I201: 许若其|徐思源 | J201: 未晋级淘汰赛 | L201: 69 | M201: 三等奖
A202: 8191 | B202: rFc1Mcc-44-001-cr-010-1-6N0-02-0P3 | C202: 'MakeX系列赛项' | D202: 'MakeX Explorer数智先锋' | E202: 初中组 | F202: Super-K9 | G202: 银川市实验小学 | H202: 刘静 | I202: 赵宇轩|张正元 | J202: 未晋级淘汰赛 | L202: 70 | M202: 三等奖
A203: 12734 | B203: rFc1MVJ-44-001-Qi-010-1-EYF-02-u6P | C203: 'MakeX系列赛项' | D203: 'MakeX Explorer数智先锋' | E203: 初中组 | F203: 红日队 | G203: 南京韩博士青少年综合素质发展中心 | H203: 李媛媛 | I203: 徐君浩|宋俊贤 | J203: 未晋级淘汰赛 | L203: 71 | M203: 三等奖
A204: 8940 | B204: rFc1MVZ-44-001-GI-010-1-Fah-02-Ic8 | C204: 'MakeX系列赛项' | D204: 'MakeX Explorer数智先锋' | E204: 初中组 | F204: 旗开得胜 | G204: 贵州省毕节市七星关区毕节梁才学校 | H204: 邹开权|陈英 | I204: 周凌霄|徐小博|胡琦玮|苏宇航 | J204: 未晋级淘汰赛 | L204: 72 | M204: 三等奖
A205: 9104 | B205: rFc1MVl-44-001-IP-010-1-Jpy-02-2v2 | C205: 'MakeX系列赛项' | D205: 'MakeX Explorer数智先锋' | E205: 初中组 | F205: 小扣钉北斗 | G205: 上海市风华中学 | H205: 陈宇皓 | I205: 张宸乐 | J205: 未晋级淘汰赛 | L205: 73 | M205: 三等奖
A206: 13777 | B206: rFc1M58-44-001-Xw-010-1-bTh-02-g1Z | C206: 'MakeX系列赛项' | D206: 'MakeX Explorer数智先锋' | E206: 初中组 | F206: 艾酷队 | G206: 楚雄第一中学 | H206: 李娟 | I206: 敖境鸿|王宇圻|罗钦洲|马希睿 | J206: 未晋级淘汰赛 | L206: 74 | M206: 三等奖
A207: 7847 | B207: rFc1MtG-44-001-Dw-010-1-RBu-02-u1u | C207: 'MakeX系列赛项' | D207: 'MakeX Explorer数智先锋' | E207: 初中组 | F207: 幻影先锋 | G207: 深圳市福田区莲花中学 | H207: 黄斌 | I207: 严骏|金真汉|周洎弘|鄞骏 | J207: 未晋级淘汰赛 | L207: 75 | M207: 三等奖
A208: 11061 | B208: rFc1McI-44-001-E0-010-1-IgD-02-dwW | C208: 'MakeX系列赛项' | D208: 'MakeX Explorer数智先锋' | E208: 初中组 | F208: 创成先锋 | G208: 兰州市城关区静宁路小学创成分校 | H208: 王道斌 | I208: 袁舒航|张子扬|王伟臣 | J208: 未晋级淘汰赛 | L208: 76 | M208: 三等奖
A209: 8662 | B209: rFc1McW-44-001-oB-010-1-YUe-02-HBV | C209: 'MakeX系列赛项' | D209: 'MakeX Explorer数智先锋' | E209: 初中组 | F209: 阿尔宙斯队 | G209: 上海市虹口区曲阳第三小学 | H209: 刘晨 | I209: 夏昕辰|范宇霏|马若颖 | J209: 未晋级淘汰赛 | L209: 77 | M209: 三等奖
A210: 13743 | B210: rFc1M56-44-001-Wx-010-1-9SG-02-wC9 | C210: 'MakeX系列赛项' | D210: 'MakeX Explorer数智先锋' | E210: 初中组 | F210: 昆一西山龙腾队 | G210: 昆明市第一中学西山学校 | H210: 王亚峰|蒋云龙 | I210: 张宇龙|余佳芮|苟权瑞 | J210: 未晋级淘汰赛 | L210: 78 | M210: 三等奖
A211: 11851 | B211: rFc1M5j-44-001-sJ-010-1-YCw-02-cEN | C211: 'MakeX系列赛项' | D211: 'MakeX Explorer数智先锋' | E211: 初中组 | F211: 天高月泽 | G211: 寻甸回族彝族自治县第一中学 | H211: 赵昌卫|杨琴 | I211: 妥天瑞|高子维|李旺泽|胡曦月 | J211: 未晋级淘汰赛 | L211: 79 | M211: 三等奖
A212: 7555 | B212: rFc1Mc6-44-001-wA-010-1-B8D-02-MmM | C212: 'MakeX系列赛项' | D212: 'MakeX Explorer数智先锋' | E212: 初中组 | F212: 破晓 | G212: 海门实验学校附属小学 | H212: 杨博宇 | I212: 朱昊宇|姜政禹 | J212: 未晋级淘汰赛 | L212: 80 | M212: 三等奖
... A221: 9959 | B221: rFc1MVc-44-001-eh-010-1-7Av-02-Y4S | C221: 'MakeX系列赛项' | D221: 'MakeX Explorer数智先锋' | E221: 初中组 | F221: Mecha Young | G221: 四川省成都市七中育才学校银杏校区 | H221: 许晶晶 | I221: 涂一飞|王宸彬 | J221: 未晋级淘汰赛 | L221: 89 | M221: 三等奖
A223: 报名编号 | B223: 激活码 | C223: 赛道 | D223: 赛项 | E223: 组别 | F223: 队伍名称 | G223: 申报单位 | H223: 教练信息 | I223: 学生信息 | J223: 比赛分数 | L223: 成绩排名 | M223: 奖项
A224: 8930 | B224: rFc1MUc-44-001-wA-009-1-OCO-01-lRK | C224: 'MakeX系列赛项' | D224: 'MakeX Starter全芯征途' | E224: 小学组 | F224: 泰坦 | G224: 荔园外国语 | H224: 范永帅 | I224: 许运衡|肖煦宸 | J224: 晋级冠军争夺战 | L224: 1 | M224: 一等奖(冠军) | N224: 入围总决赛
A225: 9844 | B225: rFc1Mys-44-001-L0-009-1-QOO-01-DPT | C225: 'MakeX系列赛项' | D225: 'MakeX Starter全芯征途' | E225: 小学组 | F225: 海上世界五队 | G225: 深圳道尔顿新华公学 | H225: 石明 | I225: 张珈铭|付嘉屹 | J225: 晋级冠军争夺战 | L225: 2 | M225: 一等奖(冠军) | N225: 入围总决赛
A226: 8026 | B226: rFc1M5U-44-001-sM-009-1-SWq-01-AKw | C226: 'MakeX系列赛项' | D226: 'MakeX Starter全芯征途' | E226: 小学组 | F226: 神舟军团 | G226: 南方科技大学教育集团(南山)第一实验学校 | H226: 钟嘉豪 | I226: 张郏隽|佘添睿 | J226: 晋级冠军争夺战 | L226: 3 | M226: 一等奖(亚军) | N226: 入围总决赛
A227: 8028 | B227: rFc1M55-44-001-bI-009-1-pym-01-2M2 | C227: 'MakeX系列赛项' | D227: 'MakeX Starter全芯征途' | E227: 小学组 | F227: 甲乙军团 | G227: 南方科技大学教育集团(南山)第一实验学校 | H227: 钟嘉豪 | I227: 米思宇|余科翰 | J227: 晋级冠军争夺战 | L227: 4 | M227: 一等奖(亚军) | N227: 入围总决赛
A228: 8866 | B228: rFc1MU8-44-001-oe-009-1-ZoC-01-DDP | C228: 'MakeX系列赛项' | D228: 'MakeX Starter全芯征途' | E228: 小学组 | F228: 少年先疯 | G228: 深圳市育才三小 | H228: 张世民 | I228: 陈思文|谭浩航 | J228: 晋级冠军争夺战 | L228: 5 | M228: 一等奖(季军) | N228: 入围总决赛
A229: 8231 | B229: rFc1MUu-44-001-Mx-009-1-OOK-01-wRd | C229: 'MakeX系列赛项' | D229: 'MakeX Starter全芯征途' | E229: 小学组 | F229: 3.14 | G229: 深圳市宝安区西乡小学 | H229: 胡婕 | I229: 胡安文|王泽恺 | J229: 晋级冠军争夺战 | L229: 6 | M229: 一等奖(季军) | N229: 入围总决赛
A230: 8516 | B230: rFc1MGt-44-001-Pz-009-1-0Xa-01-P3l | C230: 'MakeX系列赛项' | D230: 'MakeX Starter全芯征途' | E230: 小学组 | F230: 致远蓝鲸战队 | G230: 上海健生成长汇培训学校 | H230: 李涛|杨飞 | I230: 俞凡筠|骆廷敬 | J230: 晋级冠军争夺战 | L230: 7 | M230: 一等奖 | N230: 入围总决赛
A231: 8539 | B231: rFc1MGi-44-001-qr-009-1-U7u-01-par | C231: 'MakeX系列赛项' | D231: 'MakeX Starter全芯征途' | E231: 小学组 | F231: 致远火星战队 | G231: 上海健生成长汇培训学校 | H231: 李涛|杨飞 | I231: 李家睿|冯昊 | J231: 晋级冠军争夺战 | L231: 8 | M231: 一等奖 | N231: 入围总决赛
A232: 13115 | B232: rFc1MqX-44-001-L7-009-1-3Qj-01-jg4 | C232: 'MakeX系列赛项' | D232: 'MakeX Starter全芯征途' | E232: 小学组 | F232: 我的世界战队 | G232: 深圳蛇口育才教育集团龙珠学校 | H232: 王辉 | I232: 孙千淳|代堪哲 | J232: 晋级冠军争夺战 | L232: 9 | M232: 一等奖 | N232: 入围总决赛
A233: 12043 | B233: rFc1MqR-44-001-aJ-009-1-Ki6-01-JXx | C233: 'MakeX系列赛项' | D233: 'MakeX Starter全芯征途' | E233: 小学组 | F233: ATOM·螺丝刀 | G233: 深圳市龙华区丹堤实验学校 | H233: 陈莹莹 | I233: 文晨铭|彭楷 | J233: 晋级冠军争夺战 | L233: 10 | M233: 一等奖 | N233: 入围总决赛
A234: 9863 | B234: rFc1MGj-44-001-8O-009-1-bil-01-1gx | C234: 'MakeX系列赛项' | D234: 'MakeX Starter全芯征途' | E234: 小学组 | F234: 哈工致远火箭战队 | G234: 昆山市青少年宫 | H234: 孟娟|王桂花 | I234: 周皓成|柯易辰 | J234: 晋级冠军争夺战 | L234: 11 | M234: 一等奖 | N234: 入围总决赛
A235: 9857 | B235: rFc1MGY-44-001-0b-009-1-XkO-01-OjV | C235: 'MakeX系列赛项' | D235: 'MakeX Starter全芯征途' | E235: 小学组 | F235: 哈工致远立方战队 | G235: 昆山市青少年宫 | H235: 孟娟|王桂花 | I235: 余星辰|桂嘉许 | J235: 晋级冠军争夺战 | L235: 12 | M235: 一等奖 | N235: 入围总决赛
...

Sheet NeuroMaster 脑科学人工智能挑战赛项
A1: 2024世界机器人大赛昆明锦标赛-青少年机器人设计大赛-NeuroMaster 脑科学人工智能挑战赛项获奖名单
A2: 报名编号 | B2: 激活码 | C2: 赛道 | D2: 赛项 | E2: 组别 | F2: 队伍名称 | G2: 申报单位 | H2: 教练信息 | I2: 学生信息 | J2: 比赛分数 | K2: 成绩排名 | L2: 奖项 | M2: 备注
A3: 13651 | B3: rFc1M6D-44-016-8w-019-1-Cmv-01-OGk | C3: NeuroMaster 脑科学人工智能挑战赛项' | D3: 'NeuroMaster脑机星球' | E3: 小学组 | F3: 昆一中附小N1 | G3: 昆明市第一中学附属小学 | H3: 王涛 | I3: 李源|操昊然 | J3: 1620 | K3: 冠军 | L3: 一等奖(冠军) | M3: 入围总决赛
A4: 14627 | B4: rFc1MX5-44-016-sQ-019-1-zkz-01-Oi5 | C4: 'NeuroMaster 脑科学人工智能挑战赛项' | D4: 'NeuroMaster脑机星球' | E4: 小学组 | F4: 宁波东海实验学校二队 | G4: 宁波东海实验学校 | H4: 朱英 | I4: 屈若涵|梁诗琦 | J4: 1539 | K4: 亚军 | L4: 一等奖(亚军) | M4: 入围总决赛
A5: 9285 | B5: rFc1M6e-44-016-oQ-019-1-QTD-01-dNu | C5: NeuroMaster 脑科学人工智能挑战赛项' | D5: 'NeuroMaster脑机星球' | E5: 小学组 | F5: 中华二队 | G5: 昆明市中华小学 | H5: 杨可强 | I5: 敖麒尧|李师诗 | J5: 1528 | K5: 季军 | L5: 一等奖(季军) | M5: 入围总决赛
A6: 14834 | B6: rFc1MXI-44-016-n0-019-1-whz-01-Mc6 | C6: 'NeuroMaster 脑科学人工智能挑战赛项' | D6: 'NeuroMaster脑机星球' | E6: 小学组 | F6: 宁波东海实验学校三队 | G6: 宁波东海实验学校 | H6: 李中兵 | I6: 袁涵羽|竺彦汐 | J6: 1420 | K6: 4 | L6: 二等奖
A7: 8891 | B7: rFc1M6B-44-016-0U-019-1-VMx-01-v1z | C7: 'NeuroMaster 脑科学人工智能挑战赛项' | D7: 'NeuroMaster脑机星球' | E7: 小学组 | F7: 师大附小二队 | G7: 云南师范大学附属小学 | H7: 杨可强 | I7: 唐浩芮|李星骏 | J7: 1126 | K7: 5 | L7: 二等奖
A8: 13726 | B8: rFc1M6s-44-016-VA-019-1-Xpe-01-fUN | C8: 'NeuroMaster 脑科学人工智能挑战赛项' | D8: 'NeuroMaster脑机星球' | E8: 小学组 | F8: 脑机2 | G8: 昆明市第一中学附属小学 | H8: 唐威 | I8: 王玥琪|曾宇辰 | J8: 1020 | K8: 6 | L8: 二等奖
A9: 14850 | B9: rFc1MX6-44-016-Qb-019-1-nZb-01-6bO | C9: 'NeuroMaster 脑科学人工智能挑战赛项' | D9: 'NeuroMaster脑机星球' | E9: 小学组 | F9: 宁波东海实验学校一队 | G9: 宁波东海实验学校 | H9: 朱英 | I9: 吴启涵|胡正凯 | J9: 1020 | K9: 7 | L9: 二等奖
A10: 8883 | B10: rFc1M6n-44-016-fS-019-1-nED-01-WiU | C10: 'NeuroMaster 脑科学人工智能挑战赛项' | D10: 'NeuroMaster脑机星球' | E10: 小学组 | F10: 师大附小一队 | G10: 云南师范大学附属小学 | H10: 杨可强 | I10: 何梦栩|尹梓轩 | J10: 968 | K10: 8 | L10: 二等奖
A11: 13816 | B11: rFc1MXz-44-016-Y4-019-1-l2U-01-srh | C11: 'NeuroMaster 脑科学人工智能挑战赛项' | D11: 'NeuroMaster脑机星球' | E11: 小学组 | F11: 临沂三河口小学和德队 | G11: 临沂三河口小学 | H11: 王烁晗 | I11: 刘竞泽|宋婉宁 | J11: 920 | K11: 9 | L11: 二等奖
A12: 9555 | B12: rFc1MX7-44-016-Ku-019-1-4lG-01-58H | C12: 'NeuroMaster 脑科学人工智能挑战赛项' | D12: 'NeuroMaster脑机星球' | E12: 小学组 | F12: 诸神黄昏 | G12: 中民大附中昆明西山实验小学&金源小学联队 | H12: 高乐燕 | I12: 彭梓炫|胡子洋 | J12: 920 | K12: 10 | L12: 三等奖
A13: 14645 | B13: rFc1MXV-44-016-Fm-019-1-IPW-01-HYR | C13: 'NeuroMaster 脑科学人工智能挑战赛项' | D13: 'NeuroMaster脑机星球' | E13: 小学组 | F13: 宁波东海实验学校四队 | G13: 宁波东海实验学校 | H13: 朱英 | I13: 李子轩|李依辰 | J13: 820 | K13: 11 | L13: 三等奖
A14: 12798 | B14: rFc1MXy-44-016-u9-019-1-aT7-01-2jV | C14: 'NeuroMaster 脑科学人工智能挑战赛项' | D14: 'NeuroMaster脑机星球' | E14: 小学组 | F14: 未来之翼 | G14: 云南省昆明市西山区春苑小学 | H14: 沈宏超 | I14: 宋思莹 | J14: 820 | K14: 12 | L14: 三等奖
A15: 9226 | B15: rFc1M6g-44-016-yl-019-1-7sO-01-fhG | C15: 'NeuroMaster 脑科学人工智能挑战赛项' | D15: 'NeuroMaster脑机星球' | E15: 小学组 | F15: 中华一队 | G15: 昆明市中华小学 | H15: 杨可强 | I15: 张博宇|陈思明 | J15: 726 | K15: 13 | L15: 三等奖
A16: 17398 | B16: 2B8h6ygG-44-016-RJ-019-1-SlK-01-bVF | C16: 'NeuroMaster 脑科学人工智能挑战赛项' | D16: 'NeuroMaster脑机星球' | E16: 小学组 | F16: 琅琊飞龙 | G16: 临沂三河口小学 | H16: 王烁晗 | I16: 牛孝之|曹砚礼 | J16: 400 | K16: 14 | L16: 三等奖
A17: 17403 | B17: 2B8h6ygq-44-016-BD-019-1-ce6-01-VoX | C17: 'NeuroMaster 脑科学人工智能挑战赛项' | D17: 'NeuroMaster脑机星球' | E17: 小学组 | F17: 琅琊雏凤 | G17: 临沂三河口小学 | H17: 李娟 | I17: 牛馨茉|惠泷 | J17: 320 | K17: 15 | L17: 三等奖
... A19: 15054 | B19: rFc1MXb-44-016-qO-019-1-0Or-01-Nqq | C19: 'NeuroMaster 脑科学人工智能挑战赛项' | D19: 'NeuroMaster脑机星球' | E19: 小学组 | F19: 临沂三河口小学和正队 | G19: 临沂三河口小学 | H19: 王烁晗 | I19: 密良瑞蕊|吕政轩 | J19: 20 | K19: 16 | L19: 三等奖
A21: 9273 | B21: rFc1MMd-44-016-NI-017-1-wod-01-jnO | C21: 'NeuroMaster 脑科学人工智能挑战赛项' | D21: 'NeuroMaster火星救援-重返地球' | E21: 小学组 | F21: GEM杨帆队 | G21: 格尔木市青少年活动中心 | H21: 赵书松 | I21: 严焜映|保善鸿|靳彤萱 | J21: 2179 | K21: 冠军 | L21: 一等奖(冠军) | M21: 入围总决赛
A22: 10444 | B22: rFc1MMu-44-016-O9-017-1-dJT-01-6DL | C22: 'NeuroMaster 脑科学人工智能挑战赛项' | D22: 'NeuroMaster火星救援-重返地球' | E22: 小学组 | F22: 青海启航队 | G22: 西宁市中庄小学 | H22: 杨文丽 | I22: 范嘉怡|李禹涵|李彦庆 | J22: 2151 | K22: 亚军 | L22: 一等奖(亚军) | M22: 入围总决赛
A23: 11818 | B23: rFc1MMm-44-016-qx-017-1-jFN-01-pKP | C23: 'NeuroMaster 脑科学人工智能挑战赛项' | D23: 'NeuroMaster火星救援-重返地球' | E23: 小学组 | F23: 凤凰城小分队二组 | G23: 广州市增城区凤凰城中英文学校 | H23: 周子薇 | I23: 李梓铭|郭芷琳|胡子豪 | J23: 2131 | K23: 季军 | L23: 一等奖(季军) | M23: 入围总决赛
A24: 15210 | B24: rFc1Mxi-44-016-9d-017-1-S09-01-fmN | C24: 'NeuroMaster 脑科学人工智能挑战赛项' | D24: 'NeuroMaster火星救援-重返地球' | E24: 小学组 | F24: 临沂三河口小学和润队 | G24: 临沂三河口小学 | H24: 王烁晗 | I24: 季俣含|巩隽瑶|李昊宸 | J24: 1620 | K24: 4 | L24: 一等奖 | M24: 入围总决赛
A25: 11544 | B25: rFc1Mxn-44-016-ZF-017-1-Jla-01-Bdj | C25: 'NeuroMaster 脑科学人工智能挑战赛项' | D25: 'NeuroMaster火星救援-重返地球' | E25: 小学组 | F25: 福建龙岩松涛小学联队 | G25: 福建省龙岩市松涛小学 | H25: 卢照芳 | I25: 陈政宇|邱畯楠|陈思豪 | J25: 1522 | K25: 5 | L25: 二等奖
A26: 11517 | B26: rFc1MxQ-44-016-1j-017-1-wN1-01-Wzo | C26: 'NeuroMaster 脑科学人工智能挑战赛项' | D26: 'NeuroMaster火星救援-重返地球' | E26: 小学组 | F26: 福建省龙岩溪南小学联队 | G26: 福建省龙岩溪南小学 | H26: 卢照芳 | I26: 卢凌聪|蔡梓鑫|廖翊云 | J26: 1478 | K26: 6 | L26: 二等奖
A27: 11774 | B27: rFc1Mxk-44-016-5H-017-1-lHC-01-xPN | C27: 'NeuroMaster 脑科学人工智能挑战赛项' | D27: 'NeuroMaster火星救援-重返地球' | E27: 小学组 | F27: 略施小计 | G27: 安徽省阜阳市实验小学 | H27: 李银环|周超 | I27: 郝奕铭|任庆宇|张妤婕 | J27: 1371 | K27: 7 | L27: 二等奖
A28: 15221 | B28: rFc1Mx9-44-016-2q-017-1-33l-01-zKa | C28: 'NeuroMaster 脑科学人工智能挑战赛项' | D28: 'NeuroMaster火星救援-重返地球' | E28: 小学组 | F28: 临沂三河口小学 2队 | G28: 临沂三河口小学 | H28: 王烁晗 | I28: 巩隽成|彭蓝|曹原 | J28: 1370 | K28: 8 | L28: 二等奖
A29: 11612 | B29: rFc1MJ7-44-016-SG-017-1-e16-01-hD5 | C29: 'NeuroMaster 脑科学人工智能挑战赛项' | D29: 'NeuroMaster火星救援-重返地球' | E29: 小学组 | F29: 益起逐梦队 | G29: 大连开发区童牛岭小学 | H29: 郭婷 | I29: 邹佳恩|邹易敖|张舒淼 | J29: 1334 | K29: 9 | L29: 二等奖
A30: 11555 | B30: rFc1Mx1-44-016-dm-017-1-961-01-rGy | C30: 'NeuroMaster 脑科学人工智能挑战赛项' | D30: 'NeuroMaster火星救援-重返地球' | E30: 小学组 | F30: 龙岩师范附属小学联队 | G30: 福建龙岩师范附属小学 | H30: 卢照芳 | I30: 袁匀信|吴梦晴|陈治宇 | J30: 1228 | K30: 10 | L30: 二等奖
A31: 13604 | B31: rFc1MxI-44-016-br-017-1-1gc-01-PnO | C31: 'NeuroMaster 脑科学人工智能挑战赛项' | D31: 'NeuroMaster火星救援-重返地球' | E31: 小学组 | F31: 昆一中附小2 | G31: 昆明市第一中学附属小学 | H31: 唐威 | I31: 刘思淼|杨苏航|刘源盛 | J31: 1220 | K31: 11 | L31: 二等奖
A32: 15224 | B32: rFc1Mx0-44-016-Jk-017-1-OxX-01-cvW | C32: 'NeuroMaster 脑科学人工智能挑战赛项' | D32: 'NeuroMaster火星救援-重返地球' | E32: 小学组 | F32: 临沂柳青苑小学临沂三河口小学联队 | G32: 临沂柳青苑小学临沂三河口小学联队 | H32: 李正伟 | I32: 张可昕|李金轩|姜宇泽 | J32: 1220 | K32: 12 | L32: 二等奖
A33: 9713 | B33: rFc1Mxw-44-016-8g-017-1-Ic9-01-zhb | C33: 'NeuroMaster 脑科学人工智能挑战赛项' | D33: 'NeuroMaster火星救援-重返地球' | E33: 小学组 | F33: 小米二战队 | G33: 昆明市中华小学 | H33: 李亚莉|杨可强 | I33: 贺宇锐|毕昕源|费宇腾 | J33: 1220 | K33: 13 | L33: 三等奖
A34: 11107 | B34: rFc1Mxb-44-016-e0-017-1-75p-01-vFB | C34: 'NeuroMaster 脑科学人工智能挑战赛项' | D34: 'NeuroMaster火星救援-重返地球' | E34: 小学组 | F34: 未来工坊7 | G34: 临翔区凤翔小学 | H34: 潘朝玉 | I34: 黄于涵|陈恩颉|陈俊同 | J34: 1170 | K34: 14 | L34: 三等奖
A35: 9693 | B35: rFc1MxP-44-016-hk-017-1-zAD-01-ZkB | C35: 'NeuroMaster 脑科学人工智能挑战赛项' | D35: 'NeuroMaster火星救援-重返地球' | E35: 小学组 | F35: 小米一战队 | G35: 昆明市呈贡区师大附属七彩云南小学 | H35: 王睿|杨可强 | I35: 杨臻荣|刘宇辰|高哲云 | J35: 1170 | K35: 15 | L35: 三等奖
A36: 11730 | B36: rFc1MJv-44-016-y3-017-1-Mhd-01-0VC | C36: 'NeuroMaster 脑科学人工智能挑战赛项' | D36: 'NeuroMaster火星救援-重返地球' | E36: 小学组 | F36: 小试牛刀 | G36: 安徽省阜阳市实验小学 | H36: 李银环|周超 | I36: 陈市博|周明熙|张铭洋 | J36: 1170 | K36: 15 | L36: 三等奖
... A44: 11721 | B44: rFc1MJP-44-016-dM-017-1-7OA-01-MFY | C44: 'NeuroMaster 脑科学人工智能挑战赛项' | D44: 'NeuroMaster火星救援-重返地球' | E44: 小学组 | F44: 青春飞扬队 | G44: 通辽市科尔沁区丑小鸭特殊教育学校 | H44: 陶静 | I44: 邓博扬|王浩然 | J44: 420 | K44: 24 | L44: 三等奖
A46: 15090 | B46: rFc1Sgq-44-016-n5-017-1-WpY-02-4JB | C46: 'NeuroMaster 脑科学人工智能挑战赛项' | D46: 'NeuroMaster火星救援-重返地球' | E46: 初中组 | F46: 卧龙队 | G46: 安徽省阜阳市城南中学 | H46: 周超|李银环 | I46: 周子杰|王丁睿|刘紫涵 | J46: 2429 | K46: 冠军 | L46: 一等奖(冠军) | M46: 入围总决赛
A47: 11197 | B47: rFc1MJe-44-016-Bk-017-1-WNL-02-ugc | C47: 'NeuroMaster 脑科学人工智能挑战赛项' | D47: 'NeuroMaster火星救援-重返地球' | E47: 初中组 | F47: 级数收敛 | G47: 安宁中学嵩华学校 | H47: 普彪|段文娟 | I47: 武奕轩|王梓涵|奎文博 | J47: 1973 | K47: 亚军 | L47: 一等奖(亚军) | M47: 入围总决赛
A48: 9198 | B48: rFc1MiP-44-016-hG-017-1-Usi-02-ufg | C48: 'NeuroMaster 脑科学人工智能挑战赛项' | D48: 'NeuroMaster火星救援-重返地球' | E48: 初中组 | F48: 这不队 | G48: 安宁市昆钢第一中学 | H48: 李梦厅|聂正艳 | I48: 周欣|彭博|姚海源 | J48: 1972 | K48: 季军 | L48: 一等奖(季军) | M48: 入围总决赛
A49: 12446 | B49: rFc1MJg-44-016-Fb-017-1-EVr-02-G5c | C49: 'NeuroMaster 脑科学人工智能挑战赛项' | D49: 'NeuroMaster火星救援-重返地球' | E49: 初中组 | F49: 昆仑之光 | G49: 青海省海西州大柴旦行委中心学校 | H49: 吴金虎 | I49: 王一恒|王爽|吕文昊 | J49: 1878 | K49: 4 | L49: 二等奖
A50: 11604 | B50: rFc1SgG-44-016-Lr-017-1-x4F-02-KhU | C50: 'NeuroMaster 脑科学人工智能挑战赛项' | D50: 'NeuroMaster火星救援-重返地球' | E50: 初中组 | F50: 育才二中梦之队 | G50: 深圳市蛇口育才教育集团育才二中 | H50: 吴晓茜|唐帆 | I50: 欧阳嘉骋|陈奕涵|汪煜城 | J50: 1677 | K50: 5 | L50: 二等奖
A51: 13806 | B51: rFc1Mi2-44-016-xg-017-1-npM-02-DOk | C51: 'NeuroMaster 脑科学人工智能挑战赛项' | D51: 'NeuroMaster火星救援-重返地球' | E51: 初中组 | F51: 云呈2队 | G51: 昆明市呈贡区云大附中呈贡中学 | H51: 豆志明 | I51: 严翔|余颢羿|王昱程 | J51: 1670 | K51: 6 | L51: 二等奖
A52: 14886 | B52: rFc1Sg4-44-016-X0-017-1-TBc-02-XIM | C52: 'NeuroMaster 脑科学人工智能挑战赛项' | D52: 'NeuroMaster火星救援-重返地球' | E52: 初中组 | F52: 阳光之星 | G52: 望江县初级中学 | H52: 饶玉婷|王贵娟 | I52: 周梓凯|彭朗|叶建豪 | J52: 1370 | K52: 7 | L52: 二等奖
A53: 15223 | B53: rFc1Sgb-44-016-T4-017-1-WJ5-02-KYt | C53: 'NeuroMaster 脑科学人工智能挑战赛项' | D53: 'NeuroMaster火星救援-重返地球' | E53: 初中组 | F53: 有声力量 | G53: 大连经济技术开发区红梅小学 | H53: 郭婷 | I53: 赵语晨|王淳|秦梓航 | J53: 1370 | K53: 8 | L53: 三等奖
A54: 13955 | B54: rFc1MJu-44-016-ZC-017-1-rvO-02-uOT | C54: 'NeuroMaster 脑科学人工智能挑战赛项' | D54: 'NeuroMaster火星救援-重返地球' | E54: 初中组 | F54: 七星梦之队 | G54: 西宁市第七中学中华校区 | H54: 赵太芳 | I54: 单暄妍|马瑾轩|许显之 | J54: 1370 | K54: 8 | L54: 三等奖
A55: 13793 | B55: rFc1Miz-44-016-OW-017-1-qh0-02-9KV | C55: 'NeuroMaster 脑科学人工智能挑战赛项' | D55: 'NeuroMaster火星救援-重返地球' | E55: 初中组 | F55: 云呈3队 | G55: 昆明市呈贡区云大附中呈贡中学 | H55: 豆志明 | I55: 施玟瑞|郭一鸣|周奕帆 | J55: 1320 | K55: 10 | L55: 三等奖
A56: 10419 | B56: rFc1MJR-44-016-Py-017-1-etN-02-3If | C56: 'NeuroMaster 脑科学人工智能挑战赛项' | D56: 'NeuroMaster火星救援-重返地球' | E56: 初中组 | F56: 吉化第九中学校燚燚队 | G56: 吉化第九中学校 | H56: 陈希勇|赵静 | I56: 刘宇宸|王樱霓|吕明珠 | J56: 1236 | K56: 11 | L56: 三等奖
A57: 9904 | B57: rFc1Mi7-44-016-69-017-1-T5i-02-pAi | C57: 'NeuroMaster 脑科学人工智能挑战赛项' | D57: 'NeuroMaster火星救援-重返地球' | E57: 初中组 | F57: 拐点W | G57: 安宁市昆钢第一中学 | H57: 罗红萍|王丽华 | I57: 王声睿|杨雯竹|罗林 | J57: 1220 | K57: 12 | L57: 三等奖
A58: 11108 | B58: rFc1MJs-44-016-gW-017-1-878-02-lzE | C58: 'NeuroMaster 脑科学人工智能挑战赛项' | D58: 'NeuroMaster火星救援-重返地球' | E58: 初中组 | F58: 别有幽愁暗恨生 | G58: 安宁中学嵩华学校 | H58: 普彪|段文娟 | I58: 张睿涵|雷万云|毕敬欣 | J58: 820 | K58: 13 | L58: 三等奖
A59: 10403 | B59: rFc1MJQ-44-016-2v-017-1-Tp2-02-WmX | C59: 'NeuroMaster 脑科学人工智能挑战赛项' | D59: 'NeuroMaster火星救援-重返地球' | E59: 初中组 | F59: 吉化第九中学校龘龘1队 | G59: 吉化第九中学校 | H59: 陈希勇|曹馨月 | I59: 于瀚博|艾晴|程基雨 | J59: 570 | K59: 14 | L59: 三等奖
A61: 10097 | B61: rFc1Mii-44-016-SE-018-1-gLh-01-bxB | C61: 'NeuroMaster 脑科学人工智能挑战赛项' | D61: 'NeuroMaster未来之城' | E61: 小学组 | F61: 思南凤仪科技1队 | G61: 思南县第一小学 | H61: 旷江华|汪敏 | I61: 蔡冲冲|黎航瑞|马瑞培 | J61: 晋级冠亚季赛 | K61: 冠军 | L61: 一等奖(冠军) | M61: 入围总决赛
A62: 13852 | B62: rFc1Srm-44-016-IM-018-1-J4C-01-OtG | C62: 'NeuroMaster 脑科学人工智能挑战赛项' | D62: 'NeuroMaster未来之城' | E62: 小学组 | F62: 三河口小学和正队 | G62: 临沂三河口小学 | H62: 王烁晗 | I62: 伊向明|李昊轩|宋婉宁|李昊宸 | J62: 晋级冠亚季赛 | K62: 亚军 | L62: 一等奖(亚军) | M62: 入围总决赛
A63: 11979 | B63: rFc1Mix-44-016-sm-018-1-UnN-01-xyQ | C63: 'NeuroMaster 脑科学人工智能挑战赛项' | D63: 'NeuroMaster未来之城' | E63: 小学组 | F63: 沿河土家族自治县实验小学 | G63: 沿河土家族自治县实验小学 | H63: 田俊波|黄娅 | I63: 崔俊昊|冉启森|刘家沁|李家乐 | J63: 晋级冠亚季赛 | K63: 季军 | L63: 一等奖(季军) | M63: 入围总决赛
A64: 15492 | B64: rFc1Min-44-016-vY-018-1-I63-01-ts7 | C64: 'NeuroMaster 脑科学人工智能挑战赛项' | D64: 'NeuroMaster未来之城' | E64: 小学组 | F64: 星星闪耀 | G64: 贵州省兴义市红星路小学 | H64: 王丰惠 | I64: 侯宇桐|魏文婉|徐御城 | J64: 晋级冠亚季赛 | K64: 4 | L64: 一等奖 | M64: 入围总决赛
A65: 13847 | B65: rFc1M6Z-44-016-Av-018-1-FKz-01-5iL | C65: 'NeuroMaster 脑科学人工智能挑战赛项' | D65: 'NeuroMaster未来之城' | E65: 小学组 | F65: 三河口小学和谦队 | G65: 临沂三河口小学 | H65: 王烁晗 | I65: 牛孝之|巩隽成|曹原|彭蓝 | J65: 未晋级冠亚季赛 | K65: 5 | L65: 二等奖
A66: 15443 | B66: rFc1Mi8-44-016-Y3-018-1-8HW-01-iRM | C66: 'NeuroMaster 脑科学人工智能挑战赛项' | D66: 'NeuroMaster未来之城' | E66: 小学组 | F66: 万里无云 | G66: 贵州省兴义市红星路小学 | H66: 王丰惠 | I66: 李通益|左原锦 | J66: 未晋级冠亚季赛 | K66: 6 | L66: 二等奖
A67: 9872 | B67: rFc1Sr1-44-016-rA-018-1-OAa-01-1sv | C67: 'NeuroMaster 脑科学人工智能挑战赛项' | D67: 'NeuroMaster未来之城' | E67: 小学组 | F67: 飞跃未来 | G67: 甘肃省华亭市实验小学 | H67: 何文萍|马灵娟 | I67: 陈梓轶|吕韶凡 | J67: 未晋级冠亚季赛 | K67: 7 | L67: 二等奖
A68: 13831 | B68: rFc1M6v-44-016-jN-018-1-iPT-01-XYL | C68: 'NeuroMaster 脑科学人工智能挑战赛项' | D68: 'NeuroMaster未来之城' | E68: 小学组 | F68: 三河口小学和德队 | G68: 临沂三河口小学 | H68: 王烁晗 | I68: 牛馨茉|张可昕|刘竞泽|李金轩 | J68: 未晋级冠亚季赛 | K68: 8 | L68: 二等奖
A69: 15500 | B69: rFc1Miu-44-016-Ek-018-1-4LO-01-zb4 | C69: 'NeuroMaster 脑科学人工智能挑战赛项' | D69: 'NeuroMaster未来之城' | E69: 小学组 | F69: 智慧小组 | G69: 贵州省兴义市红星路小学 | H69: 王丰惠 | I69: 蒋尚轩|吴致远|苏世金 | J69: 未晋级冠亚季赛 | K69: 9 | L69: 二等奖
A70: 14928 | B70: rFc1MiD-44-016-WX-018-1-77O-01-FqS | C70: 'NeuroMaster 脑科学人工智能挑战赛项' | D70: 'NeuroMaster未来之城' | E70: 小学组 | F70: 知凡嘉泽队 | G70: 中国人民大学附属中学海口实验学校 | H70: 杨文杰 | I70: 李知凡|倪嘉泽 | J70: 未晋级冠亚季赛 | K70: 10 | L70: 二等奖
A71: 10494 | B71: rFc1MiJ-44-016-4O-018-1-Ode-01-svN | C71: 'NeuroMaster 脑科学人工智能挑战赛项' | D71: 'NeuroMaster未来之城' | E71: 小学组 | F71: 脑科学小组 | G71: 六盘水市水城区第二小学 | H71: 李溪|赵临宇 | I71: 鲁春|邓浩然|唐鑫怡|柏施羽 | J71: 未晋级冠亚季赛 | K71: 11 | L71: 二等奖
A72: 10478 | B72: rFc1Mic-44-016-Kn-018-1-I6K-01-RpG | C72: 'NeuroMaster 脑科学人工智能挑战赛项' | D72: 'NeuroMaster未来之城' | E72: 小学组 | F72: 一举成名队 | G72: 领航科教 | H72: 赵登群 | I72: 修晨邗|韩柏序|马文昊|周錱正 | J72: 未晋级冠亚季赛 | K72: 12 | L72: 二等奖
A73: 14434 | B73: rFc1Mid-44-016-hc-018-1-OB9-01-Fqz | C73: 'NeuroMaster 脑科学人工智能挑战赛项' | D73: 'NeuroMaster未来之城' | E73: 小学组 | F73: 沐菲战队 | G73: 中国人民大学附属中学海口实验学校 | H73: 杨文杰 | I73: 李翊菲|李沐晴 | J73: 未晋级冠亚季赛 | K73: 13 | L73: 三等奖
A74: 9773 | B74: rFc1SrF-44-016-U1-018-1-zjm-01-0YS | C74: 'NeuroMaster 脑科学人工智能挑战赛项' | D74: 'NeuroMaster未来之城' | E74: 小学组 | F74: 探索小队 | G74: 沿河土家族自治县第六完全小学 | H74: 姜妮|陈俊 | I74: 陈泫羽|罗奕涵|王雨晗 | J74: 未晋级冠亚季赛 | K74: 14 | L74: 三等奖
A75: 10988 | B75: rFc1Sru-44-016-jv-018-1-jqU-01-Xcj | C75: 'NeuroMaster 脑科学人工智能挑战赛项' | D75: 'NeuroMaster未来之城' | E75: 小学组 | F75: 一飞冲天 | G75: 白银市平川区第三中学 | H75: 贺国环|周海燕 | I75: 杨俊渊|张一一 | J75: 未晋级冠亚季赛 | K75: 15 | L75: 三等奖
A76: 14480 | B76: rFc1MiF-44-016-Op-018-1-q9V-01-Rbs | C76: 'NeuroMaster 脑科学人工智能挑战赛项' | D76: 'NeuroMaster未来之城' | E76: 小学组 | F76: 资源柏涵 | G76: 北京大学附属小学海口学校 | H76: 胡祎庭 | I76: 资源|华柏涵 | J76: 未晋级冠亚季赛 | K76: 16 | L76: 三等奖
... A83: 14470 | B83: rFc1Mib-44-016-x3-018-1-FTK-01-K0Q | C83: 'NeuroMaster 脑科学人工智能挑战赛项' | D83: 'NeuroMaster未来之城' | E83: 小学组 | F83: 天立格墨拉战线1队 | G83: 保山天立学校 | H83: 彭宁 | I83: 彭浩桐|王思然 | J83: 未晋级冠亚季赛 | K83: 23 | L83: 三等奖
A85: 13807 | B85: rFc1Sdn-44-016-yh-018-1-cvB-07-ITM | C85: 'NeuroMaster 脑科学人工智能挑战赛项' | D85: 'NeuroMaster未来之城' | E85: 中学组 | F85: 琅琊和德 | G85: 临沂第四中学 | H85: 吕海涛 | I85: 姜宇泽|孙阳|杨雅惠|吕政轩 | J85: 晋级冠亚季赛 | K85: 冠军 | L85: 一等奖(冠军) | M85: 入围总决赛
A86: 13790 | B86: rFc1SdE-44-016-Mx-018-1-7PQ-07-DE6 | C86: 'NeuroMaster 脑科学人工智能挑战赛项' | D86: 'NeuroMaster未来之城' | E86: 中学组 | F86: 琅琊和正 | G86: 临沂第四中学 | H86: 吕海涛 | I86: 季俣含|密良瑞蕊|巩隽瑶|惠峻棋 | J86: 晋级冠亚季赛 | K86: 亚军 | L86: 一等奖(亚军) | M86: 入围总决赛
A87: 9549 | B87: rFc1SdU-44-016-F9-018-1-uUc-07-ixO | C87: 'NeuroMaster 脑科学人工智能挑战赛项' | D87: 'NeuroMaster未来之城' | E87: 中学组 | F87: 未来之芯 | G87: 白银市平川区第二中学 | H87: 顾润霞|苟红星 | I87: 李欣瑶|刘芸菁|王曦晨|马逸轩 | J87: 晋级冠亚季赛 | K87: 季军 | L87: 一等奖(季军) | M87: 入围总决赛
A88: 13804 | B88: rFc1Sdj-44-016-jK-018-1-Vbv-07-eXo | C88: 'NeuroMaster 脑科学人工智能挑战赛项' | D88: 'NeuroMaster未来之城' | E88: 中学组 | F88: 求实科技 | G88: 云南省昆明市第十中学 | H88: 李东霖|吴骥鹏 | I88: 刘航溦|黄柏闻|黄新晖|朱家樑 | J88: 晋级冠亚季赛 | K88: 4 | L88: 一等奖 | M88: 入围总决赛
A89: 10350 | B89: rFc1M6a-44-016-py-018-1-LmZ-07-fDo | C89: 'NeuroMaster 脑科学人工智能挑战赛项' | D89: 'NeuroMaster未来之城' | E89: 中学组 | F89: 乡村振兴班 | G89: 贵州省印江中学 | H89: 邓强 | I89: 李江媛|杨静馨|易欣然|万黔新 | J89: 未晋级冠亚季赛 | K89: 5 | L89: 二等奖
A90: 9879 | B90: rFc1M6p-44-016-Nn-018-1-BXP-07-ddZ | C90: 'NeuroMaster 脑科学人工智能挑战赛项' | D90: 'NeuroMaster未来之城' | E90: 中学组 | F90: 思南双星战队 | G90: 思南县思中初级中学 | H90: 梁仕军|陈小玲 | I90: 旷志成|刘人萌 | J90: 未晋级冠亚季赛 | K90: 6 | L90: 二等奖
A91: 9711 | B91: rFc1Sdw-44-016-55-018-1-PsK-07-yI3 | C91: 'NeuroMaster 脑科学人工智能挑战赛项' | D91: 'NeuroMaster未来之城' | E91: 中学组 | F91: 武威第二十六中学超越队 | G91: 武威第二十六中学 | H91: 李庚升|安建伟 | I91: 陈伟|杨佳龙|张淏 | J91: 未晋级冠亚季赛 | K91: 7 | L91: 二等奖
A92: 12062 | B92: rFc1M6E-44-016-0m-018-1-qIo-07-X5i | C92: 'NeuroMaster 脑科学人工智能挑战赛项' | D92: 'NeuroMaster未来之城' | E92: 中学组 | F92: 鹤鸣 | G92: 沿河民族中学 | H92: 张军|蒋青青 | I92: 冉永东|蒋东东|张琰彬|田江勇 | J92: 未晋级冠亚季赛 | K92: 8 | L92: 二等奖
A93: 9915 | B93: rFc1Sd6-44-016-Cx-018-1-wWT-07-yzu | C93: 'NeuroMaster 脑科学人工智能挑战赛项' | D93: 'NeuroMaster未来之城' | E93: 中学组 | F93: 冲锋队 | G93: 沿河思源实验学校 | H93: 田冲|张全 | I93: 敖溢腾|刘健豪|孙天瑞|李荣 | J93: 未晋级冠亚季赛 | K93: 9 | L93: 二等奖
A94: 9035 | B94: rFc1M6H-44-016-09-018-1-GQS-07-Wao | C94: 'NeuroMaster 脑科学人工智能挑战赛项' | D94: 'NeuroMaster未来之城' | E94: 中学组 | F94: 贵阳市女子职业学校 | G94: 贵阳市女子职业学校 | H94: 甘功宇 | I94: 青康亦|王丝雨|胡隆彬|崔诺帆 | J94: 未晋级冠亚季赛 | K94: 10 | L94: 二等奖
A95: 9884 | B95: rFc1M6K-44-016-Gz-018-1-ATf-07-eOn | C95: 'NeuroMaster 脑科学人工智能挑战赛项' | D95: 'NeuroMaster未来之城' | E95: 中学组 | F95: 廿三一队 | G95: 六盘水市第二十三中学 | H95: 李政权|杨军 | I95: 李建佟|李瑞丰|赵冰峰|李昊雨 | J95: 未晋级冠亚季赛 | K95: 11 | L95: 二等奖
A96: 12249 | B96: rFc1Sdp-44-016-9h-018-1-3Lf-07-nzN | C96: 'NeuroMaster 脑科学人工智能挑战赛项' | D96: 'NeuroMaster未来之城' | E96: 中学组 | F96: 铜仁市民族中学2队 | G96: 铜仁市民族中学 | H96: 熊欣 | I96: 吴思思|刘珊珊|王超熠|冉应琴 | J96: 未晋级冠亚季赛 | K96: 12 | L96: 二等奖
A97: 10859 | B97: rFc1M6x-44-016-cz-018-1-zCv-07-mqa | C97: 'NeuroMaster 脑科学人工智能挑战赛项' | D97: 'NeuroMaster未来之城' | E97: 中学组 | F97: 贵阳折耳根队 | G97: 领航科教 | H97: 汤冉 | I97: 熊岳鸣|朱羽墨|袁周辰析|罗浩文 | J97: 未晋级冠亚季赛 | K97: 13 | L97: 二等奖
A98: 10787 | B98: rFc1M6f-44-016-S9-018-1-19b-07-p5B | C98: 'NeuroMaster 脑科学人工智能挑战赛项' | D98: 'NeuroMaster未来之城' | E98: 中学组 | F98: 少年先疯队 | G98: 领航科教 | H98: 范婷 | I98: 龙琦烨|李昌慧|马文强|张沐晨 | J98: 未晋级冠亚季赛 | K98: 14 | L98: 三等奖
A99: 11106 | B99: rFc1Sdx-44-016-dV-018-1-Go7-07-4Ym | C99: 'NeuroMaster 脑科学人工智能挑战赛项' | D99: 'NeuroMaster未来之城' | E99: 中学组 | F99: 白塔重工 | G99: 云南省昆明市第十中学 | H99: 盘镇鸣|郑作贵 | I99: 张恩綦|杨翕焜|陈正坤|魏俊杰 | J99: 未晋级冠亚季赛 | K99: 15 | L99: 三等奖
A100: 9592 | B100: rFc1SdP-44-016-jh-018-1-hBx-07-aOj | C100: 'NeuroMaster 脑科学人工智能挑战赛项' | D100: 'NeuroMaster未来之城' | E100: 中学组 | F100: 武威第二十六中学飞扬队 | G100: 武威第二十六中学 | H100: 马生峰|李艳春 | I100: 邱俊熙|陈煜杰|白天瑜 | J100: 未晋级冠亚季赛 | K100: 16 | L100: 三等奖
... A110: 10622 | B110: rFc1SdC-44-016-28-018-1-Vy1-07-f1s | C110: 'NeuroMaster 脑科学人工智能挑战赛项' | D110: 'NeuroMaster未来之城' | E110: 中学组 | F110: 廿三三队 | G110: 六盘水市第二十三中学 | H110: 张邯|刘荣坤 | I110: 李世俊|陈建隆|李弄月|葛雅楠 | J110: 未晋级冠亚季赛 | K110: 26 | L110: 三等奖

Sheet Super AI超级轨迹赛项
A1: 2024世界机器人大赛昆明锦标赛-青少年机器人设计大赛-Super AI超级轨迹赛项获奖名单
A2: 报名编号 | B2: 激活码 | C2: 赛道 | D2: 赛项 | E2: 组别 | F2: 队伍名称 | G2: 申报单位 | H2: 教练信息 | I2: 学生信息 | J2: 比赛分数 | K2: 比赛用时 | L2: 成绩排名 | M2: 奖项 | N2: 备注
A3: 6779 | B3: rFc1JvY-44-020-Qt-022-1-q9M-05-J6I | C3: Super AI超级轨迹赛项' | D3: Super AI超级轨迹赛-星际穿越 | E3: 小学低龄组 | F3: 卡比兽 | G3: 重庆市渝中区大田湾小学校 | H3: 李亭亭 | I3: 李涵瑜 | J3: 794 | K3: 65.52 | L3: 1 | M3: 一等奖(冠军) | N3: 入围总决赛
A4: 9891 | B4: rFc1xFD-44-020-OA-022-1-NSP-05-cwd | C4: 'Super AI超级轨迹赛项' | D4: Super AI超级轨迹赛-星际穿越 | E4: 小学低龄组 | F4: 比多战队 | G4: 玉林市创客协会 | H4: 吴坚 | I4: 陆羿亘 | J4: 782 | K4: 77.73 | L4: 2 | M4: 一等奖(亚军) | N4: 入围总决赛
A5: 10667 | B5: rFc1xFU-44-020-SE-022-1-PZk-05-NZd | C5: 'Super AI超级轨迹赛项' | D5: Super AI超级轨迹赛-星际穿越 | E5: 小学低龄组 | F5: 冲锋1队 | G5: 贵阳市云岩区达志学校 | H5: 姜涛 | I5: 杨允奕 | J5: 776 | K5: 83.47 | L5: 3 | M5: 一等奖(季军) | N5: 入围总决赛
A6: 6789 | B6: rFc1Jvn-44-020-aM-022-1-zpd-05-4mo | C6: 'Super AI超级轨迹赛项' | D6: Super AI超级轨迹赛-星际穿越 | E6: 小学低龄组 | F6: RPG火箭筒 | G6: 重庆市江北区江北嘴实验学校 | H6: 陈帅 | I6: 张谨文 | J6: 775 | K6: 84.91 | L6: 4 | M6: 一等奖 | N6: 入围总决赛
A7: 9780 | B7: rFc1xss-44-020-6T-022-1-V4W-05-s6u | C7: 'Super AI超级轨迹赛项' | D7: Super AI超级轨迹赛-星际穿越 | E7: 小学低龄组 | F7: 翱翔金雁 | G7: 广汉市金雁小学 | H7: 罗杰 | I7: 刘昕扬 | J7: 775 | K7: 85.41 | L7: 5 | M7: 一等奖 | N7: 入围总决赛
A8: 9188 | B8: rFc1xFk-44-020-uM-022-1-zra-05-yY6 | C8: 'Super AI超级轨迹赛项' | D8: Super AI超级轨迹赛-星际穿越 | E8: 小学低龄组 | F8: 广西玉林市玉州区第三实验小学战队 | G8: 玉林市玉州区第三实验小学 | H8: 马翠玲 | I8: 李钧廷 | J8: 770 | K8: 89.59 | L8: 6 | M8: 一等奖 | N8: 入围总决赛
A9: 8057 | B9: rFc1JPu-44-020-G4-022-1-pNr-05-ODe | C9: 'Super AI超级轨迹赛项' | D9: Super AI超级轨迹赛-星际穿越 | E9: 小学低龄组 | F9: 卓越队 | G9: 昆明滇池国家旅游度假区海贝中英文学校 | H9: 赵雅君 | I9: 胡恒铨 | J9: 757 | K9: 103.23 | L9: 7 | M9: 一等奖 | N9: 入围总决赛
A10: 7505 | B10: rFc1JPx-44-020-HE-022-1-Jbg-05-vog | C10: 'Super AI超级轨迹赛项' | D10: Super AI超级轨迹赛-星际穿越 | E10: 小学低龄组 | F10: 科瑾战队 | G10: 昆明理工大学附属小学 | H10: 王利坤 | I10: 李科瑾 | J10: 750 | K10: 104.57 | L10: 8 | M10: 一等奖 | N10: 入围总决赛
A11: 6859 | B11: rFc1xFP-44-020-Nn-022-1-49S-05-O0z | C11: 'Super AI超级轨迹赛项' | D11: Super AI超级轨迹赛-星际穿越 | E11: 小学低龄组 | F11: 芜湖市清水小学战队 | G11: 芜湖市清水小学 | H11: 方抒 | I11: 郁宗睿 | J11: 655 | K11: 69.4 | L11: 9 | M11: 一等奖 | N11: 入围总决赛
A12: 6959 | B12: rFc1xFw-44-020-C4-022-1-uOF-05-sVk | C12: 'Super AI超级轨迹赛项' | D12: Super AI超级轨迹赛-星际穿越 | E12: 小学低龄组 | F12: 凤鸣宸若队 | G12: 芜湖市凤鸣实验小学 | H12: 林林 | I12: 王宸若 | J12: 654 | K12: 71.76 | L12: 10 | M12: 一等奖 | N12: 入围总决赛
A13: 7103 | B13: rFc1JhP-44-020-oa-022-1-asj-05-vnH | C13: 'Super AI超级轨迹赛项' | D13: Super AI超级轨迹赛-星际穿越 | E13: 小学低龄组 | F13: 达志1队 | G13: 贵阳市云岩区达志学校 | H13: 姜涛 | I13: 胡诗琪 | J13: 650 | K13: 80.76 | L13: 11 | M13: 一等奖 | N13: 入围总决赛
A14: 6937 | B14: rFc1Jvr-44-020-HQ-022-1-iGr-05-U53 | C14: 'Super AI超级轨迹赛项' | D14: Super AI超级轨迹赛-星际穿越 | E14: 小学低龄组 | F14: 雾都王者 | G14: 重庆市北碚区锦林小学 | H14: 周伟 | I14: 王予贤 | J14: 640 | K14: 135.16 | L14: 12 | M14: 一等奖 | N14: 入围总决赛
... A16: 9384 | B16: rFc1JhA-44-020-Aw-022-1-Bu4-05-hRG | C16: 'Super AI超级轨迹赛项' | D16: Super AI超级轨迹赛-星际穿越 | E16: 小学低龄组 | F16: WRZ战队 | G16: 兰州市七里河区银滩泽华小学 | H16: 徐丽霞 | I16: 王瑞祖 | J16: 515 | K16: 101.69 | L16: 14 | M16: 一等奖 | N16: 入围总决赛
A17: 10041 | B17: rFc1xsv-44-020-NO-022-1-yBa-05-VAV | C17: 'Super AI超级轨迹赛项' | D17: Super AI超级轨迹赛-星际穿越 | E17: 小学低龄组 | F17: 广西玉林市玉州区大北小学 | G17: 广西玉林市大北小学 | H17: 庞若欣 | I17: 梁振宏 | J17: 515 | K17: 115.82 | L17: 15 | M17: 二等奖
A18: 12191 | B18: rFc1JPp-44-020-Rc-022-1-EGG-05-bIw | C18: 'Super AI超级轨迹赛项' | D18: Super AI超级轨迹赛-星际穿越 | E18: 小学低龄组 | F18: 心灵队 | G18: 昆明市西山区前卫南坝中心学校官庄分校 | H18: 贺雨婷 | I18: 杨欣霖 | J18: 515 | K18: 137.75 | L18: 16 | M18: 二等奖
A19: 8799 | B19: rFc1Jhy-44-020-Xu-022-1-fsA-05-JW3 | C19: 'Super AI超级轨迹赛项' | D19: Super AI超级轨迹赛-星际穿越 | E19: 小学低龄组 | F19: LSM战队 | G19: 兰州市七里河区安西路小学 | H19: 赵鹏 | I19: 李书民 | J19: 454 | K19: 85.2 | L19: 17 | M19: 二等奖
A20: 8455 | B20: rFc1JvD-44-020-o9-022-1-Ctv-05-3nS | C20: 'Super AI超级轨迹赛项' | D20: Super AI超级轨迹赛-星际穿越 | E20: 小学低龄组 | F20: 银河之星 | G20: 蒙自市银河小学 | H20: 徐亚娟 | I20: 杨舒梵 | J20: 420 | K20: 67.87 | L20: 18 | M20: 二等奖
A21: 6784 | B21: rFc1Jv8-44-020-cK-022-1-SrI-05-NhC | C21: 'Super AI超级轨迹赛项' | D21: Super AI超级轨迹赛-星际穿越 | E21: 小学低龄组 | F21: 中国中车 | G21: 重庆市南城巴川学校 | H21: 陈功 | I21: 黄梓轩 | J21: 390 | K21: 67.22 | L21: 19 | M21: 二等奖
A22: 9709 | B22: rFc1xsh-44-020-dv-022-1-SPn-05-8hW | C22: 'Super AI超级轨迹赛项' | D22: Super AI超级轨迹赛-星际穿越 | E22: 小学低龄组 | F22: 猛虎队 | G22: 玉林市创客协会 | H22: 钟蓓宏 | I22: 阮梓扬 | J22: 385 | K22: 93.88 | L22: 20 | M22: 二等奖
A23: 11429 | B23: rFc1xsl-44-020-SP-022-1-8A1-05-vZR | C23: 'Super AI超级轨迹赛项' | D23: Super AI超级轨迹赛-星际穿越 | E23: 小学低龄组 | F23: 桂雅1队 | G23: 广西南宁市桂雅路小学桂花校区 | H23: 莫剑明 | I23: 李书睿 | J23: 385 | K23: 110.5 | L23: 21 | M23: 二等奖
A24: 9586 | B24: rFc1xFr-44-020-Af-022-1-Sir-05-Uda | C24: 'Super AI超级轨迹赛项' | D24: Super AI超级轨迹赛-星际穿越 | E24: 小学低龄组 | F24: 鼎佳启学队 | G24: 玉林市玉州区东环小学 | H24: 陈凤 | I24: 张亦涵 | J24: 350 | K24: 128.2 | L24: 22 | M24: 二等奖
A25: 6791 | B25: rFc1Jv3-44-020-TB-022-1-cOs-05-Zeq | C25: 'Super AI超级轨迹赛项' | D25: Super AI超级轨迹赛-星际穿越 | E25: 小学低龄组 | F25: Mag x | G25: 重庆市渝中区中华路小学校 | H25: 邓下红 | I25: 向智弘 | J25: 335 | K25: 59.86 | L25: 23 | M25: 二等奖
A26: 7322 | B26: rFc1JhX-44-020-9J-022-1-VJe-05-zj4 | C26: 'Super AI超级轨迹赛项' | D26: Super AI超级轨迹赛-星际穿越 | E26: 小学低龄组 | F26: 达德1队 | G26: 贵阳市南明区达德学校 | H26: 孙凤丹 | I26: 罗盛蓝 | J26: 325 | K26: 121.77 | L26: 24 | M26: 二等奖
A27: 6750 | B27: rFc1Jvl-44-020-gA-022-1-Mtl-05-OIf | C27: 'Super AI超级轨迹赛项' | D27: Super AI超级轨迹赛-星际穿越 | E27: 小学低龄组 | F27: 熠之光战队 | G27: 重庆市渝北区龙山小学校 | H27: 付赛 | I27: 严赫凡 | J27: 320 | K27: 73.71 | L27: 25 | M27: 二等奖
A28: 6852 | B28: rFc1Jv1-44-020-qL-022-1-fro-05-dDE | C28: 'Super AI超级轨迹赛项' | D28: Super AI超级轨迹赛-星际穿越 | E28: 小学低龄组 | F28: ljy | G28: 重庆市渝北区渝开学校 | H28: 蒲彩霞 | I28: 李家宇 | J28: 315 | K28: 105.36 | L28: 26 | M28: 二等奖
... A94: 10076 | B94: rFc1JvN-44-020-9X-022-1-abM-05-Ybx | C94: 'Super AI超级轨迹赛项' | D94: Super AI超级轨迹赛-星际穿越 | E94: 小学低龄组 | F94: 乐学23队 | G94: 兰州市西固区玉门街小学 | H94: 阮蔚 | I94: 张楷沅 | J94: 95 | K94: 17.7 | L94: 92 | M94: 三等奖
A95: 小学高年级A组-上午场
A96: 6976 | B96: rFc1JhC-44-020-qO-022-1-Z9N-06-Tlu | C96: 'Super AI超级轨迹赛项' | D96: Super AI超级轨迹赛-星际穿越 | E96: 小学高龄组 | F96: 欣然战队 | G96: 凤鸣实验小学 | H96: 杨祥 | I96: 李欣然 | J96: 807 | K96: 53.53 | L96: 1 | M96: 一等奖(冠军) | N96: 入围总决赛
A97: 6996 | B97: rFc1JhY-44-020-nh-022-1-wtj-06-hbq | C97: 'Super AI超级轨迹赛项' | D97: Super AI超级轨迹赛-星际穿越 | E97: 小学高龄组 | F97: 浩哲战队 | G97: 凤鸣实验小学 | H97: 杨祥 | I97: 韦浩哲 | J97: 806 | K97: 53.58 | L97: 2 | M97: 一等奖(亚军) | N97: 入围总决赛
A98: 8642 | B98: rFc1JU3-44-020-TN-022-1-IgV-06-7xC | C98: 'Super AI超级轨迹赛项' | D98: Super AI超级轨迹赛-星际穿越 | E98: 小学高龄组 | F98: 逍遥战队 | G98: 蒙自市银河小学 | H98: 杨品 | I98: 李震逍 | J98: 803 | K98: 57.01 | L98: 3 | M98: 一等奖(季军) | N98: 入围总决赛
A99: 8583 | B99: rFc1JLu-44-020-fK-022-1-PJ4-06-698 | C99: 'Super AI超级轨迹赛项' | D99: Super AI超级轨迹赛-星际穿越 | E99: 小学高龄组 | F99: 开心六小 | G99: 射洪市第六小学校 | H99: 李冬华 | I99: 罗梓豪 | J99: 792 | K99: 68.34 | L99: 4 | M99: 一等奖 | N99: 入围总决赛
A100: 7723 | B100: rFc1J7b-44-020-69-022-1-RmN-06-7qI | C100: 'Super AI超级轨迹赛项' | D100: Super AI超级轨迹赛-星际穿越 | E100: 小学高龄组 | F100: 渭源县会川镇西关中心小学西行者2 | G100: 渭源县会川镇西关中心小学 | H100: 李勇 | I100: 杜昊 | J100: 788 | K100: 72.08 | L100: 5 | M100: 一等奖 | N100: 入围总决赛
A101: 12159 | B101: rFc1JA3-44-020-QJ-022-1-We3-06-FJO | C101: 'Super AI超级轨迹赛项' | D101: Super AI超级轨迹赛-星际穿越 | E101: 小学高龄组 | F101: 艾创小1队 | G101: 曲靖市麒麟区艾创机器人科技培训学校 | H101: 李陈 | I101: 舒仁波 | J101: 787 | K101: 72.17 | L101: 6 | M101: 一等奖 | N101: 入围总决赛
A102: 7600 | B102: rFc1JUK-44-020-yG-022-1-diZ-06-Y7O | C102: 'Super AI超级轨迹赛项' | D102: Super AI超级轨迹赛-星际穿越 | E102: 小学高龄组 | F102: 恒铭战队 | G102: 春城小学 | H102: 王利坤 | I102: 张恒铭 | J102: 786 | K102: 74.26 | L102: 7 | M102: 一等奖 | N102: 入围总决赛
A103: 7329 | B103: rFc1J5T-44-020-Fu-022-1-9Ei-06-fNc | C103: 'Super AI超级轨迹赛项' | D103: Super AI超级轨迹赛-星际穿越 | E103: 小学高龄组 | F103: 省府1队 | G103: 贵阳市省府路小学 | H103: 张熙 | I103: 梁珂豪 | J103: 785 | K103: 74.99 | L103: 8 | M103: 一等奖 | N103: 入围总决赛
A104: 12190 | B104: rFc1Jtw-44-020-Vg-022-1-IWj-06-ERK | C104: 'Super AI超级轨迹赛项' | D104: Super AI超级轨迹赛-星际穿越 | E104: 小学高龄组 | F104: 黄耀锋-星际创越 | G104: 开远市崇文小学校 | H104: 王艳梅 | I104: 黄耀锋 | J104: 781 | K104: 78.31 | L104: 9 | M104: 一等奖 | N104: 入围总决赛
A105: 12168 | B105: rFc1J5g-44-020-Oe-022-1-naV-06-4QH | C105: 'Super AI超级轨迹赛项' | D105: Super AI超级轨迹赛-星际穿越 | E105: 小学高龄组 | F105: 杨志强-星际创越 | G105: 开远市灵泉小学 | H105: 王元月 | I105: 杨志强 | J105: 781 | K105: 78.9 | L105: 10 | M105: 一等奖 | N105: 入围总决赛
A106: 8053 | B106: rFc1j4a-44-020-4S-022-1-ofG-06-qjD | C106: 'Super AI超级轨迹赛项' | D106: Super AI超级轨迹赛-星际穿越 | E106: 小学高龄组 | F106: 昆明高新一小科医路校区3队 | G106: 昆明高新一小教育集团科医路校区 | H106: 左俊 | I106: 王俊朝 | J106: 780 | K106: 80.03 | L106: 11 | M106: 一等奖 | N106: 入围总决赛
A107: 8134 | B107: rFc1JzP-44-020-j7-022-1-oxI-06-j2u | C107: 'Super AI超级轨迹赛项' | D107: Super AI超级轨迹赛-星际穿越 | E107: 小学高龄组 | F107: 耿小机器人社团 | G107: 兰州市城关区耿家庄小学 | H107: 张丽兰 | I107: 胡宸瑞 | J107: 779 | K107: 80.86 | L107: 12 | M107: 一等奖 | N107: 入围总决赛
... A119: 8870 | B119: rFc1Jzp-44-020-Ym-022-1-OlL-06-sOi | C119: 'Super AI超级轨迹赛项' | D119: Super AI超级轨迹赛-星际穿越 | E119: 小学高龄组 | F119: 静宁县实验小学筑梦队 | G119: 静宁县实验小学 | H119: 方中强 | I119: 杨卓川 | J119: 757 | K119: 98.85 | L119: 24 | M119: 一等奖 | N119: 入围总决赛
A120: 7789 | B120: rFc1JGQ-44-020-6j-022-1-mtA-06-fNS | C120: 'Super AI超级轨迹赛项' | D120: Super AI超级轨迹赛-星际穿越 | E120: 小学高龄组 | F120: 乐学8队 | G120: 福利西路小学 | H120: 阮蔚 | I120: 李沐泽 | J120: 752 | K120: 103.07 | L120: 25 | M120: 二等奖
A121: 8071 | B121: rFc1Jzm-44-020-ut-022-1-f0z-06-fQY | C121: 'Super AI超级轨迹赛项' | D121: Super AI超级轨迹赛-星际穿越 | E121: 小学高龄组 | F121: 精英队 | G121: 静宁县新城小学 | H121: 强飞 | I121: 张亚辉 | J121: 744 | K121: 115.27 | L121: 26 | M121: 二等奖
A122: 8485 | B122: rFc1JUh-44-020-MW-022-1-MeA-06-ENX | C122: 'Super AI超级轨迹赛项' | D122: Super AI超级轨迹赛-星际穿越 | E122: 小学高龄组 | F122: 师大附小03队 | G122: 云南师范大学附属小学 | H122: 王艺婷 | I122: 廖鹏喆 | J122: 731 | K122: 123.53 | L122: 27 | M122: 二等奖
A123: 12275 | B123: rFc1J5G-44-020-5i-022-1-hX8-06-YhL | C123: 'Super AI超级轨迹赛项' | D123: Super AI超级轨迹赛-星际穿越 | E123: 小学高龄组 | F123: 师大附小10队 | G123: 云南师范大学附属小学 | H123: 王艺婷 | I123: 程一鹏 | J123: 726 | K123: 129.09 | L123: 28 | M123: 二等奖
A124: 7080 | B124: rFc1J77-44-020-i5-022-1-TTO-06-9v6 | C124: 'Super AI超级轨迹赛项' | D124: Super AI超级轨迹赛-星际穿越 | E124: 小学高龄组 | F124: 芜湖市大官山小学超轨1队 | G124: 芜湖市大官山小学 | H124: 薛静 | I124: 刘叶霏 | J124: 721 | K124: 133.73 | L124: 29 | M124: 二等奖
A125: 7023 | B125: rFc1Jqk-44-020-GC-022-1-c5c-06-txB | C125: 'Super AI超级轨迹赛项' | D125: Super AI超级轨迹赛-星际穿越 | E125: 小学高龄组 | F125: 乐米七队 | G125: 西安理工大附属小学 | H125: 陈杰 | I125: 巫朋骏 | J125: 703 | K125: 152.13 | L125: 30 | M125: 二等奖
A126: 7286 | B126: rFc1JhF-44-020-PJ-022-1-4Jb-06-fHz | C126: 'Super AI超级轨迹赛项' | D126: Super AI超级轨迹赛-星际穿越 | E126: 小学高龄组 | F126: 芜湖市大官山小学超轨3队 | G126: 芜湖市大官山小学 | H126: 薛静 | I126: 王钦泽 | J126: 690 | K126: 160.11 | L126: 31 | M126: 二等奖
A127: 8289 | B127: rFc1JA9-44-020-mV-022-1-uMc-06-R0q | C127: 'Super AI超级轨迹赛项' | D127: Super AI超级轨迹赛-星际穿越 | E127: 小学高龄组 | F127: 雏鹰一队 | G127: 吉林市第一实验小学 | H127: 刘平安 | I127: 夏良睿航 | J127: 657 | K127: 65.8 | L127: 32 | M127: 二等奖
A128: 8297 | B128: rFc1J4u-44-020-h3-022-1-TqZ-06-VDM | C128: 'Super AI超级轨迹赛项' | D128: Super AI超级轨迹赛-星际穿越 | E128: 小学高龄组 | F128: 海鸥队 | G128: 昆明市西山区芳草地国际学校 | H128: 钟蕊 | I128: 李浩宇 | J128: 654 | K128: 74.49 | L128: 33 | M128: 二等奖
A129: 6769 | B129: rFc1JbB-44-020-eb-022-1-lj9-06-KmM | C129: 'Super AI超级轨迹赛项' | D129: Super AI超级轨迹赛-星际穿越 | E129: 小学高龄组 | F129: 耀西 | G129: 重庆市江北区江北嘴实验学校 | H129: 陈帅 | I129: 杨渝滨 | J129: 653 | K129: 94.35 | L129: 34 | M129: 二等奖
A130: 9932 | B130: rFc1J5F-44-020-6Q-022-1-eWg-06-kmY | C130: 'Super AI超级轨迹赛项' | D130: Super AI超级轨迹赛-星际穿越 | E130: 小学高龄组 | F130: 追梦2队 | G130: 贵阳市云岩区达志学校 | H130: 姜涛 | I130: 叶浩宇 | J130: 652 | K130: 73.76 | L130: 35 | M130: 二等奖
A131: 7291 | B131: rFc1J7H-44-020-Tr-022-1-EXX-06-hm4 | C131: 'Super AI超级轨迹赛项' | D131: Super AI超级轨迹赛-星际穿越 | E131: 小学高龄组 | F131: 科技之光 | G131: 一只船教育集团教师进修附小 | H131: 马登云 | I131: 钟克杰 | J131: 652 | K131: 78.03 | L131: 36 | M131: 二等奖
... A258: 9191 | B258: rFc1JbH-44-020-M4-022-1-8mq-06-WwY | C258: 'Super AI超级轨迹赛项' | D258: Super AI超级轨迹赛-星际穿越 | E258: 小学高龄组 | F258: ZST战队 | G258: 兰州市安宁区北京第二实验小学兰州分校（兰州市金城实验小学） | H258: 郝康 | I258: 赵思同 | J258: 75 | K258: 98.55 | L258: 163 | M258: 三等奖
A259: 小学高年级B组-下午场
A260: 9196 | B260: rFc1Jzx-44-020-Gq-022-1-5na-06-c9T | C260: 'Super AI超级轨迹赛项' | D260: Super AI超级轨迹赛-星际穿越 | E260: 小学高龄组 | F260: SXY战队 | G260: 兰州市七里河区安西路小学 | H260: 赵鹏 | I260: 孙兴煜 | J260: 789 | K260: 70.95 | L260: 1 | M260: 一等奖(冠军) | N260: 入围总决赛
A261: 7399 | B261: rFc1JUl-44-020-AJ-022-1-TJ2-06-2c7 | C261: 'Super AI超级轨迹赛项' | D261: Super AI超级轨迹赛-星际穿越 | E261: 小学高龄组 | F261: 博学未来战队 | G261: 昆明润城学校 | H261: 王利坤 | I261: 李成智 | J261: 785 | K261: 74.5 | L261: 2 | M261: 一等奖(亚军) | N261: 入围总决赛
A262: 7678 | B262: rFc1J5n-44-020-Kh-022-1-Z12-06-MPq | C262: 'Super AI超级轨迹赛项' | D262: Super AI超级轨迹赛-星际穿越 | E262: 小学高龄组 | F262: 省府3队 | G262: 贵阳市省府路小学 | H262: 王菁 | I262: 赵思成 | J262: 782 | K262: 78.37 | L262: 3 | M262: 一等奖(季军) | N262: 入围总决赛
A263: 7253 | B263: rFc1J7l-44-020-l8-022-1-xzl-06-ITr | C263: 'Super AI超级轨迹赛项' | D263: Super AI超级轨迹赛-星际穿越 | E263: 小学高龄组 | F263: 无敌战神 | G263: 兰州市第二十二中学 | H263: 钱钊 | I263: 钱书帛 | J263: 771 | K263: 89.79 | L263: 4 | M263: 一等奖 | N263: 入围总决赛
A264: 7840 | B264: rFc1J7J-44-020-9W-022-1-sTF-06-OCc | C264: 'Super AI超级轨迹赛项' | D264: Super AI超级轨迹赛-星际穿越 | E264: 小学高龄组 | F264: 渭源县会川镇西关中心小学西行者5 | G264: 渭源县会川镇西关中心小学 | H264: 曹丽丽 | I264: 董睿杰 | J264: 765 | K264: 94.18 | L264: 5 | M264: 一等奖 | N264: 入围总决赛
A265: 7685 | B265: rFc1J7L-44-020-J7-022-1-pRK-06-UWe | C265: 'Super AI超级轨迹赛项' | D265: Super AI超级轨迹赛-星际穿越 | E265: 小学高龄组 | F265: 渭源县会川镇西关中心小学西行者 | G265: 渭源县会川镇西关中心小学 | H265: 辛小丽 | I265: 王嘉琪 | J265: 765 | K265: 94.41 | L265: 6 | M265: 一等奖 | N265: 入围总决赛
A266: 10917 | B266: rFc1Jyj-44-020-Sv-022-1-S0x-06-eei | C266: 'Super AI超级轨迹赛项' | D266: Super AI超级轨迹赛-星际穿越 | E266: 小学高龄组 | F266: 春小战队 | G266: 昆明市五华区春城小学 | H266: 陈辉 | I266: 罗浩元 | J266: 764 | K266: 96.16 | L266: 7 | M266: 一等奖 | N266: 入围总决赛
A267: 7513 | B267: rFc1JUR-44-020-fj-022-1-5KP-06-WW7 | C267: 'Super AI超级轨迹赛项' | D267: Super AI超级轨迹赛-星际穿越 | E267: 小学高龄组 | F267: 高文峻战队 | G267: 民航路小学 | H267: 杨俊 | I267: 高文峻 | J267: 762 | K267: 97.25 | L267: 8 | M267: 一等奖 | N267: 入围总决赛
A268: 8118 | B268: rFc1Jzv-44-020-Re-022-1-wzF-06-744 | C268: 'Super AI超级轨迹赛项' | D268: Super AI超级轨迹赛-星际穿越 | E268: 小学高龄组 | F268: 耿家庄机器人社团 | G268: 兰州市城关区耿家庄小学 | H268: 丁瑞 | I268: 侯轶鸣 | J268: 762 | K268: 97.87 | L268: 9 | M268: 一等奖 | N268: 入围总决赛
A269: 16677 | B269: 2B8h6U9L-44-020-NC-022-1-R2r-06-Lh4 | C269: 'Super AI超级轨迹赛项' | D269: Super AI超级轨迹赛-星际穿越 | E269: 小学高龄组 | F269: 梦想晋泽 | G269: 榆次区太行小学 | H269: 王秉军 | I269: 王晋泽 | J269: 761 | K269: 98.51 | L269: 10 | M269: 一等奖 | N269: 入围总决赛
A270: 8892 | B270: rFc1JzT-44-020-6Y-022-1-jaC-06-oJd | C270: 'Super AI超级轨迹赛项' | D270: Super AI超级轨迹赛-星际穿越 | E270: 小学高龄组 | F270: 静宁县实验小学超越队 | G270: 静宁县实验小学 | H270: 杨刚 | I270: 李泽皓 | J270: 758 | K270: 102.08 | L270: 11 | M270: 一等奖 | N270: 入围总决赛
A271: 8331 | B271: rFc1J40-44-020-cU-022-1-2ck-06-Xek | C271: 'Super AI超级轨迹赛项' | D271: Super AI超级轨迹赛-星际穿越 | E271: 小学高龄组 | F271: 海贝小1队 | G271: 昆明海贝中英文学校 | H271: 赵雅君 | I271: 刘俨乐 | J271: 747 | K271: 113.56 | L271: 12 | M271: 一等奖 | N271: 入围总决赛
... A283: 7280 | B283: rFc1Jh8-44-020-NY-022-1-Ucs-06-nkW | C283: 'Super AI超级轨迹赛项' | D283: Super AI超级轨迹赛-星际穿越 | E283: 小学高龄组 | F283: 芜湖市赭山小学超轨1队 | G283: 芜湖市赭山小学 | H283: 王坤 | I283: 李楚宸 | J283: 573 | K283: 183 | L283: 24 | M283: 一等奖 | N283: 入围总决赛
A284: 8526 | B284: rFc1JGy-44-020-AV-022-1-Ybg-06-VAJ | C284: 'Super AI超级轨迹赛项' | D284: Super AI超级轨迹赛-星际穿越 | E284: 小学高龄组 | F284: 通渭思源 | G284: 通渭县思源实验学校 | H284: 马宏元 | I284: 李子凡 | J284: 561 | K284: 69.55 | L284: 25 | M284: 二等奖
A285: 7320 | B285: rFc1J2z-44-020-La-022-1-1Rk-06-6Ia | C285: 'Super AI超级轨迹赛项' | D285: Super AI超级轨迹赛-星际穿越 | E285: 小学高龄组 | F285: 芜湖市北塘小学超轨1队 | G285: 芜湖市北塘小学 | H285: 谢军 | I285: 夏宇旸 | J285: 548 | K285: 161.46 | L285: 26 | M285: 二等奖
A286: 16690 | B286: 2B8h6U9f-44-020-me-022-1-Qz3-06-jhM | C286: 'Super AI超级轨迹赛项' | D286: Super AI超级轨迹赛-星际穿越 | E286: 小学高龄组 | F286: 梦想锦岩 | G286: 榆次区太行小学 | H286: 王秉军 | I286: 朱锦岩 | J286: 520 | K286: 77.35 | L286: 27 | M286: 二等奖
A287: 16728 | B287: 2B8h6U9r-44-020-8P-022-1-B7s-06-2nb | C287: 'Super AI超级轨迹赛项' | D287: Super AI超级轨迹赛-星际穿越 | E287: 小学高龄组 | F287: 梦想皓博 | G287: 榆次区太行小学 | H287: 王秉军 | I287: 曹皓博 | J287: 520 | K287: 110.25 | L287: 28 | M287: 二等奖
A288: 7344 | B288: rFc1J5R-44-020-lJ-022-1-m1R-06-vNr | C288: 'Super AI超级轨迹赛项' | D288: Super AI超级轨迹赛-星际穿越 | E288: 小学高龄组 | F288: 追梦二队 | G288: 南明区花果园第一小学 | H288: 刘晓辉 | I288: 汪美佑 | J288: 515 | K288: 108.81 | L288: 29 | M288: 二等奖
A289: 9345 | B289: rFc1JZ3-44-020-pT-022-1-kEb-06-8ov | C289: 'Super AI超级轨迹赛项' | D289: Super AI超级轨迹赛-星际穿越 | E289: 小学高龄组 | F289: 南宁市北际路小学 | G289: 南宁市北际路小学 | H289: 姚先龙 | I289: 许子涵 | J289: 515 | K289: 114.18 | L289: 30 | M289: 二等奖
A290: 9190 | B290: rFc1JbW-44-020-XP-022-1-O9f-06-FCR | C290: 'Super AI超级轨迹赛项' | D290: Super AI超级轨迹赛-星际穿越 | E290: 小学高龄组 | F290: YJY战队 | G290: 兰州市七里河区王家堡小学 | H290: 师作东 | I290: 袁珺瑶 | J290: 515 | K290: 122.79 | L290: 31 | M290: 二等奖
A291: 9184 | B291: rFc1JbO-44-020-pB-022-1-WMc-06-2wR | C291: 'Super AI超级轨迹赛项' | D291: Super AI超级轨迹赛-星际穿越 | E291: 小学高龄组 | F291: ZJY战队 | G291: 兰州市七里河区王家堡小学 | H291: 师作东 | I291: 张嘉瑶 | J291: 510 | K291: 118.19 | L291: 32 | M291: 二等奖
A292: 12266 | B292: rFc1J5L-44-020-lj-022-1-2p6-06-loo | C292: 'Super AI超级轨迹赛项' | D292: Super AI超级轨迹赛-星际穿越 | E292: 小学高龄组 | F292: 师大附小09 | G292: 云南师范大学附属小学 | H292: 刘丽玲 | I292: 徐尚谦 | J292: 509 | K292: 91.92 | L292: 33 | M292: 二等奖
A293: 8795 | B293: rFc1JqX-44-020-0y-022-1-WuU-06-jLS | C293: 'Super AI超级轨迹赛项' | D293: Super AI超级轨迹赛-星际穿越 | E293: 小学高龄组 | F293: CSH战队 | G293: 兰州市七里河区火星街小学 | H293: 唐变芳 | I293: 陈肃昊 | J293: 505 | K293: 200.07 | L293: 34 | M293: 二等奖
A294: 8017 | B294: rFc1JGS-44-020-Hq-022-1-Rqj-06-WZB | C294: 'Super AI超级轨迹赛项' | D294: Super AI超级轨迹赛-星际穿越 | E294: 小学高龄组 | F294: 吉姆物语竹苑小学1队 | G294: 广东省中山市东区竹苑小学 | H294: 张满容 | I294: 梁靖琪 | J294: 504 | K294: 103.94 | L294: 35 | M294: 二等奖
A295: 16718 | B295: 2B8h6U9T-44-020-83-022-1-McU-06-XZO | C295: 'Super AI超级轨迹赛项' | D295: Super AI超级轨迹赛-星际穿越 | E295: 小学高龄组 | F295: 梦想悦灏 | G295: 榆次区太行小学 | H295: 王秉军 | I295: 李悦灏 | J295: 500 | K295: 101.23 | L295: 36 | M295: 二等奖
... A339: 9279 | B339: rFc1J72-44-020-X1-022-1-5ad-06-urS | C339: 'Super AI超级轨迹赛项' | D339: Super AI超级轨迹赛-星际穿越 | E339: 小学高龄组 | F339: 风华一小霹雳队 | G339: 岷县岷阳镇第一中心小学 | H339: 辛辉 | I339: 折路凡 | J339: 250 | K339: 46.3 | L339: 80 | M339: 二等奖
A340: 6719 | B340: rFc1Jbk-44-020-KR-022-1-8zw-06-zQi | C340: 'Super AI超级轨迹赛项' | D340: Super AI超级轨迹赛-星际穿越 | E340: 小学高龄组 | F340: 阳光学霸队 | G340: 广州市番禺区祈福英语实验小学 | H340: 唐华画 | I340: 钱鹏杰 | J340: 250 | K340: 46.4 | L340: 81 | M340: 二等奖
A341: 8015 | B341: rFc1JAy-44-020-1F-022-1-lKV-06-Xxp | C341: 'Super AI超级轨迹赛项' | D341: Super AI超级轨迹赛-星际穿越 | E341: 小学高龄组 | F341: 博高机器人A | G341: 吉林市船营区第二十五小学校 | H341: 马新宇 | I341: 柳依岑 | J341: 250 | K341: 47.35 | L341: 82 | M341: 三等奖
A342: 16726 | B342: 2B8h6U9u-44-020-T8-022-1-sAC-06-DTf | C342: 'Super AI超级轨迹赛项' | D342: Super AI超级轨迹赛-星际穿越 | E342: 小学高龄组 | F342: 梦想楷源 | G342: 榆次区太行小学 | H342: 王秉军 | I342: 尹楷源 | J342: 250 | K342: 48.68 | L342: 83 | M342: 三等奖
A343: 8615 | B343: rFc1JzM-44-020-xe-022-1-0lo-06-IJO | C343: 'Super AI超级轨迹赛项' | D343: Super AI超级轨迹赛-星际穿越 | E343: 小学高龄组 | F343: 兰炼一小新区分校2 | G343: 兰炼一小新区分校 | H343: 高君科 | I343: 保辰阳 | J343: 250 | K343: 49.07 | L343: 84 | M343: 三等奖
A344: 8061 | B344: rFc1JAf-44-020-9d-022-1-dhe-06-rLq | C344: 'Super AI超级轨迹赛项' | D344: Super AI超级轨迹赛-星际穿越 | E344: 小学高龄组 | F344: 博高机器人D | G344: 吉林市昌邑区第十五小学校 | H344: 马新宇 | I344: 杨珺博 | J344: 250 | K344: 50.29 | L344: 85 | M344: 三等奖
A345: 8062 | B345: rFc1JL0-44-020-IF-022-1-7KO-06-mhT | C345: 'Super AI超级轨迹赛项' | D345: Super AI超级轨迹赛-星际穿越 | E345: 小学高龄组 | F345: 宇凡 | G345: 遂宁绿然学校 | H345: 王洪 | I345: 温宇凡 | J345: 250 | K345: 51.46 | L345: 86 | M345: 三等奖
A346: 9208 | B346: rFc1JbC-44-020-N5-022-1-9UW-06-yGC | C346: 'Super AI超级轨迹赛项' | D346: Super AI超级轨迹赛-星际穿越 | E346: 小学高龄组 | F346: 新钢一小自强队 | G346: 江西省新余市新钢第一小学 | H346: 周丽 | I346: 林晨睿 | J346: 250 | K346: 51.82 | L346: 87 | M346: 三等奖
A347: 8523 | B347: rFc1JwU-44-020-us-022-1-Td1-06-OhC | C347: 'Super AI超级轨迹赛项' | D347: Super AI超级轨迹赛-星际穿越 | E347: 小学高龄组 | F347: super吉米虎2队 | G347: 虎林市第一小学 | H347: 许佩衍 | I347: 宋钒涤 | J347: 250 | K347: 53.31 | L347: 88 | M347: 三等奖
A348: 8981 | B348: rFc1Jy5-44-020-mC-022-1-R8K-06-Ajc | C348: 'Super AI超级轨迹赛项' | D348: Super AI超级轨迹赛-星际穿越 | E348: 小学高龄组 | F348: 银河超速队 | G348: 天津市河西区少年宫 | H348: 叶明 | I348: 刘禹汐 | J348: 250 | K348: 54.69 | L348: 89 | M348: 三等奖
A349: 9351 | B349: rFc1JZB-44-020-Mn-022-1-bb9-06-TQ2 | C349: 'Super AI超级轨迹赛项' | D349: Super AI超级轨迹赛-星际穿越 | E349: 小学高龄组 | F349: 南宁市北极星队 | G349: 南宁市北际路小学 | H349: 姚先龙 | I349: 奚耀龙 | J349: 250 | K349: 54.85 | L349: 90 | M349: 三等奖
A350: 8276 | B350: rFc1J2r-44-020-10-022-1-tbq-06-0YH | C350: 'Super AI超级轨迹赛项' | D350: Super AI超级轨迹赛-星际穿越 | E350: 小学高龄组 | F350: 眉山市东坡区苏洵小学1队 | G350: 眉山市东坡区苏洵小学 | H350: 罗帅 | I350: 李润德 | J350: 250 | K350: 56.44 | L350: 91 | M350: 三等奖
A351: 9770 | B351: rFc1JUr-44-020-AW-022-1-s5Z-06-o0L | C351: 'Super AI超级轨迹赛项' | D351: Super AI超级轨迹赛-星际穿越 | E351: 小学高龄组 | F351: 任梓齐战队 | G351: 红旗小学布新校区 | H351: 杨俊 | I351: 任梓齐 | J351: 250 | K351: 70.79 | L351: 92 | M351: 三等奖
A352: 8762 | B352: rFc1JLD-44-020-vJ-022-1-nnC-06-p1L | C352: 'Super AI超级轨迹赛项' | D352: Super AI超级轨迹赛-星际穿越 | E352: 小学高龄组 | F352: 宜宾喻言 | G352: 宜宾市人民路小学校 | H352: 向华 | I352: 喻言 | J352: 250 | K352: 72.04 | L352: 93 | M352: 三等奖
... A420: 7323 | B420: rFc1J2w-44-020-rI-022-1-7Wv-06-wf0 | C420: 'Super AI超级轨迹赛项' | D420: Super AI超级轨迹赛-星际穿越 | E420: 小学高龄组 | F420: 芜湖市大官山小学超轨5队 | G420: 芜湖市大官山小学 | H420: 薛静 | I420: 汪钧泽 | J420: 150 | K420: 32.77 | L420: 161 | M420: 三等奖
A422: 11326 | B422: rFc1JJF-44-020-UM-022-1-w3O-02-Nc8 | C422: 'Super AI超级轨迹赛项' | D422: Super AI超级轨迹赛-星际穿越 | E422: 初中组 | F422: 云大附中1队 | G422: 云南大学附属中学 | H422: 张俊 | I422: 张耀予 | J422: 951 | K422: 89.47 | L422: 1 | M422: 一等奖(冠军) | N422: 入围总决赛
A423: 11766 | B423: rFc1JxE-44-020-HV-022-1-z2g-02-kXY | C423: 'Super AI超级轨迹赛项' | D423: Super AI超级轨迹赛-星际穿越 | E423: 初中组 | F423: 赤红风暴队 | G423: 云南大学附属中学 | H423: 张俊 | I423: 陈玮国 | J423: 902 | K423: 132.36 | L423: 2 | M423: 一等奖(亚军) | N423: 入围总决赛
A424: 11550 | B424: rFc1Jxx-44-020-XN-022-1-SA3-02-ZnS | C424: 'Super AI超级轨迹赛项' | D424: Super AI超级轨迹赛-星际穿越 | E424: 初中组 | F424: 启航 | G424: 云南大学附属中学 | H424: 张俊 | I424: 保禺同 | J424: 866 | K424: 164.24 | L424: 3 | M424: 一等奖(季军) | N424: 入围总决赛
A425: 7448 | B425: rFc1Jta-44-020-iK-022-1-1oa-02-mjL | C425: 'Super AI超级轨迹赛项' | D425: Super AI超级轨迹赛-星际穿越 | E425: 初中组 | F425: 超能汪汪队 | G425: 兰州理工大学附属中学 | H425: 刘芳 | I425: 吴雪琪 | J425: 831 | K425: 204.35 | L425: 4 | M425: 一等奖 | N425: 入围总决赛
...

Sheet 扣叮机器人赛项
A1: 2024世界机器人大赛昆明锦标赛-青少年机器人设计大赛-扣叮机器人赛项获奖名单
A2: 报名编号 | B2: 激活码 | C2: 赛道 | D2: 赛项 | E2: 组别 | F2: 队伍名称 | G2: 申报单位 | H2: 教练信息 | I2: 学生信息 | J2: 比赛分数 | K2: 比赛用时 | L2: 成绩排名 | M2: 奖项 | N2: 备注
A3: 14270 | B3: rFc1MKn-44-029-Ce-032-1-Xdl-01-yXZ | C3: 扣叮机器人赛项' | D3: '扣叮AI智能挑战赛' | E3: 小学组 | F3: 附小7队 | G3: 云南师范大学附属小学 | H3: 猫良茜 | I3: 吴珞雨宸 | J3: 92 | K3: 56分34秒 | L3: 1 | M3: 一等奖(冠军) | N3: 入围总决赛
A4: 14488 | B4: rFc1MaY-44-029-Ln-032-1-NxE-01-pIv | C4: '扣叮机器人赛项' | D4: '扣叮AI智能挑战赛' | E4: 小学组 | F4: 红旗3队 | G4: 昆明市五华区红旗小学 | H4: 柴云霞 | I4: 姚宸睿 | J4: 89 | K4: 28分30秒 | L4: 2 | M4: 一等奖(亚军) | N4: 入围总决赛
A5: 9307 | B5: rFc1Mov-44-029-UD-032-1-WQP-01-ojJ | C5: '扣叮机器人赛项' | D5: '扣叮AI智能挑战赛' | E5: 小学组 | F5: 高新一小战队 | G5: 昆明高新一小教育集团海源校区 | H5: 夏锦瑶 | I5: 李思蔚 | J5: 89 | K5: 43分49秒 | L5: 3 | M5: 一等奖(季军) | N5: 入围总决赛
A6: 13232 | B6: rFc1M95-44-029-LG-032-1-93p-01-NG3 | C6: '扣叮机器人赛项' | D6: '扣叮AI智能挑战赛' | E6: 小学组 | F6: SuperRocket | G6: 云南师范大学附属小学 | H6: 黄铭卿 | I6: 袁槊 | J6: 88 | K6: 58分36秒 | L6: 4 | M6: 一等奖 | N6: 入围总决赛
A7: 14073 | B7: rFc1M9a-44-029-Jf-032-1-D48-01-rld | C7: '扣叮机器人赛项' | D7: '扣叮AI智能挑战赛' | E7: 小学组 | F7: 川师天娇 | G7: 四川师范大学附属昆明实验学校（天娇校区） | H7: 李琼州 | I7: 顾若瀚 | J7: 84 | K7: 37分41秒 | L7: 5 | M7: 一等奖 | N7: 入围总决赛
A8: 14182 | B8: rFc1MSm-44-029-94-032-1-zm8-01-svo | C8: '扣叮机器人赛项' | D8: '扣叮AI智能挑战赛' | E8: 小学组 | F8: 星火燎原队 | G8: 高新一小教育集团经典校区 | H8: 黎绍永 | I8: 杨永婷 | J8: 84 | K8: 59分44秒 | L8: 6 | M8: 一等奖 | N8: 入围总决赛
A9: 14121 | B9: rFc1MaX-44-029-Wv-032-1-IdE-01-wDE | C9: '扣叮机器人赛项' | D9: '扣叮AI智能挑战赛' | E9: 小学组 | F9: 昆明高新一小科医路校区编程1队 | G9: 昆明高新一小教育集团科医路校区 | H9: 左俊 | I9: 付宸皓 | J9: 82 | K9: 48分03秒 | L9: 7 | M9: 一等奖 | N9: 入围总决赛
A10: 12375 | B10: rFc1Mat-44-029-gb-032-1-qXy-01-kmK | C10: '扣叮机器人赛项' | D10: '扣叮AI智能挑战赛' | E10: 小学组 | F10: 欧阳文杰队 | G10: 云南省昆明市五华区瑞和实验学校 | H10: 郎雅楠 | I10: 欧阳文杰 | J10: 81 | K10: 54分04秒 | L10: 8 | M10: 一等奖 | N10: 入围总决赛
A11: 9270 | B11: rFc1MCL-44-029-J2-032-1-F1z-01-dzC | C11: '扣叮机器人赛项' | D11: '扣叮AI智能挑战赛' | E11: 小学组 | F11: 热爱科技小队 | G11: 深圳市南山区第二外国语学校（集团）海德学校 | H11: 罗琼菱子 | I11: 谢君钲 | J11: 80 | K11: 33分36秒 | L11: 9 | M11: 一等奖 | N11: 入围总决赛
A12: 11498 | B12: rFc1MCR-44-029-d8-032-1-Kyn-01-cXD | C12: '扣叮机器人赛项' | D12: '扣叮AI智能挑战赛' | E12: 小学组 | F12: 桥南小学 | G12: 天水市麦积区桥南小学 | H12: 刘朝华 | I12: 李睿 | J12: 80 | K12: 43分57秒 | L12: 10 | M12: 一等奖 | N12: 入围总决赛
A13: 15606 | B13: rFc1MCq-44-029-bq-032-1-4jx-01-MPd | C13: '扣叮机器人赛项' | D13: '扣叮AI智能挑战赛' | E13: 小学组 | F13: 附小22队 | G13: 云南师范大学附属小学 | H13: 许嘉豪 | I13: 付远 | J13: 79 | K13: 33分46秒 | L13: 11 | M13: 一等奖 | N13: 入围总决赛
A14: 9210 | B14: rFc1M9f-44-029-Hz-032-1-rOx-01-97m | C14: '扣叮机器人赛项' | D14: '扣叮AI智能挑战赛' | E14: 小学组 | F14: 开心之队 | G14: 昆明高新一小教育集团海源校区 | H14: 刘昆鹏 | I14: 魏杰 | J14: 79 | K14: 44分01秒 | L14: 12 | M14: 一等奖 | N14: 入围总决赛
A15: 14247 | B15: rFc1MS1-44-029-QU-032-1-5lv-01-uoG | C15: '扣叮机器人赛项' | D15: '扣叮AI智能挑战赛' | E15: 小学组 | F15: 扣叮战队 | G15: 昆明高新技术产业开发区第一小学经典校区 | H15: 唐建琴 | I15: 赵骏 | J15: 78 | K15: 18分57秒 | L15: 13 | M15: 二等奖
A16: 8922 | B16: rFc1MKy-44-029-VS-032-1-zDk-01-coy | C16: '扣叮机器人赛项' | D16: '扣叮AI智能挑战赛' | E16: 小学组 | F16: 米奇妙妙屋 | G16: 昆明市官渡区北京八十学校 | H16: 张淼 | I16: 缪宇宸 | J16: 78 | K16: 54分53秒 | L16: 14 | M16: 二等奖
A17: 11677 | B17: rFc1MKW-44-029-rW-032-1-nj5-01-L7J | C17: '扣叮机器人赛项' | D17: '扣叮AI智能挑战赛' | E17: 小学组 | F17: 生产队 | G17: 昆明市第一中学附属小学 | H17: 王涛 | I17: 李建坤 | J17: 77 | K17: 41分07秒 | L17: 15 | M17: 二等奖
A18: 14286 | B18: rFc1MKF-44-029-LD-032-1-xLz-01-m2j | C18: '扣叮机器人赛项' | D18: '扣叮AI智能挑战赛' | E18: 小学组 | F18: 附小8队 | G18: 云南师范大学附属小学 | H18: 猫良茜 | I18: 李树宁 | J18: 76 | K18: 36分39秒 | L18: 16 | M18: 二等奖
A19: 9906 | B19: rFc1Ma6-44-029-JC-032-1-Sb4-01-6R5 | C19: '扣叮机器人赛项' | D19: '扣叮AI智能挑战赛' | E19: 小学组 | F19: 发达队 | G19: 昆明高新一小教育集团海源校区 | H19: 保一 | I19: 申修同 | J19: 75 | K19: 45分30秒 | L19: 17 | M19: 二等奖
A20: 11969 | B20: rFc1MSi-44-029-hy-032-1-z8K-01-acv | C20: '扣叮机器人赛项' | D20: '扣叮AI智能挑战赛' | E20: 小学组 | F20: 蔚蓝星辰 | G20: 昆明市第八中学长城新城校区 | H20: 张记秀 | I20: 禄振钊 | J20: 75 | K20: 45分49秒 | L20: 18 | M20: 二等奖
A21: 15068 | B21: rFc1M9K-44-029-aS-032-1-4Ra-01-EDv | C21: '扣叮机器人赛项' | D21: '扣叮AI智能挑战赛' | E21: 小学组 | F21: 川师天娇二队 | G21: 四川师范大学附属昆明实验学校（天娇校区） | H21: 王正娇 | I21: 程凯捷 | J21: 74 | K21: 31分36秒 | L21: 19 | M21: 二等奖
A22: 14482 | B22: rFc1MaS-44-029-oU-032-1-57E-01-Cwa | C22: '扣叮机器人赛项' | D22: '扣叮AI智能挑战赛' | E22: 小学组 | F22: 红旗2队 | G22: 昆明市五华区红旗小学 | H22: 邓桂丽 | I22: 尹易之 | J22: 73 | K22: 31分53秒 | L22: 20 | M22: 二等奖
A23: 14326 | B23: rFc1M99-44-029-MH-032-1-bFA-01-JAM | C23: '扣叮机器人赛项' | D23: '扣叮AI智能挑战赛' | E23: 小学组 | F23: 附小扣叮2队 | G23: 云南师范大学附属小学 | H23: 郭兴照 | I23: 贺晨皓 | J23: 72 | K23: 31分36秒 | L23: 21 | M23: 二等奖
A24: 10442 | B24: rFc1MS8-44-029-Xs-032-1-BKs-01-i57 | C24: '扣叮机器人赛项' | D24: '扣叮AI智能挑战赛' | E24: 小学组 | F24: 迎难而上 | G24: 五华区大观小学 | H24: 林云云 | I24: 梁智闳 | J24: 71 | K24: 42分17秒 | L24: 22 | M24: 二等奖
A25: 12392 | B25: rFc1Mau-44-029-EX-032-1-stO-01-yaH | C25: '扣叮机器人赛项' | D25: '扣叮AI智能挑战赛' | E25: 小学组 | F25: 追梦队 | G25: 云南省昆明市五华区瑞和实验学校 | H25: 杜华玉 | I25: 李宸锐 | J25: 71 | K25: 45分09秒 | L25: 23 | M25: 二等奖
A26: 14290 | B26: rFc1Maz-44-029-r4-032-1-xLe-01-TIQ | C26: '扣叮机器人赛项' | D26: '扣叮AI智能挑战赛' | E26: 小学组 | F26: 城铭小队 | G26: 昆明高新技术产业开发区第一小学经典校区 | H26: 范莹 | I26: 郭城铭 | J26: 70 | K26: 46分53秒 | L26: 24 | M26: 二等奖
... A84: 14429 | B84: rFc1MS9-44-029-Sy-032-1-OB2-01-ygi | C84: '扣叮机器人赛项' | D84: '扣叮AI智能挑战赛' | E84: 小学组 | F84: 昆明高新一小科医路校区编程4队 | G84: 昆明高新一小教育集团科医路校区 | H84: 张建留 | I84: 张子辰 | J84: 20 | K84: 47分53秒 | L84: 82 | M84: 三等奖
A86: 14517 | B86: rFc1MOW-44-029-zD-030-1-QPQ-01-WtL | C86: '扣叮机器人赛项' | D86: '扣叮火星开发' | E86: 小学组 | F86: 红旗6队 | G86: 昆明市五华区红旗小学 | H86: 杨玲 | I86: 孔腾 | J86: 1316 | K86: 0.058240741 | L86: 1 | M86: 一等奖(冠军) | N86: 入围总决赛
A87: 14308 | B87: rFc1MOe-44-029-Sp-030-1-q2s-01-M09 | C87: '扣叮机器人赛项' | D87: '扣叮火星开发' | E87: 小学组 | F87: 附小9队 | G87: 云南师范大学附属小学 | H87: 猫良茜 | I87: 郭璋航 | J87: 1210 | K87: 0.047349537 | L87: 2 | M87: 一等奖(亚军) | N87: 入围总决赛
A88: 13355 | B88: rFc1MQq-44-029-Ii-030-1-L2V-01-ddq | C88: '扣叮机器人赛项' | D88: '扣叮火星开发' | E88: 小学组 | F88: 云南大学附属小学大学城校区 | G88: 云南大学附属中学大学城校区（小学部） | H88: 邓西明 | I88: 邓越洲 | J88: 1210 | K88: 0.063125 | L88: 3 | M88: 一等奖(季军) | N88: 入围总决赛
A89: 12552 | B89: rFc1MQN-44-029-ST-030-1-J2e-01-l5c | C89: '扣叮机器人赛项' | D89: '扣叮火星开发' | E89: 小学组 | F89: 元阳县民族小学 | G89: 云南省科普教育基地联合会 | H89: 杨昌福 | I89: 范彪瑞 | J89: 1187 | K89: 0.046712963 | L89: 4 | M89: 一等奖 | N89: 入围总决赛
A90: 11425 | B90: rFc1MRj-44-029-XU-030-1-oDp-01-5Gi | C90: '扣叮机器人赛项' | D90: '扣叮火星开发' | E90: 小学组 | F90: 扬帆队 | G90: 兰州大学附属学校 | H90: 倪云菲 | I90: 李欣 | J90: 1182 | K90: 0.046574074 | L90: 5 | M90: 一等奖 | N90: 入围总决赛
A91: 12432 | B91: rFc1MTt-44-029-bZ-030-1-cP7-01-8Gw | C91: '扣叮机器人赛项' | D91: '扣叮火星开发' | E91: 小学组 | F91: 莲华小学——赵玉坤 | G91: 五华区莲华小学 | H91: 蒋晓东 | I91: 赵玉坤 | J91: 1155 | K91: 0.060868056 | L91: 6 | M91: 一等奖 | N91: 入围总决赛
A92: 11132 | B92: rFc1M8y-44-029-MU-030-1-RcH-01-6T9 | C92: '扣叮机器人赛项' | D92: '扣叮火星开发' | E92: 小学组 | F92: 罗尘 | G92: 云南大学附属中学一二一校区小学部 | H92: 袁节 | I92: 罗尘 | J92: 1154 | K92: 0.060300926 | L92: 7 | M92: 一等奖 | N92: 入围总决赛
A93: 11828 | B93: rFc1MRf-44-029-hW-030-1-0II-01-IGM | C93: '扣叮机器人赛项' | D93: '扣叮火星开发' | E93: 小学组 | F93: 天水市实验小学战队 | G93: 天水市实验小学 | H93: 石瑞 | I93: 李茁 | J93: 1141 | K93: 0.057141204 | L93: 8 | M93: 一等奖 | N93: 入围总决赛
A94: 13167 | B94: rFc1MQ2-44-029-CE-030-1-dQi-01-0PH | C94: '扣叮机器人赛项' | D94: '扣叮火星开发' | E94: 小学组 | F94: 昆明市五华区武成小学 | G94: 昆明市五华区武成小学（人民路校区） | H94: 汪宇凡 | I94: 谭铮 | J94: 1135 | K94: 0.05056713 | L94: 9 | M94: 一等奖 | N94: 入围总决赛
A95: 14515 | B95: rFc1MHB-44-029-LF-030-1-vH8-01-2oa | C95: '扣叮机器人赛项' | D95: '扣叮火星开发' | E95: 小学组 | F95: 昆明市盘龙区明通小学 | G95: 云南省科普教育基地联合会 | H95: 杨昌福 | I95: 邹锦娴 | J95: 1134 | K95: 0.068055556 | L95: 10 | M95: 一等奖 | N95: 入围总决赛
A96: 14771 | B96: rFc1M8H-44-029-V3-030-1-DT6-01-q0r | C96: '扣叮机器人赛项' | D96: '扣叮火星开发' | E96: 小学组 | F96: 通达天下五队 | G96: 兰州市城关区通渭路小学 | H96: 赵妍 | I96: 李嘉乐 | J96: 1130 | K96: 0.057256944 | L96: 11 | M96: 一等奖 | N96: 入围总决赛
A97: 13055 | B97: rFc1Ml5-44-029-1o-030-1-1Qk-01-6N7 | C97: '扣叮机器人赛项' | D97: '扣叮火星开发' | E97: 小学组 | F97: 智芃 | G97: 昭通市昭阳区第十小学 | H97: 朱恒睿 | I97: 黄智芃 | J97: 1128 | K97: 0.059282407 | L97: 12 | M97: 一等奖 | N97: 入围总决赛
... A106: 12138 | B106: rFc1Mlq-44-029-bt-030-1-ekB-01-M0O | C106: '扣叮机器人赛项' | D106: '扣叮火星开发' | E106: 小学组 | F106: 禹诚 | G106: 昭通市实验小学 | H106: 徐莲 | I106: 朱禹诚 | J106: 1058 | K106: 0.076388889 | L106: 21 | M106: 一等奖 | N106: 入围总决赛
A107: 13378 | B107: rFc1MQE-44-029-aG-030-1-tq1-01-2KK | C107: '扣叮机器人赛项' | D107: '扣叮火星开发' | E107: 小学组 | F107: 书林二小福海校区 薛念彤 | G107: 云南省昆明市西山区书林第二小学福海校区 | H107: 罗一丹 | I107: 薛念彤 | J107: 1056 | K107: 0.056793981 | L107: 22 | M107: 二等奖
A108: 12750 | B108: rFc1MWS-44-029-cX-030-1-CSI-01-SHB | C108: '扣叮机器人赛项' | D108: '扣叮火星开发' | E108: 小学组 | F108: 贾子颉 | G108: 昆明滇池国家旅游度假区第二小学 | H108: 王卓睿 | I108: 贾子颉 | J108: 1055 | K108: 0.036747685 | L108: 23 | M108: 二等奖
A109: 11411 | B109: rFc1MR0-44-029-2p-030-1-bXy-01-f5p | C109: '扣叮机器人赛项' | D109: '扣叮火星开发' | E109: 小学组 | F109: 一往无前队 | G109: 兰州大学附属学校 | H109: 倪云菲 | I109: 朱子钰 | J109: 1048 | K109: 0.071666667 | L109: 24 | M109: 二等奖
A110: 11839 | B110: rFc1MYi-44-029-OV-030-1-tsu-01-iAX | C110: '扣叮机器人赛项' | D110: '扣叮火星开发' | E110: 小学组 | F110: 祝融号 | G110: 安宁中学太平学校 | H110: 陈昌梅 | I110: 蔡云徽 | J110: 1040 | K110: 0.059756944 | L110: 25 | M110: 二等奖
A111: 14091 | B111: rFc1MWD-44-029-lu-030-1-P1H-01-Yz9 | C111: '扣叮机器人赛项' | D111: '扣叮火星开发' | E111: 小学组 | F111: 哈哈哈1队 | G111: 昆明市西山区乐灵智创文化培训学校 | H111: 潘智伟 | I111: 邱泽宇 | J111: 1034 | K111: 0.048425926 | L111: 26 | M111: 二等奖
A112: 14178 | B112: rFc1M8C-44-029-lC-030-1-WoK-01-oOr | C112: '扣叮机器人赛项' | D112: '扣叮火星开发' | E112: 小学组 | F112: 通达天在二队 | G112: 兰州市城关区南河小学 | H112: 张平 | I112: 王兆霖 | J112: 1034 | K112: 0.070833333 | L112: 27 | M112: 二等奖
A113: 13250 | B113: rFc1MlG-44-029-vi-030-1-JYS-01-CBY | C113: '扣叮机器人赛项' | D113: '扣叮火星开发' | E113: 小学组 | F113: 盛涵 | G113: 昭通市昭阳区第八小学 | H113: 邹崇润 | I113: 高盛涵 | J113: 1030 | K113: 0.055578704 | L113: 28 | M113: 二等奖
A114: 14893 | B114: rFc1MY5-44-029-lP-030-1-7kF-01-znD | C114: '扣叮机器人赛项' | D114: '扣叮火星开发' | E114: 小学组 | F114: 李昕月 | G114: 昆明市西山区乐灵智创文化培训学校 | H114: 袁节 | I114: 李昕月 | J114: 1010 | K114: 0.039375 | L114: 29 | M114: 二等奖
A115: 14524 | B115: rFc1MWc-44-029-kP-030-1-ld8-01-QL0 | C115: '扣叮机器人赛项' | D115: '扣叮火星开发' | E115: 小学组 | F115: 红旗7队 | G115: 昆明市五华区红旗小学 | H115: 邓桂丽 | I115: 马伊梓哲 | J115: 1010 | K115: 0.049421296 | L115: 30 | M115: 二等奖
A116: 9664 | B116: rFc1MRV-44-029-7O-030-1-WPy-01-O2t | C116: '扣叮机器人赛项' | D116: '扣叮火星开发' | E116: 小学组 | F116: 天水市秦州区藉口镇藉口中心小学 | G116: 天水市秦州区藉口镇藉口中心小学 | H116: 孙彦宗 | I116: 卜睿涵 | J116: 1010 | K116: 0.061273148 | L116: 31 | M116: 二等奖
A117: 14394 | B117: rFc1MHR-44-029-8i-030-1-3GJ-01-TOc | C117: '扣叮机器人赛项' | D117: '扣叮火星开发' | E117: 小学组 | F117: 附小13队 | G117: 云南师范大学附属小学 | H117: 罗瑛 | I117: 王懋京 | J117: 1010 | K117: 0.065648148 | L117: 32 | M117: 二等奖
A118: 13668 | B118: rFc1MYy-44-029-9R-030-1-HJ7-01-5sz | C118: '扣叮机器人赛项' | D118: '扣叮火星开发' | E118: 小学组 | F118: 臻昌胜战队 | G118: 官渡区钟英小学 | H118: 蒋昌赢 | I118: 唐永昌 | J118: 1010 | K118: 0.068472222 | L118: 33 | M118: 二等奖
... A227: 13824 | B227: rFc1MWH-44-029-Rg-030-1-Sel-01-qre | C227: '扣叮机器人赛项' | D227: '扣叮火星开发' | E227: 小学组 | F227: 鲁青未 | G227: 昆明市西山区乐灵智创文化培训学校 | H227: 王卓睿 | I227: 鲁青未 | J227: 10 | K227: 0.076388889 | L227: 142 | M227: 三等奖
A229: 10051 | B229: rFc1Mux-44-029-M5-030-1-oI1-02-XKd | C229: '扣叮机器人赛项' | D229: '扣叮火星开发' | E229: 初中组 | F229: 姚关馨一队 | G229: 昆明润城学校 | H229: 宁友涛 | I229: 姚关馨 | J229: 1166 | K229: 0.067094907 | L229: 1 | M229: 一等奖(冠军) | N229: 入围总决赛
A230: 14036 | B230: rFc1M3G-44-029-Mn-030-1-9EQ-02-7GZ | C230: '扣叮机器人赛项' | D230: '扣叮火星开发' | E230: 初中组 | F230: 杨崔鸾峰 | G230: 昆明市西山区乐灵智创文化培训学校 | H230: 袁节 | I230: 杨崔鸾烽 | J230: 1155 | K230: 0.064606481 | L230: 2 | M230: 一等奖(亚军) | N230: 入围总决赛
A231: 10687 | B231: rFc1M31-44-029-xI-030-1-6VY-02-Ai5 | C231: '扣叮机器人赛项' | D231: '扣叮火星开发' | E231: 初中组 | F231: 吴青远 | G231: 昆明市盘龙区白塔初级中学 | H231: 郑作贵 | I231: 吴青远 | J231: 1154 | K231: 0.06275463 | L231: 3 | M231: 一等奖(季军) | N231: 入围总决赛
A232: 9715 | B232: rFc1M1z-44-029-um-030-1-WE7-02-avf | C232: '扣叮机器人赛项' | D232: '扣叮火星开发' | E232: 初中组 | F232: 王灵煜 | G232: 云大附中星耀学校 | H232: 吴宇然 | I232: 王灵煜 | J232: 1153 | K232: 0.063263889 | L232: 4 | M232: 一等奖 | N232: 入围总决赛
A233: 12239 | B233: rFc1MBI-44-029-x7-030-1-b1r-02-sfR | C233: '扣叮机器人赛项' | D233: '扣叮火星开发' | E233: 初中组 | F233: 子沣 | G233: 云南师范大学实验中学 | H233: 张丙川 | I233: 孔子沣 | J233: 1152 | K233: 0.063206019 | L233: 5 | M233: 一等奖 | N233: 入围总决赛
A234: 12535 | B234: rFc1M12-44-029-d7-030-1-uOP-02-9RG | C234: '扣叮机器人赛项' | D234: '扣叮火星开发' | E234: 初中组 | F234: 王思予 | G234: 云南省昆明市第二中学 | H234: 袁节 | I234: 王思予 | J234: 1150 | K234: 0.057662037 | L234: 6 | M234: 一等奖 | N234: 入围总决赛
A235: 10225 | B235: rFc1Mut-44-029-Jx-030-1-sFm-02-hwB | C235: '扣叮机器人赛项' | D235: '扣叮火星开发' | E235: 初中组 | F235: 徐子峰一队 | G235: 昆明市第十四中学高新校区 | H235: 钱燕 | I235: 徐子峰 | J235: 1146 | K235: 0.047824074 | L235: 7 | M235: 一等奖 | N235: 入围总决赛
A236: 11282 | B236: rFc1M1A-44-029-6p-030-1-HFE-02-w11 | C236: '扣叮机器人赛项' | D236: '扣叮火星开发' | E236: 初中组 | F236: 十四中1分队 | G236: 昆明第十四中学 | H236: 杜国敏 | I236: 王培萱 | J236: 1140 | K236: 0.042534722 | L236: 8 | M236: 一等奖 | N236: 入围总决赛
A237: 8671 | B237: rFc1MmC-44-029-uc-030-1-Piw-02-Tfo | C237: '扣叮机器人赛项' | D237: '扣叮火星开发' | E237: 初中组 | F237: 广南上海新纪元1 | G237: 广南上海新纪元实验学校 | H237: 杨蔚 | I237: 李宇 | J237: 1140 | K237: 0.059756944 | L237: 9 | M237: 一等奖 | N237: 入围总决赛
A238: 8693 | B238: rFc1Mmj-44-029-FF-030-1-cd4-02-nl3 | C238: '扣叮机器人赛项' | D238: '扣叮火星开发' | E238: 初中组 | F238: 原神 | G238: 广南上海新纪元实验学校 | H238: 邓竣元 | I238: 王圣洁 | J238: 1135 | K238: 0.044918981 | L238: 10 | M238: 一等奖 | N238: 入围总决赛
A239: 11093 | B239: rFc1M3p-44-029-Jq-030-1-rrr-02-eZZ | C239: '扣叮机器人赛项' | D239: '扣叮火星开发' | E239: 初中组 | F239: 李旭冉 | G239: 昆明市西山区乐灵智创文化培训学校 | H239: 杜国敏 | I239: 李旭冉 | J239: 1130 | K239: 0.062407407 | L239: 11 | M239: 一等奖 | N239: 入围总决赛
A240: 14921 | B240: rFc1M3c-44-029-O0-030-1-afs-02-fQh | C240: '扣叮机器人赛项' | D240: '扣叮火星开发' | E240: 初中组 | F240: 科创01 | G240: 安宁市科技馆 | H240: 侯开杰 | I240: 吕幸贤 | J240: 1120 | K240: 0.060208333 | L240: 12 | M240: 一等奖 | N240: 入围总决赛
... A242: 11092 | B242: rFc1M1O-44-029-O2-030-1-iey-02-8b4 | C242: '扣叮机器人赛项' | D242: '扣叮火星开发' | E242: 初中组 | F242: 兰州东方学校火星制造 | G242: 兰州东方学校 | H242: 李承儒 | I242: 张宇恒 | J242: 1110 | K242: 0.058715278 | L242: 14 | M242: 一等奖 | N242: 入围总决赛
A243: 14111 | B243: rFc1MBH-44-029-Pm-030-1-8AP-02-zo8 | C243: '扣叮机器人赛项' | D243: '扣叮火星开发' | E243: 初中组 | F243: 财大2队 | G243: 昆明市盘龙区财大附中 | H243: 杨兴建 | I243: 杨予晗 | J243: 1046 | K243: 0.049594907 | L243: 15 | M243: 二等奖
A244: 12991 | B244: rFc1MBW-44-029-OB-030-1-Pjv-02-aGn | C244: '扣叮机器人赛项' | D244: '扣叮火星开发' | E244: 初中组 | F244: 昆八中代表队3 | G244: 云南省昆明市第八中学 | H244: 杨雪美 | I244: 李奕贤 | J244: 1044 | K244: 0.063125 | L244: 16 | M244: 二等奖
A245: 10713 | B245: rFc1M1s-44-029-Sn-030-1-kw1-02-Nhj | C245: '扣叮机器人赛项' | D245: '扣叮火星开发' | E245: 初中组 | F245: 昆工附中1分队 | G245: 昆明理工大学附属中学 | H245: 杜国敏 | I245: 张翔星 | J245: 1010 | K245: 0.047002315 | L245: 17 | M245: 二等奖
A246: 13194 | B246: rFc1Mrq-44-029-YH-030-1-yTo-02-OyH | C246: '扣叮机器人赛项' | D246: '扣叮火星开发' | E246: 初中组 | F246: 云南大学附属中学 | G246: 云南科普教育基地联合会 | H246: 李青青 | I246: 王御然 | J246: 1010 | K246: 0.062037037 | L246: 18 | M246: 二等奖
A247: 11188 | B247: rFc1MBA-44-029-Eo-030-1-25K-02-yWM | C247: '扣叮机器人赛项' | D247: '扣叮火星开发' | E247: 初中组 | F247: 超梦战队 | G247: 昆明市西山区乐灵智创文化培训学校 | H247: 李周泽 | I247: 胡祺梦 | J247: 1010 | K247: 0.063518519 | L247: 19 | M247: 二等奖
A248: 11076 | B248: rFc1MuR-44-029-iE-030-1-JOj-02-CUP | C248: '扣叮机器人赛项' | D248: '扣叮火星开发' | E248: 初中组 | F248: 华山战队 | G248: 昆明市五华区华山中学 | H248: 张慧梅 | I248: 陈梓由 | J248: 1010 | K248: 0.064525463 | L248: 20 | M248: 二等奖
A249: 8678 | B249: rFc1Mmn-44-029-ro-030-1-la4-02-KZG | C249: '扣叮机器人赛项' | D249: '扣叮火星开发' | E249: 初中组 | F249: 小星星 | G249: 广南上海新纪元实验学校 | H249: 杨蔚 | I249: 王利欢 | J249: 1010 | K249: 0.068506944 | L249: 21 | M249: 二等奖
A250: 10062 | B250: rFc1Mui-44-029-7b-030-1-ink-02-ZZz | C250: '扣叮机器人赛项' | D250: '扣叮火星开发' | E250: 初中组 | F250: 炫彤一队 | G250: 昆明市五华区莲华中学 | H250: 李靖 | I250: 吴炫彤 | J250: 1010 | K250: 0.072858796 | L250: 22 | M250: 二等奖
A251: 10071 | B251: rFc1M3v-44-029-Fg-030-1-irf-02-OjA | C251: '扣叮机器人赛项' | D251: '扣叮火星开发' | E251: 初中组 | F251: 文哲一队 | G251: 昆明市西山区粤秀中学 | H251: 施健 | I251: 迟文哲 | J251: 1010 | K251: 0.083333333 | L251: 23 | M251: 二等奖
A252: 11351 | B252: rFc1M1I-44-029-E0-030-1-i6u-02-fDY | C252: '扣叮机器人赛项' | D252: '扣叮火星开发' | E252: 初中组 | F252: 格子战队 | G252: 云大附中 | H252: 李周泽 | I252: 伏格玛 | J252: 952 | K252: 0.065659722 | L252: 24 | M252: 二等奖
A253: 8672 | B253: rFc1MmW-44-029-3p-030-1-7oY-02-Bkf | C253: '扣叮机器人赛项' | D253: '扣叮火星开发' | E253: 初中组 | F253: 广南上海新纪元 | G253: 广南上海新纪元实验学校 | H253: 邓竣元 | I253: 严富康 | J253: 926 | K253: 0.070983796 | L253: 25 | M253: 二等奖
A254: 14148 | B254: rFc1MB1-44-029-h1-030-1-dN8-02-XVE | C254: '扣叮机器人赛项' | D254: '扣叮火星开发' | E254: 初中组 | F254: 财大8队 | G254: 昆明市盘龙区财大附中 | H254: 杨兴建 | I254: 沈钰佳 | J254: 923 | K254: 0.071909722 | L254: 26 | M254: 二等奖
... A320: 12440 | B320: rFc1MBc-44-029-xO-030-1-Oxm-02-zMt | C320: '扣叮机器人赛项' | D320: '扣叮火星开发' | E320: 初中组 | F320: 逐梦泽铖 | G320: 昆明市盘龙区明致实验中学 | H320: 陈万宇 | I320: 罗泽铖 | J320: 10 | K320: 0.083333333 | L320: 92 | M320: 三等奖

Sheet TAI挑战赛项
A1: 2024世界机器人大赛昆明锦标赛-青少年机器人设计大赛-TAI挑战赛项获奖名单
A2: 报名编号 | B2: 激活码 | C2: 赛道 | D2: 赛项 | E2: 组别 | F2: 队伍名称 | G2: 申报单位 | H2: 教练信息 | I2: 学生信息 | J2: 比赛分数 | K2: 成绩排名 | L2: 奖项 | M2: 备注 | N2: 时间分为 第二排名依据
A3: 11315 | B3: rFc1XIR-44-033-G5-034-1-atL-01-6c4 | C3: TAI挑战赛项' | D3: 'TAI智慧城市挑战赛' | E3: 小学A组 | F3: 毕节市实验学校A1队 | G3: 毕节市实验学校 | H3: 余庆先 | I3: 周宇轩|罗浩晨|张琮奇 | J3: 215 | K3: 1 | L3: 一等奖(冠军) | M3: 入围总决赛
A4: 9356 | B4: rFc1XI7-44-033-zC-034-1-Tb0-01-OAa | C4: 'TAI挑战赛项' | D4: 'TAI智慧城市挑战赛' | E4: 小学A组 | F4: 创新先锋 | G4: 重庆市渝中区大坪小学校 | H4: 张庆 | I4: 李乐轩|向致远 | J4: 215 | K4: 2 | L4: 一等奖(亚军) | M4: 入围总决赛
A5: 16591 | B5: 2B8h6ygu-44-033-Kp-034-1-rmS-01-n2Q | C5: 'TAI挑战赛项' | D5: 'TAI智慧城市挑战赛' | E5: 小学A组 | F5: 贝小科二队 | G5: 重庆市教科院巴蜀实验学校和重庆市南岸区珊瑚实验小学校 | H5: 李魏巍 | I5: 张奕恒|程沐艺 | J5: 200 | K5: 3 | L5: 一等奖(季军) | M5: 入围总决赛
A6: 12093 | B6: rFc1Xf1-44-033-0I-034-1-nHJ-01-JUy | C6: 'TAI挑战赛项' | D6: 'TAI智慧城市挑战赛' | E6: 小学A组 | F6: 大沙小机器巨人队 | G6: 重庆大学城沙坪坝小学校 | H6: 游春虹 | I6: 刘正豪|刘素谦 | J6: 200 | K6: 4 | L6: 一等奖 | M6: 入围总决赛
A7: 9411 | B7: rFc1XIA-44-033-PC-034-1-apm-01-2cC | C7: 'TAI挑战赛项' | D7: 'TAI智慧城市挑战赛' | E7: 小学A组 | F7: 梦想航行 | G7: 重庆市渝中区大坪小学校 | H7: 巫光阳 | I7: 郑伟宸|范宇航 | J7: 195 | K7: 5 | L7: 一等奖 | M7: 入围总决赛
A8: 10394 | B8: rFc1XfD-44-033-Hh-034-1-ufo-01-Q9K | C8: 'TAI挑战赛项' | D8: 'TAI智慧城市挑战赛' | E8: 小学A组 | F8: 重庆科学城科一小战队 | G8: 重庆科学城第一实验小学校 | H8: 罗鹏 | I8: 杨承玮|甘佩鑫|邓一夫 | J8: 195 | K8: 6 | L8: 一等奖 | M8: 入围总决赛
A9: 9329 | B9: rFc1XfT-44-033-S1-034-1-6VS-01-t6r | C9: 'TAI挑战赛项' | D9: 'TAI智慧城市挑战赛' | E9: 小学A组 | F9: 南开景阳朝阳队 | G9: 高新区南开景阳小学 | H9: 谢欢 | I9: 李阳萌|王祖新 | J9: 190 | K9: 7 | L9: 一等奖 | M9: 入围总决赛
A10: 10064 | B10: rFc1XV4-44-033-A8-034-1-znM-01-0mt | C10: 'TAI挑战赛项' | D10: 'TAI智慧城市挑战赛' | E10: 小学A组 | F10: 武汉大方战队 | G10: 华中师范大学附属保利南湖小学 | H10: 程晶 | I10: 左骏逸 | J10: 190 | K10: 8 | L10: 一等奖 | M10: 入围总决赛
A11: 7553 | B11: rFc1XxU-44-033-qo-034-1-5Kz-01-MGS | C11: 'TAI挑战赛项' | D11: 'TAI智慧城市挑战赛' | E11: 小学A组 | F11: 青科二队 | G11: 大连经济技术开发区青科小学 | H11: 宋先盛 | I11: 孙铭岳|刘子俊 | J11: 185 | K11: 9 | L11: 二等奖
A12: 17007 | B12: 2B8h6yeq-44-033-Hi-034-1-9Og-01-cVo | C12: 'TAI挑战赛项' | D12: 'TAI智慧城市挑战赛' | E12: 小学A组 | F12: 大沙小机械先驱队 | G12: 重庆大学城沙坪坝小学校 | H12: 徐菊 | I12: 严墨梵|唐思源 | J12: 180 | K12: 10 | L12: 二等奖
A13: 10544 | B13: rFc1XVe-44-033-No-034-1-3Oj-01-xPn | C13: 'TAI挑战赛项' | D13: 'TAI智慧城市挑战赛' | E13: 小学A组 | F13: 南宁市明天学校4队 | G13: 南宁市明天学校 | H13: 苏艳春 | I13: 赵宸瑜|蔡宜洋 | J13: 170 | K13: 11 | L13: 二等奖
A14: 6856 | B14: rFc1Xxw-44-033-pL-034-1-h8D-01-pt5 | C14: 'TAI挑战赛项' | D14: 'TAI智慧城市挑战赛' | E14: 小学A组 | F14: 青科一队 | G14: 大连经济技术开发区青科小学 | H14: 宋先盛 | I14: 徐浩宸|王梵旭 | J14: 165 | K14: 12 | L14: 二等奖
A15: 16554 | B15: 2B8h6yew-44-033-sc-034-1-rfJ-01-LuK | C15: 'TAI挑战赛项' | D15: 'TAI智慧城市挑战赛' | E15: 小学A组 | F15: 树人思贤机械精英队 | G15: 重庆科学城树人思贤小学校 | H15: 胡利华 | I15: 程泽溪|杜依依 | J15: 160 | K15: 13 | L15: 二等奖
A16: 7167 | B16: rFc1XMR-44-033-UC-034-1-o9w-01-OQ3 | C16: 'TAI挑战赛项' | D16: 'TAI智慧城市挑战赛' | E16: 小学A组 | F16: 新区小学爱创7队 | G16: 新乡市新区小学 | H16: 齐珂轩 | I16: 宋宇航|杨奡涵|白恩澔 | J16: 155 | K16: 14 | L16: 二等奖
A17: 11307 | B17: rFc1XVs-44-033-pP-034-1-D2V-01-PBX | C17: 'TAI挑战赛项' | D17: 'TAI智慧城市挑战赛' | E17: 小学A组 | F17: 洪山二小战队 | G17: 武汉市洪山区第二小学 | H17: 易凯 | I17: 何璟瑜 | J17: 145 | K17: 15 | L17: 二等奖
A18: 10123 | B18: rFc1XVA-44-033-jb-034-1-LbD-01-nlq | C18: 'TAI挑战赛项' | D18: 'TAI智慧城市挑战赛' | E18: 小学A组 | F18: 武大二附小战队 | G18: 武汉大学第二附属小学 | H18: 张龙 | I18: 周政彧 | J18: 145 | K18: 16 | L18: 二等奖
A19: 10529 | B19: rFc1XfR-44-033-es-034-1-DHk-01-DBX | C19: 'TAI挑战赛项' | D19: 'TAI智慧城市挑战赛' | E19: 小学A组 | F19: 人民融侨1队 | G19: 重庆人民（融侨）小学校 | H19: 黄建春 | I19: 颜梓默|云睿一 | J19: 140 | K19: 17 | L19: 二等奖
A20: 7147 | B20: rFc1Xxh-44-033-rC-034-1-dLa-01-gLj | C20: 'TAI挑战赛项' | D20: 'TAI智慧城市挑战赛' | E20: 小学A组 | F20: 实验小学爱创1队 | G20: 新乡市实验小学 | H20: 宋薇 | I20: 司晋羽|郭忠琰|戚智溥 | J20: 140 | K20: 18 | L20: 二等奖
A21: 10692 | B21: rFc1XMt-44-033-MO-034-1-RlX-01-LcY | C21: 'TAI挑战赛项' | D21: 'TAI智慧城市挑战赛' | E21: 小学A组 | F21: 智慧城市第二小组 | G21: 六盘水市水城区第二小学 | H21: 李溪 | I21: 王树森|罗卫星|曾杨瑾瑜 | J21: 130 | K21: 19 | L21: 二等奖
A22: 11905 | B22: rFc1XIx-44-033-tl-034-1-wCH-01-yER | C22: 'TAI挑战赛项' | D22: 'TAI智慧城市挑战赛' | E22: 小学A组 | F22: HDR | G22: 重庆市南岸区广阳湾珊瑚实验小学校 | H22: 黄艳红 | I22: 丁明熠|任品行 | J22: 130 | K22: 20 | L22: 二等奖
... A54: 13911 | B54: rFc1XIg-44-033-xy-034-1-jTT-01-ryk | C54: 'TAI挑战赛项' | D54: 'TAI智慧城市挑战赛' | E54: 小学A组 | F54: 滨河三组 | G54: 成都高新滨河学校 | H54: 刘馨鸿 | I54: 郑渊文|康奕博 | J54: 5 | K54: 52 | L54: 三等奖
A56: 7623 | B56: rFc1XVN-44-033-zU-034-1-DkV-01-QSZ | C56: 'TAI挑战赛项' | D56: 'TAI智慧城市挑战赛' | E56: 小学B组 | F56: Tomato战队 | G56: 丹东市实验小学 | H56: 赵鑫宇 | I56: 杨浩然|栾皓然 | J56: 230 | K56: 1 | L56: 一等奖(冠军) | M56: 入围总决赛
A57: 14783 | B57: rFc1XID-44-033-kO-034-1-elj-01-6MO | C57: 'TAI挑战赛项' | D57: 'TAI智慧城市挑战赛' | E57: 小学B组 | F57: 小贝二队 | G57: 重庆谢家湾小学校、重庆外国语学校森林小学 | H57: 文江林 | I57: 杨浩轩|段佳承 | J57: 220 | K57: 2 | L57: 一等奖(亚军) | M57: 入围总决赛
A58: 9089 | B58: rFc1XMI-44-033-LV-034-1-Ll7-01-dIe | C58: 'TAI挑战赛项' | D58: 'TAI智慧城市挑战赛' | E58: 小学B组 | F58: 艾莱特五组 | G58: 哈尔滨市泰山小学 | H58: 陈占坤 | I58: 杨皓宇|郭世元 | J58: 215 | K58: 3 | L58: 一等奖(季军) | M58: 入围总决赛
A59: 9305 | B59: rFc1XIU-44-033-eS-034-1-uO3-01-GJB | C59: 'TAI挑战赛项' | D59: 'TAI智慧城市挑战赛' | E59: 小学B组 | F59: 壶山小学1队 | G59: 浙江省武义县壶山小学 | H59: 刘庆红 | I59: 熊悠盛|姜霖睿 | J59: 210 | K59: 4 | L59: 一等奖 | M59: 入围总决赛
A60: 7268 | B60: rFc1XxI-44-033-ae-034-1-QNj-01-fQA | C60: 'TAI挑战赛项' | D60: 'TAI智慧城市挑战赛' | E60: 小学B组 | F60: 梦想飞扬队 | G60: 1.重庆大学城第二小学校 | H60: 杨娟 | I60: 黄麒睿翎|王馨瑶|舒若航 | J60: 200 | K60: 5 | L60: 一等奖 | M60: 入围总决赛
A61: 7152 | B61: rFc1XMk-44-033-Ch-034-1-46d-01-TYD | C61: 'TAI挑战赛项' | D61: 'TAI智慧城市挑战赛' | E61: 小学B组 | F61: 实验小学爱创2队 | G61: 新乡市实验小学 | H61: 王立康 | I61: 郭贺然|李懿轩|王鑫隆 | J61: 195 | K61: 6 | L61: 一等奖 | M61: 入围总决赛
A62: 11636 | B62: rFc1XMP-44-033-Rx-034-1-VDz-01-9tv | C62: 'TAI挑战赛项' | D62: 'TAI智慧城市挑战赛' | E62: 小学B组 | F62: 钜蛋小学1队 | G62: 秦皇岛市海港区新一路小学集团、迎宾路小学联队 | H62: 张莹晖 | I62: 宋佳栋|贾益蘅 | J62: 190 | K62: 7 | L62: 一等奖 | M62: 入围总决赛
A63: 11762 | B63: rFc1XMZ-44-033-GR-034-1-gRG-01-HuO | C63: 'TAI挑战赛项' | D63: 'TAI智慧城市挑战赛' | E63: 小学B组 | F63: 钜蛋小学2队 | G63: 秦皇岛海港区市新一路小学集团 | H63: 张莹晖 | I63: 赵绎添|张贤明 | J63: 190 | K63: 8 | L63: 二等奖
A64: 9087 | B64: rFc1XMf-44-033-xB-034-1-YfM-01-esU | C64: 'TAI挑战赛项' | D64: 'TAI智慧城市挑战赛' | E64: 小学B组 | F64: 艾莱特四组 | G64: 哈尔滨市继红小学 | H64: 陈占坤 | I64: 陈睿晨|赵一鸣 | J64: 185 | K64: 9 | L64: 二等奖
A65: 7542 | B65: rFc1Xxa-44-033-lz-034-1-dFE-01-xlX | C65: 'TAI挑战赛项' | D65: 'TAI智慧城市挑战赛' | E65: 小学B组 | F65: 智慧队 | G65: 四川外国语大学九龙坡区附属小学和重庆九龙坡区第一实验小学燕南校区 | H65: 郑晓洁 | I65: 苏泊槐|何生辉 | J65: 185 | K65: 10 | L65: 二等奖
A66: 7619 | B66: rFc1XVK-44-033-xr-034-1-xy8-01-8J5 | C66: 'TAI挑战赛项' | D66: 'TAI智慧城市挑战赛' | E66: 小学B组 | F66: 黄金双镖客 | G66: 丹东市实验小学 | H66: 赵鑫宇 | I66: 刘苏锐|高皓森 | J66: 175 | K66: 11 | L66: 二等奖
A67: 9200 | B67: rFc1XfC-44-033-KV-034-1-5BW-01-6OJ | C67: 'TAI挑战赛项' | D67: 'TAI智慧城市挑战赛' | E67: 小学B组 | F67: 梦想之队 | G67: 南京安生学校 | H67: 程正斌 | I67: 吴吟盈|陈昊男|毛君源 | J67: 175 | K67: 12 | L67: 二等奖
A68: 11191 | B68: rFc1XIn-44-033-KQ-034-1-FxK-01-cQp | C68: 'TAI挑战赛项' | D68: 'TAI智慧城市挑战赛' | E68: 小学B组 | F68: 小贝一队 | G68: 重庆高新技术产业开发区第一实验小学校、重庆市渝中区马家堡小学校 | H68: 周青松 | I68: 游然|蒲鑫尧 | J68: 175 | K68: 13 | L68: 二等奖
A69: 9093 | B69: rFc1XM6-44-033-AR-034-1-VX8-01-y6a | C69: 'TAI挑战赛项' | D69: 'TAI智慧城市挑战赛' | E69: 小学B组 | F69: 艾莱特七组 | G69: 哈尔滨工业大学附属中学小学部 | H69: 陈占坤 | I69: 席湛轩|李亿诚 | J69: 165 | K69: 14 | L69: 二等奖
A70: 9537 | B70: rFc1XfN-44-033-hB-034-1-nae-01-3n6 | C70: 'TAI挑战赛项' | D70: 'TAI智慧城市挑战赛' | E70: 小学B组 | F70: 创造之星 | G70: 南京市玄武外国语学校附属小学 南京市立贤小学、南京附中树人附小 | H70: 程正斌 | I70: 陆知行|向弋|朱芷萱 | J70: 165 | K70: 15 | L70: 二等奖
A71: 9515 | B71: rFc1XI4-44-033-vu-034-1-Xat-01-Q7L | C71: 'TAI挑战赛项' | D71: 'TAI智慧城市挑战赛' | E71: 小学B组 | F71: 壶山小学2队 | G71: 浙江省武义县壶山小学 | H71: 袁李亚男 | I71: 陈彧熠|郑浩然 | J71: 160 | K71: 16 | L71: 二等奖
A72: 9291 | B72: rFc1XVx-44-033-bq-034-1-gKk-01-kaA | C72: 'TAI挑战赛项' | D72: 'TAI智慧城市挑战赛' | E72: 小学B组 | F72: 县直三小 | G72: 伊川县直第三小学 | H72: 张利各 | I72: 毛皓田|韦子杭 | J72: 160 | K72: 17 | L72: 二等奖
A73: 7163 | B73: rFc1XMu-44-033-5G-034-1-UOo-01-qC0 | C73: 'TAI挑战赛项' | D73: 'TAI智慧城市挑战赛' | E73: 小学B组 | F73: 新乡市爱创机器人2队 | G73: 新乡市外国语小学 | H73: 袁征 | I73: 卜子盎|薛恩雨|郜俊凯 | J73: 155 | K73: 18 | L73: 二等奖
A74: 7164 | B74: rFc1XMN-44-033-Lu-034-1-HR3-01-YRR | C74: 'TAI挑战赛项' | D74: 'TAI智慧城市挑战赛' | E74: 小学B组 | F74: 新区小学爱创3队 | G74: 新乡市新区小学 | H74: 郑涛 | I74: 李梓辉|杨乔正|赵晨睿 | J74: 155 | K74: 19 | L74: 二等奖
... A102: 16529 | B102: 2B8h6yeh-44-033-ge-034-1-Fgw-01-txz | C102: 'TAI挑战赛项' | D102: 'TAI智慧城市挑战赛' | E102: 小学B组 | F102: 耀日队 | G102: 珠海市香山学校 | H102: 许剑珩 | I102: 黄子铭|吴东林|吴贻霖 | J102: 5 | K102: 47 | L102: 三等奖
A104: 14547 | B104: rFc1XJn-44-033-Dm-034-1-EmU-02-OUR | C104: 'TAI挑战赛项' | D104: 'TAI智慧城市挑战赛' | E104: 初中组 | F104: 天津市河东区太阳城学校初中代表队 | G104: 天津市河东区太阳城学校 | H104: 张童 | I104: 张建一|陈嘉瑶|孙佳欣 | J104: 290 | K104: 1 | L104: 一等奖(冠军) | M104: 入围总决赛
A105: 15433 | B105: rFc1Xic-44-033-9F-034-1-wH6-02-In6 | C105: 'TAI挑战赛项' | D105: 'TAI智慧城市挑战赛' | E105: 初中组 | F105: 巢湖舟子1队 | G105: 巢湖市第二中学 | H105: 许永生 | I105: 耿浩然|胡耀天 | J105: 265 | K105: 2 | L105: 一等奖(亚军) | M105: 入围总决赛
A106: 12349 | B106: rFc1Xi4-44-033-Yr-034-1-ZFG-02-TAU | C106: 'TAI挑战赛项' | D106: 'TAI智慧城市挑战赛' | E106: 初中组 | F106: 成都中和智慧1 | G106: 四川省成都市中和中学 | H106: 赵云飞 | I106: 熊蒙弈|梅浩然 | J106: 250 | K106: 3 | L106: 一等奖(季军) | M106: 入围总决赛
A107: 13736 | B107: rFc1XJZ-44-033-Et-034-1-Zbj-02-l0W | C107: 'TAI挑战赛项' | D107: 'TAI智慧城市挑战赛' | E107: 初中组 | F107: 蜻蜓农服机器人2战队 | G107: 江苏省建湖县秀夫初级中学 | H107: 潘克 | I107: 魏鹏文|王星宇 | J107: 245 | K107: 4 | L107: 一等奖 | M107: 入围总决赛
A108: 9675 | B108: rFc1Xiq-44-033-lf-034-1-Ifx-02-fK1 | C108: 'TAI挑战赛项' | D108: 'TAI智慧城市挑战赛' | E108: 初中组 | F108: 遂中一队 | G108: 四川省遂宁中学高新学校 | H108: 陈六一 | I108: 邓橦|朱桢 | J108: 240 | K108: 5 | L108: 一等奖 | M108: 入围总决赛
A109: 10937 | B109: rFc1Xiy-44-033-1B-034-1-ODl-02-YJD | C109: 'TAI挑战赛项' | D109: 'TAI智慧城市挑战赛' | E109: 初中组 | F109: 贝小科一队 | G109: 重庆市一一0中学和重庆市南岸区中海学校 | H109: 李魏巍 | I109: 黄之潇|何定臻 | J109: 235 | K109: 6 | L109: 一等奖 | M109: 入围总决赛
A110: 10287 | B110: rFc1XxB-44-033-kM-034-1-7f6-02-ww2 | C110: 'TAI挑战赛项' | D110: 'TAI智慧城市挑战赛' | E110: 初中组 | F110: KD华一初S战队 | G110: 华中师范大学第一附属中学初中部 | H110: 廖启勇 | I110: 谢子文|黄泓杰 | J110: 235 | K110: 7 | L110: 一等奖 | M110: 入围总决赛
A111: 17118 | B111: 2B8h6yeN-44-033-NU-034-1-0RD-02-y3E | C111: 'TAI挑战赛项' | D111: 'TAI智慧城市挑战赛' | E111: 初中组 | F111: 一往直前队 | G111: 重庆市渝北区数据谷中学校和重庆市綦江中学 | H111: 李魏巍 | I111: 肖轶尘|张恒畅 | J111: 230 | K111: 8 | L111: 二等奖
A112: 10469 | B112: rFc1XJO-44-033-rY-034-1-sb8-02-D0g | C112: 'TAI挑战赛项' | D112: 'TAI智慧城市挑战赛' | E112: 初中组 | F112: 兵团星辰 | G112: 新疆生产建设兵团第二中学 | H112: 吕笃康 | I112: 彭楚楚|鲁文西 | J112: 220 | K112: 9 | L112: 二等奖
A113: 7667 | B113: rFc1Xix-44-033-kM-034-1-zkL-02-Toh | C113: 'TAI挑战赛项' | D113: 'TAI智慧城市挑战赛' | E113: 初中组 | F113: 艾莱特二组 | G113: 哈尔滨市第六十九中学 | H113: 班立超 | I113: 蒿禹溪|李一霖 | J113: 215 | K113: 10 | L113: 二等奖
A114: 11552 | B114: rFc1XJv-44-033-Ji-034-1-vOJ-02-RDm | C114: 'TAI挑战赛项' | D114: 'TAI智慧城市挑战赛' | E114: 初中组 | F114: 酷和16 | G114: 郑州市第八十五中学 郑州经开区致远中学 | H114: 杜元军 | I114: 杨建阔|吴雨瑶 | J114: 205 | K114: 11 | L114: 二等奖
A115: 10286 | B115: rFc1XJE-44-033-lw-034-1-ZiP-02-Gjd | C115: 'TAI挑战赛项' | D115: 'TAI智慧城市挑战赛' | E115: 初中组 | F115: 智联队 | G115: 新疆生产建设兵团第一中学 和 新疆生产建设兵团第二中学 | H115: 吕笃康 | I115: 李润辰|金熙凯 | J115: 200 | K115: 12 | L115: 二等奖
A116: 11091 | B116: rFc1XJ9-44-033-bK-034-1-xB0-02-bHv | C116: 'TAI挑战赛项' | D116: 'TAI智慧城市挑战赛' | E116: 初中组 | F116: 辰宸浩瀚 | G116: 新疆生产建设兵团第二中学 | H116: 吕笃康 | I116: 张啸辰|张浩宸 | J116: 200 | K116: 13 | L116: 二等奖
A117: 10262 | B117: rFc1XJk-44-033-Nk-034-1-U3f-02-c4s | C117: 'TAI挑战赛项' | D117: 'TAI智慧城市挑战赛' | E117: 初中组 | F117: 兵团二中飞扬队 | G117: 新疆生产建设兵团第二中学 | H117: 吕笃康 | I117: 靳荞源|张湑敏 | J117: 200 | K117: 14 | L117: 二等奖
A118: 7665 | B118: rFc1XiM-44-033-3e-034-1-M1I-02-Bdp | C118: 'TAI挑战赛项' | D118: 'TAI智慧城市挑战赛' | E118: 初中组 | F118: 艾莱特一组 | G118: 哈尔滨市第六十九中学 | H118: 班立超 | I118: 任嘉祯|许家瑀 | J118: 190 | K118: 15 | L118: 二等奖
A119: 7792 | B119: rFc1Xii-44-033-fr-034-1-SRQ-02-ET6 | C119: 'TAI挑战赛项' | D119: 'TAI智慧城市挑战赛' | E119: 初中组 | F119: 艾莱特三组 | G119: 哈尔滨市爱建学校 | H119: 班立超 | I119: 张嘉航|王开润 | J119: 180 | K119: 16 | L119: 二等奖
A120: 7658 | B120: rFc1Xi6-44-033-xa-034-1-ZC2-02-oNa | C120: 'TAI挑战赛项' | D120: 'TAI智慧城市挑战赛' | E120: 初中组 | F120: 创耀之星 | G120: 重庆两江新区西大附中星辰学校 | H120: 康妮 | I120: 刘辰睿|陈朵依|易靖淞 | J120: 170 | K120: 17 | L120: 二等奖
A121: 9229 | B121: rFc1XJy-44-033-MQ-034-1-XrL-02-XW1 | C121: 'TAI挑战赛项' | D121: 'TAI智慧城市挑战赛' | E121: 初中组 | F121: 玉泉1队 | G121: 南京市第二十九中学初中部 | H121: 程正斌 | I121: 危潇|张皓钦|李贤齐 | J121: 165 | K121: 18 | L121: 二等奖
A122: 11485 | B122: rFc1Xxe-44-033-aO-034-1-jpu-02-4Gj | C122: 'TAI挑战赛项' | D122: 'TAI智慧城市挑战赛' | E122: 初中组 | F122: 豪哲队 | G122: 郑州市金水区经纬学校 郑州市管城回族区外国语学校 | H122: 程颍奇 | I122: 周豪木子|朱俊哲 | J122: 160 | K122: 19 | L122: 二等奖
... A147: 10439 | B147: rFc1Xx3-44-033-Ff-034-1-9Ax-02-G5O | C147: 'TAI挑战赛项' | D147: 'TAI智慧城市挑战赛' | E147: 初中组 | F147: 崇文外校战队 | G147: 崇文外国语学校 | H147: 谢云 | I147: 刘嘉文 | J147: 5 | K147: 44 | L147: 三等奖
A149: 12307 | B149: rFc1Co5-44-033-vv-034-1-SKA-03-vRD | C149: 'TAI挑战赛项' | D149: 'TAI智慧城市挑战赛' | E149: 高中组 | F149: 重庆市育才中学校 | G149: 重庆市育才中学校 | H149: 冯孟坭 | I149: 周欣怡|王紫涵 | J149: 215 | K149: 1 | L149: 一等奖(冠军) | M149: 入围总决赛
A150: 13062 | B150: rFc1X6P-44-033-Bs-034-1-pIB-03-FaK | C150: 'TAI挑战赛项' | D150: 'TAI智慧城市挑战赛' | E150: 高中组 | F150: 合肥市第十中学 | G150: 合肥市第十中学 | H150: 赵言言 | I150: 桂民柱|葛道鹏 | J150: 215 | K150: 2 | L150: 一等奖(亚军) | M150: 入围总决赛
A151: 13321 | B151: rFc1CoN-44-033-6Z-034-1-4eK-03-Lah | C151: 'TAI挑战赛项' | D151: 'TAI智慧城市挑战赛' | E151: 高中组 | F151: 贵州省凯里市第一中学 | G151: 贵州省凯里市第一中学 | H151: 杨光 | I151: 赵金晨|吴磊|刘少卿 | J151: 215 | K151: 3 | L151: 一等奖(季军) | M151: 入围总决赛
A152: 12553 | B152: rFc1CoJ-44-033-C5-034-1-r8h-03-Rcb | C152: 'TAI挑战赛项' | D152: 'TAI智慧城市挑战赛' | E152: 高中组 | F152: 四川省成都市中和中学 | G152: 四川省成都市中和中学 | H152: 宋明全 | I152: 李明成|陈俊锋 | J152: 210 | K152: 4 | L152: 一等奖 | M152: 入围总决赛
A153: 9578 | B153: rFc1X6N-44-033-Oo-034-1-2YG-03-s6l | C153: 'TAI挑战赛项' | D153: 'TAI智慧城市挑战赛' | E153: 高中组 | F153: 合肥市第六中学 | G153: 合肥市第六中学 | H153: 戴厚贵 | I153: 洪世涵|王梓丞 | J153: 185 | K153: 5 | L153: 一等奖 | M153: 入围总决赛
A154: 9232 | B154: rFc1X6k-44-033-WH-034-1-LIP-03-K7e | C154: 'TAI挑战赛项' | D154: 'TAI智慧城市挑战赛' | E154: 高中组 | F154: 新乡市太行中学 | G154: 新乡市太行中学 | H154: 张鑫 | I154: 李伟锴|陶帅辰 | J154: 180 | K154: 6 | L154: 一等奖 | M154: 入围总决赛
A155: 8854 | B155: rFc1X6x-44-033-Vd-034-1-gxc-03-lAR | C155: 'TAI挑战赛项' | D155: 'TAI智慧城市挑战赛' | E155: 高中组 | F155: 合肥市第十一中学 | G155: 合肥市第十一中学 | H155: 张海航 | I155: 徐涵钰|谢梦怡 | J155: 165 | K155: 7 | L155: 一等奖 | M155: 入围总决赛
A156: 10760 | B156: rFc1Xig-44-033-pO-034-1-xOj-03-Sl0 | C156: 'TAI挑战赛项' | D156: 'TAI智慧城市挑战赛' | E156: 高中组 | F156: 无锡市第三高级中学 | G156: 无锡市第三高级中学 | H156: 凌晨 | I156: 马雨鑫|刘一帆 | J156: 165 | K156: 8 | L156: 一等奖 | M156: 入围总决赛
A157: 12311 | B157: rFc1CoU-44-033-RO-034-1-zdk-03-UBI | C157: 'TAI挑战赛项' | D157: 'TAI智慧城市挑战赛' | E157: 高中组 | F157: 重庆市育才中学校 | G157: 重庆市育才中学校 | H157: 郑霜 | I157: 赵海粟|彭钇霖 | J157: 160 | K157: 9 | L157: 二等奖
A158: 9862 | B158: rFc1X6T-44-033-1h-034-1-t5B-03-wFo | C158: 'TAI挑战赛项' | D158: 'TAI智慧城市挑战赛' | E158: 高中组 | F158: 南京市宁海中学 南京市玄武高级中学 | G158: 南京市宁海中学 南京市玄武高级中学 | H158: 赵斌 | I158: 周雨清|徐润霖 | J158: 155 | K158: 10 | L158: 二等奖
A159: 10688 | B159: rFc1X6Y-44-033-uq-034-1-cCt-03-eHj | C159: 'TAI挑战赛项' | D159: 'TAI智慧城市挑战赛' | E159: 高中组 | F159: 成都大学附属中学 | G159: 成都大学附属中学 | H159: 邹可心 | I159: 张诗雨|殷琳惠 | J159: 155 | K159: 11 | L159: 二等奖
A160: 14804 | B160: rFc1CoA-44-033-eE-034-1-tUz-03-6WK | C160: 'TAI挑战赛项' | D160: 'TAI智慧城市挑战赛' | E160: 高中组 | F160: 宜阳县第一高级中学 | G160: 宜阳县第一高级中学 | H160: 樊旭昕 | I160: 高美怡|李想|李奕霈 | J160: 155 | K160: 12 | L160: 二等奖
A161: 9855 | B161: rFc1X68-44-033-vf-034-1-PEb-03-DOk | C161: 'TAI挑战赛项' | D161: 'TAI智慧城市挑战赛' | E161: 高中组 | F161: 南京市第十二中学 南京河西外国语学校 | G161: 南京市第十二中学 南京河西外国语学校 | H161: 赵斌 | I161: 周新程|侯昱辰|何梓宁 | J161: 150 | K161: 13 | L161: 二等奖
A162: 12208 | B162: rFc1CSF-44-033-u0-034-1-muP-03-YRq | C162: 'TAI挑战赛项' | D162: 'TAI智慧城市挑战赛' | E162: 高中组 | F162: 伊川县实验高中 | G162: 伊川县实验高中 | H162: 刘丹丹 | I162: 梁培琳|刘伊昶 | J162: 145 | K162: 14 | L162: 二等奖
A163: 10782 | B163: rFc1Xik-44-033-4E-034-1-skD-03-fVs | C163: 'TAI挑战赛项' | D163: 'TAI智慧城市挑战赛' | E163: 高中组 | F163: 无锡市第三高级中学 | G163: 无锡市第三高级中学 | H163: 胡锡东 | I163: 刘梓悦|蒋佩衡 | J163: 145 | K163: 15 | L163: 二等奖
A164: 9222 | B164: rFc1X6r-44-033-aX-034-1-iOp-03-THc | C164: 'TAI挑战赛项' | D164: 'TAI智慧城市挑战赛' | E164: 高中组 | F164: 新乡市第一中学 | G164: 新乡市第一中学 | H164: 杜怀英 | I164: 刘飞宇|刘艺璇 | J164: 140 | K164: 16 | L164: 二等奖
A165: 8408 | B165: rFc1XKQ-44-033-xd-034-1-D34-03-UP3 | C165: 'TAI挑战赛项' | D165: 'TAI智慧城市挑战赛' | E165: 高中组 | F165: 洛宁县第一高级中学 | G165: 洛宁县第一高级中学 | H165: 高照胜 | I165: 郭正千|王家怡 | J165: 140 | K165: 17 | L165: 二等奖
A166: 14838 | B166: rFc1Coy-44-033-Gn-034-1-YAF-03-Woz | C166: 'TAI挑战赛项' | D166: 'TAI智慧城市挑战赛' | E166: 高中组 | F166: 哈尔滨市德强高中 | G166: 哈尔滨市德强高中 | H166: 陈占坤 | I166: 杨超然|王治钦 | J166: 135 | K166: 18 | L166: 二等奖
A167: 13931 | B167: rFc1Cos-44-033-ec-034-1-ROM-03-uXH | C167: 'TAI挑战赛项' | D167: 'TAI智慧城市挑战赛' | E167: 高中组 | F167: 兴业县高级中学 | G167: 兴业县高级中学 | H167: 梁培疆 | I167: 韦斯棋|钟丽丹|陈雅琪 | J167: 125 | K167: 19 | L167: 二等奖
A168: 10457 | B168: rFc1X6h-44-033-3e-034-1-bNj-03-58I | C168: 'TAI挑战赛项' | D168: 'TAI智慧城市挑战赛' | E168: 高中组 | F168: 南京市第二十九中学 南京市中华中学 | G168: 南京市第二十九中学 南京市中华中学 | H168: 程正斌 | I168: 侯乐扬|余丞洋 | J168: 110 | K168: 20 | L168: 二等奖
... A199: 12834 | B199: rFc1Coz-44-033-pQ-034-1-Rk5-03-sk2 | C199: 'TAI挑战赛项' | D199: 'TAI智慧城市挑战赛' | E199: 高中组 | F199: 湖州市行知中学 | G199: 湖州市行知中学 | H199: 曹雪丹 | I199: 沈熙文|金尧晨 | J199: 5 | K199: 51 | L199: 三等奖
A201: 8453 | B201: rFc1Xat-44-033-fb-035-1-TSD-01-XJl | C201: 'TAI挑战赛项' | D201: 'TAI抢滩登陆对抗赛' | E201: 小学组 | F201: 雏鹰六队 | G201: 吉林市第一实验小学 | H201: 刘平安 | I201: 曲梓铭|刘宇枫 | K201: 1 | L201: 一等奖(冠军) | M201: 入围总决赛
A202: 8294 | B202: rFc1XX3-44-033-lk-035-1-qTn-01-5E4 | C202: 'TAI挑战赛项' | D202: 'TAI抢滩登陆对抗赛' | E202: 小学组 | F202: 雏鹰四队 | G202: 吉林市第一实验小学 | H202: 刘平安 | I202: 陈俊逸|董泓廷 | K202: 2 | L202: 一等奖(亚军) | M202: 入围总决赛
A203: 9131 | B203: rFc1XXF-44-033-ak-035-1-Os2-01-Ttt | C203: 'TAI挑战赛项' | D203: 'TAI抢滩登陆对抗赛' | E203: 小学组 | F203: 吉化第一实验小学鸿鸣战队 | G203: 吉化第一实验小学校 | H203: 董建莹 | I203: 刘柏江|张书鸣 | K203: 3 | L203: 一等奖(季军) | M203: 入围总决赛
A204: 10002 | B204: rFc1XXL-44-033-d6-035-1-tZw-01-4Xk | C204: 'TAI挑战赛项' | D204: 'TAI抢滩登陆对抗赛' | E204: 小学组 | F204: 酷和6队 | G204: 郑州市管城区外国语牧歌小学/郑州经济技术开发区外国语第二小学 | H204: 李少猛 | I204: 宋煜泽|魏棛博 | K204: 4 | L204: 一等奖 | M204: 入围总决赛
A205: 9988 | B205: rFc1XXw-44-033-zI-035-1-CG3-01-7oJ | C205: 'TAI挑战赛项' | D205: 'TAI抢滩登陆对抗赛' | E205: 小学组 | F205: 酷和AI5队 | G205: 郑州市管城回族区银莺路小学/郑州市管城区外国语牧歌小学 | H205: 程颍奇 | I205: 李响|黄浚壹 | K205: 5 | L205: 二等奖
A206: 7572 | B206: rFc1XXg-44-033-9M-035-1-2ko-01-052 | C206: 'TAI挑战赛项' | D206: 'TAI抢滩登陆对抗赛' | E206: 小学组 | F206: 吉化第一实验小学AK战队 | G206: 吉化第一实验小学校 | H206: 董建莹 | I206: 栾皓然|张栩源 | K206: 6 | L206: 二等奖
A207: 10088 | B207: rFc1XX9-44-033-xU-035-1-mpJ-01-oRj | C207: 'TAI挑战赛项' | D207: 'TAI抢滩登陆对抗赛' | E207: 小学组 | F207: 酷和15 | G207: 郑州四中实验学校/管城区第二实验小学 | H207: 程颍奇 | I207: 张皓轩|李程智 | K207: 7 | L207: 二等奖
A208: 13229 | B208: rFc1Xab-44-033-jv-035-1-1QQ-01-dlj | C208: 'TAI挑战赛项' | D208: 'TAI抢滩登陆对抗赛' | E208: 小学组 | F208: 邦宝2队 | G208: 南京市浦口区实验学校 | H208: 嵇春洋 | I208: 尹思博|童铮 | K208: 8 | L208: 二等奖
A209: 11299 | B209: rFc1Xaz-44-033-tQ-035-1-3Al-01-8sy | C209: 'TAI挑战赛项' | D209: 'TAI抢滩登陆对抗赛' | E209: 小学组 | F209: 中旭1队 | G209: 重庆两江新区华师中旭学校 | H209: 尹雪婷 | I209: 高彻|谢筌熙 | K209: 9 | L209: 二等奖
A210: 10010 | B210: rFc1XXb-44-033-ca-035-1-bFy-01-iTZ | C210: 'TAI挑战赛项' | D210: 'TAI抢滩登陆对抗赛' | E210: 小学组 | F210: 酷和AI7队 | G210: 郑州市管城区外国语牧歌小学/郑中国际学校 | H210: 李少猛 | I210: 孙栋哲|郭羽宸 | K210: 10 | L210: 二等奖
A211: 10028 | B211: rFc1XXM-44-033-w9-035-1-qYh-01-RwW | C211: 'TAI挑战赛项' | D211: 'TAI抢滩登陆对抗赛' | E211: 小学组 | F211: 酷和AI9队 | G211: 郑州市管城区外国语牧歌小学/郑州市管城回族区银莺路小学 | H211: 郭巧云 | I211: 朱奕昊|胡鑫睿 | K211: 11 | L211: 二等奖
A212: 12004 | B212: rFc1Xa2-44-033-qu-035-1-TkF-01-euS | C212: 'TAI挑战赛项' | D212: 'TAI抢滩登陆对抗赛' | E212: 小学组 | F212: 邦宝1队 | G212: 南京审计大学实验学校 | H212: 嵇春洋 | I212: 嵇楚涵|卢瑾萱 | K212: 12 | L212: 二等奖
A213: 12724 | B213: rFc1XaK-44-033-Dz-035-1-Jlw-01-yrr | C213: 'TAI挑战赛项' | D213: 'TAI抢滩登陆对抗赛' | E213: 小学组 | F213: 钜蛋三队 | G213: 秦皇岛市海港区桥东里小学，秦皇岛市北戴河中加英桥学校 | H213: 李国超 | I213: 赵朗然|李祎泽 | K213: 13 | L213: 二等奖
A214: 14688 | B214: rFc1Xa0-44-033-Nf-035-1-vbB-01-NrK | C214: 'TAI挑战赛项' | D214: 'TAI抢滩登陆对抗赛' | E214: 小学组 | F214: 雏鹰启航 | G214: 重庆市九龙坡区歇台子小学校 | H214: 李明 | I214: 张起萌|韩智明 | K214: 14 | L214: 三等奖
A215: 14218 | B215: rFc1XXO-44-033-GQ-035-1-0ru-01-fST | C215: 'TAI挑战赛项' | D215: 'TAI抢滩登陆对抗赛' | E215: 小学组 | F215: 邦宝3队 | G215: 南京市浦口区新世纪小学 | H215: 嵇春洋 | I215: 牟梓睿|成一铭 | K215: 15 | L215: 三等奖
A216: 9953 | B216: rFc1XXh-44-033-DD-035-1-8nU-01-msI | C216: 'TAI挑战赛项' | D216: 'TAI抢滩登陆对抗赛' | E216: 小学组 | F216: 酷和AI4队 | G216: 郑州启元国际小学/郑州市管城区外国语牧歌小学 | H216: 程颍奇 | I216: 陈锦翰|宋瑞毅 | K216: 16 | L216: 三等奖
...

Sheet Robot Dream系列赛项
A1: 2024世界机器人大赛昆明锦标赛-青少年机器人设计大赛-Robot Dream系列赛项获奖名单
A2: 报名编号 | B2: 激活码 | C2: 赛道 | D2: 赛项 | E2: 组别 | F2: 队伍名称 | G2: 申报单位 | H2: 教练信息 | I2: 学生信息 | J2: 比赛分数 | K2: 比赛用时 | L2: 成绩排名 | M2: 奖项 | N2: 备注
A3: 14278 | B3: rFc168a-44-036-LQ-038-1-Sjs-05-AsQ | C3: Robot Dream系列赛项' | D3: 'Robot Dream互联社区' | E3: 小学低龄组 | F3: SAG战队 | G3: 深圳市万科双语学校&深圳市翠竹外国语实验学校联队 | H3: 朱紫婷 | I3: 刘忱轩|宋思研 | J3: 234 | K3: 103 | L3: 1 | M3: 一等奖(冠军) | N3: 入围总决赛
A4: 14558 | B4: rFc168p-44-036-Fn-038-1-MKA-05-ce6 | C4: 'Robot Dream系列赛项' | D4: 'Robot Dream互联社区' | E4: 小学低龄组 | F4: 超级美少女战队 | G4: 育才三小&南油小学联队 | H4: 陈虹 | I4: 周沫|张钰瑶 | J4: 234 | K4: 107 | L4: 2 | M4: 一等奖(亚军) | N4: 入围总决赛
A5: 10984 | B5: rFc168B-44-036-PO-038-1-mWi-05-L97 | C5: 'Robot Dream系列赛项' | D5: 'Robot Dream互联社区' | E5: 小学低龄组 | F5: 皓睿队 | G5: 广州市番禺区市桥东兴小学 广州市南沙区岗城小学 联队 | H5: 苏楚甄 | I5: 邓熙睿|麦海皓|朱俊宇 | J5: 234 | K5: 124.06 | L5: 3 | M5: 一等奖(季军) | N5: 入围总决赛
A6: 13246 | B6: rFc16Eq-44-036-pB-038-1-ns1-05-O33 | C6: 'Robot Dream系列赛项' | D6: 'Robot Dream互联社区' | E6: 小学低龄组 | F6: 特种部队 | G6: 深圳市龙岗区横岗六约学校 深圳市龙岗区康乐学校 （联队） | H6: 叶亮 | I6: 龙锐泽|武炜翔 | J6: 234 | K6: 134 | L6: 4 | M6: 一等奖 | N6: 入围总决赛
A7: 15098 | B7: rFc168f-44-036-Pk-038-1-qlG-05-5su | C7: 'Robot Dream系列赛项' | D7: 'Robot Dream互联社区' | E7: 小学低龄组 | F7: 天弓队 | G7: 海乐实验学校与滨海小学联队 | H7: 林伊玲|郑晏东 | I7: 王博弘|董洹箐 | J7: 234 | K7: 144 | L7: 5 | M7: 一等奖 | N7: 入围总决赛
A8: 14396 | B8: rFc16E8-44-036-0h-038-1-VwG-05-j2y | C8: 'Robot Dream系列赛项' | D8: 'Robot Dream互联社区' | E8: 小学低龄组 | F8: 梦辰奕战队 | G8: 重庆市两江新区礼嘉实验小学校 | H8: 李超 | I8: 马钰辰|令狐梦觉|冯井奕 | J8: 234 | K8: 151 | L8: 6 | M8: 一等奖 | N8: 入围总决赛
A9: 14257 | B9: rFc168q-44-036-5Q-038-1-RRD-05-jIY | C9: 'Robot Dream系列赛项' | D9: 'Robot Dream互联社区' | E9: 小学低龄组 | F9: TNT战队 | G9: 淘金山小学&深圳市碧波小学联队 | H9: 朱紫婷 | I9: 张艺翔|陈泽鸣 | J9: 234 | K9: 152 | L9: 7 | M9: 一等奖 | N9: 入围总决赛
A10: 11860 | B10: rFc16RI-44-036-Rj-038-1-z5H-05-U4V | C10: 'Robot Dream系列赛项' | D10: 'Robot Dream互联社区' | E10: 小学低龄组 | F10: 秀水极客1队 | G10: 杭州市文一街小学秀水校区 | H10: 陈煜昱 | I10: 陆贝迪|刘航 | J10: 234 | K10: 186.59 | L10: 8 | M10: 一等奖 | N10: 入围总决赛
A11: 15427 | B11: rFc16ny-44-036-WJ-038-1-jEu-05-zfb | C11: 'Robot Dream系列赛项' | D11: 'Robot Dream互联社区' | E11: 小学低龄组 | F11: 天空之城队 | G11: 南油小学&育才二小联队 | H11: 邹小惠 | I11: 孙羲雯|罗霁 | J11: 234 | K11: 186.75 | L11: 9 | M11: 二等奖
A12: 12295 | B12: rFc16RA-44-036-4O-038-1-oNO-05-Xtv | C12: 'Robot Dream系列赛项' | D12: 'Robot Dream互联社区' | E12: 小学低龄组 | F12: 冠正队 | G12: 广州外国语学校附属学校 广州市南沙区金隆小学 联队 | H12: 黄森燚 | I12: 陈冠霖|谭浩正 | J12: 234 | K12: 189.9 | L12: 10 | M12: 二等奖
A13: 11849 | B13: rFc16Rc-44-036-qO-038-1-kP0-05-1Vo | C13: 'Robot Dream系列赛项' | D13: 'Robot Dream互联社区' | E13: 小学低龄组 | F13: 登云极客2队 | G13: 杭州育才登云小学 | H13: 程诗华 | I13: 殷若|李正浩 | J13: 234 | K13: 216.37 | L13: 11 | M13: 二等奖
A14: 12929 | B14: rFc168v-44-036-6c-038-1-HQn-05-HPZ | C14: 'Robot Dream系列赛项' | D14: 'Robot Dream互联社区' | E14: 小学低龄组 | F14: 宸毅队 | G14: 深圳市螺岭外国语实验学校 | H14: 李韫 | I14: 袁子宸|吴柯毅 | J14: 231 | K14: 144 | L14: 12 | M14: 二等奖
A15: 14912 | B15: rFc16Ep-44-036-Uu-038-1-E4v-05-t9y | C15: 'Robot Dream系列赛项' | D15: 'Robot Dream互联社区' | E15: 小学低龄组 | F15: 创新队 | G15: 安顺市第九小学 | H15: 高卫波 | I15: 封皓元|李紫菡|罗埸哲 | J15: 231 | K15: 167 | L15: 13 | M15: 二等奖
A16: 14433 | B16: rFc16ET-44-036-RK-038-1-SU8-05-Y92 | C16: 'Robot Dream系列赛项' | D16: 'Robot Dream互联社区' | E16: 小学低龄组 | F16: 科实1队 | G16: 重庆科学城第一实验小学校 | H16: 邝美娇 | I16: 何慕阳|侯奕昂 | J16: 231 | K16: 196 | L16: 14 | M16: 二等奖
A17: 12282 | B17: rFc16RD-44-036-dm-038-1-Gfi-05-iNh | C17: Robot Dream系列赛项' | D17: 'Robot Dream互联社区' | E17: 小学低龄组 | F17: 北市区RB5队 | G17: 昆明市五华区萃智书香门第学校/昆明市盘龙区云才文翰学校 | H17: 张寓哲 | I17: 李启仟袁|李卓洋 | J17: 231 | K17: 228.87 | L17: 15 | M17: 二等奖
A18: 11134 | B18: rFc16R3-44-036-nf-038-1-ybe-05-eOm | C18: 'Robot Dream系列赛项' | D18: 'Robot Dream互联社区' | E18: 小学低龄组 | F18: 北市区RB3队 | G18: 昆明师专附小/五华区韶山小学云著西校区 | H18: 徐海江 | I18: 陈沐萱|郭芷绮 | J18: 231 | K18: 230 | L18: 16 | M18: 二等奖
A19: 14376 | B19: rFc16En-44-036-iL-038-1-Ljz-05-wVU | C19: 'Robot Dream系列赛项' | D19: 'Robot Dream互联社区' | E19: 小学低龄组 | F19: 礼嘉实小1队 | G19: 重庆市两江新区礼嘉实验小学校 | H19: 李超 | I19: 蔡卓珊|王梓睿 | J19: 231 | K19: 244 | L19: 17 | M19: 二等奖
A20: 12580 | B20: rFc168z-44-036-iJ-038-1-aZ6-05-WF0 | C20: 'Robot Dream系列赛项' | D20: 'Robot Dream互联社区' | E20: 小学低龄组 | F20: 宸昕队 | G20: 深圳市螺岭外国语实验学校 | H20: 邱艳珍 | I20: 柯依昕|柯依宸 | J20: 228 | K20: 149 | L20: 18 | M20: 二等奖
A21: 14545 | B21: rFc168K-44-036-0K-038-1-X8K-05-Xq7 | C21: 'Robot Dream系列赛项' | D21: 'Robot Dream互联社区' | E21: 小学低龄组 | F21: 深藏Blue七七菠萝队 | G21: 深圳香港培侨书院龙华信义学校&深圳大学附属教育集团外国语小学联队 | H21: 邹小惠 | I21: 郭奕宸|梁希泽 | J21: 228 | K21: 189 | L21: 19 | M21: 二等奖
A22: 11832 | B22: rFc16Rt-44-036-Tb-038-1-LDk-05-DRL | C22: 'Robot Dream系列赛项' | D22: 'Robot Dream互联社区' | E22: 小学低龄组 | F22: 登云极客1队 | G22: 杭州育才登云小学 | H22: 程诗华 | I22: 桑乐筠|王亦安 | J22: 228 | K22: 189.51 | L22: 20 | M22: 二等奖
... A57: 12519 | B57: rFc16R8-44-036-Pr-038-1-fa1-05-lBS | C57: 'Robot Dream系列赛项' | D57: 'Robot Dream互联社区' | E57: 小学低龄组 | F57: 晨曦之梦 | G57: 官渡区先策小学 | H57: 康宁睿 | I57: 李维一|李瑞 | J57: 158 | K57: 298 | L57: 55 | M57: 三等奖
A59: 14358 | B59: rFc16mg-44-036-uh-038-1-4gc-06-uMV | C59: 'Robot Dream系列赛项' | D59: 'Robot Dream互联社区' | E59: 小学高龄组 | F59: 我的世界队 | G59: 育才一小&育才三小 | H59: 赖汉钦 | I59: 陈凯钧|张钟元 | J59: 235 | K59: 76.5 | L59: 1 | M59: 一等奖(冠军) | N59: 入围总决赛
A60: 14346 | B60: rFc16mu-44-036-yF-038-1-FYR-06-CeW | C60: 'Robot Dream系列赛项' | D60: 'Robot Dream互联社区' | E60: 小学高龄组 | F60: RNG战队 | G60: 育才三小&育才一小联队 | H60: 赖汉钦 | I60: 刘海旭|付峻泽 | J60: 235 | K60: 83.46 | L60: 2 | M60: 一等奖(亚军) | N60: 入围总决赛
A61: 15108 | B61: rFc16mk-44-036-zO-038-1-sQg-06-MN3 | C61: 'Robot Dream系列赛项' | D61: 'Robot Dream互联社区' | E61: 小学高龄组 | F61: 中英公学和文华学校联队 | G61: 中英公学和文华学校联队 | H61: 蓝健榕 | I61: 温昊|钟俊翔 | J61: 235 | K61: 84 | L61: 3 | M61: 一等奖(季军) | N61: 入围总决赛
A62: 14496 | B62: rFc16uv-44-036-JP-038-1-pjW-06-8ty | C62: 'Robot Dream系列赛项' | D62: 'Robot Dream互联社区' | E62: 小学高龄组 | F62: GTR战队 | G62: 南山外国语滨海小学 | H62: 麦宏隆 | I62: 马舜泽|陈熙东 | J62: 235 | K62: 86 | L62: 4 | M62: 二等奖
A63: 14536 | B63: rFc16uy-44-036-NQ-038-1-2Yu-06-9Fg | C63: 'Robot Dream系列赛项' | D63: 'Robot Dream互联社区' | E63: 小学高龄组 | F63: 飙速战队 | G63: 深圳大学附属教育集团外国语小学 &育才二小联队 | H63: 麦宏隆 | I63: 谷思逸|许翔毓 | J63: 235 | K63: 90 | L63: 5 | M63: 二等奖
A64: 15087 | B64: rFc16uI-44-036-fO-038-1-Qhj-06-Q2g | C64: 'Robot Dream系列赛项' | D64: 'Robot Dream互联社区' | E64: 小学高龄组 | F64: 海旺学校滨海小学联队 | G64: 海旺小学和滨海小学联队 | H64: 林伊玲|李胜楠 | I64: 符逸轩|刘雨岩 | J64: 235 | K64: 103.91 | L64: 6 | M64: 二等奖
A65: 15080 | B65: rFc16md-44-036-nV-038-1-OlD-06-OSX | C65: 'Robot Dream系列赛项' | D65: 'Robot Dream互联社区' | E65: 小学高龄组 | F65: 孝德学校与滨海小学联队 | G65: 孝德学校与滨海小学联队 | H65: 蓝健榕|林伊玲 | I65: 刘宗颐|曾雍砚 | J65: 225 | K65: 73.15 | L65: 7 | M65: 二等奖
A66: 15355 | B66: rFc16ut-44-036-TB-038-1-yrg-06-Rg1 | C66: 'Robot Dream系列赛项' | D66: 'Robot Dream互联社区' | E66: 小学高龄组 | F66: DK-1战队 | G66: 深圳南山外国语学校（集团）科华学校&深圳市福田区荔园小学联队 | H66: 李灏 | I66: 徐汉麟|刘力文 | J66: 215 | K66: 75 | L66: 8 | M66: 二等奖
A67: 14523 | B67: rFc16uZ-44-036-m3-038-1-0F6-06-Mly | C67: 'Robot Dream系列赛项' | D67: 'Robot Dream互联社区' | E67: 小学高龄组 | F67: 南油小学战队 | G67: 南油小学 | H67: 麦宏隆 | I67: 胡祖为|张继瑞 | J67: 190 | K67: 86 | L67: 9 | M67: 二等奖
A68: 14378 | B68: rFc16mD-44-036-ZI-038-1-eoF-06-M1L | C68: 'Robot Dream系列赛项' | D68: 'Robot Dream互联社区' | E68: 小学高龄组 | F68: Him战队 | G68: 育才三小&丽林维育学校联队 | H68: 赖汉钦 | I68: 张景涵|李迎睿 | J68: 175 | K68: 73 | L68: 10 | M68: 二等奖
A69: 15386 | B69: rFc16u5-44-036-2l-038-1-2OT-06-hZr | C69: 'Robot Dream系列赛项' | D69: 'Robot Dream互联社区' | E69: 小学高龄组 | F69: DK-3战队 | G69: 深圳市福田区石厦学校小学部&深圳市龙华区万科双语学校联队 | H69: 李灏 | I69: 黎家睿|潘彦廷 | J69: 165 | K69: 66 | L69: 11 | M69: 二等奖
A70: 15378 | B70: rFc16uG-44-036-eO-038-1-x87-06-r2V | C70: 'Robot Dream系列赛项' | D70: 'Robot Dream互联社区' | E70: 小学高龄组 | F70: DK-2战队 | G70: 深圳市桂园小学&深圳市罗湖区莲南小学联队 | H70: 李灏 | I70: 冯梓轩|宁梓煜 | J70: 165 | K70: 76 | L70: 12 | M70: 三等奖
A71: 15032 | B71: rFc16uN-44-036-ct-038-1-YMB-06-EWF | C71: 'Robot Dream系列赛项' | D71: 'Robot Dream互联社区' | E71: 小学高龄组 | F71: 未来阳光队 | G71: 安顺市第八小学 | H71: 高卫波 | I71: 屈君印|杨昌骏|程唯芯 | J71: 160 | K71: 114.13 | L71: 13 | M71: 三等奖
A72: 12188 | B72: rFc16u6-44-036-5Z-038-1-aj1-06-ZMi | C72: 'Robot Dream系列赛项' | D72: 'Robot Dream互联社区' | E72: 小学高龄组 | F72: 裕泽队 | G72: 广州市南沙区金隆小学 | H72: 黄毓霞 | I72: 石本裕|李承泽 | J72: 152 | K72: 103.34 | L72: 14 | M72: 三等奖
A73: 12587 | B73: rFc16u9-44-036-Oq-038-1-OIY-06-hzS | C73: 'Robot Dream系列赛项' | D73: 'Robot Dream互联社区' | E73: 小学高龄组 | F73: 成王队 | G73: 广东第二师范学院附属南沙实验小学广州市南沙小学时代南湾校区联队 | H73: 樊赵侠 | I73: 王振浩|易成学 | J73: 145 | K73: 89.85 | L73: 15 | M73: 三等奖
... A81: 14641 | B81: rFc16uC-44-036-ke-038-1-rzQ-06-MiR | C81: 'Robot Dream系列赛项' | D81: 'Robot Dream互联社区' | E81: 小学高龄组 | F81: 传奇队 | G81: 安顺市实验学校 | H81: 刘军 | I81: 巴睿辰|马森容|罗睿轩 | J81: 20 | K81: 3 | L81: 23 | M81: 三等奖
A83: 15482 | B83: rFc16r6-44-036-tH-038-1-OaX-02-Eml | C83: 'Robot Dream系列赛项' | D83: 'Robot Dream互联社区' | E83: 初中组 | F83: TOP战队 | G83: 深圳市罗湖区翠园初级中学&深圳市罗湖区翠园实验学校联队 | H83: 江纪予 | I83: 杨皓哲|张天朗 | J83: 230 | K83: 119 | L83: 1 | M83: 一等奖(冠军) | N83: 入围总决赛
A84: 15487 | B84: rFc16ro-44-036-M4-038-1-MsL-02-rLw | C84: 'Robot Dream系列赛项' | D84: 'Robot Dream互联社区' | E84: 初中组 | F84: KING战队 | G84: 深圳中学初中部&深圳市第二实验学校联队 | H84: 江纪予 | I84: 宫翊轩|陈泽锐 | J84: 225 | K84: 120 | L84: 2 | M84: 一等奖(亚军) | N84: 入围总决赛
A85: 15499 | B85: rFc16rY-44-036-WK-038-1-Yfv-02-BBh | C85: 'Robot Dream系列赛项' | D85: 'Robot Dream互联社区' | E85: 初中组 | F85: IG战队 | G85: 深圳宝安实验学校&深圳实验学校联队 | H85: 邓子芳 | I85: 韦科见|谢天 | J85: 215 | K85: 119 | L85: 3 | M85: 一等奖(季军) | N85: 入围总决赛
A86: 11611 | B86: rFc16rf-44-036-RH-038-1-fhG-02-c2E | C86: 'Robot Dream系列赛项' | D86: 'Robot Dream互联社区' | E86: 初中组 | F86: 铭言队 | G86: 广州市执信中学南沙学校 | H86: 冯芳 | I86: 朱俊铭|陈承言 | J86: 130 | K86: 84 | L86: 4 | M86: 二等奖
A87: 15163 | B87: rFc16r0-44-036-jW-038-1-N8J-02-FCP | C87: 'Robot Dream系列赛项' | D87: 'Robot Dream互联社区' | E87: 初中组 | F87: 挑战队 | G87: 安顺市实验学校 | H87: 郑敏 | I87: 李泽弘|陈高于 | J87: 90 | K87: 56 | L87: 5 | M87: 三等奖
A88: 15491 | B88: rFc16r9-44-036-aR-038-1-nka-02-KEq | C88: 'Robot Dream系列赛项' | D88: 'Robot Dream互联社区' | E88: 初中组 | F88: OMG战队 | G88: 香港中文大学附属礼文学校&广州南沙民心港人子弟学校联队 | H88: 江纪予 | I88: 罗尹浩|余博涵 | J88: 78 | K88: 103 | L88: 6 | M88: 三等奖
A89: 15531 | B89: rFc16rM-44-036-1D-038-1-VE2-02-1zS | C89: 'Robot Dream系列赛项' | D89: 'Robot Dream互联社区' | E89: 初中组 | F89: 惠深沿海战队 | G89: 惠州大亚湾区外语实验学校&南山区文理实验学校（集团）科创学校 | H89: 邓子芳 | I89: 张籽牧|杨子豪 | J89: 42 | K89: 94 | L89: 7 | M89: 三等奖

Sheet Robo Genius系列挑战赛项
A1: 2024世界机器人大赛昆明锦标赛-青少年机器人设计大赛-Robo Genius系列挑战赛项获奖名单
A2: 报名编号 | B2: 激活码 | C2: 赛道 | D2: 赛项 | E2: 组别 | F2: 队伍名称 | G2: 申报单位 | H2: 教练信息 | I2: 学生信息 | J2: 成绩排名 | K2: 奖项 | L2: 备注
A3: 10194 | B3: rFc1Me0-44-044-QA-045-1-dfI-01-mHu | C3: Robo Genius系列挑战赛项' | D3: Robo Genius超能行动' | E3: 小学组 | F3: 头脑风暴 | G3: 郑州市金水区文化路第一小学翰林校区 | H3: 赵静 | I3: 闫欢|郝芸萱 | J3: 1 | K3: 一等奖(冠军) | L3: 入围总决赛
A4: 9741 | B4: rFc1Mkq-44-044-rm-045-1-fJU-01-wmd | C4: Robo Genius系列挑战赛项' | D4: Robo Genius超能行动' | E4: 小学组 | F4: 烈焰火狐 | G4: 河南省实验学校鑫苑外国语小学 | H4: 程义亭 | I4: 赵梓睿|李沐枫 | J4: 2 | K4: 一等奖(亚军) | L4: 入围总决赛
A5: 9977 | B5: rFc1Mek-44-044-6v-045-1-Op5-01-Xcc | C5: Robo Genius系列挑战赛项' | D5: Robo Genius超能行动' | E5: 小学组 | F5: 海阔天空 | G5: 郑州市金水区瀚斯大外语小学 | H5: 赵静 | I5: 马志向|代梦德 | J5: 3 | K5: 一等奖(季军) | L5: 入围总决赛
A6: 8201 | B6: rFc1Mgr-44-044-BO-045-1-vUZ-01-hqL | C6: Robo Genius系列挑战赛项' | D6: Robo Genius超能行动' | E6: 小学组 | F6: 不可思议队 | G6: 厦门市同安区第三实验小学 | H6: 吴丽丹|郭淑惠 | I6: 林世杰|苏妍希 | J6: 4 | K6: 一等奖 | L6: 入围总决赛
A7: 9967 | B7: rFc1MFb-44-044-OG-045-1-DBP-01-13v | C7: Robo Genius系列挑战赛项' | D7: Robo Genius超能行动' | E7: 小学组 | F7: 梧小超能2队 | G7: 厦门市梧村小学 | H7: 林庆增|吴毅 | I7: 杨涵钧|李俊宏 | J7: 5 | K7: 一等奖 | L7: 入围总决赛
A8: 9293 | B8: rFc1Mky-44-044-Y6-045-1-yr8-01-N8b | C8: Robo Genius系列挑战赛项' | D8: Robo Genius超能行动' | E8: 小学组 | F8: 超能战队 | G8: 郑州市惠济区东风路小学 | H8: 赵瑾 | I8: 赵沐泽|刘昊鑫 | J8: 6 | K8: 一等奖 | L8: 入围总决赛
A9: 14196 | B9: rFc1Mk3-44-044-Z9-045-1-k0S-01-Nyr | C9: Robo Genius系列挑战赛项' | D9: Robo Genius超能行动' | E9: 小学组 | F9: 大同乐博金牌战队 | G9: 大同市平城双语学校/大同市实验小学文翰分校 | H9: 刘增喜|闫丽剑 | I9: 杜煜|张航硕 | J9: 7 | K9: 一等奖 | L9: 入围总决赛
A10: 15139 | B10: rFc1MF5-44-044-O6-045-1-Mjh-01-pgM | C10: Robo Genius系列挑战赛项' | D10: Robo Genius超能行动' | E10: 小学组 | F10: 皓瀚银河 | G10: 郑州市郑东新区龙华小学 | H10: 马志红|毛佳 | I10: 郭高银|王皓桐 | J10: 8 | K10: 一等奖 | L10: 入围总决赛
A11: 8807 | B11: rFc1MgY-44-044-vN-045-1-4hd-01-OP2 | C11: Robo Genius系列挑战赛项' | D11: Robo Genius超能行动' | E11: 小学组 | F11: 江头中心1 | G11: 厦门市江头中心小学 | H11: 王擎欣 | I11: 黄致轩|傅涌权 | J11: 9 | K11: 一等奖 | L11: 入围总决赛
A12: 14280 | B12: rFc1MFZ-44-044-9S-045-1-Iiw-01-mjq | C12: Robo Genius系列挑战赛项' | D12: Robo Genius超能行动' | E12: 小学组 | F12: 大同乐博雪豹战队 | G12: 大同市大成双语学校/大同市实验小学 | H12: 刘增喜|闫丽剑 | I12: 姜舜|冯欣辰 | J12: 10 | K12: 一等奖 | L12: 入围总决赛
A13: 14663 | B13: rFc1MFR-44-044-8k-045-1-wzm-01-lAG | C13: Robo Genius系列挑战赛项' | D13: Robo Genius超能行动' | E13: 小学组 | F13: E起向未来 | G13: 重庆科学城明远未来小学校 | H13: 曾露|张家豪 | I13: 刘晨皓|孙凡涛 | J13: 11 | K13: 一等奖 | L13: 入围总决赛
A14: 12063 | B14: rFc1MF8-44-044-hj-045-1-OQl-01-fy5 | C14: Robo Genius系列挑战赛项' | D14: Robo Genius超能行动' | E14: 小学组 | F14: 慧贤创客3队 | G14: 重庆科学城树人思贤小学校 | H14: 李伟|吴丹 | I14: 汪于皓|齐家 | J14: 12 | K14: 一等奖 | L14: 入围总决赛
... A17: 10763 | B17: rFc1MeP-44-044-0i-045-1-SLA-01-aq3 | C17: Robo Genius系列挑战赛项' | D17: Robo Genius超能行动' | E17: 小学组 | F17: 海沧进修附校小学2队 | G17: 厦门市海沧区教师进修学校附属学校 | H17: 谢妙桂|黄永健 | I17: 蔡卓航|苏绍淳 | J17: 15 | K17: 一等奖 | L17: 入围总决赛
A18: 9150 | B18: rFc1Mgp-44-044-wM-045-1-ZFJ-01-dHy | C18: Robo Genius系列挑战赛项' | D18: Robo Genius超能行动' | E18: 小学组 | F18: 厦门高新学校小学队 | G18: 厦门高新学校 | H18: 曾鸿越 | I18: 叶钊源|廖睿凡 | J18: 16 | K18: 二等奖
A19: 9790 | B19: rFc1Mkf-44-044-eF-045-1-Pgq-01-igm | C19: Robo Genius系列挑战赛项' | D19: Robo Genius超能行动' | E19: 小学组 | F19: 皓瀚星宸 | G19: 河南省实验学校鑫苑外国语小学 | H19: 程义亭 | I19: 曹敏皓|帖培宸 | J19: 17 | K19: 二等奖
A20: 9343 | B20: rFc1MDr-44-044-2b-045-1-xdT-01-MBO | C20: Robo Genius系列挑战赛项' | D20: Robo Genius超能行动' | E20: 小学组 | F20: 白露 | G20: 西安高新区第二十一小学 | H20: 付宇凡 | I20: 郭明远|耿梓睿 | J20: 18 | K20: 二等奖
A21: 12404 | B21: rFc1MeD-44-044-G0-045-1-TrO-01-fcZ | C21: Robo Genius系列挑战赛项' | D21: Robo Genius超能行动' | E21: 小学组 | F21: 豆豆机器人飓风队 | G21: 深圳湾小学 | H21: 曾业成|王有福 | I21: 梁庭毅|隋伟锋 | J21: 19 | K21: 二等奖
A22: 9889 | B22: rFc1Mej-44-044-eT-045-1-6pU-01-rVn | C22: Robo Genius系列挑战赛项' | D22: Robo Genius超能行动' | E22: 小学组 | F22: 小旋风 | G22: 郑州中学第四附属小学、郑州市中原区育才小学 | H22: 王战丽|周奕奕 | I22: 吴钒硕|史奕晨 | J22: 20 | K22: 二等奖
A23: 8816 | B23: rFc1MgR-44-044-3s-045-1-COi-01-NIb | C23: Robo Genius系列挑战赛项' | D23: Robo Genius超能行动' | E23: 小学组 | F23: 江头中心2 | G23: 厦门市江头中心小学 | H23: 王擎欣 | I23: 吴晋霖|蔡和阳 | J23: 21 | K23: 二等奖
A24: 14868 | B24: rFc1MF3-44-044-64-045-1-OQi-01-TzL | C24: Robo Genius系列挑战赛项' | D24: Robo Genius超能行动' | E24: 小学组 | F24: E起向梦想 | G24: 重庆科学城明远未来小学校 | H24: 曾露|朱泓林 | I24: 戴于皓|刘思杰 | J24: 22 | K24: 二等奖
A25: 11972 | B25: rFc1MFM-44-044-qq-045-1-UjT-01-O4w | C25: Robo Genius系列挑战赛项' | D25: Robo Genius超能行动' | E25: 小学组 | F25: 白二小战鹰队 | G25: 重庆科学城白市驿第二小学校 | H25: 邓玉霞|李德军 | I25: 谢文博|蹇沛希 | J25: 23 | K25: 二等奖
A26: 8958 | B26: rFc1Mg0-44-044-Pd-045-1-uc7-01-ZQF | C26: Robo Genius系列挑战赛项' | D26: Robo Genius超能行动' | E26: 小学组 | F26: 飞鱼队 | G26: 福建省厦门实验小学 | H26: 朱铧莹 | I26: 康家聿|姜袁梦 | J26: 24 | K26: 二等奖
A27: 8190 | B27: rFc1Mgu-44-044-jN-045-1-4XI-01-7yq | C27: Robo Genius系列挑战赛项' | D27: Robo Genius超能行动' | E27: 小学组 | F27: 青云队 | G27: 厦门市同安区第三实验小学 | H27: 吴丽丹|郭淑惠 | I27: 苏米乐|林张正 | J27: 25 | K27: 二等奖
A28: 10013 | B28: rFc1MeS-44-044-Tp-045-1-tua-01-KbA | C28: Robo Genius系列挑战赛项' | D28: Robo Genius超能行动' | E28: 小学组 | F28: 童轩似锦队 | G28: 郑州市金水区第一文化小学翰林校区 | H28: 赵静 | I28: 郝梓轩|赵锦童 | J28: 26 | K28: 二等奖
A29: 13952 | B29: rFc1MFB-44-044-32-045-1-Hhp-01-Hxh | C29: Robo Genius系列挑战赛项' | D29: Robo Genius超能行动' | E29: 小学组 | F29: 润泽队 | G29: 重庆师范大学附属科学城第二小学校 | H29: 徐凤佳|黄丹 | I29: 张展杰|胡峻豪 | J29: 27 | K29: 二等奖
... A99: 15037 | B99: rFc1MsV-44-044-qf-045-1-zip-01-ql4 | C99: Robo Genius系列挑战赛项' | D99: Robo Genius超能行动' | E99: 小学组 | F99: 人民路小学 | G99: 宜宾市叙州区创米教育培训学校 | H99: 向华 | I99: 刘子逸|吴一凡 | J99: 97 | K99: 三等奖
A101: 8335 | B101: rFc1xvp-44-044-Rn-045-1-pB8-02-CJg | C101: 'Robo Genius系列挑战赛项' | D101: 'Robo Genius超能行动' | E101: 初中组 | F101: 豫见彪王 | G101: 郑州经济技术开发区实验中学郑州市二七区第六十二中学 | H101: 赵惠波|胡灿灿 | I101: 付彪|魏梦泽 | J101: 1 | K101: 一等奖(冠军) | L101: 入围总决赛
A102: 7506 | B102: rFc1xvZ-44-044-xv-045-1-TfM-02-QA6 | C102: 'Robo Genius系列挑战赛项' | D102: 'Robo Genius超能行动' | E102: 初中组 | F102: 战无不胜 | G102: 厦门市金尚中学 | H102: 曹雅娜|师志永 | I102: 胡博融|林煜豪 | J102: 2 | K102: 一等奖(亚军) | L102: 入围总决赛
A103: 14025 | B103: rFc1xPP-44-044-Xr-045-1-27e-02-D7E | C103: 'Robo Genius系列挑战赛项' | D103: 'Robo Genius超能行动' | E103: 初中组 | F103: 明远未来中学校1队 | G103: 重庆科学城明远未来中学校 | H103: 汤长会|王鑫强 | I103: 邹明豪|邬胤臻 | J103: 3 | K103: 一等奖(季军) | L103: 入围总决赛
A104: 12462 | B104: rFc1xPJ-44-044-VC-045-1-Lvm-02-uYL | C104: 'Robo Genius系列挑战赛项' | D104: 'Robo Genius超能行动' | E104: 初中组 | F104: 宇睿战队 | G104: 重庆市第一实验中学校 | H104: 游艺芃|魏光静 | I104: 张昕宇|张恺睿 | J104: 4 | K104: 一等奖 | L104: 入围总决赛
A105: 13996 | B105: rFc1xvI-44-044-I1-045-1-uVx-02-ar6 | C105: 'Robo Genius系列挑战赛项' | D105: 'Robo Genius超能行动' | E105: 初中组 | F105: 天狼战队 | G105: 重庆科学城金凤实验学校 | H105: 谭传艳 | I105: 胡芯鹏|薛晨柯 | J105: 5 | K105: 二等奖
A106: 12193 | B106: rFc1xPT-44-044-i6-045-1-cLS-02-fYk | C106: 'Robo Genius系列挑战赛项' | D106: 'Robo Genius超能行动' | E106: 初中组 | F106: 雄鹰战队 | G106: 重庆科学城金凤实验学校 | H106: 谭传艳 | I106: 石议文|曹梓涵 | J106: 6 | K106: 二等奖
A107: 8324 | B107: rFc1xvg-44-044-91-045-1-C9X-02-tH0 | C107: 'Robo Genius系列挑战赛项' | D107: 'Robo Genius超能行动' | E107: 初中组 | F107: 厦门高新学校中学队 | G107: 厦门高新学校 | H107: 曾鸿越|蔡亦泽 | I107: 李佳奕|高豪晟 | J107: 7 | K107: 二等奖
A108: 11876 | B108: rFc1xPx-44-044-DO-045-1-46j-02-6gy | C108: 'Robo Genius系列挑战赛项' | D108: 'Robo Genius超能行动' | E108: 初中组 | F108: 宇嘉战队 | G108: 重庆市第一实验中学校 | H108: 魏光静|陈璐 | I108: 陈庠宇|张益嘉 | J108: 8 | K108: 二等奖
A109: 15369 | B109: rFc1xPu-44-044-Mo-045-1-48L-02-Hlf | C109: 'Robo Genius系列挑战赛项' | D109: 'Robo Genius超能行动' | E109: 初中组 | F109: 兴国六中一队 | G109: 兴国县教育体育局 | H109: 王守叶|邹德文 | I109: 徐政熙|卢誉仁 | J109: 9 | K109: 二等奖
A110: 12784 | B110: rFc1xPl-44-044-By-045-1-GMO-02-w1L | C110: 'Robo Genius系列挑战赛项' | D110: 'Robo Genius超能行动' | E110: 初中组 | F110: 白一中2队 | G110: 重庆科学城白市驿第一中学校 | H110: 张竞|吴勇 | I110: 文顺琪|王晨菡 | J110: 10 | K110: 二等奖
A111: 8974 | B111: rFc1xvB-44-044-On-045-1-i60-02-WMy | C111: 'Robo Genius系列挑战赛项' | D111: 'Robo Genius超能行动' | E111: 初中组 | F111: 观音山战队 | G111: 厦门市思明区观音山音乐学校 | H111: 陈琦|陈旎 | I111: 王卓航|卢毅伦 | J111: 11 | K111: 二等奖
A112: 15715 | B112: rFc1xPC-44-044-O1-045-1-n49-02-Q9V | C112: 'Robo Genius系列挑战赛项' | D112: 'Robo Genius超能行动' | E112: 初中组 | F112: 高新队 | G112: 重庆市大学城第一中学校 | H112: 蒋天华 | I112: 严沛熙|张桂豪 | J112: 12 | K112: 二等奖
A113: 15383 | B113: rFc1xPL-44-044-Nm-045-1-KQK-02-8B3 | C113: 'Robo Genius系列挑战赛项' | D113: 'Robo Genius超能行动' | E113: 初中组 | F113: 一队 | G113: 重庆师范大学附属科学城中学校 | H113: 刘俊杞|魏悠 | I113: 陈浩宇|孙爽旗 | J113: 13 | K113: 二等奖
A114: 10770 | B114: rFc1xvA-44-044-uc-045-1-8M0-02-dhQ | C114: 'Robo Genius系列挑战赛项' | D114: 'Robo Genius超能行动' | E114: 初中组 | F114: 海沧进修附校中学1队 | G114: 厦门市海沧区教师进修学校附属学校 | H114: 柯旻晞|张亚博 | I114: 陈曦|张宇麒 | J114: 14 | K114: 二等奖
A115: 12760 | B115: rFc1xP0-44-044-52-045-1-Nlz-02-sZO | C115: 'Robo Genius系列挑战赛项' | D115: 'Robo Genius超能行动' | E115: 初中组 | F115: 白一中1队 | G115: 重庆科学城白市驿第一中学校 | H115: 张竞|吴勇 | I115: 朱真恺|赵文星 | J115: 15 | K115: 三等奖
A116: 13563 | B116: rFc1xvD-44-044-Vn-045-1-iM3-02-Daq | C116: 'Robo Genius系列挑战赛项' | D116: 'Robo Genius超能行动' | E116: 初中组 | F116: 明远未来中学校2号 | G116: 重庆科学城明远未来中学校 | H116: 罗才鸿|王鑫强 | I116: 刘冠亿|磨熙瑜 | J116: 16 | K116: 三等奖
... A128: 13794 | B128: rFc1xvM-44-044-cr-045-1-l8f-02-smN | C128: 'Robo Genius系列挑战赛项' | D128: 'Robo Genius超能行动' | E128: 初中组 | F128: 重工中学二战队 | G128: 昆明重工中学 | H128: 施雯洁 | I128: 刘栋|楚兴鸿 | J128: 28 | K128: 三等奖
A130: 12835 | B130: rFc1xhl-44-044-sA-046-1-E43-01-AVT | C130: 'Robo Genius系列挑战赛项' | D130: 'Robo Genius新星行动' | E130: 小学组 | F130: 超级战队 | G130: 昆明市盘龙区青少年活动中心 | H130: 杨元娟 | I130: 薛硕|刘子熙 | J130: 1 | K130: 一等奖(冠军) | L130: 入围总决赛
A131: 12070 | B131: rFc1xhv-44-044-0o-046-1-OwZ-01-znY | C131: 'Robo Genius系列挑战赛项' | D131: 'Robo Genius新星行动' | E131: 小学组 | F131: 慧贤创客4队 | G131: 重庆科学城树人思贤小学校 | H131: 吴丹|黄艳 | I131: 黄俊桦|但承桦 | J131: 2 | K131: 一等奖(亚军) | L131: 入围总决赛
A132: 12464 | B132: rFc1xhX-44-044-dZ-046-1-tgz-01-RqD | C132: 'Robo Genius系列挑战赛项' | D132: 'Robo Genius新星行动' | E132: 小学组 | F132: 海滨战队 | G132: 深圳市南山区海滨实验小学 | H132: 杨志新 | I132: 林智朗|焦景一 | J132: 3 | K132: 一等奖(季军) | L132: 入围总决赛
A133: 8238 | B133: rFc1xhm-44-044-Ln-046-1-NK7-01-xmy | C133: 'Robo Genius系列挑战赛项' | D133: 'Robo Genius新星行动' | E133: 小学组 | F133: 缘盟贝乐战队 | G133: 福鼎市实验小学 | H133: 杜家鼎 | I133: 王星元|卓超 | J133: 4 | K133: 二等奖
A134: 15348 | B134: rFc1xh3-44-044-VG-046-1-G9o-01-9Kf | C134: 'Robo Genius系列挑战赛项' | D134: 'Robo Genius新星行动' | E134: 小学组 | F134: 兴国五小1队 | G134: 兴国县教育体育局 | H134: 陈春生|钟贞华 | I134: 邱子宸|吕湘湉 | J134: 5 | K134: 二等奖
A135: 12074 | B135: rFc1xh7-44-044-H7-046-1-nDl-01-i6Y | C135: 'Robo Genius系列挑战赛项' | D135: 'Robo Genius新星行动' | E135: 小学组 | F135: 慧贤创客5队 | G135: 重庆科学城树人思贤小学校 | H135: 李伟|吴丹 | I135: 秦朗|赵俊钦 | J135: 6 | K135: 二等奖
A136: 12823 | B136: rFc1xhp-44-044-iO-046-1-XsH-01-Itd | C136: 'Robo Genius系列挑战赛项' | D136: 'Robo Genius新星行动' | E136: 小学组 | F136: 超变战队 | G136: 昆明市盘龙区青少年活动中心 | H136: 赵玲玉 | I136: 余铭浩|徐天辰 | J136: 7 | K136: 二等奖
A137: 11148 | B137: rFc1x7h-44-044-Cr-046-1-CAB-01-BSo | C137: 'Robo Genius系列挑战赛项' | D137: 'Robo Genius新星行动' | E137: 小学组 | F137: 小白冉冉雄起 | G137: 深圳市龙华区行知学校 | H137: 邹丽辉 | I137: 张奕冉|穆妮白 | J137: 8 | K137: 三等奖
A138: 13206 | B138: rFc1xhI-44-044-TP-046-1-a4T-01-k3d | C138: 'Robo Genius系列挑战赛项' | D138: 'Robo Genius新星行动' | E138: 小学组 | F138: 超燃战队 | G138: 昆明市盘龙区青少年活动中心 | H138: 李铠山 | I138: 王明远|潘安烁 | J138: 9 | K138: 三等奖
A139: 13162 | B139: rFc1xhA-44-044-II-046-1-M3u-01-FvO | C139: 'Robo Genius系列挑战赛项' | D139: 'Robo Genius新星行动' | E139: 小学组 | F139: 丰华战队 | G139: 重庆科学城实验一小西丰小学校 | H139: 余思锐|向莉莉 | I139: 陈宏玺|高睿轩 | J139: 10 | K139: 三等奖
A140: 15385 | B140: rFc1xhx-44-044-rS-046-1-YTE-01-P9W | C140: 'Robo Genius系列挑战赛项' | D140: 'Robo Genius新星行动' | E140: 小学组 | F140: 超凡战队 | G140: 昆明市盘龙区青少年活动中心 | H140: 李铠山 | I140: 黄宗彦|佘迈辉 | J140: 11 | K140: 三等奖
A141: 13003 | B141: rFc1xhy-44-044-wK-046-1-gOd-01-Vdi | C141: 'Robo Genius系列挑战赛项' | D141: 'Robo Genius新星行动' | E141: 小学组 | F141: 同创机甲战车 | G141: 重庆市江北区新村同创小学校 | H141: 王亚林|曾俊杰 | I141: 杜光皓|李润泽 | J141: 12 | K141: 三等奖
A142: 15645 | B142: rFc1xhD-44-044-u7-046-1-LkF-01-Cv3 | C142: 'Robo Genius系列挑战赛项' | D142: 'Robo Genius新星行动' | E142: 小学组 | F142: 天立格墨拉战线2号 | G142: 保山天立学校 | H142: 彭宁 | I142: 张景云|郑翼潇 | J142: 13 | K142: 三等奖
A143: 13360 | B143: rFc1xhR-44-044-8w-046-1-kcN-01-jsU | C143: 'Robo Genius系列挑战赛项' | D143: 'Robo Genius新星行动' | E143: 小学组 | F143: 腾飞队 | G143: 深圳市龙华区万科双语学校 | H143: 刘梅 | I143: 刘亦腾|李莎贝拉 | J143: 14 | K143: 三等奖
A145: 15509 | B145: rFc1x7U-44-044-Nt-046-1-gQl-02-Ldb | C145: 'Robo Genius系列挑战赛项' | D145: 'Robo Genius新星行动' | E145: 初中组 | F145: 大一星 | G145: 重庆市大学城第一中学校 | H145: 蒋天华 | I145: 蒋季冉|罗瑞 | J145: 1 | K145: 一等奖(冠军) | L145: 入围总决赛
A146: 11015 | B146: rFc1x7D-44-044-3N-046-1-OZ2-02-Ona | C146: 'Robo Genius系列挑战赛项' | D146: 'Robo Genius新星行动' | E146: 初中组 | F146: 苍鹰队 | G146: 深圳市南山区中国科学院深圳先进技术研究院实验学校 | H146: 潘金贤|郑苑飞 | I146: 谭思成|伍傲峰 | J146: 2 | K146: 一等奖(亚军) | L146: 入围总决赛
A147: 12512 | B147: rFc1x7y-44-044-Ti-046-1-X0f-02-ZTY | C147: 'Robo Genius系列挑战赛项' | D147: 'Robo Genius新星行动' | E147: 初中组 | F147: 霈霖战队 | G147: 重庆市第一实验中学校 | H147: 魏光静|游艺芃 | I147: 朱园霈|赖虹霖 | J147: 3 | K147: 一等奖(季军) | L147: 入围总决赛
A148: 15551 | B148: rFc1x71-44-044-ru-046-1-Tce-02-Nfy | C148: 'Robo Genius系列挑战赛项' | D148: 'Robo Genius新星行动' | E148: 初中组 | F148: 兴国七中二队 | G148: 兴国县教育体育局 | H148: 王元元|刘菁 | I148: 胡涛|胡轩宁 | J148: 4 | K148: 二等奖
A149: 15573 | B149: rFc1x7Z-44-044-pI-046-1-UxO-02-OjC | C149: 'Robo Genius系列挑战赛项' | D149: 'Robo Genius新星行动' | E149: 初中组 | F149: 昆十中6队 | G149: 云南省昆明市第十中学 | H149: 金晶|岳龙 | I149: 陆晖元|李泓希 | J149: 5 | K149: 二等奖
A150: 15575 | B150: rFc1x75-44-044-cd-046-1-Hrt-02-Wns | C150: 'Robo Genius系列挑战赛项' | D150: 'Robo Genius新星行动' | E150: 初中组 | F150: 梦幻队 | G150: 重庆市大学城第一中学校 | H150: 蒋天华 | I150: 岳鑫正|李梦菲 | J150: 6 | K150: 二等奖
A151: 15425 | B151: rFc1x73-44-044-kO-046-1-PWX-02-9TO | C151: 'Robo Genius系列挑战赛项' | D151: 'Robo Genius新星行动' | E151: 初中组 | F151: 兴国七中一队 | G151: 兴国县教育体育局 | H151: 谢地秀|刘小平 | I151: 吴思雨|黄谊澄 | J151: 7 | K151: 三等奖
A152: 15542 | B152: rFc1x7A-44-044-8C-046-1-kb0-02-qZe | C152: 'Robo Genius系列挑战赛项' | D152: 'Robo Genius新星行动' | E152: 初中组 | F152: 昆十中13队 | G152: 云南省昆明市第十中学 | H152: 盘镇鸣|李东霖 | I152: 郜清淼|刘明泽 | J152: 8 | K152: 三等奖
A153: 12501 | B153: rFc1x7L-44-044-93-046-1-yCd-02-Qtn | C153: 'Robo Genius系列挑战赛项' | D153: 'Robo Genius新星行动' | E153: 初中组 | F153: 博涵战队 | G153: 重庆市第一实验中学校 | H153: 陈璐|魏光静 | I153: 贺思博|张皓涵 | J153: 9 | K153: 三等奖
A154: 15530 | B154: rFc1x7C-44-044-33-046-1-skn-02-VRs | C154: 'Robo Genius系列挑战赛项' | D154: 'Robo Genius新星行动' | E154: 初中组 | F154: 昆十中8队 | G154: 云南省昆明市第十中学 | H154: 邓东芬|吴骥鹏 | I154: 袁尹涵|秦尉然 | J154: 10 | K154: 三等奖
A155: 15607 | B155: rFc1x76-44-044-V5-046-1-HCz-02-fw6 | C155: 'Robo Genius系列挑战赛项' | D155: 'Robo Genius新星行动' | E155: 初中组 | F155: 白塔9队 | G155: 昆明市盘龙区白塔初级中学 | H155: 韩一峰|李云龙 | I155: 何泽杉|殷烯景 | J155: 11 | K155: 三等奖
A156: 11545 | B156: rFc1x7u-44-044-lX-046-1-apR-02-QX8 | C156: 'Robo Genius系列挑战赛项' | D156: 'Robo Genius新星行动' | E156: 初中组 | F156: 大湾区梦之队 | G156: 深圳市南山外国语学校（集团）高新中学 | H156: 王巧玲 | I156: 钟梓懿|陈虹璁 | J156: 12 | K156: 三等奖

Sheet ATC探索者科技挑战赛项
A1: 2024世界机器人大赛昆明锦标赛-青少年机器人设计大赛-ATC探索者科技挑战赛项获奖名单
A2: 报名编号 | B2: 激活码 | C2: 赛道 | D2: 赛项 | E2: 组别 | F2: 队伍名称 | G2: 申报单位 | H2: 教练信息 | I2: 学生信息 | J2: 排名 | K2: 奖项 | L2: 备注
A3: 12094 | B3: rFc1ijZ-44-047-wg-049-1-Rq9-05-8GD | C3: ATC探索者科技挑战赛项' | D3: 'ATC探索者挑战赛-数智物流' | E3: 小学低龄组 | F3: 高达育才战队 | G3: 武汉市育才小学 | H3: 王岩 | I3: 高浩轩|胡城达 | J3: 1 | K3: 一等奖(冠军) | L3: 入围总决赛
A4: 14599 | B4: rFc1ijX-44-047-SP-049-1-kSW-05-KOU | C4: 'ATC探索者科技挑战赛项' | D4: 'ATC探索者挑战赛-数智物流' | E4: 小学低龄组 | F4: 天韵战队 | G4: 武汉市育才小学 | H4: 王岩 | I4: 汪子潇|李沐晨 | J4: 2 | K4: 一等奖(亚军) | L4: 入围总决赛
A5: 13352 | B5: rFc1ijI-44-047-Si-049-1-AOa-05-zBg | C5: 'ATC探索者科技挑战赛项' | D5: 'ATC探索者挑战赛-数智物流' | E5: 小学低龄组 | F5: 开拓进取组 | G5: 华中科技大学同济医学院附属小学 | H5: 韩少飞 | I5: 刘宇晨|王柏翰 | J5: 3 | K5: 一等奖(季军) | L5: 入围总决赛
A6: 12214 | B6: rFc1ij4-44-047-4K-049-1-2ab-05-Plf | C6: 'ATC探索者科技挑战赛项' | D6: 'ATC探索者挑战赛-数智物流' | E6: 小学低龄组 | F6: 星泉 | G6: 武汉市江汉区红领巾学校、武汉市育才小学 | H6: 王岩|李锦涛 | I6: 周沐兴|钟乐泉 | J6: 4 | K6: 一等奖 | L6: 入围总决赛
A7: 13340 | B7: rFc1ijc-44-047-kO-049-1-N8k-05-LXI | C7: 'ATC探索者科技挑战赛项' | D7: 'ATC探索者挑战赛-数智物流' | E7: 小学低龄组 | F7: 超越小组 | G7: 华中科技大学同济医学院附属小学 | H7: 韩少飞 | I7: 程梓昊|夏战书 | J7: 5 | K7: 二等奖
A8: 12547 | B8: rFc1iY2-44-047-z2-049-1-OF0-05-oBI | C8: 'ATC探索者科技挑战赛项' | D8: 'ATC探索者挑战赛-数智物流' | E8: 小学低龄组 | F8: 襄阳市第四十八中学一队 | G8: 襄阳市第四十八中学 | H8: 曾萍 | I8: 徐一诺|杨梓熙 | J8: 6 | K8: 二等奖
A9: 14636 | B9: rFc1ij9-44-047-qi-049-1-ta6-05-cTT | C9: 'ATC探索者科技挑战赛项' | D9: 'ATC探索者挑战赛-数智物流' | E9: 小学低龄组 | F9: 科技先锋队 | G9: 武汉市育才小学，武汉市洪山区第十二小学 | H9: 郭维彬|鲁杨 | I9: 翟昱翔|黄聪荟 | J9: 7 | K9: 二等奖
A10: 15258 | B10: rFc1iYx-44-047-h4-049-1-ytz-05-ZPq | C10: 'ATC探索者科技挑战赛项' | D10: 'ATC探索者挑战赛-数智物流' | E10: 小学低龄组 | F10: 常胜队 | G10: 襄阳市荆州街小学 | H10: 吴金鹏 | I10: 王子炫|童俊超 | J10: 8 | K10: 二等奖
A11: 12454 | B11: rFc1ijq-44-047-uv-049-1-xhG-05-gef | C11: 'ATC探索者科技挑战赛项' | D11: 'ATC探索者挑战赛-数智物流' | E11: 小学低龄组 | F11: 悦博 | G11: 湖北大学附属小学，华中科技大学同济医学院附属小学 | H11: 韩少飞|雷成敏 | I11: 洪悦宸|张博衍 | J11: 9 | K11: 二等奖
A12: 14022 | B12: rFc1ilk-44-047-oO-049-1-F3H-05-7j1 | C12: 'ATC探索者科技挑战赛项' | D12: 'ATC探索者挑战赛-数智物流' | E12: 小学低龄组 | F12: 沈阳哈斯5队 | G12: 沈阳市珠江五校 辽宁省实验学校 | H12: 刘天亮 | I12: 曲铭|李康溢 | J12: 10 | K12: 二等奖
A13: 11164 | B13: rFc1iYV-44-047-6e-049-1-R4A-05-BGj | C13: 'ATC探索者科技挑战赛项' | D13: 'ATC探索者挑战赛-数智物流' | E13: 小学低龄组 | F13: 襄阳青科一队 | G13: 襄阳市青少年科技教育协会 | H13: 肖逵 | I13: 胥张扬|陈子叙 | J13: 11 | K13: 二等奖
A14: 12107 | B14: rFc1ijw-44-047-iY-049-1-F5A-05-ydg | C14: 'ATC探索者科技挑战赛项' | D14: 'ATC探索者挑战赛-数智物流' | E14: 小学低龄组 | F14: 泓新旋风战队 | G14: 武汉市育才小学 | H14: 王岩 | I14: 刘泓锴|张新齐 | J14: 12 | K14: 二等奖
A15: 11276 | B15: rFc1iTN-44-047-RC-049-1-MoS-05-yUo | C15: 'ATC探索者科技挑战赛项' | D15: 'ATC探索者挑战赛-数智物流' | E15: 小学低龄组 | F15: 乐派派WT战队 | G15: 南京宇通实验学校 南京市江宁区上坊新城小学 | H15: 张雨杭 | I15: 王文硕|唐起吾 | J15: 13 | K15: 二等奖
A16: 12438 | B16: rFc1iTE-44-047-4W-049-1-RH7-05-pO6 | C16: 'ATC探索者科技挑战赛项' | D16: 'ATC探索者挑战赛-数智物流' | E16: 小学低龄组 | F16: 所向披靡队 | G16: 杭州市德胜小学 | H16: 孙震 | I16: 万黎程|夏星辰 | J16: 14 | K16: 二等奖
A17: 13895 | B17: rFc1iY4-44-047-Eb-049-1-9lP-05-uMs | C17: 'ATC探索者科技挑战赛项' | D17: 'ATC探索者挑战赛-数智物流' | E17: 小学低龄组 | F17: 科技之光队 | G17: 襄阳市人民路小学教育集团 | H17: 焦江丽|李远宏 | I17: 陈宇博|曾胤源 | J17: 15 | K17: 二等奖
A18: 12122 | B18: rFc1ijU-44-047-hZ-049-1-wpP-05-Qrd | C18: 'ATC探索者科技挑战赛项' | D18: 'ATC探索者挑战赛-数智物流' | E18: 小学低龄组 | F18: 景清风淡 | G18: 华中科技大学同济医学院附属小学 | H18: 韩少飞 | I18: 李景然|张清严 | J18: 16 | K18: 三等奖
... A30: 13992 | B30: rFc1iY5-44-047-iz-049-1-kVr-05-nb4 | C30: 'ATC探索者科技挑战赛项' | D30: 'ATC探索者挑战赛-数智物流' | E30: 小学低龄组 | F30: 襄阳市第二十中学教育集团二队 | G30: 襄阳市第二十中学教育集团 | H30: 魏嵬 | I30: 张俊熙|席涌智 | J30: 28 | K30: 三等奖
A32: 15720 | B32: rFc1iQF-44-047-Wo-049-1-Uuf-06-ClH | C32: 'ATC探索者科技挑战赛项' | D32: 'ATC探索者挑战赛-数智物流' | E32: 小学高龄组 | F32: 武汉九头鸟 | G32: 武汉市育才小学，湖北省青少年科技教育协会 | H32: 王岩|程泽徐 | I32: 王梓郡|闻理同 | J32: 1 | K32: 一等奖(冠军) | L32: 入围总决赛
A33: 13826 | B33: rFc1iH5-44-047-zI-049-1-D63-06-xzv | C33: 'ATC探索者科技挑战赛项' | D33: 'ATC探索者挑战赛-数智物流' | E33: 小学高龄组 | F33: 沈阳哈斯4队 | G33: 沈阳汇置育邦实验学校 沈阳岐山一校 | H33: 刘天亮 | I33: 孙启三|徐子航 | J33: 2 | K33: 一等奖(亚军) | L33: 入围总决赛
A34: 13798 | B34: rFc1iH2-44-047-JN-049-1-ihH-06-1Xs | C34: 'ATC探索者科技挑战赛项' | D34: 'ATC探索者挑战赛-数智物流' | E34: 小学高龄组 | F34: 沈阳哈斯1队 | G34: 沈阳私立实验学校 沈阳汇置育邦实验学校 | H34: 刘天亮 | I34: 王跃童|王熙曼 | J34: 3 | K34: 一等奖(季军) | L34: 入围总决赛
A35: 14026 | B35: rFc1iHI-44-047-cT-049-1-W77-06-4SU | C35: 'ATC探索者科技挑战赛项' | D35: 'ATC探索者挑战赛-数智物流' | E35: 小学高龄组 | F35: 沈阳哈斯6队 | G35: 辽宁省实验学校赤山校区 沈阳市南京一校长白岛一分校 | H35: 刘天亮 | I35: 李侯翰|周奕杉 | J35: 4 | K35: 二等奖
A36: 13820 | B36: rFc1iH4-44-047-n9-049-1-Wh6-06-iwO | C36: 'ATC探索者科技挑战赛项' | D36: 'ATC探索者挑战赛-数智物流' | E36: 小学高龄组 | F36: 沈阳哈斯3队 | G36: 沈阳市皇姑区宁山路小学 沈阳珠江五校 | H36: 刘天亮 | I36: 张书维|梁一木 | J36: 5 | K36: 二等奖
A37: 14639 | B37: rFc1iH9-44-047-VZ-049-1-4XQ-06-o0W | C37: 'ATC探索者科技挑战赛项' | D37: 'ATC探索者挑战赛-数智物流' | E37: 小学高龄组 | F37: 4455至尊 | G37: 武汉市育才小学，武汉市江汉区红领巾学校 | H37: 王岩|李锦涛 | I37: 成东岳|叶昊勋 | J37: 6 | K37: 二等奖
A38: 14957 | B38: rFc1iH3-44-047-SQ-049-1-mS3-06-bzr | C38: 'ATC探索者科技挑战赛项' | D38: 'ATC探索者挑战赛-数智物流' | E38: 小学高龄组 | F38: 楚国黄鹤队 | G38: 武汉市育才小学，湖北省青少年科技教育协会 | H38: 程泽徐|鲁杨 | I38: 刘一柠|刘一诺 | J38: 7 | K38: 二等奖
A39: 13884 | B39: rFc1iHl-44-047-oV-049-1-K8X-06-JEr | C39: 'ATC探索者科技挑战赛项' | D39: 'ATC探索者挑战赛-数智物流' | E39: 小学高龄组 | F39: 魔鬼积木 | G39: 襄阳市第二十五中学 | H39: 王三忠 | I39: 喻瀚宇|白沐阳 | J39: 8 | K39: 二等奖
A40: 15005 | B40: rFc1iHQ-44-047-l3-049-1-WaE-06-NQt | C40: 'ATC探索者科技挑战赛项' | D40: 'ATC探索者挑战赛-数智物流' | E40: 小学高龄组 | F40: 照耀前程队 | G40: 襄阳市第三十一中学 | H40: 叶翠|王惠 | I40: 张俊杰|李凌萱 | J40: 9 | K40: 二等奖
A41: 11335 | B41: rFc1iHR-44-047-mT-049-1-b5O-06-x85 | C41: 'ATC探索者科技挑战赛项' | D41: 'ATC探索者挑战赛-数智物流' | E41: 小学高龄组 | F41: 大象1队 | G41: 南京市南化实小，南京市南化第四小学 | H41: 刘希成 | I41: 沈乐航|刘辰昱 | J41: 10 | K41: 二等奖
A42: 14453 | B42: rFc1iH6-44-047-25-049-1-n7B-06-88j | C42: 'ATC探索者科技挑战赛项' | D42: 'ATC探索者挑战赛-数智物流' | E42: 小学高龄组 | F42: 育才尚美队 | G42: 武汉市育才小学，武汉市江汉区红领巾学校 | H42: 王岩|李锦涛 | I42: 李承泽|黄乐山 | J42: 11 | K42: 三等奖
A43: 14478 | B43: rFc1iHX-44-047-lb-049-1-tko-06-HOo | C43: 'ATC探索者科技挑战赛项' | D43: 'ATC探索者挑战赛-数智物流' | E43: 小学高龄组 | F43: 育寄雷火队 | G43: 武汉市育才实验寄宿小学 | H43: 陈虎 | I43: 朱泽熙|余逸洋 | J43: 12 | K43: 三等奖
A44: 13873 | B44: rFc1iHO-44-047-ve-049-1-R1y-06-GO5 | C44: 'ATC探索者科技挑战赛项' | D44: 'ATC探索者挑战赛-数智物流' | E44: 小学高龄组 | F44: 超越自我队伍 | G44: 襄阳市第二十五中学 | H44: 杨扬 | I44: 许偌仪|毛艺睿 | J44: 13 | K44: 三等奖
A45: 14571 | B45: rFc1iHo-44-047-iS-049-1-G1x-06-0Ce | C45: 'ATC探索者科技挑战赛项' | D45: 'ATC探索者挑战赛-数智物流' | E45: 小学高龄组 | F45: 烽火队 | G45: 华中科技大学同济医学院附属小学，湖北大学附属小学 | H45: 雷成敏|韩少飞 | I45: 邓屿城|刘铭恩 | J45: 14 | K45: 三等奖
A46: 14522 | B46: rFc1iHS-44-047-A1-049-1-SBU-06-PAn | C46: 'ATC探索者科技挑战赛项' | D46: 'ATC探索者挑战赛-数智物流' | E46: 小学高龄组 | F46: 育才东方队 | G46: 武汉市育才小学，湖北省青少年科技教育协会 | H46: 王岩 | I46: 陈诺祎|时栩 | J46: 15 | K46: 三等奖
... A51: 15084 | B51: rFc1iQv-44-047-L9-049-1-YOr-06-JuX | C51: 'ATC探索者科技挑战赛项' | D51: 'ATC探索者挑战赛-数智物流' | E51: 小学高龄组 | F51: 超越创新队 | G51: 襄阳市第三十一中学 | H51: 郭洪浩|张刚 | I51: 张怡萱 | J51: 20 | K51: 三等奖
A53: 11313 | B53: rFc1i82-44-047-Yp-049-1-7RK-02-KeC | C53: 'ATC探索者科技挑战赛项' | D53: 'ATC探索者挑战赛-数智物流' | E53: 初中组 | F53: 深圳实验学校1队 | G53: 深圳实验学校 | H53: 曾繁均 | I53: 钟瑾涵|陈宇轩 | J53: 1 | K53: 一等奖(冠军) | L53: 入围总决赛
A54: 11448 | B54: rFc1i8J-44-047-jJ-049-1-kRx-02-OA5 | C54: 'ATC探索者科技挑战赛项' | D54: 'ATC探索者挑战赛-数智物流' | E54: 初中组 | F54: 大象3队 | G54: 南京市江北新区浦口外国语学校，南京外国语学校仙林分校燕子矶校区 | H54: 刘希成 | I54: 殷潇然|魏成悦 | J54: 2 | K54: 一等奖(亚军) | L54: 入围总决赛
A55: 11417 | B55: rFc1i8I-44-047-EC-049-1-xiW-02-E0t | C55: 'ATC探索者科技挑战赛项' | D55: 'ATC探索者挑战赛-数智物流' | E55: 初中组 | F55: 大象2队 | G55: 浦口外国语学校高新分校，南京一中明发滨江分校 | H55: 刘希成 | I55: 石晟睿|戴涵睿 | J55: 3 | K55: 一等奖(季军) | L55: 入围总决赛
A56: 11470 | B56: rFc1i8p-44-047-Rs-049-1-D82-02-pFi | C56: 'ATC探索者科技挑战赛项' | D56: 'ATC探索者挑战赛-数智物流' | E56: 初中组 | F56: 大象6队 | G56: 南京汉开书院，南京市第一中学泰山分校 | H56: 刘希成 | I56: 戴诚洋|余屹帆 | J56: 4 | K56: 二等奖
A57: 11365 | B57: rFc1i85-44-047-hL-049-1-a2X-02-qU0 | C57: 'ATC探索者科技挑战赛项' | D57: 'ATC探索者挑战赛-数智物流' | E57: 初中组 | F57: 深圳实验学校3队 | G57: 深圳实验学校 | H57: 曾繁均 | I57: 潘沣麟|谢博宇 | J57: 5 | K57: 二等奖
A58: 10903 | B58: rFc1i8z-44-047-JD-049-1-SiJ-02-fuG | C58: 'ATC探索者科技挑战赛项' | D58: 'ATC探索者挑战赛-数智物流' | E58: 初中组 | F58: 高新中学2队 | G58: 深圳市南山外国语学校（集团）高新中学 | H58: 吴旭武 | I58: 曾致远|刘子皓 | J58: 6 | K58: 二等奖
A59: 14909 | B59: rFc1i8W-44-047-Mu-049-1-2yl-02-Rfb | C59: 'ATC探索者科技挑战赛项' | D59: 'ATC探索者挑战赛-数智物流' | E59: 初中组 | F59: 巢湖市第三中学1队 | G59: 巢湖市第三中学 | H59: 赵靖雯 | I59: 陈锐轩|陈曦 | J59: 7 | K59: 二等奖
A60: 11354 | B60: rFc1i8b-44-047-bt-049-1-2z0-02-5xD | C60: 'ATC探索者科技挑战赛项' | D60: 'ATC探索者挑战赛-数智物流' | E60: 初中组 | F60: 深圳实验学校2队 | G60: 深圳实验学校 | H60: 曾繁均|陈巧红 | I60: 王泽熙|石轩睿 | J60: 8 | K60: 二等奖
A61: 11466 | B61: rFc1i8K-44-047-wL-049-1-lbQ-02-DNJ | C61: 'ATC探索者科技挑战赛项' | D61: 'ATC探索者挑战赛-数智物流' | E61: 初中组 | F61: 大象5队 | G61: 浦口外国语学校高新分校，南京育英第二外国语学校 | H61: 刘希成 | I61: 芮芳泽|张益宁 | J61: 9 | K61: 三等奖
A62: 11451 | B62: rFc1i8S-44-047-KC-049-1-3D3-02-ER8 | C62: 'ATC探索者科技挑战赛项' | D62: 'ATC探索者挑战赛-数智物流' | E62: 初中组 | F62: 大象4队 | G62: 南京市浦口外国语学校 | H62: 刘希成 | I62: 王豫锟|胥一诺 | J62: 10 | K62: 三等奖
A63: 10833 | B63: rFc1i8h-44-047-Dr-049-1-zaK-02-nm1 | C63: 'ATC探索者科技挑战赛项' | D63: 'ATC探索者挑战赛-数智物流' | E63: 初中组 | F63: 高新中学1队 | G63: 深圳市南山外国语学校（集团）高新中学 | H63: 吴旭武 | I63: 尹梓焯|赵航正 | J63: 11 | K63: 三等奖
A64: 11393 | B64: rFc1i8T-44-047-A7-049-1-uOI-02-4zD | C64: 'ATC探索者科技挑战赛项' | D64: 'ATC探索者挑战赛-数智物流' | E64: 初中组 | F64: 飞虎队 | G64: 临汾一中第一附属学校 | H64: 郭心茹 | I64: 冯文鋆 | J64: 12 | K64: 三等奖
A65: 14870 | B65: rFc1i8E-44-047-pr-049-1-HAJ-02-DXR | C65: 'ATC探索者科技挑战赛项' | D65: 'ATC探索者挑战赛-数智物流' | E65: 初中组 | F65: 创域荣耀队 | G65: 吴忠市机器人协会 | H65: 付成荣 | I65: 金琦鸿|李梦杰 | J65: 13 | K65: 三等奖
A66: 11255 | B66: rFc1i8j-44-047-pN-049-1-iO0-02-amw | C66: 'ATC探索者科技挑战赛项' | D66: 'ATC探索者挑战赛-数智物流' | E66: 初中组 | F66: 天韵队 | G66: 临汾市第二中学，临汾一中第一附属学校 | H66: 郭心茹 | I66: 吴雨泽|张涵煜 | J66: 14 | K66: 三等奖
A67: 11474 | B67: rFc1i8O-44-047-t9-049-1-LX3-02-p7U | C67: ATC探索者科技挑战赛项' | D67: 'ATC探索者挑战赛-数智物流' | E67: 初中组 | F67: 大象7队 | G67: 南京市第一中学江北新区分校 | H67: 刘希成 | I67: 褚玥岑|张楚熙 | J67: 15 | K67: 三等奖
A69: 报名编号 | B69: 激活码 | C69: 赛道 | D69: 赛项 | E69: 组别 | F69: 队伍名称 | G69: 申报单位 | H69: 教练信息 | I69: 学生信息 | J69: 比赛总分 | K69: 比赛总用时 | L69: 成绩排名 | M69: 奖项 | N69: 备注
A70: 12289 | B70: rFc1iNP-44-047-pZ-048-1-8WO-05-GUS | C70: 'ATC探索者科技挑战赛项' | D70: 'ATC探索者挑战赛-友好地球' | E70: 小学低龄组 | F70: 妙想纷呈队 | G70: 火星街小学 健康路小学 | H70: 赵亚莉 | I70: 甄禄一|李钧皓 | J70: 288 | K70: 234 | L70: 1 | M70: 一等奖(冠军) | N70: 入围总决赛
A71: 12316 | B71: rFc1iN7-44-047-SB-048-1-3O2-05-B2x | C71: 'ATC探索者科技挑战赛项' | D71: 'ATC探索者挑战赛-友好地球' | E71: 小学低龄组 | F71: 智拓追梦队 | G71: 兰州市安宁区第一中学 王家堡小学 | H71: 赵亚莉 | I71: 石文杰|张津硕 | J71: 258 | K71: 237 | L71: 2 | M71: 一等奖(亚军) | N71: 入围总决赛
A72: 9961 | B72: rFc1iN6-44-047-qg-048-1-RO0-05-XOp | C72: 'ATC探索者科技挑战赛项' | D72: 'ATC探索者挑战赛-友好地球' | E72: 小学低龄组 | F72: 未来征服队 | G72: 深圳市鹏兴实验学校 | H72: 高联群 | I72: 周冠廷 | J72: 246 | K72: 236 | L72: 3 | M72: 一等奖(季军) | N72: 入围总决赛
A73: 15428 | B73: rFc1ip4-44-047-dZ-048-1-JbQ-05-Nny | C73: 'ATC探索者科技挑战赛项' | D73: 'ATC探索者挑战赛-友好地球' | E73: 小学低龄组 | F73: 创域凌云队 | G73: 吴忠市机器人协会 | H73: 付成荣 | I73: 李淋华|李淋强 | J73: 240 | K73: 204 | L73: 4 | M73: 一等奖 | N73: 入围总决赛
A74: 13255 | B74: rFc1iNq-44-047-4S-048-1-cR2-05-TBY | C74: 'ATC探索者科技挑战赛项' | D74: 'ATC探索者挑战赛-友好地球' | E74: 小学低龄组 | F74: 新疆乌鲁木齐五队 | G74: 新疆师范大学附属中学 新疆乌鲁木齐市第132小学 | H74: 蔡政 | I74: 邱天泽|王一程 | J74: 216 | K74: 240 | L74: 5 | M74: 二等奖
A75: 13670 | B75: rFc1iNR-44-047-SN-048-1-QMs-05-7dT | C75: 'ATC探索者科技挑战赛项' | D75: 'ATC探索者挑战赛-友好地球' | E75: 小学低龄组 | F75: 奔跑吧少年队 | G75: 大连市中山区桃源小学 | H75: 关敏 | I75: 李梓晨 | J75: 210 | K75: 229 | L75: 6 | M75: 二等奖
A76: 11377 | B76: rFc1ipP-44-047-bm-048-1-F5S-05-a0g | C76: 'ATC探索者科技挑战赛项' | D76: 'ATC探索者挑战赛-友好地球' | E76: 小学低龄组 | F76: 擎苍队 | G76: 临汾市五一路学校，临汾市启星学校 | H76: 司亚萌 | I76: 牛恩宇|刘骐硕 | J76: 210 | K76: 236 | L76: 7 | M76: 二等奖
A77: 13535 | B77: rFc1iN8-44-047-sK-048-1-95e-05-9YT | C77: 'ATC探索者科技挑战赛项' | D77: 'ATC探索者挑战赛-友好地球' | E77: 小学低龄组 | F77: 一飞冲天队 | G77: 大连市甘井子区金家街第二小学 | H77: 关敏 | I77: 王浩宇 | J77: 210 | K77: 240 | L77: 8 | M77: 二等奖
A78: 10321 | B78: rFc1iN9-44-047-t1-048-1-fsB-05-hpK | C78: 'ATC探索者科技挑战赛项' | D78: 'ATC探索者挑战赛-友好地球' | E78: 小学低龄组 | F78: 星辉领航 | G78: 深圳市南湖小学 | H78: 高联群 | I78: 林牮年 | J78: 198 | K78: 240 | L78: 9 | M78: 二等奖
A79: 14184 | B79: rFc1ipL-44-047-SY-048-1-Ylm-05-zAF | C79: 'ATC探索者科技挑战赛项' | D79: 'ATC探索者挑战赛-友好地球' | E79: 小学低龄组 | F79: 创域巅峰队 | G79: 吴忠市机器人协会 | H79: 高伟 | I79: 葛书易 | J79: 192 | K79: 224 | L79: 10 | M79: 二等奖
A80: 13230 | B80: rFc1iN4-44-047-iJ-048-1-3C2-05-8pK | C80: 'ATC探索者科技挑战赛项' | D80: 'ATC探索者挑战赛-友好地球' | E80: 小学低龄组 | F80: 新疆乌鲁木齐三队 | G80: 乌鲁木齐市第二十二小学 | H80: 蔡政 | I80: 孙浩铭|王宣竣 | J80: 192 | K80: 240 | L80: 11 | M80: 二等奖
A81: 14066 | B81: rFc1ipw-44-047-tL-048-1-fyD-05-2ju | C81: 'ATC探索者科技挑战赛项' | D81: 'ATC探索者挑战赛-友好地球' | E81: 小学低龄组 | F81: 创域制造队 | G81: 吴忠市机器人协会 | H81: 杨晶 | I81: 贾梓月|贾梓玉 | J81: 186 | K81: 230 | L81: 12 | M81: 二等奖
A82: 10319 | B82: rFc1iNo-44-047-Oo-048-1-nkx-05-ika | C82: 'ATC探索者科技挑战赛项' | D82: 'ATC探索者挑战赛-友好地球' | E82: 小学低龄组 | F82: 风暴之眼 | G82: 深圳市碧波小学 | H82: 高联群 | I82: 陈嘉睿 | J82: 180 | K82: 236 | L82: 13 | M82: 二等奖
A83: 13105 | B83: rFc1iN2-44-047-l6-048-1-CtE-05-XEA | C83: 'ATC探索者科技挑战赛项' | D83: 'ATC探索者挑战赛-友好地球' | E83: 小学低龄组 | F83: 新疆阿拉尔二队 | G83: 第一师十二团中学 第一师九团中学 | H83: 蔡政 | I83: 侯义珂|刘梓博 | J83: 168 | K83: 224 | L83: 14 | M83: 三等奖
A84: 13146 | B84: rFc1iNL-44-047-5W-048-1-yPt-05-Z9m | C84: 'ATC探索者科技挑战赛项' | D84: 'ATC探索者挑战赛-友好地球' | E84: 小学低龄组 | F84: 新疆乌鲁木齐二队 | G84: 新疆乌鲁木齐第二十六小学 乌鲁木齐市第四十九中学 | H84: 蔡政 | I84: 杨子浩|杨浩镭 | J84: 168 | K84: 226 | L84: 15 | M84: 三等奖
A85: 11368 | B85: rFc1iNF-44-047-J7-048-1-AyK-05-enT | C85: 'ATC探索者科技挑战赛项' | D85: 'ATC探索者挑战赛-友好地球' | E85: 小学低龄组 | F85: 雷霆万钧队 | G85: 临汾市临钢小学，临汾市五一路学校 | H85: 石岩 | I85: 秘圣博|张宸睿 | J85: 150 | K85: 237 | L85: 16 | M85: 三等奖
... A94: 9649 | B94: rFc1iNM-44-047-OK-048-1-DJs-05-ipX | C94: 'ATC探索者科技挑战赛项' | D94: 'ATC探索者挑战赛-友好地球' | E94: 小学低龄组 | F94: 未来征服者 | G94: 深圳市罗湖区巧乐童教育培训中心有限公司 | H94: 高联群 | I94: 周冠冠 | J94: 6 | K94: 240 | L94: 25 | M94: 三等奖
A96: 13525 | B96: rFc1iOS-44-047-vv-048-1-VRD-06-Add | C96: 'ATC探索者科技挑战赛项' | D96: 'ATC探索者挑战赛-友好地球' | E96: 小学高龄组 | F96: 鸣满天下队 | G96: 大连市甘井子区金家街第二小学 | H96: 关敏 | I96: 韩鸣镝 | J96: 430 | K96: 240 | L96: 1 | M96: 一等奖(冠军) | N96: 入围总决赛
A97: 13512 | B97: rFc1iO6-44-047-5L-048-1-uZm-06-xuE | C97: 'ATC探索者科技挑战赛项' | D97: 'ATC探索者挑战赛-友好地球' | E97: 小学高龄组 | F97: 一方战队 | G97: 大连市甘井子区金家街第二小学 | H97: 关敏 | I97: 王国畅 | J97: 320 | K97: 240 | L97: 2 | M97: 一等奖(亚军) | N97: 入围总决赛
A98: 13760 | B98: rFc1iON-44-047-uQ-048-1-jsm-06-XAt | C98: 'ATC探索者科技挑战赛项' | D98: 'ATC探索者挑战赛-友好地球' | E98: 小学高龄组 | F98: 梦之羽队 | G98: 大连市甘井子区魅力小学 | H98: 关敏 | I98: 于凯瑞 | J98: 280 | K98: 240 | L98: 3 | M98: 一等奖(季军) | N98: 入围总决赛
A99: 13700 | B99: rFc1iOK-44-047-cu-048-1-i3U-06-kpQ | C99: 'ATC探索者科技挑战赛项' | D99: 'ATC探索者挑战赛-友好地球' | E99: 小学高龄组 | F99: 飞驰队 | G99: 大连市甘井子区泉水小学 | H99: 关敏 | I99: 王韦仲 | J99: 260 | K99: 240 | L99: 4 | M99: 二等奖
A100: 13754 | B100: rFc1iO9-44-047-7r-048-1-QTZ-06-5ju | C100: 'ATC探索者科技挑战赛项' | D100: 'ATC探索者挑战赛-友好地球' | E100: 小学高龄组 | F100: 如于得水队 | G100: 大连市甘井子区南华小学 | H100: 关敏 | I100: 于文泽 | J100: 230 | K100: 240 | L100: 5 | M100: 二等奖
A101: 12332 | B101: rFc1i0g-44-047-o9-048-1-RZU-06-AIP | C101: 'ATC探索者科技挑战赛项' | D101: 'ATC探索者挑战赛-友好地球' | E101: 小学高龄组 | F101: 星云方程队 | G101: 王家堡小学 火星街小学 | H101: 李艺扬 | I101: 王奕诺|张暄浩 | J101: 220 | K101: 240 | L101: 6 | M101: 二等奖
A102: 10305 | B102: rFc1iOA-44-047-7G-048-1-MDl-06-1Oy | C102: 'ATC探索者科技挑战赛项' | D102: 'ATC探索者挑战赛-友好地球' | E102: 小学高龄组 | F102: 和美2队 | G102: 深圳市龙岗区和美外国语小学 | H102: 王雯雪|许开添 | I102: 邹昊宸|栗尉文 | J102: 200 | K102: 235 | L102: 7 | M102: 二等奖
A103: 11514 | B103: rFc1iOU-44-047-1A-048-1-BPo-06-DuV | C103: 'ATC探索者科技挑战赛项' | D103: 'ATC探索者挑战赛-友好地球' | E103: 小学高龄组 | F103: 宝龙外小高1队 | G103: 深圳市龙岗区龙城高级中学（教育集团）宝龙外国语学校 | H103: 孟秋汝 | I103: 代云远|黄熙哲 | J103: 120 | K103: 240 | L103: 8 | M103: 三等奖
A104: 10308 | B104: rFc1iOL-44-047-Im-048-1-F8Q-06-o1E | C104: 'ATC探索者科技挑战赛项' | D104: 'ATC探索者挑战赛-友好地球' | E104: 小学高龄组 | F104: 和美3队 | G104: 深圳市龙岗区和美外国语小学 | H104: 王雯雪|许开添 | I104: 曹羽轩|钟辽骏 | J104: 100 | K104: 212 | L104: 9 | M104: 三等奖
A105: 9110 | B105: rFc1iOw-44-047-38-048-1-qne-06-PEp | C105: 'ATC探索者科技挑战赛项' | D105: 'ATC探索者挑战赛-友好地球' | E105: 小学高龄组 | F105: 和美1队 | G105: 深圳市龙岗区和美外国语小学 | H105: 王雯雪|许开添 | I105: 黄彦雄|许景洋 | J105: 90 | K105: 212 | L105: 10 | M105: 三等奖
A106: 13266 | B106: rFc1iOz-44-047-ai-048-1-vEf-06-IZp | C106: 'ATC探索者科技挑战赛项' | D106: 'ATC探索者挑战赛-友好地球' | E106: 小学高龄组 | F106: 新疆阿拉尔三队 | G106: 第一师阿拉尔中学 鄂尔多斯市东胜区蒙古族学校 | H106: 蔡政 | I106: 谭皓宇|乌宁齐 | J106: 70 | K106: 240 | L106: 11 | M106: 三等奖
A107: 13165 | B107: rFc1iOP-44-047-hS-048-1-OxO-06-S3g | C107: 'ATC探索者科技挑战赛项' | D107: 'ATC探索者挑战赛-友好地球' | E107: 小学高龄组 | F107: 新疆乌鲁木齐一队 | G107: 乌鲁木齐市第四十九中学 昌吉市第五小学 | H107: 蔡政 | I107: 时子诺|丁誉哲 | J107: 50 | K107: 240 | L107: 12 | M107: 三等奖
A108: 11515 | B108: rFc1iOG-44-047-we-048-1-26n-06-Pl0 | C108: 'ATC探索者科技挑战赛项' | D108: 'ATC探索者挑战赛-友好地球' | E108: 小学高龄组 | F108: 宝龙外小高2队 | G108: 深圳市龙岗区龙城高级中学（教育集团）宝龙外国语学校 | H108: 孟秋汝 | I108: 胡鑫宇|翁子轩 | J108: 10 | K108: 240 | L108: 13 | M108: 三等奖
A109: 12356 | B109: rFc1i0k-44-047-bJ-048-1-73p-06-x9u | C109: 'ATC探索者科技挑战赛项' | D109: 'ATC探索者挑战赛-友好地球' | E109: 小学高龄组 | F109: 创意工坊队 | G109: 安宁堡小学 北京第二实验小学兰州分校 | H109: 李艺扬 | I109: 周泽洋|宋柏锋 | J109: 10 | K109: 240 | L109: 14 | M109: 三等奖
A111: 11518 | B111: rFc1il4-44-047-Ut-048-1-tLo-02-wXv | C111: 'ATC探索者科技挑战赛项' | D111: 'ATC探索者挑战赛-友好地球' | E111: 初中组 | F111: 宝龙外初中队 | G111: 深圳市龙岗区龙城高级中学（教育集团）宝龙外国语学校 | H111: 彭俊醒 | I111: 管启尧|杨景勋 | J111: 200 | K111: 240 | L111: 1 | M111: 一等奖(冠军) | N111: 入围总决赛
A112: 12976 | B112: rFc1ilU-44-047-cV-048-1-xG7-02-Zv9 | C112: 'ATC探索者科技挑战赛项' | D112: 'ATC探索者挑战赛-友好地球' | E112: 初中组 | F112: 新疆阿拉尔一队 | G112: 第一师高级学 第一师十三团中学 | H112: 蔡政 | I112: 刘峙轩|黄子涵 | J112: 120 | K112: 240 | L112: 2 | M112: 一等奖(亚军) | N112: 入围总决赛
A113: 14878 | B113: rFc1ilp-44-047-7Z-048-1-Wxi-02-0HB | C113: 'ATC探索者科技挑战赛项' | D113: 'ATC探索者挑战赛-友好地球' | E113: 初中组 | F113: 莲花中学北校区 | G113: 莲花中学北校区 | H113: 刘松柏 | I113: 郑好 | J113: 70 | K113: 240 | L113: 3 | M113: 一等奖(季军) | N113: 入围总决赛
A114: 14864 | B114: rFc1ilo-44-047-p5-048-1-tKw-02-5dT | C114: 'ATC探索者科技挑战赛项' | D114: 'ATC探索者挑战赛-友好地球' | E114: 初中组 | F114: 深圳市龙岗区平安里学校 | G114: 深圳市龙岗区平安里学校 | H114: 卢剑新 | I114: 黄翰霖 | J114: 60 | K114: 240 | L114: 4 | M114: 二等奖
A115: 14960 | B115: rFc1ilj-44-047-Hc-048-1-PDJ-02-Ocj | C115: 'ATC探索者科技挑战赛项' | D115: 'ATC探索者挑战赛-友好地球' | E115: 初中组 | F115: 龙城初级中学3队 | G115: 深圳市龙岗区龙城高级中学(教育集团)龙城初级中学 | H115: 卢剑新 | I115: 刘晓恩 | J115: 50 | K115: 230 | L115: 5 | M115: 二等奖
A116: 14899 | B116: rFc1ilW-44-047-SN-048-1-BM7-02-KAZ | C116: 'ATC探索者科技挑战赛项' | D116: 'ATC探索者挑战赛-友好地球' | E116: 初中组 | F116: 深圳中学龙岗学校（集团）兰著学校 | G116: 深圳中学龙岗学校（集团）兰著学校 | H116: 卢剑新 | I116: 施佳言 | J116: 50 | K116: 240 | L116: 6 | M116: 二等奖
A117: 12984 | B117: rFc1ilx-44-047-AQ-048-1-9Ow-02-NQE | C117: 'ATC探索者科技挑战赛项' | D117: 'ATC探索者挑战赛-友好地球' | E117: 初中组 | F117: 龙城初级中学 | G117: 深圳市龙岗区龙城高级中学（教育集团）龙城初级中学 | H117: 罗丛礼 | I117: 李宇 | J117: 40 | K117: 220 | L117: 7 | M117: 三等奖
A118: 12939 | B118: rFc1ilq-44-047-QS-048-1-Wdc-02-QCk | C118: 'ATC探索者科技挑战赛项' | D118: 'ATC探索者挑战赛-友好地球' | E118: 初中组 | F118: 深圳市建文外国语学校 | G118: 深圳市建文外国语学校 | H118: 罗丛礼 | I118: 罗鸿 | J118: 40 | K118: 235 | L118: 8 | M118: 三等奖
A119: 14851 | B119: rFc1il6-44-047-75-048-1-C7Y-02-oAi | C119: 'ATC探索者科技挑战赛项' | D119: 'ATC探索者挑战赛-友好地球' | E119: 初中组 | F119: 龙城初级中学 2队 | G119: 深圳市龙岗区龙城高级中学（教育集团）龙城初级中学 | H119: 卢剑新 | I119: 黄增贤 | J119: 40 | K119: 236 | L119: 9 | M119: 三等奖
A120: 14980 | B120: rFc1ilQ-44-047-91-048-1-5qZ-02-EEq | C120: 'ATC探索者科技挑战赛项' | D120: 'ATC探索者挑战赛-友好地球' | E120: 初中组 | F120: 龙岗区新亚洲学校 | G120: 龙岗区外国语学校（集团）新亚洲学校 | H120: 罗丛礼 | I120: 刘浩宇 | J120: 40 | K120: 240 | L120: 10 | M120: 三等奖
A121: 12968 | B121: rFc1ilV-44-047-bn-048-1-6J9-02-y9c | C121: 'ATC探索者科技挑战赛项' | D121: 'ATC探索者挑战赛-友好地球' | E121: 初中组 | F121: 龙城创新学校 | G121: 深圳市龙岗区龙城高级中学（教育集团）龙城创新学校 | H121: 张精宝 | I121: 元鹏宇 | J121: 30 | K121: 239 | L121: 11 | M121: 三等奖
A122: 12997 | B122: rFc1ili-44-047-un-048-1-Qw5-02-uYo | C122: 'ATC探索者科技挑战赛项' | D122: 'ATC探索者挑战赛-友好地球' | E122: 初中组 | F122: 深圳市龙岗区德琳学校 | G122: 深圳市龙岗区德琳学校 | H122: 罗丛礼 | I122: 聂郡江 | J122: 30 | K122: 240 | L122: 12 | M122: 三等奖

Sheet AI创无界赛项
A1: 2024世界机器人大赛昆明锦标赛-青少年机器人设计大赛-AI创无界赛项获奖名单
A2: 报名编号 | B2: 激活码 | C2: 赛道 | D2: 赛项 | E2: 组别 | F2: 队伍名称 | G2: 申报单位 | H2: 教练信息 | I2: 学生信息 | J2: 联赛分数 | K2: 成绩排名 | L2: 奖项 | M2: 决赛成绩 | N2: 备注
A3: 14581 | B3: rFc1JKe-44-050-BD-051-1-1Nk-05-3Gi | C3: AI创无界赛项' | D3: 'AI创无界-寰宇无界' | E3: 小学低龄组 | F3: 韦哲机器人5队 | G3: 乌鲁木齐市第八十八小学、十二师104团中心小学 | H3: 董云 | I3: 侯成鸿|许峰源 | J3: 205 | K3: 冠军 | L3: 一等奖(冠军) | M3: 220 | N3: 入围总决赛
A4: 14505 | B4: rFc1JKd-44-050-Bz-051-1-pv6-05-OYW | C4: 'AI创无界赛项' | D4: 'AI创无界-寰宇无界' | E4: 小学低龄组 | F4: 韦哲机器人4队 | G4: 乌鲁木齐市第八十小学、第十一小学、第五十五小学 | H4: 孙亚辉 | I4: 孙俊宇|王泳淇|翟易铭 | J4: 195 | K4: 冠军 | L4: 一等奖(冠军) | M4: 220 | N4: 入围总决赛
A5: 13484 | B5: rFc1J9h-44-050-nH-051-1-QpF-05-Yhz | C5: 'AI创无界赛项' | D5: 'AI创无界-寰宇无界' | E5: 小学低龄组 | F5: 石榴一队 | G5: 乌鲁木齐市第一小学、第二十七小学、第五小学 | H5: 马世亮 | I5: 陈靖博|张峻睿|伊赫亚·阿里福江 | J5: 188.33 | K5: 亚军 | L5: 一等奖(亚军) | M5: 175 | N5: 入围总决赛
A6: 15159 | B6: rFc1JKo-44-050-Og-051-1-mYS-05-C7p | C6: 'AI创无界赛项' | D6: 'AI创无界-寰宇无界' | E6: 小学低龄组 | F6: 卓越探索者 | G6: 兰州市安宁区十里店第二小学 | H6: 王博涛|孙玲美 | I6: 侯云潇|李嘉骏|芦子熙|肖硕 | J6: 183.33 | K6: 亚军 | L6: 一等奖(亚军) | M6: 175 | N6: 入围总决赛
A7: 7214 | B7: rFc1JKI-44-050-be-051-1-ENu-05-WSa | C7: 'AI创无界赛项' | D7: 'AI创无界-寰宇无界' | E7: 小学低龄组 | F7: 红梅小学和附属第二中学联队 | G7: 大连市开发区红梅小学 | H7: 王满策 | I7: 于清檐|张梓浩 | J7: 166.67 | K7: 季军 | L7: 一等奖(季军) | M7: 170 | N7: 入围总决赛
A8: 11114 | B8: rFc1JK8-44-050-3H-051-1-kx4-05-lzc | C8: 'AI创无界赛项' | D8: 'AI创无界-寰宇无界' | E8: 小学低龄组 | F8: 百变五队 | G8: 天津市河北区育婴里小学 | H8: 王银 | I8: 何以恒|周沫|吴奕诺 | J8: 156.67 | K8: 季军 | L8: 一等奖(季军) | M8: 170 | N8: 入围总决赛
A9: 11085 | B9: rFc1JKQ-44-050-g4-051-1-IA0-05-vST | C9: 'AI创无界赛项' | D9: 'AI创无界-寰宇无界' | E9: 小学低龄组 | F9: 百变四队 | G9: 天津市南开区中营小学 | H9: 尹娜 | I9: 张丁元|张耘恺|常渊 | J9: 176.67 | K9: 7 | L9: 二等奖
A10: 11079 | B10: rFc1JKj-44-050-Gd-051-1-V6F-05-rbC | C10: 'AI创无界赛项' | D10: 'AI创无界-寰宇无界' | E10: 小学低龄组 | F10: 百变三队 | G10: 天津市少年宫 | H10: 尹娜 | I10: 雷淏文|侯胤平|刘晋齐|马浩恩 | J10: 176.67 | K10: 8 | L10: 二等奖
A11: 11047 | B11: rFc1JK9-44-050-cK-051-1-tTr-05-d86 | C11: 'AI创无界赛项' | D11: 'AI创无界-寰宇无界' | E11: 小学低龄组 | F11: 百变一队 | G11: 天津市少年宫 | H11: 刘杰轩 | I11: 尤梓烨|尚乐文 | J11: 156.67 | K11: 9 | L11: 二等奖
A12: 11998 | B12: rFc1JKr-44-050-EZ-051-1-csk-05-ZAQ | C12: 'AI创无界赛项' | D12: 'AI创无界-寰宇无界' | E12: 小学低龄组 | F12: 金童皮蛋瘦肉粥4队 | G12: 金童首郡小学 | H12: 周宏伟 | I12: 孙清茁 | J12: 155 | K12: 10 | L12: 三等奖
A13: 14609 | B13: rFc1JKs-44-050-xv-051-1-6eK-05-7SB | C13: 'AI创无界赛项' | D13: 'AI创无界-寰宇无界' | E13: 小学低龄组 | F13: 韦哲机器人6队 | G13: 乌鲁木齐市华兵实验中学 | H13: 白雪皎 | I13: 余芳泽|吴镇延泊 | J13: 155 | K13: 11 | L13: 三等奖
A14: 13585 | B14: rFc1J9U-44-050-y2-051-1-GVp-05-kO1 | C14: 'AI创无界赛项' | D14: 'AI创无界-寰宇无界' | E14: 小学低龄组 | F14: 航母队 | G14: 昆明市西山区书林第一小学福海校区 | H14: 张晓娟 | I14: 赵坤睿|万晨予 | J14: 145 | K14: 12 | L14: 三等奖
A15: 13291 | B15: rFc1J97-44-050-Rh-051-1-uZL-05-LRr | C15: 'AI创无界赛项' | D15: 'AI创无界-寰宇无界' | E15: 小学低龄组 | F15: 一往无前 | G15: 重庆巴蜀小学 重庆市江北嘴实验学校 劳卫小学 | H15: 胡青松 | I15: 陈仁熙|华梓航|王俊乔 | J15: 143.33 | K15: 13 | L15: 三等奖
A16: 13359 | B16: rFc1J9w-44-050-Ks-051-1-Xfi-05-2Bt | C16: 'AI创无界赛项' | D16: 'AI创无界-寰宇无界' | E16: 小学低龄组 | F16: 我们来的对 | G16: 金州小学 重庆市蓝湖郡巴蜀小学 | H16: 胡青松 | I16: 冉沁橦|杜沂函 | J16: 136.67 | K16: 14 | L16: 三等奖
A17: 11145 | B17: rFc1JKB-44-050-CO-051-1-Djn-05-ac7 | C17: 'AI创无界赛项' | D17: 'AI创无界-寰宇无界' | E17: 小学低龄组 | F17: 百变七队 | G17: 天津市少年宫 | H17: 张欣瑶 | I17: 谢中朗|周熙睿|丁一新|杜韵航 | J17: 136.67 | K17: 15 | L17: 三等奖
A18: 7267 | B18: rFc1JKx-44-050-UT-051-1-9p9-05-SqB | C18: 'AI创无界赛项' | D18: 'AI创无界-寰宇无界' | E18: 小学低龄组 | F18: 红星海学校和华润海中国联队 | G18: 大连经济技术开发区红星海国际学校 | H18: 李义 | I18: 马寅|尹衍煦 | J18: 130 | K18: 16 | L18: 三等奖
A19: 11135 | B19: rFc1JKu-44-050-2F-051-1-JPZ-05-a0f | C19: 'AI创无界赛项' | D19: 'AI创无界-寰宇无界' | E19: 小学低龄组 | F19: 百变六队 | G19: 天津市少年宫 | H19: 王银 | I19: 高铭聪|胡赫铭|胡庭赫|张子枰 | J19: 125 | K19: 17 | L19: 三等奖
A20: 11067 | B20: rFc1JKO-44-050-N6-051-1-DCn-05-9Qj | C20: 'AI创无界赛项' | D20: 'AI创无界-寰宇无界' | E20: 小学低龄组 | F20: 百变二队 | G20: 天津市和平区中心小学 | H20: 刘杰轩 | I20: 郑敏旭|郑敏妍|肖林屹|田语霏 | J20: 123.33 | K20: 18 | L20: 三等奖
A22: 报名编号 | B22: 激活码 | C22: 赛道 | D22: 赛项 | E22: 组别 | F22: 队伍名称 | G22: 申报单位 | H22: 教练信息 | I22: 学生信息 | J22: 联赛分数 | K22: 成绩排名 | L22: 奖项 | M22: 决赛成绩 | N22: 备注
A23: 14481 | B23: rFc1J0i-44-050-Oj-051-1-Cou-06-OY7 | C23: 'AI创无界赛项' | D23: 'AI创无界-寰宇无界' | E23: 小学高龄组 | F23: 韦哲机器人3队 | G23: 乌鲁木齐市第八十小学、兵团二中十一师分校 | H23: 廖灿斌 | I23: 康晟睿|李开玉 | J23: 266.67 | K23: 冠军 | L23: 一等奖(冠军) | M23: 330 | N23: 入围总决赛
A24: 14441 | B24: rFc1J0M-44-050-79-051-1-G8B-06-Zm6 | C24: 'AI创无界赛项' | D24: 'AI创无界-寰宇无界' | E24: 小学高龄组 | F24: 韦哲机器1队 | G24: 乌鲁木齐市第八十小学 | H24: 王军荣 | I24: 董子睿|吴奕辰|刘佳澄 | J24: 260 | K24: 冠军 | L24: 一等奖(冠军) | M24: 330 | N24: 入围总决赛
A25: 13645 | B25: rFc1J0K-44-050-Wc-051-1-btj-06-gsr | C25: 'AI创无界赛项' | D25: 'AI创无界-寰宇无界' | E25: 小学高龄组 | F25: 石榴三队 | G25: 乌鲁木齐市第十五小学、第二十七小学、第三十一小学、第三十六小学 | H25: 刘枳屿 | I25: 费韦豪|董泽轩|安迪亚尔·艾力克木|杨易霖 | J25: 203.33 | K25: 亚军 | L25: 一等奖(亚军) | M25: 240 | N25: 入围总决赛
A26: 13687 | B26: rFc1J0W-44-050-Yx-051-1-DBg-06-OhP | C26: 'AI创无界赛项' | D26: 'AI创无界-寰宇无界' | E26: 小学高龄组 | F26: 石榴五队 | G26: 乌鲁木齐市第四十一小学、第三十小学、雪莲小学、八一中学 | H26: 马世亮 | I26: 唐子皓|程熙喆|唐一天|豪格 | J26: 201.67 | K26: 亚军 | L26: 一等奖(亚军) | M26: 240 | N26: 入围总决赛
A27: 13699 | B27: rFc1J0H-44-050-vR-051-1-oHi-06-o8v | C27: 'AI创无界赛项' | D27: 'AI创无界-寰宇无界' | E27: 小学高龄组 | F27: 石榴六队 | G27: 乌鲁木齐市第十二小学、第126中学、新疆医科大学子女学校 | H27: 刘枳屿 | I27: 张皓轩|白宸宇|李昱德|祁燊业 | J27: 240 | K27: 季军 | L27: 一等奖(季军) | M27: 230 | N27: 入围总决赛
A28: 14459 | B28: rFc1J0J-44-050-mj-051-1-8zZ-06-EwW | C28: 'AI创无界赛项' | D28: 'AI创无界-寰宇无界' | E28: 小学高龄组 | F28: 韦哲机器人2队 | G28: 乌鲁木齐市第八十小学、乌鲁木齐市第八十中附小 | H28: 吴云婷 | I28: 祁子洋|杨雯媛|张沁茹 | J28: 235 | K28: 季军 | L28: 一等奖(季军) | M28: 230 | N28: 入围总决赛
A29: 11194 | B29: rFc1J0A-44-050-vy-051-1-f5p-06-cem | C29: 'AI创无界赛项' | D29: 'AI创无界-寰宇无界' | E29: 小学高龄组 | F29: 金童皮蛋瘦肉粥2队 | G29: 金童首郡小学 | H29: 周宏伟 | I29: 张嘉钦|黄荣川 | J29: 226.67 | K29: 7 | L29: 二等奖
A30: 14917 | B30: rFc1JpZ-44-050-uc-051-1-PiU-06-JRP | C30: 'AI创无界赛项' | D30: 'AI创无界-寰宇无界' | E30: 小学高龄组 | F30: 梦想工程队 | G30: 兰州东方学校(小学部） | H30: 凌玉娇 | I30: 贾梓涵|李衡|孙宇桐|张嘉焱 | J30: 210 | K30: 8 | L30: 二等奖
A31: 13076 | B31: rFc1J0t-44-050-Ef-051-1-U6A-06-HOz | C31: 'AI创无界赛项' | D31: 'AI创无界-寰宇无界' | E31: 小学高龄组 | F31: 四海一心 | G31: 铜梁区第一实验小学 铜梁区龙都小学 | H31: 刘俊飞 | I31: 谢一凡|王秋皓|邓凯文 | J31: 191.67 | K31: 9 | L31: 二等奖
A32: 11150 | B32: rFc1Jpe-44-050-Ba-051-1-3vM-06-PQ8 | C32: 'AI创无界赛项' | D32: 'AI创无界-寰宇无界' | E32: 小学高龄组 | F32: 乐达一队 | G32: 天津市和平区中心小学 | H32: 张欣瑶 | I32: 王鹤霖|王泓权|郝卿竹|张兆鑫 | J32: 186.67 | K32: 10 | L32: 二等奖
A33: 13059 | B33: rFc1J05-44-050-gg-051-1-4X5-06-DXb | C33: 'AI创无界赛项' | D33: 'AI创无界-寰宇无界' | E33: 小学高龄组 | F33: 三生万物 | G33: 铜梁区龙都小学 | H33: 刘俊飞 | I33: 李润墨|曹晨鑫|杜弈希 | J33: 186.67 | K33: 11 | L33: 二等奖
A34: 8788 | B34: rFc1Jpj-44-050-8F-051-1-msn-06-Syy | C34: 'AI创无界赛项' | D34: 'AI创无界-寰宇无界' | E34: 小学高龄组 | F34: 军卓小学4队 | G34: 长春市朝阳区解放大路小学校 | H34: 徐会军 | I34: 张文轩|常煜程 | J34: 171.67 | K34: 12 | L34: 二等奖
A35: 13505 | B35: rFc1J0X-44-050-sK-051-1-txU-06-4es | C35: 'AI创无界赛项' | D35: 'AI创无界-寰宇无界' | E35: 小学高龄组 | F35: 石榴二队 | G35: 乌鲁木齐市第八十八小学、新大附中小学部 | H35: 李薇 | I35: 徐睿泽|仲祥少|阿布杜拉·祖农江|买尔旦·买买江 | J35: 171.67 | K35: 13 | L35: 二等奖
A36: 11165 | B36: rFc1JpD-44-050-kF-051-1-ppV-06-Op8 | C36: 'AI创无界赛项' | D36: 'AI创无界-寰宇无界' | E36: 小学高龄组 | F36: 乐达二队 | G36: 天津市实验小学 | H36: 程燕 | I36: 徐茁皓|谢中轩|杜韵泽 | J36: 170 | K36: 14 | L36: 二等奖
A37: 13595 | B37: rFc1J0m-44-050-8d-051-1-J5o-06-0oX | C37: 'AI创无界赛项' | D37: 'AI创无界-寰宇无界' | E37: 小学高龄组 | F37: 昆明爱情海斯坦星球 | G37: 云南大学附属会展学校 萃智御府学校 云大附中星耀学校小学部 | H37: 郑志强 | I37: 赵浚哲|匡梓墉|李亦瑄 | J37: 168.33 | K37: 15 | L37: 二等奖
A38: 13671 | B38: rFc1J00-44-050-4n-051-1-EOi-06-0Wm | C38: 'AI创无界赛项' | D38: 'AI创无界-寰宇无界' | E38: 小学高龄组 | F38: 石榴四队 | G38: 乌鲁木齐市第一小学、第八十八中学、第八十二小学 | H38: 李薇 | I38: 刘润泽|杨林易|段祖续|夏朗 | J38: 163.33 | K38: 16 | L38: 二等奖
A39: 12281 | B39: rFc1JNn-44-050-h9-051-1-Jwg-06-O1S | C39: 'AI创无界赛项' | D39: 'AI创无界-寰宇无界' | E39: 小学高龄组 | F39: 兰州市城关区雁宁路小学（A） | G39: 兰州市城关区雁宁路小学 | H39: 高志元|王志忠 | I39: 牛仕博|雷若蘅|陈俊豪|安若绮 | J39: 160 | K39: 17 | L39: 二等奖
A40: 15758 | B40: rFc1JpU-44-050-py-051-1-mbq-06-sbt | C40: 'AI创无界赛项' | D40: 'AI创无界-寰宇无界' | E40: 小学高龄组 | F40: 平川育才2队 | G40: 白银市平川区育才小学 | H40: 何永波|张德政 | I40: 李欣柏|安益辰|周永昌 | J40: 160 | K40: 18 | L40: 二等奖
... A65: 15678 | B65: rFc1J03-44-050-WS-051-1-1Oo-06-J0J | C65: 'AI创无界赛项' | D65: 'AI创无界-寰宇无界' | E65: 小学高龄组 | F65: 蒲公英队 | G65: 平凉市玛酷机器人培训中心 | H65: 刘艳琪 | I65: 王子木|周熠哲|邓岩峰 | J65: 58.33 | K65: 43 | L65: 三等奖
A67: 报名编号 | B67: 激活码 | C67: 赛道 | D67: 赛项 | E67: 组别 | F67: 队伍名称 | G67: 申报单位 | H67: 教练信息 | I67: 学生信息 | J67: 联赛分数 | K67: 成绩排名 | L67: 奖项 | M67: 决赛成绩 | N67: 备注
A68: 13854 | B68: rFc1JWV-44-050-s7-051-1-Gos-07-y1z | C68: 'AI创无界赛项' | D68: 'AI创无界-寰宇无界' | E68: 中学组 | F68: 兰州市第三中学 | G68: 兰州市第三中学 | H68: 严剑洲 | I68: 焦一航|陈煜文|韩承晔|赵元甫 | J68: 3-1-0 | K68: 冠军 | L68: 一等奖(冠军) | N68: 入围总决赛
A69: 11184 | B69: rFc1Jly-44-050-ha-051-1-I2U-07-Ctv | C69: 'AI创无界赛项' | D69: 'AI创无界-寰宇无界' | E69: 中学组 | F69: 金童皮蛋瘦肉粥1队 | G69: 金童首郡小学 | H69: 周宏伟 | I69: 陈禹涵|李明達|肖铭峰|孙婉瑜|王子铭 | J69: 3-1-0 | K69: 冠军 | L69: 一等奖(冠军) | N69: 入围总决赛
A70: 15209 | B70: rFc1JlI-44-050-t2-051-1-dN2-07-cpP | C70: 'AI创无界赛项' | D70: 'AI创无界-寰宇无界' | E70: 中学组 | F70: DRM | G70: 兰州市外国语高级中学 | H70: 杨玉良|赵宝凤 | I70: 蔡屹立|高嘉萱|路沁瑶 | J70: 4-0-0 | K70: 亚军 | L70: 一等奖(亚军) | N70: 入围总决赛
A71: 8778 | B71: rFc1Jlv-44-050-UP-051-1-XhO-07-6uN | C71: 'AI创无界赛项' | D71: 'AI创无界-寰宇无界' | E71: 中学组 | F71: 军卓初中3队 | G71: 吉林省第二实验学校 | H71: 徐会军 | I71: 王文轩|赵明睿 | J71: 3-1-0 | K71: 亚军 | L71: 一等奖(亚军) | N71: 入围总决赛
A72: 12529 | B72: rFc1JWM-44-050-cX-051-1-09M-07-sz6 | C72: 'AI创无界赛项' | D72: 'AI创无界-寰宇无界' | E72: 中学组 | F72: 天悦队 | G72: 高台县第二中学 | H72: 盛占军 | I72: 何铭杰 | J72: 2-2-0 | K72: 季军 | L72: 一等奖(季军) | N72: 入围总决赛
A73: 13228 | B73: rFc1JWp-44-050-rh-051-1-Ao0-07-S0E | C73: 'AI创无界赛项' | D73: 'AI创无界-寰宇无界' | E73: 中学组 | F73: 三十五二队 | G73: 兰州市第三十五中学 | H73: 王博|刘巧平 | I73: 李星颐|曲智博|张微笑 | J73: 2-2-0 | K73: 季军 | L73: 一等奖(季军) | N73: 入围总决赛
A74: 14994 | B74: rFc1JWT-44-050-OR-051-1-kfn-07-xDP | C74: 'AI创无界赛项' | D74: 'AI创无界-寰宇无界' | E74: 中学组 | F74: 兰州市城关区华侨实验学校华宇校区 | G74: 兰州市城关区华侨实验学校华宇校区 | H74: 杭伟杰|吴云娟 | I74: 马昊源|蔡怀中 | J74: 3-1-0 | K74: 7 | L74: 二等奖
A75: 8772 | B75: rFc1JWk-44-050-4c-051-1-2he-07-Sy0 | C75: 'AI创无界赛项' | D75: 'AI创无界-寰宇无界' | E75: 中学组 | F75: 军卓初中2队 | G75: 吉林省实验繁荣学校 | H75: 徐会军 | I75: 牛冠淞|刘茗恺 | J75: 2-2-0 | K75: 8 | L75: 二等奖
A76: 13213 | B76: rFc1JWC-44-050-7q-051-1-zhg-07-t14 | C76: 'AI创无界赛项' | D76: 'AI创无界-寰宇无界' | E76: 中学组 | F76: 三十五一队 | G76: 兰州市第三十五中学 | H76: 王晨|严娟珍 | I76: 杨舒钧|陈鑫浩|张傲蕾 | J76: 2-2-0 | K76: 9 | L76: 三等奖
A77: 11204 | B77: rFc1JlL-44-050-jC-051-1-kTO-07-r0K | C77: 'AI创无界赛项' | D77: 'AI创无界-寰宇无界' | E77: 中学组 | F77: 乐达培睿天津队 | G77: 天津市第九十八中学 | H77: 许凯 | I77: 张景媛|吴时赫|孟繁羽 | J77: 2-2-0 | K77: 10 | L77: 三等奖
A78: 13236 | B78: rFc1JWl-44-050-Wr-051-1-cQ0-07-QYB | C78: 'AI创无界赛项' | D78: 'AI创无界-寰宇无界' | E78: 中学组 | F78: 外高一队 | G78: 兰州市外国语高级中学 | H78: 张倩倩|顾润霞 | I78: 沈恩泽|魏嘉|赵梓燔 | J78: 1-3-0 | K78: 11 | L78: 三等奖
A79: 11199 | B79: rFc1Jlz-44-050-UZ-051-1-kEi-07-OBq | C79: 'AI创无界赛项' | D79: 'AI创无界-寰宇无界' | E79: 中学组 | F79: 乐达培睿华东北联队 | G79: 天津市第四十一中学 | H79: 许凯 | I79: 苑彤|邹仲仪|吴雨宸|陈彦蒙 | J79: 1-3-0 | K79: 12 | L79: 三等奖
A80: 8763 | B80: rFc1JWg-44-050-rM-051-1-HCv-07-W5c | C80: 'AI创无界赛项' | D80: 'AI创无界-寰宇无界' | E80: 中学组 | F80: 军卓初中1队 | G80: 吉林大学附属中学 | H80: 徐会军 | I80: 曹煊奇|任慕航 | J80: 0-4-0 | K80: 13 | L80: 三等奖
A81: 12500 | B81: rFc1JWf-44-050-9S-051-1-dYE-07-EMh | C81: 'AI创无界赛项' | D81: 'AI创无界-寰宇无界' | E81: 中学组 | F81: 飞翔队 | G81: 高台县第二中学 | H81: 盛占军 | I81: 石昊亮 | J81: 0-4-0 | K81: 14 | L81: 三等奖
A82: 15297 | B82: rFc1Jl5-44-050-DE-051-1-xyI-07-nOG | C82: 'AI创无界赛项' | D82: 'AI创无界-寰宇无界' | E82: 中学组 | F82: 孙畅 | G82: 济南新航实验外国语学校 | H82: 高忠青 | I82: 孙畅 | J82: 0-4-0 | K82: 15 | L82: 三等奖
A83: 15147 | B83: rFc1JlV-44-050-yw-051-1-Gk5-07-rHY | C83: 'AI创无界赛项' | D83: 'AI创无界-寰宇无界' | E83: 中学组 | F83: 刘海烨，刘海鸥 | G83: 深圳市罗湖区翠园实验学校，深圳市鹏兴实验学校 | H83: 程祯 | I83: 刘海烨|刘海鸥 | J83: 0-4-0 | K83: 16 | L83: 三等奖
A84: 15282 | B84: rFc1Jlq-44-050-jj-051-1-eRq-07-20I | C84: 'AI创无界赛项' | D84: 'AI创无界-寰宇无界' | E84: 中学组 | F84: 成飞月 | G84: 山东淄博实验中学 | H84: 高忠青 | I84: 成飞月 | J84: 0-4-0 | K84: 17 | L84: 三等奖

Sheet ICode太空探险挑战赛项
A1: 2024世界机器人大赛昆明锦标赛-青少年机器人设计大赛-ICode太空探险挑战赛项获奖名单
A2: 报名编号 | B2: 激活码 | C2: 赛道 | D2: 赛项 | E2: 组别 | F2: 队伍名称 | G2: 申报单位 | H2: 教练信息 | I2: 学生信息 | J2: 比赛成绩 | K2: 比赛用时 | L2: 成绩排名 | M2: 奖项 | N2: 备注
A3: 8315 | B3: rFc1i3b-44-052-Vz-053-1-M6k-01-2e8 | C3: ICode太空探险挑战赛项' | D3: 'ICode太空探险挑战创意图形化' | E3: 小学组 | F3: 允小编程 | G3: 西双版纳允景洪小学 | H3: 袁航 | I3: 廖梓轩 | J3: 89.060804 | K3: 60min | L3: 1 | M3: 一等奖(冠军) | N3: 入围总决赛
A4: 11953 | B4: rFc1i3M-44-052-Z8-053-1-QJI-01-rOr | C4: 'ICode太空探险挑战赛项' | D4: 'ICode太空探险挑战创意图形化' | E4: 小学组 | F4: 允小编程2 | G4: 西双版纳州允景洪小学 | H4: 袁航 | I4: 胡文毅 | J4: 89.060804 | K4: 60min | L4: 2 | M4: 一等奖(亚军) | N4: 入围总决赛
A5: 11298 | B5: rFc1oPb-44-052-iu-053-1-97Q-01-4Zl | C5: 'ICode太空探险挑战赛项' | D5: 'ICode太空探险挑战创意图形化' | E5: 小学组 | F5: 内江汉安4队 | G5: 内江市东兴区汉安小学校 | H5: 刘霞 | I5: 鲁拙成 | J5: 89.011014 | K5: 60min | L5: 3 | M5: 一等奖(季军) | N5: 入围总决赛
A6: 11988 | B6: rFc1i36-44-052-9T-053-1-cNJ-01-UuN | C6: 'ICode太空探险挑战赛项' | D6: 'ICode太空探险挑战创意图形化' | E6: 小学组 | F6: 允小编程3 | G6: 西双版纳州允景洪小学 | H6: 袁航 | I6: 郭润宇 | J6: 89.010004 | K6: 60min | L6: 4 | M6: 一等奖 | N6: 入围总决赛
A7: 16601 | B7: 2B8h6y3M-44-052-m1-053-1-ULf-01-ylC | C7: 'ICode太空探险挑战赛项' | D7: 'ICode太空探险挑战创意图形化' | E7: 小学组 | F7: 探空探险1队 | G7: 酒泉市东关街第一小学 | H7: 李红梅 | I7: 尹泽睿 | J7: 89.001013 | K7: 60min | L7: 5 | M7: 一等奖 | N7: 入围总决赛
A8: 12782 | B8: rFc1CQM-44-052-fT-053-1-rxI-01-XLh | C8: 'ICode太空探险挑战赛项' | D8: 'ICode太空探险挑战创意图形化' | E8: 小学组 | F8: 安宁中学嵩华学组 | G8: 安宁中学嵩华学校 | H8: 王玲瑞 | I8: 周歆宸 | J8: 89.000003 | K8: 60min | L8: 6 | M8: 一等奖 | N8: 入围总决赛
A9: 17493 | B9: 2B8h6yuG-44-052-OJ-053-1-n59-01-ZqR | C9: 'ICode太空探险挑战赛项' | D9: 'ICode太空探险挑战创意图形化' | E9: 小学组 | F9: 取名难2 | G9: 四川省绵阳南山中学双语学校 | H9: 梁兰 | I9: 李思远 | J9: 88.011013 | K9: 60min | L9: 7 | M9: 一等奖 | N9: 入围总决赛
A10: 17502 | B10: 2B8h6yuM-44-052-W7-053-1-dB8-01-Kp3 | C10: 'ICode太空探险挑战赛项' | D10: 'ICode太空探险挑战创意图形化' | E10: 小学组 | F10: 取名难5 | G10: 四川省绵阳南山中学双语学校 | H10: 梁兰 | I10: 任原震 | J10: 88.011013 | K10: 60min | L10: 8 | M10: 一等奖 | N10: 入围总决赛
A11: 12284 | B11: rFc1Cap-44-052-76-053-1-Mqm-01-bqX | C11: 'ICode太空探险挑战赛项' | D11: 'ICode太空探险挑战创意图形化' | E11: 小学组 | F11: 昆明高新一小科医路校区5队 | G11: 昆明高新一小教育集团科医路校区 | H11: 左俊 | I11: 郝润加 | J11: 88.000003 | K11: 60min | L11: 9 | M11: 一等奖 | N11: 入围总决赛
A12: 16892 | B12: 2B8h6ymx-44-052-CY-053-1-UXG-01-BGJ | C12: 'ICode太空探险挑战赛项' | D12: 'ICode太空探险挑战创意图形化' | E12: 小学组 | F12: 赢在当下 | G12: 酒泉市新苑学校 | H12: 王晓龙 | I12: 王赢 | J12: 88.000003 | K12: 60min | L12: 10 | M12: 一等奖 | N12: 入围总决赛
A13: 10190 | B13: rFc1ir3-44-052-Ap-053-1-W1U-01-dIr | C13: 'ICode太空探险挑战赛项' | D13: 'ICode太空探险挑战创意图形化' | E13: 小学组 | F13: 昆明高新一小教育集团科医路校区 | G13: 昆明高新一小教育集团科医路校区 | H13: 刘红丽 | I13: 穆儒辰 | J13: 87.060803 | K13: 60min | L13: 11 | M13: 一等奖 | N13: 入围总决赛
A14: 9572 | B14: rFc1i3B-44-052-to-053-1-OCV-01-zct | C14: 'ICode太空探险挑战赛项' | D14: 'ICode太空探险挑战创意图形化' | E14: 小学组 | F14: 益铭科技8队 | G14: 成都市郫都区益铭科技学校 | H14: 刘家宾 | I14: 任宇晨 | J14: 87.011014 | K14: 60min | L14: 12 | M14: 一等奖 | N14: 入围总决赛
... A71: 13603 | B71: rFc1i1g-44-052-pc-053-1-OTz-01-ntc | C71: 'ICode太空探险挑战赛项' | D71: 'ICode太空探险挑战创意图形化' | E71: 小学组 | F71: 李泓锐 | G71: 金康园小学 | H71: 卢开鑫 | I71: 李泓锐 | J71: 75.000014 | K71: 60min | L71: 69 | M71: 一等奖 | N71: 入围总决赛
A72: 9176 | B72: rFc1iF5-44-052-RC-053-1-eTH-01-lds | C72: 'ICode太空探险挑战赛项' | D72: 'ICode太空探险挑战创意图形化' | E72: 小学组 | F72: 盘龙小学映象校区队 | G72: 昆明市盘龙区盘龙小学 | H72: 李成会 | I72: 陈昱辰 | J72: 75.000013 | K72: 60min | L72: 70 | M72: 二等奖
A73: 7707 | B73: rFc1idS-44-052-H3-053-1-c7R-01-2OW | C73: 'ICode太空探险挑战赛项' | D73: 'ICode太空探险挑战创意图形化' | E73: 小学组 | F73: 覃勤 | G73: 云南师范大学附属小学呈贡校区 | H73: 李曼绫 | I73: 覃勤 | J73: 75.000004 | K73: 60min | L73: 71 | M73: 二等奖
A74: 17507 | B74: 2B8h6yua-44-052-4V-053-1-B80-01-eTE | C74: 'ICode太空探险挑战赛项' | D74: 'ICode太空探险挑战创意图形化' | E74: 小学组 | F74: 取名难7 | G74: 四川省绵阳南山中学双语学校 | H74: 梁兰 | I74: 王旒焜 | J74: 74.060803 | K74: 60min | L74: 72 | M74: 二等奖
A75: 17219 | B75: 2B8h6y3j-44-052-wC-053-1-pYM-01-fUf | C75: 'ICode太空探险挑战赛项' | D75: 'ICode太空探险挑战创意图形化' | E75: 小学组 | F75: 启迪小分队九队 | G75: 文山启迪艺术培训学校 | H75: 李瑜 | I75: 李明妍 | J75: 74.021014 | K75: 60min | L75: 73 | M75: 二等奖
A76: 16820 | B76: 2B8h6y3C-44-052-aP-053-1-BfA-01-SgD | C76: 'ICode太空探险挑战赛项' | D76: 'ICode太空探险挑战创意图形化' | E76: 小学组 | F76: 达志筑梦3队 | G76: 贵阳市云岩区达志学校 | H76: 姜涛 | I76: 吴然然 | J76: 74.021013 | K76: 60min | L76: 74 | M76: 二等奖
A77: 9613 | B77: rFc1i1v-44-052-OO-053-1-c6d-01-bYW | C77: 'ICode太空探险挑战赛项' | D77: 'ICode太空探险挑战创意图形化' | E77: 小学组 | F77: 益铭科技10队 | G77: 成都市郫都区益铭科技学校 | H77: 刘家宾 | I77: 牟喬木 | J77: 74.011014 | K77: 60min | L77: 75 | M77: 二等奖
A78: 8923 | B78: rFc1ikm-44-052-9z-053-1-ILr-01-E7K | C78: 'ICode太空探险挑战赛项' | D78: 'ICode太空探险挑战创意图形化' | E78: 小学组 | F78: 百变创客13 | G78: 德阳市实验小学 | H78: 刘鸿斌 | I78: 刘宇哲 | J78: 74.010013 | K78: 60min | L78: 76 | M78: 二等奖
A79: 11039 | B79: rFc1ohr-44-052-Yt-053-1-58p-01-vT2 | C79: 'ICode太空探险挑战赛项' | D79: 'ICode太空探险挑战创意图形化' | E79: 小学组 | F79: 韦伯科创活动中心华阳校区 | G79: 四川天府新区第二小学 | H79: 张先一 | I79: 刘芷睿 | J79: 74.000014 | K79: 60min | L79: 77 | M79: 二等奖
A80: 17036 | B80: 2B8h6yn1-44-052-v2-053-1-BV1-01-y7L | C80: 'ICode太空探险挑战赛项' | D80: 'ICode太空探险挑战创意图形化' | E80: 小学组 | F80: 星辰队 | G80: 南京市卓越科技创新服务中心 | H80: 石玲 | I80: 潘星辰 | J80: 74.000013 | K80: 60min | L80: 78 | M80: 二等奖
A81: 13655 | B81: rFc1CS3-44-052-1W-053-1-VTk-01-WkV | C81: 'ICode太空探险挑战赛项' | D81: 'ICode太空探险挑战创意图形化' | E81: 小学组 | F81: 紫玉李轩名 | G81: 石林彝族自治县紫玉小学 | H81: 杨武 | I81: 李轩名 | J81: 74.000003 | K81: 60min | L81: 79 | M81: 二等奖
A82: 9446 | B82: rFc1ies-44-052-7A-053-1-0VG-01-qsL | C82: 'ICode太空探险挑战赛项' | D82: 'ICode太空探险挑战创意图形化' | E82: 小学组 | F82: 双龙一队 | G82: 贵阳市南明区双龙第二实验小学 | H82: 杨欢欢 | I82: 杨光和谐 | J82: 73.000013 | K82: 60min | L82: 80 | M82: 二等奖
A83: 8316 | B83: rFc1iD3-44-052-Wo-053-1-52X-01-5I1 | C83: 'ICode太空探险挑战赛项' | D83: 'ICode太空探险挑战创意图形化' | E83: 小学组 | F83: 高手队 | G83: 成都市石室天府中学附属小学 | H83: 韩世豪 | I83: 黄俊杰 | J83: 73.000013 | K83: 60min | L83: 81 | M83: 二等奖
... A460: 17071 | B460: 2B8h6yBo-44-052-7M-053-1-mo9-01-d8m | C460: 'ICode太空探险挑战赛项' | D460: 'ICode太空探险挑战创意图形化' | E460: 小学组 | F460: 周家缘 | G460: 昆明润城学校 | H460: 甘文吉 | I460: 周家缘 | J460: 19.060803 | K460: 60min | L460: 458 | M460: 三等奖
A462: 9299 | B462: rFc1is7-44-052-V8-053-1-bOB-02-GOI | C462: 'ICode太空探险挑战赛项' | D462: 'ICode太空探险挑战创意图形化' | E462: 初中组 | F462: 凌云战队 | G462: 贵阳市云岩区达志学校 | H462: 姜涛 | I462: 胡兴余 | J462: 77.000013 | K462: 60min | L462: 1 | M462: 一等奖(冠军) | N462: 入围总决赛
A463: 9476 | B463: rFc1isZ-44-052-Fq-053-1-sqm-02-EgY | C463: 'ICode太空探险挑战赛项' | D463: 'ICode太空探险挑战创意图形化' | E463: 初中组 | F463: 山水一队 | G463: 贵阳市南明区山水中学 | H463: 杨正模 | I463: 田清宇 | J463: 72.000013 | K463: 60min | L463: 2 | M463: 一等奖(亚军) | N463: 入围总决赛
A464: 14364 | B464: rFc1isC-44-052-Gn-053-1-vyU-02-GcR | C464: 'ICode太空探险挑战赛项' | D464: 'ICode太空探险挑战创意图形化' | E464: 初中组 | F464: 华益二队 | G464: 长沙市华益中学 | H464: 李艳 | I464: 金子博 | J464: 69.020013 | K464: 60min | L464: 3 | M464: 一等奖(季军) | N464: 入围总决赛
