Workbook

Sheet 全能奖、专项奖
A1: 2024世界机器人大赛北京锦标赛-青少年机器人设计大赛-全能奖获奖名单
A2: 报名编号 | B2: 激活码 | C2: 队伍名称 | D2: 申报单位 | E2: 教练信息 | F2: 学生信息 | G2: 奖项
A3: 31302 | B3: 2B8h6ViI-94-003-ue-025-1-VI0-02-LBe | C3: 8193A | D3: 上海民办永昌学校 | E3: 张辉|徐亮 | F3: 仇子易|杨淋皓|张成乐 | G3: 全能奖
A4: 30316 | B4: 2B8h6ibd-94-003-Of-024-1-Jh2-01-7fi | C4: 希望之星 | D4: 北京市西城区青少年科学技术馆 | E4: 王昕 | F4: 余达仁|刘沐辰|李全坤|王尊 | G4: 全能奖
A5: 33916 | B5: 2B8h6VJW-94-003-7I-025-1-Man-02-lrz | C5: 兰州市三十五中学 | D5: 兰州市第三十五中学 | E5: 骆晓燕 | F5: 杨茗凯|张瑞安|黄昱恺 | G5: 全能奖
A6: 35159 | B6: 2B8h6Val-94-003-jk-025-1-kQT-03-pph | C6: 666S | D6: 西安高新第一中学 | E6: 韩恭恩 | F6: 王柯予|甘栩生|刘锦洋 | G6: 全能奖
A7: 43612 | B7: 2B8h6JXa-94-026-AV-027-1-TED-07-6DY | C7: 19705WXYZ | D7: 北京红心机器人学校 | E7: 辛悦|王冲 | F7: 杨子墨|王嘉航|晏浩洋|王冠杰|魏涵娜|仉麓豪|王欣月|汪雨哲 | G7: 全能奖
A8: 28764 | B8: 2B8h6Izg-94-044-s8-045-1-Pvx-02-al6 | C8: 智行浩清队 | D8: 唐山市路北区乐高教育培训学校 | E8: 孙博 | F8: 云奥清|李浩博 | G8: 全能奖
A9: 30166 | B9: 2B8h6IZf-94-044-HO-046-1-M6v-01-a7t | C9: BWYA-2147483648 | D9: 北京市朝阳区世青学校 | E9: 张城基 | F9: 陈乐思齐|高近庭 | G9: 全能奖
A10: 41690 | B10: 2B8h6pM5-94-020-CP-022-1-8HH-06-1yJ | C10: 小魁星一队 | D10: 吉林市松江东路小学校 | E10: 刘明良 | F10: 杜翰霖 | G10: 全能奖
A11: 2024世界机器人大赛北京锦标赛-青少年机器人设计大赛-专项奖获奖名单
A12: 报名编号 | B12: 激活码 | C12: 队伍名称 | D12: 申报单位 | E12: 教练信息 | F12: 学生信息 | G12: 奖项
C13: 1737Y | D13: International Robotics Academy | E13: THOMAS NOAH LOOME | F13: ALI ALMEN|DAVID SHMIK|YERASSYL SHALKARULY|ZHANIBEK TLEUGAZY|ALDIYAR DAULBAY | G13: 建造奖
A14: 34938 | B14: 2B8h6V6H-94-003-cC-025-1-bWm-03-MD7 | C14: TLU1 | D14: 上海市徐汇区青少年活动中心 | E14: 陆梅东 | F14: 王云嘉|黄淦云|钱子珩 | G14: 建造奖
C15: 6808X | D15: RoboPlanet | E15: Tony Liu | F15: Aiden Xu Peng|Ruoxin Ma|Jasper Yanbo Cao | G15: 惊彩奖
A16: 41460 | B16: 2B8h6Net-94-003-MC-024-1-mX7-02-AYt | C16: 台州市青少年活动中心6613B | D16: 台州市青少年活动中心 | E16: 林朝华.|童文月 | F16: 朱奕安|高玉珊|陈瑛祺 | G16: 惊彩奖
C17: 1729W | D17: International Robotics Academy | E17: THOMAS NOAH LOOME | F17: OLZHAS KUAT|ALIKHAN ABDUMALIK|BAUYRZHAN SYZDYK | G17: 创意奖
A18: 31490 | B18: 2B8h6Vfi-94-003-aB-024-1-VVo-01-AV7 | C18: 6413A | D18: 兰州市城关区静宁路小学 | E18: 杨瑞 | F18: 祝梓轩业|刘镓源|梁晋然 | G18: 创意奖
C19: MACH 3 | D19: NIRT ROBÓTICA Y TECNOLOGÍA | E19: Carlos Ocadiz González | F19: William Esteban Alvarado Castro | Isaac Alvarado Castro |Gerardo Ocampo Sánchez|Sarah Jacqueline Ocampo Sánchez|Evelyn Liliana Martínez Federico|Iván Emanuel Martínez Federico | G19: 巧思奖
A20: 41660 | B20: 2B8h6NHu-94-003-FS-025-1-LUy-03-g52 | C20: CCK Victory | D20: 廠商會蔡章閣中學 | E20: 吳爵宇|曾承乘 | F20: 龔浚軒|葉澤霖|陳亞竣 | G20: 巧思奖
A21: 43489 | B21: 2B8h6NHy-94-003-sN-024-1-7FN-01-zfn | C21: SRC 3668A | D21: 澳門人工智能教育中心 | E21: 何輝同 | F21: 呂天牧|李炫禧|吳宇軒 | G21: 活力奖
A22: 33195 | B22: 2B8h6VXn-94-003-1L-025-1-RBE-03-AQM | C22: 7925B | D22: 浙江省杭州第二中学 | E22: 戈航|赵凯 | F22: 叶宸轩|周楠渐|周墨 | G22: 活力奖
A23: 36488 | B23: 2B8h6Vna-94-016-Yh-017-1-Mhh-01-Q59 | C23: 星火、清华附小、清华附上地小学队 | D23: 星火小学、清附上地小学、清华附小 | E23: 单丹 | F23: 刘峻希|刘馨怿|龚元 | G23: 最佳创新奖
A24: 45090 | B24: 2B8h6Neo-94-003-Nz-025-1-B45-02-5ax | C24: 2333A | D24: 宁波斑马机器人 | E24: 陈燕|潘锡浩 | F24: 陆一一|张施琅|岑佳迅 | G24: 最佳创新奖
A25: 35332 | B25: 2B8h6V6p-94-003-lg-025-1-b9B-03-lPU | C25: 69960H | D25: 上海市静安区少年宫 | E25: 周勇 | F25: 窦廷灏|卢昊 | G25: 最佳创新奖
A26: 33676 | B26: 2B8h6iEl-94-026-Bs-028-1-3BO-07-yHw | C26: Iron Maple 2 | D26: 深圳（南山）中加学校 | E26: 王敏杰|宋世星 | F26: 左哲轩|刘亦然|张轩硕|李小仲|黄霄铭|刘子锐 | G26: 最佳创新奖
A27: 33768 | B27: 2B8h6iEY-94-026-WW-028-1-qbf-07-54i | C27: Iron Maple 3 | D27: 深圳（南山）中加学校 | E27: 王敏杰|宋世星 | F27: 林子宸|黄志欣|赵佳毅
A28: 33315 | B28: 2B8h6iEN-94-026-7J-028-1-Q7L-07-WEr | C28: IRON MAPLE 1 | D28: 深圳（南山）中加学校 | E28: 王敏杰|宋世星 | F28: 卢懋丰|王昱博|高宸宇|林嘉弘|李庚洋|文浩宸
A29: 43641 | B29: 2B8h6JXp-94-026-Iz-027-1-jD7-07-MGl | C29: 19577WXY | D29: 北京红心机器人学校 | E29: 辛悦|王冲 | F29: 郭明义|王彦皓|王彭旭毅|吴世昶|崔孟元|张洪瑞|李功煊 | G29: 最佳创新奖
A30: 34323 | B30: 2B8h6ILZ-94-047-RD-048-1-lwp-05-nCS | C30: 高兴第一战队 | D30: 南通市经济技术开发区星湖小学 | E30: 陆轼琦 | F30: 高浚哲|钱可岑 | G30: 最佳创新奖
A31: 45379 | B31: 2B8h6OJt-94-047-2Z-049-1-Cjh-05-Su2 | C31: AMAZING机器人1队 | D31: 广州市华颖外国语学校 广州黄广牛剑小学 | E31: 伍世广 | F31: 周祎宸|邓皓元 | G31: 最佳创新奖
A32: 38572 | B32: 2B8h6iR4-95-095-b6-096-1-2Sm-10-nDr | C32: VIET ROBOT 09 | D32: VIET ROBOT EDUCATION JOINT STOCK COMPANY | E32: Le Tran Hong Phuc | F32: Nguyen Phuc Nguyen | G32: 最佳创新奖
A33: 35342 | B33: 2B8h6VSx-94-001-8L-007-1-iW0-01-hZ9 | C33: Very Nice战队 | D33: 广州市天河区体育西路小学、华阳小学 | E33: 李伟|周淼 | F33: 邓熙潆|郑子骏 | G33: 最佳创新奖
A34: 33463 | B34: 2B8h6XbM-94-001-Mz-011-1-4lM-03-cZx | C34: 原子骑士 | D34: 深圳市新安中学（集团）第一实验学校 | E34: 李鑫 | F34: 林润龙|陈子涵|陈子贤|袁颢轩|吕文昊 | G34: 最佳设计奖
A35: 30571 | B35: 2B8h6xOH-94-110-c1-111-1-D5B-03-jE1 | C35: NK Chilli | D35: 南开大学人工智能学院 | E35: 李文宇 | F35: 谭莹|钟嘉博|孙嘉文|曹式铖|段岚心 | G35: 最佳设计奖
A36: 34562 | B36: 2B8h6aMS-95-099-AK-112-1-ypp-10-FDW | C36: Pui Va Middle School Team two | D36: Pui Va Middle School | E36: 趙起超|陳浩 | F36: TANG WENGHON|LEI HUNHOU|CHEANG CHIKIT | G36: 最佳设计奖
A37: 35654 | B37: 2B8h6JIr-94-026-30-028-1-hjj-07-WY0 | C37: 文来初中荟萃部10153 | D37: 上海市文来中学（初中部）创新荟萃部 | E37: 刘宏逸|陈家盛 | F37: 刘贤时|李林卓轩 | G37: 最佳设计奖
A38: 44450 | B38: 2B8h6JXY-94-026-9B-027-1-kGn-07-bYT | C38: 19961 | D38: 深圳湾区动力深圳湾学校 | E38: 刘良秋 | F38: 罗可晴|冯喆|苏冠又 | G38: 最佳设计奖
A39: 44830 | B39: 2B8h6N38-94-050-Os-051-1-YsG-06-2S5 | C39: 青外一队 | D39: 上海青浦区世外学校 | E39: 钱婧倩 | F39: 吴卓翀|吴卓钊|黄闳之 | G39: 最佳设计奖
A40: 41594 | B40: 2B8h6Ne9-94-003-eo-025-1-2rV-02-hME | C40: 43010A | D40: 长沙市长郡双语实验中学 | E40: 龚鑫宇 | F40: 任镜羽|谢思冯 | G40: 最佳设计奖
...

Sheet VEX系列赛项
A1: 2024世界机器人大赛北京锦标赛-青少年机器人设计大赛-VEX系列赛项获奖名单
A2: 报名编号 | B2: 激活码 | C2: 赛道 | D2: 赛项 | E2: 组别 | F2: 队伍名称 | G2: 申报单位 | H2: 教练信息 | I2: 学生信息 | J2: 资格赛成绩 | K2: 资格赛排名 | L2: 奖项 | M2: 备注
A3: 36633 | B3: 2B8h6Vtr-94-003-z0-023-1-dzE-01-dGX | C3: VEX系列赛项' | D3: VEX GO城市建设' | E3: 小学组 | F3: 广州市白云区少年宫 | G3: 广州市白云区少年宫 | H3: 李红宁|莫菲 | I3: 吕沐融|李锋锐 | J3: 11.5 | K3: 5 | L3: 一等奖(冠军) | M3: 入围总决赛 | N3: 决赛
A4: 35508 | B4: 2B8h6VtG-94-003-QS-023-1-fyR-01-ZUG | C4: 'VEX系列赛项' | D4: VEX GO城市建设' | E4: 小学组 | F4: 叶云灏 王珂珏 | G4: 广东仲元中学附属学校/体育东路小学兴国学校 | H4: 赵巧玲|范皖豫 | I4: 叶云灏|王珂珏 | J4: 11.25 | K4: 6 | L4: 一等奖(冠军) | M4: 入围总决赛
A5: 34798 | B5: 2B8h6Vtj-94-003-Yn-023-1-ugi-01-ASH | C5: 'VEX系列赛项' | D5: VEX GO城市建设' | E5: 小学组 | F5: 冯宛玥 王琰烨 | G5: 东川路小学/体育东路小学兴国学校 | H5: 赵巧玲 | I5: 冯宛玥|王琰烨 | J5: 11 | K5: 7 | L5: 一等奖(亚军) | M5: 入围总决赛
A6: 34225 | B6: 2B8h6Vc5-94-003-oV-023-1-OaI-01-0mi | C6: 'VEX系列赛项' | D6: VEX GO城市建设' | E6: 小学组 | F6: 蛋仔派队 | G6: 北京第二实验小学、 北京西城区师范学校附属小学 | H6: 韩磊|秦国强 | I6: 李泽弘|李牧野 | J6: 10.75 | K6: 8 | L6: 一等奖(亚军) | M6: 入围总决赛
A7: 45040 | B7: 2B8h6Vcc-94-003-eY-023-1-3K6-01-cQ0 | C7: 'VEX系列赛项' | D7: VEX GO城市建设' | E7: 小学组 | F7: 33003M | G7: 温州市鹿城区广场路小学&amp;温州市鹿城区建设小学 | H7: 邹君|陈媚丽 | I7: 徐璟奂|胡皓博 | J7: 10.75 | K7: 11 | L7: 一等奖(季军) | M7: 入围总决赛
A8: 33790 | B8: 2B8h6Vc7-94-003-xh-023-1-GdI-01-nFK | C8: 'VEX系列赛项' | D8: VEX GO城市建设' | E8: 小学组 | F8: 领航之翼 | G8: 北京市西城区育翔小学 | H8: 王雪莹|李日 | I8: 李泽昱|夏子杭 | J8: 10.5 | K8: 12 | L8: 一等奖(季军) | M8: 入围总决赛
A9: 41708 | B9: 2B8h6VtW-94-003-yY-023-1-jE9-01-fBD | C9: 'VEX系列赛项' | D9: VEX GO城市建设' | E9: 小学组 | F9: 三小队 | G9: 北京市中关村第三小学 | H9: 安绍辉|胡海洋 | I9: 武子欣|吴元元 | J9: 12.75 | K9: 1 | L9: 二等奖
A10: 32571 | B10: 2B8h6VtD-94-003-Pi-023-1-Uoo-01-BMB | C10: 'VEX系列赛项' | D10: VEX GO城市建设' | E10: 小学组 | F10: 9702B | G10: 吉林大学附属中学高新慧谷学校 | H10: 公婷|王思淼 | I10: 姜金邑|王业勋 | J10: 11.75 | K10: 2 | L10: 二等奖
A11: 41736 | B11: 2B8h6VtK-94-003-fP-023-1-cNK-01-Pxt | C11: 'VEX系列赛项' | D11: VEX GO城市建设' | E11: 小学组 | F11: 清华附小队 | G11: 清华大学附属小学 | H11: 李强|胡海洋 | I11: 龚赫轩|代致远 | J11: 11.5 | K11: 3 | L11: 二等奖
A12: 33772 | B12: 2B8h6VtV-94-003-7N-023-1-bCQ-01-B0Z | C12: 'VEX系列赛项' | D12: VEX GO城市建设' | E12: 小学组 | F12: 领者勇士 | G12: 北京市朝阳师范学校附属小学 | H12: 张娟 | I12: 党齐祯|孙卓颢 | J12: 11.5 | K12: 4 | L12: 二等奖
A13: 34129 | B13: 2B8h6Vcz-94-003-SV-023-1-qkp-01-1pO | C13: 'VEX系列赛项' | D13: VEX GO城市建设' | E13: 小学组 | F13: 厦门金林湾实验-思明二实小联队 | G13: 厦门市金林湾实验学校 | H13: 毛盈盈 | I13: 林渲祥|王子泰 | J13: 10.75 | K13: 9 | L13: 二等奖
A14: 34627 | B14: 2B8h6Vtn-94-003-EV-023-1-pVF-01-cyM | C14: 'VEX系列赛项' | D14: VEX GO城市建设' | E14: 小学组 | F14: 深圳实验学校小学部GO赛队 | G14: 深圳实验学校小学部 | H14: 林宣武 | I14: 谭安棣|张世霖 | J14: 10.75 | K14: 10 | L14: 二等奖
A15: 32377 | B15: 2B8h6Vcv-94-003-6R-023-1-g8M-01-2aC | C15: 'VEX系列赛项' | D15: VEX GO城市建设' | E15: 小学组 | F15: 89C | G15: 东北师范大学附属小学 | H15: 许佳|公婷 | I15: 付一鸣|刘懿锋 | J15: 10 | K15: 13 | L15: 三等奖
A16: 33122 | B16: 2B8h6Vcb-94-003-T3-023-1-oOg-01-fYA | C16: 'VEX系列赛项' | D16: VEX GO城市建设' | E16: 小学组 | F16: 605555B | G16: 兰州市城关区一只船小学 | H16: 李钢 | I16: 李秉朔|王晟泽 | J16: 10 | K16: 14 | L16: 三等奖
A17: 31356 | B17: 2B8h6Vt8-94-003-WB-023-1-R99-01-aHm | C17: 'VEX系列赛项' | D17: VEX GO城市建设' | E17: 小学组 | F17: 605555A | G17: 兰州市城关区一只船小学 | H17: 祁婧 | I17: 车昊宇|雷觐瑄 | J17: 9.5 | K17: 15 | L17: 三等奖
A18: 32309 | B18: 2B8h6Vch-94-003-IE-023-1-Ar0-01-Cjo | C18: 'VEX系列赛项' | D18: VEX GO城市建设' | E18: 小学组 | F18: 89A | G18: 长春市第一零三中学 | H18: 公婷|高丽娟 | I18: 赵月祎|王子陌 | J18: 9.25 | K18: 16 | L18: 三等奖
A19: 36396 | B19: 2B8h6VtS-94-003-pR-023-1-nqt-01-Owc | C19: 'VEX系列赛项' | D19: VEX GO城市建设' | E19: 小学组 | F19: 科学馆易趣RoboticsGO | G19: 深圳市科学馆 | H19: 庄昊|黄焕翠 | I19: 林立坤|周书逸 | J19: 9 | K19: 17 | L19: 三等奖
A20: 31520 | B20: 2B8h6VtU-94-003-2H-023-1-PA3-01-WOj | C20: 'VEX系列赛项' | D20: VEX GO城市建设' | E20: 小学组 | F20: 6413C | G20: 兰州市城关区静宁路小学 | H20: 王伟毅 | I20: 王思涵|郭暨丛 | J20: 8.5 | K20: 18 | L20: 三等奖
... A26: 31556 | B26: 2B8h6Vtb-94-003-vj-023-1-Hai-01-IX6 | C26: 'VEX系列赛项' | D26: VEX GO城市建设' | E26: 小学组 | F26: 6413D | G26: 兰州市城关区静宁路小学 | H26: 王栋 | I26: 夏啟恒|陆昱翰 | J26: 4.25 | K26: 24 | L26: 三等奖
A28: 34078 | B28: 2B8h6VI5-94-003-Ov-024-1-T3U-01-RQJ | C28: 'VEX系列赛项' | D28: 'VEX IQ风驰电掣' | E28: 小学A组 | F28: 胜利吞噬者 | G28: 北京市西城区育翔小学 | H28: 王雪莹|钱超奇 | I28: 李明钖|贺圣尧|吴元铎 | J28: 144.4 | K28: 1 | L28: 一等奖(冠军) | M28: 入围总决赛 | N28: 决赛
A29: 47370 | B29: 2B8h6jw5-94-003-ns-024-1-cP0-01-Ktg | C29: 'VEX系列赛项' | D29: 'VEX IQ风驰电掣' | E29: 小学A组 | F29: 10492T | G29: 上海市虹口区红旗小学 | H29: 陈连 | I29: 孙奕辰|杉山拓海|张路晨 | J29: 141.8 | K29: 2 | L29: 一等奖(冠军) | M29: 入围总决赛
A30: 36583 | B30: 2B8h6Vfo-94-003-h1-024-1-oWq-01-mde | C30: 'VEX系列赛项' | D30: 'VEX IQ风驰电掣' | E30: 小学A组 | F30: 9006A | G30: 广州市海珠区少年宫 | H30: 李崑|蒋永辉 | I30: 杨宸睿|邵玮恒|梁子煜 | J30: 136.8 | K30: 9 | L30: 一等奖(亚军) | M30: 入围总决赛
A31: 35248 | B31: 2B8h6VIX-94-003-XY-024-1-jrk-01-I9P | C31: 'VEX系列赛项' | D31: 'VEX IQ风驰电掣' | E31: 小学A组 | F31: A人北四叶草 | G31: 北京市海淀区人北实验学校 | H31: 庄睿|刘霄 | I31: 刘科骏|宋奇锴|胡熙冉 | J31: 136.6 | K31: 10 | L31: 一等奖(亚军) | M31: 入围总决赛
A32: 31254 | B32: 2B8h6VfN-94-003-LA-024-1-6WW-01-U3C | C32: 'VEX系列赛项' | D32: 'VEX IQ风驰电掣' | E32: 小学A组 | F32: 好奇战队 | G32: 东莞市松山湖第二小学 | H32: 苟涛|邓朝慧 | I32: 曹聿灵|曾可馨|马沐晨 | J32: 129 | K32: 15 | L32: 一等奖(季军) | M32: 入围总决赛
A33: 33140 | B33: 2B8h6VfV-94-003-1p-024-1-ncO-01-KF7 | C33: 'VEX系列赛项' | D33: 'VEX IQ风驰电掣' | E33: 小学A组 | F33: 31051X | G33: 中国杭州低碳科技馆 | H33: 杨昊 | I33: 林宸屹|吴穹径|吴映瑶 | J33: 128.8 | K33: 16 | L33: 一等奖(季军) | M33: 入围总决赛
A34: 41715 | B34: 2B8h6Ng8-94-003-Hx-024-1-ELi-01-kvY | C34: 'VEX系列赛项' | D34: 'VEX IQ风驰电掣' | E34: 小学A组 | F34: 8299A | G34: 宁波市少儿活动中心 | H34: 韩宁 | I34: 舒麒臻|王骁|谢础泽 | J34: 141.8 | K34: 3 | L34: 一等奖 | M34: 入围总决赛
A35: 33110 | B35: 2B8h6Vf0-94-003-gV-024-1-dCj-01-1ZY | C35: 'VEX系列赛项' | D35: 'VEX IQ风驰电掣' | E35: 小学A组 | F35: 天津市和平区昆明路队 | G35: 天津市和平区昆明路小学 | H35: 金喆 | I35: 刘锴逸|陈子辰|杨宜骏 | J35: 141.8 | K35: 4 | L35: 二等奖
A36: 44948 | B36: 2B8h6Ne5-94-003-2S-024-1-K5N-01-oLe | C36: 'VEX系列赛项' | D36: 'VEX IQ风驰电掣' | E36: 小学A组 | F36: 种花家CHN | G36: 上海民办协和双语学校 | H36: 张鹏举 | I36: 金灏宇|龚羿旻|张知冉 | J36: 139.4 | K36: 5 | L36: 二等奖
A37: 30986 | B37: 2B8h6Vf2-94-003-yo-024-1-kjL-01-VtU | C37: 'VEX系列赛项' | D37: 'VEX IQ风驰电掣' | E37: 小学A组 | F37: All Right | G37: 上海协和双语学校 | H37: 张鹏举 | I37: 贾景杰|符渊|金方喆 | J37: 139.2 | K37: 6 | L37: 二等奖
A38: 33344 | B38: 2B8h6VfU-94-003-Ac-024-1-aRU-01-ZgX | C38: 'VEX系列赛项' | D38: 'VEX IQ风驰电掣' | E38: 小学A组 | F38: DFD-U | G38: 广州市越秀区东风东路小学 | H38: 肖献华 | I38: 贾若谷|李达楷|赵语旋 | J38: 137.2 | K38: 7 | L38: 二等奖
A39: 48988 | B39: 2B8h6j4S-94-003-Ek-024-1-CkC-01-OAr | C39: 'VEX系列赛项' | D39: 'VEX IQ风驰电掣' | E39: 小学A组 | F39: 85677A | G39: 马桥文来外国语小学 | H39: 张鹏举 | I39: 杨北辰|韩仁远|任心瑜 | J39: 137 | K39: 8 | L39: 二等奖
A40: 41885 | B40: 2B8h6VV4-94-003-In-024-1-W0Q-01-rFu | C40: 'VEX系列赛项' | D40: 'VEX IQ风驰电掣' | E40: 小学A组 | F40: 中关村第三小学A队 | G40: 北京市中关村第三小学 | H40: 安绍辉|陶谦 | I40: 朱麟晁|焦子昂|徐宜然 | J40: 134.4 | K40: 11 | L40: 二等奖
A41: 33032 | B41: 2B8h6Vx7-94-003-qb-024-1-efs-02-N2l | C41: 'VEX系列赛项' | D41: 'VEX IQ风驰电掣' | E41: 小学A组 | F41: 天津市南开区中营小学 | G41: 天津市南开区中营小学 | H41: 金喆 | I41: 金羽萱|李润松|邵嘉洋 | J41: 132 | K41: 12 | L41: 二等奖
A42: 43489 | B42: 2B8h6NHy-94-003-sN-024-1-7FN-01-zfn | C42: 'VEX系列赛项' | D42: 'VEX IQ风驰电掣' | E42: 小学A组 | F42: SRC 3668A | G42: 澳門人工智能教育中心 | H42: 何輝同 | I42: 呂天牧|李炫禧|吳宇軒 | J42: 131.6 | K42: 13 | L42: 二等奖
A43: 49560 | B43: 2B8h6j4C-94-003-Cj-024-1-7gS-01-A4d | C43: 'VEX系列赛项' | D43: 'VEX IQ风驰电掣' | E43: 小学A组 | F43: 7755S | G43: 上海乐博学习中心 | H43: 刘虎 | I43: 沈浥霏|庄云起|张凯文 | J43: 131.4 | K43: 14 | L43: 二等奖
A44: 45002 | B44: 2B8h6VVy-94-003-uE-024-1-FOf-01-jsg | C44: 'VEX系列赛项' | D44: 'VEX IQ风驰电掣' | E44: 小学A组 | F44: 8866K | G44: 上海乐博学习中心 | H44: 沈军 | I44: 孔维之|杜坤锐|王梓航 | J44: 126.2 | K44: 17 | L44: 二等奖
A45: 33104 | B45: 2B8h6Vft-94-003-jL-024-1-af5-01-fgT | C45: 'VEX系列赛项' | D45: 'VEX IQ风驰电掣' | E45: 小学A组 | F45: 31051A | G45: 中国杭州低碳科技馆 | H45: 杨昊 | I45: 王一宸|张启航|潘梓睿 | J45: 123.6 | K45: 18 | L45: 二等奖
A46: 31813 | B46: 2B8h6VVC-94-003-Rp-024-1-UNo-01-5D5 | C46: 'VEX系列赛项' | D46: 'VEX IQ风驰电掣' | E46: 小学A组 | F46: 南京市琅琊路小学1队 | G46: 南京市琅琊路小学 | H46: 纪栋栋|施剑隆 | I46: 胡屹峥|王舒满|刘品翘 | J46: 123.6 | K46: 19 | L46: 二等奖
...

Sheet ENJOY AI系列赛项
A1: 2024世界机器人大赛北京锦标赛-青少年机器人设计大赛-ENJOY AI系列赛项获奖名单
A2: 报名编号 | B2: 激活码 | C2: 赛道 | D2: 赛项 | E2: 组别 | F2: 队伍名称 | G2: 申报单位 | H2: 教练信息 | I2: 学生信息 | J2: 总分数 | K2: 总耗时(秒) | L2: 名次 | M2: 奖项 | N2: 备注
A3: 53143 | B3: 2B8h6TwS-94-012-dy-015-1-Avu-01-DtX | C3: ENJOY AI系列赛项' | D3: 'ENJOY AI飞跃太空' | E3: 小学组 | F3: 合肥南小飞跃2队 | G3: 合肥市南门小学 | H3: 武剑 | I3: 朱家亮|程宇 | J3: 880 | K3: 180 | L3: 第1名 | M3: 一等奖(冠军) | N3: 入围总决赛
A4: 53175 | B4: 2B8h6TzM-94-012-H1-015-1-FR7-01-xNQ | C4: 'ENJOY AI系列赛项' | D4: 'ENJOY AI飞跃太空' | E4: 小学组 | F4: 合肥市亳小飞跃队 | G4: 合肥市亳州路小学 | H4: 王菁 | I4: 张竣一|徐梓谦 | J4: 880 | K4: 210 | L4: 第2名 | M4: 一等奖(亚军) | N4: 入围总决赛
A5: 53099 | B5: 2B8h6Tzq-94-012-O9-015-1-Fej-01-W8b | C5: 'ENJOY AI系列赛项' | D5: 'ENJOY AI飞跃太空' | E5: 小学组 | F5: 恩成战队 | G5: 合肥市南国花园小学 | H5: 吴正勇 | I5: 唐曦恩|倪一成 | J5: 810 | K5: 304 | L5: 第3名 | M5: 一等奖(季军) | N5: 入围总决赛
A6: 53092 | B6: 2B8h6Tzy-94-012-lS-015-1-oKm-01-SmO | C6: 'ENJOY AI系列赛项' | D6: 'ENJOY AI飞跃太空' | E6: 小学组 | F6: 逸皓战队 | G6: 合肥中锐学校 | H6: 王芬 | I6: 任俊逸|赵明皓 | J6: 800 | K6: 211 | L6: 第4名 | M6: 一等奖 | N6: 入围总决赛
A7: 53150 | B7: 2B8h6Tw6-94-012-8M-015-1-wW4-01-gfI | C7: 'ENJOY AI系列赛项' | D7: 'ENJOY AI飞跃太空' | E7: 小学组 | F7: 合肥南小飞跃3队 | G7: 合肥市南门小学 | H7: 武剑 | I7: 高璞|姚红泽 | J7: 740 | K7: 138 | L7: 第5名 | M7: 一等奖 | N7: 入围总决赛
A8: 46267 | B8: 2B8h6Ojg-94-012-WW-015-1-0qK-01-UTu | C8: 'ENJOY AI系列赛项' | D8: 'ENJOY AI飞跃太空' | E8: 小学组 | F8: 西布伦四队 | G8: 上海市徐汇区建襄小学，上海市徐汇区高安路第一小学 | H8: 阚顺磊 | I8: 曾心随|高方泽 | J8: 730 | K8: 269 | L8: 第6名 | M8: 一等奖 | N8: 入围总决赛
A9: 53136 | B9: 2B8h6Twj-94-012-Pv-015-1-7mG-01-i3C | C9: 'ENJOY AI系列赛项' | D9: 'ENJOY AI飞跃太空' | E9: 小学组 | F9: 合肥南小飞跃1队 | G9: 合肥市南门小学 | H9: 武剑 | I9: 李镇旭|宣为楷 | J9: 710 | K9: 220 | L9: 第7名 | M9: 一等奖 | N9: 入围总决赛
A10: 46385 | B10: 2B8h6Oji-94-012-FT-015-1-6r7-01-C5h | C10: 'ENJOY AI系列赛项' | D10: 'ENJOY AI飞跃太空' | E10: 小学组 | F10: 乐博25队 | G10: 山西智能大数据产业技术创新研究院 | H10: 陈玥如 | I10: 申河李|谢泽宇 | J10: 620 | K10: 323 | L10: 第8名 | M10: 一等奖 | N10: 入围总决赛
A11: 53189 | B11: 2B8h6TwC-94-012-40-015-1-ONj-01-DN6 | C11: 'ENJOY AI系列赛项' | D11: 'ENJOY AI飞跃太空' | E11: 小学组 | F11: YQ轩妍战队 | G11: 宣城市实验小学梅溪校区 | H11: 彭元璟 | I11: 周欣妍|马亦轩 | J11: 600 | K11: 338 | L11: 第9名 | M11: 一等奖 | N11: 入围总决赛
A12: 46808 | B12: 2B8h6OYv-94-012-TV-015-1-qYa-01-JF2 | C12: 'ENJOY AI系列赛项' | D12: 'ENJOY AI飞跃太空' | E12: 小学组 | F12: 西布伦七队 | G12: 上海市徐汇区汇师小学，上海交通大学附属小学 | H12: 阚顺磊 | I12: 林长远|许钧翔 | J12: 560 | K12: 240 | L12: 第10名 | M12: 一等奖 | N12: 入围总决赛
A13: 46366 | B13: 2B8h6Ojy-94-012-4T-015-1-hq6-01-Kvd | C13: 'ENJOY AI系列赛项' | D13: 'ENJOY AI飞跃太空' | E13: 小学组 | F13: 乐博23队 | G13: 山西智能大数据产业技术创新研究院 | H13: 陈玥如 | I13: 曲浩辰|王昱博 | J13: 560 | K13: 331 | L13: 第11名 | M13: 一等奖 | N13: 入围总决赛
A14: 52886 | B14: 2B8h6TZ4-94-012-wu-015-1-QLE-01-baj | C14: 'ENJOY AI系列赛项' | D14: 'ENJOY AI飞跃太空' | E14: 小学组 | F14: 双涵队 | G14: 苏州市相城区蠡口实验小学 | H14: 查春 | I14: 唐芷涵|俞妙涵 | J14: 550 | K14: 325 | L14: 第12名 | M14: 一等奖 | N14: 入围总决赛
... A18: 52913 | B18: 2B8h6TwI-94-012-Wt-015-1-1vn-01-sdA | C18: 'ENJOY AI系列赛项' | D18: 'ENJOY AI飞跃太空' | E18: 小学组 | F18: 凤凰宇宙队 | G18: 黄山市屯溪现代实验学校 | H18: 程东兴 | I18: 陈沐雪|沈际云 | J18: 490 | K18: 347 | L18: 第16名 | M18: 一等奖 | N18: 入围总决赛
A19: 53129 | B19: 2B8h6Two-94-012-KN-015-1-x4e-01-IBF | C19: 'ENJOY AI系列赛项' | D19: 'ENJOY AI飞跃太空' | E19: 小学组 | F19: YQ诺华战队 | G19: 宣城市实验小学梅溪校区 | H19: 彭元璟 | I19: 杨钧诺|夏若华 | J19: 470 | K19: 280 | L19: 第17名 | M19: 二等奖
A20: 53128 | B20: 2B8h6TE4-94-012-YF-015-1-VEX-01-LFo | C20: 'ENJOY AI系列赛项' | D20: 'ENJOY AI飞跃太空' | E20: 小学组 | F20: 贝乐远洋梦想号 | G20: 天津市和平区新华南路小学 | H20: 张美晨 | I20: 毕铭轩|宫照翔 | J20: 460 | K20: 345 | L20: 第18名 | M20: 二等奖
A21: 32345 | B21: 2B8h6x0P-94-012-pE-015-1-sQT-01-39y | C21: 'ENJOY AI系列赛项' | D21: 'ENJOY AI飞跃太空' | E21: 小学组 | F21: X-源码无人机3队 | G21: 宝鸡石油小学 | H21: 贾鹏 | I21: 郭子睿|康启航 | J21: 460 | K21: 360 | L21: 第19名 | M21: 二等奖
A22: 33412 | B22: 2B8h6xpb-94-012-2N-015-1-a70-01-UVY | C22: 'ENJOY AI系列赛项' | D22: 'ENJOY AI飞跃太空' | E22: 小学组 | F22: 竞速航天梦之队 | G22: 泰安市岱岳实验中学 泰安市泰安外国语学校 | H22: 尹翠平 | I22: 张梓骁|吴钦泽 | J22: 460 | K22: 360 | L22: 第20名 | M22: 二等奖
A23: 46787 | B23: 2B8h6Oje-94-012-Mm-015-1-sCT-01-OYb | C23: 'ENJOY AI系列赛项' | D23: 'ENJOY AI飞跃太空' | E23: 小学组 | F23: 西布伦五队 | G23: 上海市徐汇区虹桥路小学 | H23: 阚顺磊 | I23: 陈至晖 | J23: 430 | K23: 234 | L23: 第21名 | M23: 二等奖
A24: 53107 | B24: 2B8h6TEy-94-012-CL-015-1-Sa6-01-OSB | C24: 'ENJOY AI系列赛项' | D24: 'ENJOY AI飞跃太空' | E24: 小学组 | F24: 贝乐远洋飞驰队 | G24: 天津市南开区五马路小学 | H24: 张美晨 | I24: 马睿芃|韩熙芃 | J24: 420 | K24: 231 | L24: 第22名 | M24: 二等奖
A25: 46135 | B25: 2B8h6Olg-94-012-kD-015-1-Cc9-01-s6Q | C25: 'ENJOY AI系列赛项' | D25: 'ENJOY AI飞跃太空' | E25: 小学组 | F25: 天际飞鹰4队 | G25: 秦皇岛市海港区泺喜创客教育培训学校 | H25: 李静 | I25: 白马林泽|朱钒赫 | J25: 420 | K25: 360 | L25: 第23名 | M25: 二等奖
A26: 53243 | B26: 2B8h6Tzo-94-012-NS-015-1-zVh-01-xOy | C26: 'ENJOY AI系列赛项' | D26: 'ENJOY AI飞跃太空' | E26: 小学组 | F26: 秦皇麦思十三队 | G26: 秦皇岛市外语实验小学 | H26: 邓冰 | I26: 吴佳骏|郭子辰 | J26: 390 | K26: 218 | L26: 第24名 | M26: 二等奖
A27: 46379 | B27: 2B8h6Ojt-94-012-eN-015-1-7Eg-01-UN2 | C27: 'ENJOY AI系列赛项' | D27: 'ENJOY AI飞跃太空' | E27: 小学组 | F27: 乐博28队 | G27: 山西智能大数据产业技术创新研究院 | H27: 王苗苗 | I27: 蔡承轩|薛皓天 | J27: 390 | K27: 303 | L27: 第25名 | M27: 二等奖
A28: 52890 | B28: 2B8h6TZb-94-012-Ng-015-1-yZf-01-t7o | C28: 'ENJOY AI系列赛项' | D28: 'ENJOY AI飞跃太空' | E28: 小学组 | F28: 霂睿队 | G28: 苏州市相城区蠡口实验小学 | H28: 查春 | I28: 杨睿博|周子霂 | J28: 390 | K28: 317 | L28: 第26名 | M28: 二等奖
A29: 46381 | B29: 2B8h6OjM-94-012-DZ-015-1-x7F-01-EZu | C29: 'ENJOY AI系列赛项' | D29: 'ENJOY AI飞跃太空' | E29: 小学组 | F29: 乐博31队 | G29: 山西智能大数据产业技术创新研究院 | H29: 王光辉 | I29: 班子皓|苏嘉航 | J29: 390 | K29: 349 | L29: 第27名 | M29: 二等奖
A30: 53457 | B30: 2B8h6Tzw-94-012-6R-015-1-MjG-01-c7I | C30: 'ENJOY AI系列赛项' | D30: 'ENJOY AI飞跃太空' | E30: 小学组 | F30: 宇泽战队 | G30: 乐博乐博机器人（临泉大润发校区） | H30: 韦新刚 | I30: 李宸宇|杨昊泽 | J30: 380 | K30: 360 | L30: 第28名 | M30: 二等奖
... A108: 52900 | B108: 2B8h6TZw-94-012-Ol-015-1-vgf-01-3NJ | C108: 'ENJOY AI系列赛项' | D108: 'ENJOY AI飞跃太空' | E108: 小学组 | F108: 市实小1队 | G108: 苏州市实验小学校 | H108: 章琛 | I108: 陈泽瑜|沈妍欣 | J108: 80 | K108: 360 | L108: 第106名 | M108: 三等奖
A110: 46260 | B110: 2B8h6OYw-94-012-dU-015-1-xbl-02-eDR | C110: 'ENJOY AI系列赛项' | D110: 'ENJOY AI飞跃太空' | E110: 初中组 | F110: 西布伦二队 | G110: 上海民办位育中学 | H110: 阚顺磊 | I110: 朱威邦 | J110: 660 | K110: 295 | L110: 第1名 | M110: 一等奖(冠军) | N110: 入围总决赛
A111: 33856 | B111: 2B8h6xOh-94-012-O0-015-1-dlz-02-EKN | C111: 'ENJOY AI系列赛项' | D111: 'ENJOY AI飞跃太空' | E111: 初中组 | F111: 乐博35队 | G111: 山西智能大数据产业技术创新研究院 | H111: 张华 | I111: 牛崇璇|李卓阳 | J111: 600 | K111: 277 | L111: 第2名 | M111: 一等奖(亚军) | N111: 入围总决赛
A112: 52928 | B112: 2B8h6Twm-94-012-VT-015-1-ihC-02-qlv | C112: 'ENJOY AI系列赛项' | D112: 'ENJOY AI飞跃太空' | E112: 初中组 | F112: 凤凰霹雳队 | G112: 黄山市屯溪区第六中学 黄山市屯溪区第四中学 | H112: 周伟 | I112: 徐振宸|黄逸轩 | J112: 600 | K112: 318 | L112: 第3名 | M112: 一等奖(季军) | N112: 入围总决赛
A113: 46107 | B113: 2B8h6OY5-94-012-Wj-015-1-zWn-02-lTf | C113: 'ENJOY AI系列赛项' | D113: 'ENJOY AI飞跃太空' | E113: 初中组 | F113: 佰斯特机器人5号 | G113: 镇江市外国语学校 | H113: 吴嘉诺 | I113: 凌培涵|包冕 | J113: 560 | K113: 341 | L113: 第4名 | M113: 一等奖 | N113: 入围总决赛
A114: 46262 | B114: 2B8h6OYZ-94-012-5K-015-1-JaK-02-xF8 | C114: 'ENJOY AI系列赛项' | D114: 'ENJOY AI飞跃太空' | E114: 初中组 | F114: 西布伦三队 | G114: 上海市实验学校 | H114: 阚顺磊 | I114: 徐毅铖 | J114: 550 | K114: 284 | L114: 第5名 | M114: 一等奖 | N114: 入围总决赛
A115: 43504 | B115: 2B8h6x08-94-012-MA-015-1-3xS-02-bZK | C115: 'ENJOY AI系列赛项' | D115: 'ENJOY AI飞跃太空' | E115: 初中组 | F115: 佰斯特机器人1号 | G115: 镇江江南学校 | H115: 吴嘉诺 | I115: 李睿 | J115: 510 | K115: 149 | L115: 第6名 | M115: 一等奖 | N115: 入围总决赛
A116: 46607 | B116: 2B8h6OYt-94-012-og-015-1-SXJ-02-niG | C116: 'ENJOY AI系列赛项' | D116: 'ENJOY AI飞跃太空' | E116: 初中组 | F116: 萝卜智造 | G116: 南京河西外国语学校 | H116: 许超俊 | I116: 喻圣媛|周骁尧 | J116: 510 | K116: 256 | L116: 第7名 | M116: 二等奖
A117: 42477 | B117: 2B8h6iGD-94-012-r0-015-1-LJg-02-YO7 | C117: 'ENJOY AI系列赛项' | D117: 'ENJOY AI飞跃太空' | E117: 初中组 | F117: 跃迁队 | G117: 北京师范大学实验华夏女子中学 | H117: 张昊宇 | I117: 娄上|杨德馨 | J117: 500 | K117: 338 | L117: 第8名 | M117: 二等奖
A118: 35612 | B118: 2B8h6x06-94-012-j8-015-1-Qcd-02-OE4 | C118: 'ENJOY AI系列赛项' | D118: 'ENJOY AI飞跃太空' | E118: 初中组 | F118: 内蒙星星战队 | G118: 科右中旗巴彦呼舒第二中学 | H118: 陈义 | I118: 陈佳鑫 | J118: 440 | K118: 111 | L118: 第9名 | M118: 二等奖
A119: 52949 | B119: 2B8h6TAt-94-012-QL-015-1-1jN-02-L2x | C119: 'ENJOY AI系列赛项' | D119: 'ENJOY AI飞跃太空' | E119: 初中组 | F119: 王者归来111 | G119: 九华初中 | H119: 耿云 | I119: 王锐|薛安麒 | J119: 420 | K119: 357 | L119: 第10名 | M119: 二等奖
A120: 35631 | B120: 2B8h6x0X-94-012-Og-015-1-PXj-02-yre | C120: 'ENJOY AI系列赛项' | D120: 'ENJOY AI飞跃太空' | E120: 初中组 | F120: 二中巅峰队 | G120: 科右中旗巴彦呼舒第二中学 | H120: 晓君 | I120: 陈韵涵 | J120: 410 | K120: 262 | L120: 第11名 | M120: 二等奖
A121: 33397 | B121: 2B8h6x0Z-94-012-md-015-1-4ME-02-83s | C121: 'ENJOY AI系列赛项' | D121: 'ENJOY AI飞跃太空' | E121: 初中组 | F121: 竞速航天一队 | G121: 肥城市桃都实验学校 泰安高新技术产业开发区第一中学 | H121: 尹翠平 | I121: 张弘烨|祁靖宇 | J121: 410 | K121: 280 | L121: 第12名 | M121: 二等奖
...

Sheet MakeX系列赛项
A1: 2024世界机器人大赛北京锦标赛-青少年机器人设计大赛-MakeX系列赛项获奖名单
A2: 报名编号 | B2: 激活码 | C2: 赛道 | D2: 赛项 | E2: 组别 | F2: 队伍名称 | G2: 申报单位 | H2: 教练信息 | I2: 学生信息 | J2: 比赛分数 | K2: 比赛用时 | L2: 成绩排名 | M2: 奖项 | N2: 备注
A3: 35784 | B3: 2B8h6VNg-94-001-YJ-008-1-Lg8-01-nGC | C3: MakeX系列赛项' | D3: 'MakeX Inspire智慧物流' | E3: 小学组 | F3: 幻影战队 | G3: 北京市朝阳区实验小学 | H3: 汪硕 | I3: 杨凯文 | J3: 1000 | K3: 89.32 | L3: 1 | M3: 一等奖(冠军) | N3: 入围总决赛
A4: 35812 | B4: 2B8h6VND-94-001-9l-008-1-ud2-01-h86 | C4: 'MakeX系列赛项' | D4: 'MakeX Inspire智慧物流' | E4: 小学组 | F4: 无敌摆烂战队 | G4: 北京市大兴区德茂学校 | H4: 汪硕 | I4: 李如来 | J4: 1000 | K4: 89.35 | L4: 2 | M4: 一等奖(亚军) | N4: 入围总决赛
A5: 35730 | B5: 2B8h6VNH-94-001-DE-008-1-U8R-01-EGO | C5: 'MakeX系列赛项' | D5: 'MakeX Inspire智慧物流' | E5: 小学组 | F5: 冲锋战队 | G5: 北京市昌平区昌盛园小学南邵学校 | H5: 宋凯 | I5: 白格远 | J5: 1000 | K5: 99.17 | L5: 3 | M5: 一等奖(季军) | N5: 入围总决赛
A6: 35757 | B6: 2B8h6VN1-94-001-UM-008-1-qwu-01-bNW | C6: 'MakeX系列赛项' | D6: 'MakeX Inspire智慧物流' | E6: 小学组 | F6: 星之辰战队 | G6: 衡水市胜利小学 | H6: 何瑞平 | I6: 董齐晨熙 | J6: 1000 | K6: 99.64 | L6: 4 | M6: 一等奖 | N6: 入围总决赛
A7: 34275 | B7: 2B8h6V0N-94-001-LJ-008-1-ivF-01-Mbi | C7: 'MakeX系列赛项' | D7: 'MakeX Inspire智慧物流' | E7: 小学组 | F7: 疾风战影 | G7: 北京市海淀区科技活动服务协会 | H7: 尹培阳 | I7: 褚奕辰 | J7: 1000 | K7: 108.34 | L7: 5 | M7: 一等奖 | N7: 入围总决赛
A8: 33514 | B8: 2B8h6VCi-94-001-rK-008-1-1VK-01-u30 | C8: 'MakeX系列赛项' | D8: 'MakeX Inspire智慧物流' | E8: 小学组 | F8: 超级飞侠队 | G8: 海淀区科技活动服务协会 | H8: 杨涛 | I8: 刘江川 | J8: 1000 | K8: 111.7 | L8: 6 | M8: 一等奖 | N8: 入围总决赛
A9: 33515 | B9: 2B8h6VpG-94-001-lO-008-1-mTH-01-X70 | C9: 'MakeX系列赛项' | D9: 'MakeX Inspire智慧物流' | E9: 小学组 | F9: HABA科创2队 | G9: 武汉经开外国语学校 | H9: 卢炜昌 | I9: 唐羽墨 | J9: 1000 | K9: 111.89 | L9: 7 | M9: 一等奖 | N9: 入围总决赛
A10: 35746 | B10: 2B8h6VNn-94-001-18-008-1-B30-01-3Cf | C10: 'MakeX系列赛项' | D10: 'MakeX Inspire智慧物流' | E10: 小学组 | F10: 无量空处 | G10: 武汉市江岸区长春街第二小学 | H10: 何瑞平 | I10: 赵亦远 | J10: 1000 | K10: 113.46 | L10: 8 | M10: 一等奖 | N10: 入围总决赛
A11: 33168 | B11: 2B8h6VNS-94-001-fb-008-1-IxC-01-ZsC | C11: 'MakeX系列赛项' | D11: 'MakeX Inspire智慧物流' | E11: 小学组 | F11: 杨梓晨 | G11: 烟台黄渤海新区古现第二小学 | H11: 苏亚君 | I11: 杨梓晨 | J11: 1000 | K11: 116.51 | L11: 9 | M11: 一等奖 | N11: 入围总决赛
A12: 36029 | B12: 2B8h6VpP-94-001-7D-008-1-v0u-01-P6K | C12: 'MakeX系列赛项' | D12: 'MakeX Inspire智慧物流' | E12: 小学组 | F12: 卓卓战队 | G12: 牡丹江市向阳小学 | H12: 冯海靖 | I12: 王熙卓 | J12: 1000 | K12: 117.74 | L12: 10 | M12: 一等奖 | N12: 入围总决赛
A13: 33342 | B13: 2B8h6VCR-94-001-aF-008-1-azL-01-hHt | C13: 'MakeX系列赛项' | D13: 'MakeX Inspire智慧物流' | E13: 小学组 | F13: 解放区实验学校1队 | G13: 焦作市解放区实验小学 | H13: 秦跃跃 | I13: 王重阳 | J13: 1000 | K13: 118.46 | L13: 11 | M13: 二等奖
A14: 31377 | B14: 2B8h6Vpa-94-001-Gy-008-1-hte-01-V3A | C14: 'MakeX系列赛项' | D14: 'MakeX Inspire智慧物流' | E14: 小学组 | F14: 云逸队 | G14: 威海市青岛路小学 | H14: 李红彦 | I14: 崔盛博 | J14: 1000 | K14: 118.97 | L14: 12 | M14: 二等奖
A15: 36199 | B15: 2B8h6VpJ-94-001-z9-008-1-Vjf-01-pIG | C15: 'MakeX系列赛项' | D15: 'MakeX Inspire智慧物流' | E15: 小学组 | F15: 蓬莱侠客 | G15: 北京市海淀区科技活动服务协会 | H15: 尹培阳 | I15: 孙浩然 | J15: 1000 | K15: 123.39 | L15: 13 | M15: 二等奖
A16: 35656 | B16: 2B8h6VNW-94-001-Eh-008-1-pWo-01-upA | C16: 'MakeX系列赛项' | D16: 'MakeX Inspire智慧物流' | E16: 小学组 | F16: 龙鳞 | G16: 石家庄市北新街小学 | H16: 宋凯 | I16: 董载熙 | J16: 1000 | K16: 125.99 | L16: 14 | M16: 二等奖
A17: 30979 | B17: 2B8h6VNy-94-001-hl-008-1-8U6-01-3ux | C17: 'MakeX系列赛项' | D17: 'MakeX Inspire智慧物流' | E17: 小学组 | F17: 玉峰战队 | G17: 青岛市李沧区工大科技培训学校 | H17: 孙小媚 | I17: 刘思阔 | J17: 1000 | K17: 126.34 | L17: 15 | M17: 二等奖
A18: 32681 | B18: 2B8h6VCX-94-001-I3-008-1-7DJ-01-s46 | C18: 'MakeX系列赛项' | D18: 'MakeX Inspire智慧物流' | E18: 小学组 | F18: 枫度翩翩 | G18: 海淀区科技活动服务协会 | H18: 杨涛 | I18: 蔡朗枫 | J18: 1000 | K18: 128.63 | L18: 16 | M18: 二等奖
A19: 33271 | B19: 2B8h6VpE-94-001-ys-008-1-sA6-01-8qU | C19: 'MakeX系列赛项' | D19: 'MakeX Inspire智慧物流' | E19: 小学组 | F19: Dora-GGBond队 | G19: 深圳市南山为明学校 | H19: 张启繁 | I19: 严明煜 | J19: 1000 | K19: 131.31 | L19: 17 | M19: 二等奖
A20: 31417 | B20: 2B8h6VpK-94-001-6r-008-1-5Ru-01-lb4 | C20: 'MakeX系列赛项' | D20: 'MakeX Inspire智慧物流' | E20: 小学组 | F20: 一身正气战队 | G20: 威海市南山小学 | H20: 王泳川 | I20: 刘正浩 | J20: 1000 | K20: 131.63 | L20: 18 | M20: 二等奖
A21: 35197 | B21: 2B8h6Vpn-94-001-I8-008-1-lwh-01-2sy | C21: 'MakeX系列赛项' | D21: 'MakeX Inspire智慧物流' | E21: 小学组 | F21: Dora-超级赛亚人队 | G21: 深圳市宝安区海港小学 | H21: 蔡行明 | I21: 王启诺 | J21: 1000 | K21: 136.47 | L21: 19 | M21: 二等奖
A22: 33309 | B22: 2B8h6VNV-94-001-rl-008-1-KQy-01-4R8 | C22: 'MakeX系列赛项' | D22: 'MakeX Inspire智慧物流' | E22: 小学组 | F22: HABA霹雳队 | G22: 武汉市江岸区长春街小学 | H22: 张雪 | I22: 刘潇宇 | J22: 1000 | K22: 137.7 | L22: 20 | M22: 二等奖
A23: 31100 | B23: 2B8h6VNZ-94-001-aM-008-1-P9G-01-Lg7 | C23: 'MakeX系列赛项' | D23: 'MakeX Inspire智慧物流' | E23: 小学组 | F23: 尚阳至美-逆行者 | G23: 成都高新区尚阳小学 | H23: 王宁 | I23: 韩杨咏絮 | J23: 1000 | K23: 143.36 | L23: 21 | M23: 二等奖
A24: 31491 | B24: 2B8h6Vpp-94-001-Em-008-1-nOG-01-CSx | C24: 'MakeX系列赛项' | D24: 'MakeX Inspire智慧物流' | E24: 小学组 | F24: 泽江战队 | G24: 威海市皇冠中学北校区 | H24: 肖军好 | I24: 李泽江 | J24: 1000 | K24: 144.13 | L24: 22 | M24: 二等奖
... A66: 34350 | B66: 2B8h6VNo-94-001-BA-008-1-V5l-01-AZE | C66: 'MakeX系列赛项' | D66: 'MakeX Inspire智慧物流' | E66: 小学组 | F66: 竹石战队 | G66: 重庆市江津滨江四牌坊小学校 | H66: 张世锦 | I66: 张泽筠 | J66: 300 | K66: 275.87 | L66: 64 | M66: 三等奖
A68: 35346 | B68: 2B8h6VS6-94-001-Tl-007-1-DLt-01-PAO | C68: 'MakeX系列赛项' | D68: 'MakeX Spark梦想家园' | E68: 小学组 | F68: 未来创客 | G68: 北京市东城区和平里第四小学 | H68: 李伟 | I68: 王子墨 | J68: 32.3 | L68: 1 | M68: 一等奖(冠军) | N68: 入围总决赛
A69: 35469 | B69: 2B8h6VSw-94-001-U4-007-1-2i8-01-FPh | C69: 'MakeX系列赛项' | D69: 'MakeX Spark梦想家园' | E69: 小学组 | F69: 彩虹战队 | G69: 北京市海淀区小学 | H69: 周淼|李伟 | I69: 金蔓辰|何艾航 | J69: 32 | L69: 2 | M69: 一等奖(亚军) | N69: 入围总决赛
A70: 35507 | B70: 2B8h6VSq-94-001-Ct-007-1-jH5-01-5oB | C70: 'MakeX系列赛项' | D70: 'MakeX Spark梦想家园' | E70: 小学组 | F70: X猛虎战队 | G70: 北京市宣武师范学校附属第一小学、北京市丰台区东高地第三小学 | H70: 高鑫|陆慧玲 | I70: 周至|王斓馨 | J70: 30.3 | L70: 3 | M70: 一等奖(季军) | N70: 入围总决赛
A71: 35504 | B71: 2B8h6VSt-94-001-j0-007-1-7O0-01-pGL | C71: 'MakeX系列赛项' | D71: 'MakeX Spark梦想家园' | E71: 小学组 | F71: 勇敢小队 | G71: 成都外国语学校、深圳市宝安中学实验学校 | H71: 周淼|李伟 | I71: 邱逸垚|司嘉屹 | J71: 29 | L71: 4 | M71: 二等奖
A72: 35470 | B72: 2B8h6VSy-94-001-Oz-007-1-G97-01-OE6 | C72: 'MakeX系列赛项' | D72: 'MakeX Spark梦想家园' | E72: 小学组 | F72: 梦幻战队 | G72: 首都师范大学实验小学、北京医科大学附属小学 | H72: 周淼|李伟 | I72: 刘承穆|朱瑾瑜 | J72: 28.6 | L72: 5 | M72: 二等奖
A73: 32563 | B73: 2B8h6VSQ-94-001-BR-007-1-UlO-01-ibn | C73: 'MakeX系列赛项' | D73: 'MakeX Spark梦想家园' | E73: 小学组 | F73: 武汉经开外国语学校 | G73: 武汉经开外国语学校 | H73: 李鸿翱 | I73: 胡钱辰|王泰尔 | J73: 26.6 | L73: 6 | M73: 二等奖
A74: 35342 | B74: 2B8h6VSx-94-001-8L-007-1-iW0-01-hZ9 | C74: 'MakeX系列赛项' | D74: 'MakeX Spark梦想家园' | E74: 小学组 | F74: Very Nice战队 | G74: 广州市天河区体育西路小学、华阳小学 | H74: 李伟|周淼 | I74: 邓熙潆|郑子骏 | J74: 26.6 | L74: 7 | M74: 二等奖
A75: 33133 | B75: 2B8h6VSE-94-001-T9-007-1-em9-01-QBt | C75: 'MakeX系列赛项' | D75: 'MakeX Spark梦想家园' | E75: 小学组 | F75: 武汉英中学校 | G75: 武汉英中学校 | H75: 程俊 | I75: 李嘉懿|周骏熙 | J75: 26.3 | L75: 8 | M75: 二等奖
A76: 35467 | B76: 2B8h6VS7-94-001-hB-007-1-JcS-01-Wfu | C76: 'MakeX系列赛项' | D76: 'MakeX Spark梦想家园' | E76: 小学组 | F76: 阳光繁星战队 | G76: 北京市丰台区第五小学科丰分校、北京市五一小学 | H76: 高鑫|周淼 | I76: 陈彦伟|尹子潇 | J76: 26 | L76: 9 | M76: 三等奖
A77: 36655 | B77: 2B8h6VSc-94-001-Tu-007-1-b22-01-QhV | C77: 'MakeX系列赛项' | D77: 'MakeX Spark梦想家园' | E77: 小学组 | F77: 月月大有战队 | G77: 镇江市红旗小学 | H77: 李伟|周淼 | I77: 蔡大有|张轩瑞 | J77: 25.6 | L77: 10 | M77: 三等奖
A78: 36594 | B78: 2B8h6VSB-94-001-Am-007-1-IPn-01-OL9 | C78: 'MakeX系列赛项' | D78: 'MakeX Spark梦想家园' | E78: 小学组 | F78: 湖北武昌实验战队 | G78: 湖北省武昌实验小学 | H78: 刘莉 | I78: 戴煜哲 | J78: 23.3 | L78: 11 | M78: 三等奖
A79: 31268 | B79: 2B8h6VSo-94-001-9N-007-1-b3E-01-hcA | C79: 'MakeX系列赛项' | D79: 'MakeX Spark梦想家园' | E79: 小学组 | F79: 乐易悠悠 | G79: 北京市海淀区崛起实验学校 | H79: 王若旭 | I79: 黄乐易 | J79: 23 | L79: 12 | M79: 三等奖
A80: 31549 | B80: 2B8h6VSX-94-001-ux-007-1-adA-01-EJW | C80: 'MakeX系列赛项' | D80: 'MakeX Spark梦想家园' | E80: 小学组 | F80: 卓梦远航 | G80: 北京市第一零九中学小学部 | H80: 张秋丽 | I80: 章僖宸 | J80: 22.3 | K80: 、 | L80: 13 | M80: 三等奖
A81: 32164 | B81: 2B8h6VSW-94-001-PI-007-1-0Bq-01-PCM | C81: 'MakeX系列赛项' | D81: 'MakeX Spark梦想家园' | E81: 小学组 | F81: 智能旋风 | G81: 北京市朝阳区垂杨柳中心小学金都分校 | H81: 袁佳悦 | I81: 刘瀚泽 | J81: 20 | L81: 14 | M81: 三等奖
A82: 32014 | B82: 2B8h6VS0-94-001-aA-007-1-pvO-01-4xa | C82: 'MakeX系列赛项' | D82: 'MakeX Spark梦想家园' | E82: 小学组 | F82: BARRET战队 | G82: 九莲小学 | H82: 朱瑞畅 | I82: 陈北 | J82: 19.3 | L82: 15 | M82: 三等奖
...

Sheet NeuroMaster 脑科学人工智能挑战赛项
A1: 2024世界机器人大赛北京锦标赛-青少年机器人设计大赛-NeuroMaster 脑科学人工智能挑战赛项获奖名单
A2: 报名编号 | B2: 激活码 | C2: 赛道 | D2: 赛项 | E2: 组别 | F2: 队伍名称 | G2: 申报单位 | H2: 教练信息 | I2: 学生信息 | J2: 比赛分数 | K2: 成绩排名 | L2: 奖项 | M2: 备注
A3: 43356 | B3: 2B8h6VE2-94-016-Nj-017-1-lJ1-01-cUs | C3: NeuroMaster 脑科学人工智能挑战赛项' | D3: 'NeuroMaster火星救援-重返地球' | E3: 小学组 | F3: 阜阳市实验小学 | G3: 阜阳市实验小学 | H3: 周超|张晓蕾 | I3: 周明熙|陈市博|张铭洋 | J3: 2152 | K3: 冠军 | L3: 一等奖(冠军) | M3: 入围总决赛
A4: 35362 | B4: 2B8h6Vnv-94-016-eJ-017-1-TJf-01-SUQ | C4: 'NeuroMaster 脑科学人工智能挑战赛项' | D4: 'NeuroMaster火星救援-重返地球' | E4: 小学组 | F4: 时代少年 | G4: 万锦学校 | H4: 梁宵宇|辛亮 | I4: 刘君辰|杨笑笑|哈尼 | J4: 2133 | K4: 亚军 | L4: 一等奖(亚军) | M4: 入围总决赛
A5: 34478 | B5: 2B8h6VRQ-94-016-rK-017-1-rlE-01-Xyb | C5: 'NeuroMaster 脑科学人工智能挑战赛项' | D5: 'NeuroMaster火星救援-重返地球' | E5: 小学组 | F5: 奇点创想 | G5: 北京市朝阳区芳草地国际学校富力分校 | H5: zhenghuiying | I5: 张熙哲|于雯熙|刘雨辰 | J5: 1772 | K5: 季军 | L5: 一等奖(季军) | M5: 入围总决赛
A6: 33814 | B6: 2B8h6VEA-94-016-Ag-017-1-vjf-01-UDa | C6: 'NeuroMaster 脑科学人工智能挑战赛项' | D6: 'NeuroMaster火星救援-重返地球' | E6: 小学组 | F6: 锦绣二队-星火队 | G6: 安阳市龙安区锦绣学校 | H6: 李宏霞 | I6: 纪陶宁|翟骐筠|郭博宇 | J6: 1683 | K6: 4 | L6: 一等奖 | M6: 入围总决赛
A7: 34040 | B7: 2B8h6Vnl-94-016-vM-017-1-TNi-01-xwC | C7: 'NeuroMaster 脑科学人工智能挑战赛项' | D7: 'NeuroMaster火星救援-重返地球' | E7: 小学组 | F7: 卓越队！ | G7: 北京经济技术开发区第一小学 | H7: 韩玉梅|魏爱民 | I7: 袁晨轩|翟一凡|李骐彧 | J7: 1679 | K7: 5 | L7: 一等奖 | M7: 入围总决赛
A8: 35220 | B8: 2B8h6Vng-94-016-fP-017-1-hKH-01-TT1 | C8: 'NeuroMaster 脑科学人工智能挑战赛项' | D8: 'NeuroMaster火星救援-重返地球' | E8: 小学组 | F8: 永乐盛世 | G8: 呼和浩特市赛罕区万锦学校 | H8: 成腊梅 | I8: 云熙坤|刘佩易岩|王炳越 | J8: 1677 | K8: 6 | L8: 一等奖 | M8: 入围总决赛
A9: 31080 | B9: 2B8h6VEL-94-016-UO-017-1-cVc-01-as2 | C9: 'NeuroMaster 脑科学人工智能挑战赛项' | D9: 'NeuroMaster火星救援-重返地球' | E9: 小学组 | F9: 石家庄桥西实验队 | G9: 石家庄市桥西实验小学 | H9: 马天浩|王璇 | I9: 赵泽尘|宋佳航|范禹涵 | J9: 1675 | K9: 7 | L9: 二等奖
A10: 34658 | B10: 2B8h6VEp-94-016-Nu-017-1-SCP-01-rX2 | C10: 'NeuroMaster 脑科学人工智能挑战赛项' | D10: 'NeuroMaster火星救援-重返地球' | E10: 小学组 | F10: 西安明睿远达2队 | G10: 西安市曲江第三小学 | H10: 王薇|乔蕾 | I10: 查一凡|雒楚石|刘一聪 | J10: 1640 | K10: 8 | L10: 二等奖
A11: 35260 | B11: 2B8h6Vn4-94-016-4M-017-1-0Cl-01-2Ma | C11: 'NeuroMaster 脑科学人工智能挑战赛项' | D11: 'NeuroMaster火星救援-重返地球' | E11: 小学组 | F11: 梦想之星 | G11: 呼和浩特市赛罕区大学路小学 | H11: 苏倩 | I11: 关伊诺|孙骁|葛锦轩 | J11: 1522 | K11: 9 | L11: 二等奖
A12: 34289 | B12: 2B8h6VRm-94-016-2w-017-1-Fiu-01-fag | C12: 'NeuroMaster 脑科学人工智能挑战赛项' | D12: 'NeuroMaster火星救援-重返地球' | E12: 小学组 | F12: 【鸦儿胡同、石油附小队】 | G12: 鸦儿胡同小学、石油学院附属小学 | H12: 李凤波 | I12: 张泽恺|冯悦瑶|刘霁洵 | J12: 1395 | K12: 10 | L12: 二等奖
A13: 35564 | B13: 2B8h6Vnt-94-016-eK-017-1-FcA-01-goG | C13: 'NeuroMaster 脑科学人工智能挑战赛项' | D13: 'NeuroMaster火星救援-重返地球' | E13: 小学组 | F13: 头脑特工 | G13: 呼和浩特市赛罕区万锦学校 | H13: 辛亮|李彬 | I13: 毛南丁|张家畅|马浩宇 | J13: 1377 | K13: 11 | L13: 二等奖
A14: 35311 | B14: 2B8h6Vn5-94-016-Gq-017-1-1Jx-01-AmD | C14: 'NeuroMaster 脑科学人工智能挑战赛项' | D14: 'NeuroMaster火星救援-重返地球' | E14: 小学组 | F14: 头脑风暴 | G14: 呼和浩特赛罕区万锦学校 | H14: 辛亮|牛晓宇 | I14: 李邦博|陈渺|薛博 | J14: 1370 | K14: 12 | L14: 二等奖
A15: 32798 | B15: 2B8h6VRS-94-016-e7-017-1-K0d-01-3Ml | C15: 'NeuroMaster 脑科学人工智能挑战赛项' | D15: 'NeuroMaster火星救援-重返地球' | E15: 小学组 | F15: 火星战队 | G15: 鲁山河滨小学 | H15: 徐欣欣 | I15: 徐英洋|燕昱帆|周则翰 | J15: 1320 | K15: 13 | L15: 二等奖
A16: 32951 | B16: 2B8h6VRN-94-016-OV-017-1-5uF-01-anV | C16: 'NeuroMaster 脑科学人工智能挑战赛项' | D16: 'NeuroMaster火星救援-重返地球' | E16: 小学组 | F16: 超级战队 | G16: 花园路小学 | H16: 徐欣欣 | I16: 代桐瑜|尚家禾|裴梓言 | J16: 1220 | K16: 14 | L16: 二等奖
A17: 34776 | B17: 2B8h6VR3-94-016-x6-017-1-vBV-01-9ij | C17: 'NeuroMaster 脑科学人工智能挑战赛项' | D17: 'NeuroMaster火星救援-重返地球' | E17: 小学组 | F17: 宏庙、黑芝麻胡同、皇城根小学联队 | G17: 北京市西城区宏庙小学、东城区黑芝麻胡同小学、皇城根小学 | H17: 李凤波 | I17: 孔令新|白熙喆|王乐其 | J17: 1220 | K17: 15 | L17: 二等奖
A18: 35414 | B18: 2B8h6VRg-94-016-jO-017-1-T9N-01-BF6 | C18: 'NeuroMaster 脑科学人工智能挑战赛项' | D18: 'NeuroMaster火星救援-重返地球' | E18: 小学组 | F18: 复外十三莱阳实验队 | G18: 复外一小十三中附小莱山实验小学 | H18: 单丹 | I18: 谭皓文|沈祺烁|刘睿洵 | J18: 1220 | K18: 15 | L18: 二等奖
A19: 33222 | B19: 2B8h6VEz-94-016-Vj-017-1-Tdt-01-OLh | C19: 'NeuroMaster 脑科学人工智能挑战赛项' | D19: 'NeuroMaster火星救援-重返地球' | E19: 小学组 | F19: 王屋队 | G19: 济源市宇华实验学校 | H19: 赵芮缘|宋利芳 | I19: 韦辰钰|赵泽宇|李佳隽 | J19: 1220 | K19: 17 | L19: 二等奖
A20: 33804 | B20: 2B8h6VRp-94-016-HP-017-1-NLv-01-BrN | C20: 'NeuroMaster 脑科学人工智能挑战赛项' | D20: 'NeuroMaster火星救援-重返地球' | E20: 小学组 | F20: 锦绣一队-雄鹰队 | G20: 安阳市龙安区锦绣学校 | H20: 党晓海 | I20: 王艺珂|段奕涵|党傲翔 | J20: 1220 | K20: 17 | L20: 二等奖
... A40: 33637 | B40: 2B8h6VRd-94-016-vU-017-1-vzK-01-y9U | C40: 'NeuroMaster 脑科学人工智能挑战赛项' | D40: 'NeuroMaster火星救援-重返地球' | E40: 小学组 | F40: 大脑王国梦想队 | G40: 通辽市实验小学 | H40: 韩梅 | I40: 范书宁|董芳菲|宋雨宸 | J40: 425 | K40: 38 | L40: 三等奖
A42: 44818 | B42: 2B8h6VuG-94-016-7L-017-1-Ubn-02-m34 | C42: 'NeuroMaster 脑科学人工智能挑战赛项' | D42: 'NeuroMaster火星救援-重返地球' | E42: 初中组 | F42: 云南安宁中学嵩华学校 | G42: 安宁中学嵩华学校 | H42: 普彪 | I42: 武奕轩|王梓涵|奎文博 | J42: 2451 | K42: 冠军 | L42: 一等奖(冠军) | M42: 入围总决赛
A43: 33357 | B43: 2B8h6Vmg-94-016-4r-017-1-E9C-02-aPq | C43: 'NeuroMaster 脑科学人工智能挑战赛项' | D43: 'NeuroMaster火星救援-重返地球' | E43: 初中组 | F43: 通辽二中 | G43: 通辽市科尔沁区第二中学 | H43: 包金昌|黄晓雪 | I43: 刘文泽|白伟萱|白伟悦 | J43: 2018 | K43: 亚军 | L43: 一等奖(亚军) | M43: 入围总决赛
A44: 33231 | B44: 2B8h6VmG-94-016-cY-017-1-XE9-02-Qh1 | C44: 'NeuroMaster 脑科学人工智能挑战赛项' | D44: 'NeuroMaster火星救援-重返地球' | E44: 初中组 | F44: 宇华队 | G44: 济源市宇华学校 | H44: 宋利芳|刘伟 | I44: 宋朝阳|靳羽茜|徐佳慧 | J44: 1829 | K44: 季军 | L44: 一等奖(季军) | M44: 入围总决赛
A45: 35208 | B45: 2B8h6VmK-94-016-B0-017-1-gPP-02-KQp | C45: 'NeuroMaster 脑科学人工智能挑战赛项' | D45: 'NeuroMaster火星救援-重返地球' | E45: 初中组 | F45: 济南外国语1组 | G45: 济南外国语学校 | H45: 张兆伟 | I45: 李海若|张一帆|江韵琦 | J45: 1689 | K45: 4 | L45: 二等奖
A46: 36435 | B46: 2B8h6Vu0-94-016-qL-017-1-5ID-02-uDu | C46: 'NeuroMaster 脑科学人工智能挑战赛项' | D46: 'NeuroMaster火星救援-重返地球' | E46: 初中组 | F46: 爱我中华 | G46: 呼和浩特市实验中学 | H46: 谢湘淼 | I46: 奥达木|高小媛|赵文博 | J46: 1670 | K46: 5 | L46: 二等奖
A47: 32794 | B47: 2B8h6Vmy-94-016-97-017-1-tJe-02-Mqt | C47: 'NeuroMaster 脑科学人工智能挑战赛项' | D47: 'NeuroMaster火星救援-重返地球' | E47: 初中组 | F47: 益起逐梦队 | G47: 大连开发区童牛岭小学 | H47: 郭婷 | I47: 刘禹彤|岳子惠|云博睿 | J47: 1632 | K47: 6 | L47: 二等奖
A48: 33381 | B48: 2B8h6VmV-94-016-b5-017-1-6Nm-02-O55 | C48: 'NeuroMaster 脑科学人工智能挑战赛项' | D48: 'NeuroMaster火星救援-重返地球' | E48: 初中组 | F48: 优脑先锋队 | G48: 鄞州外国语中学、义乌群星外国语学校、华茂外国语学校联队 | H48: 王磊|毛佳浩 | I48: 王绍恒|俞嘉晨|谢周廷 | J48: 1630 | K48: 7 | L48: 二等奖
A49: 35950 | B49: 2B8h6Vu7-94-016-96-017-1-6In-02-58s | C49: 'NeuroMaster 脑科学人工智能挑战赛项' | D49: 'NeuroMaster火星救援-重返地球' | E49: 初中组 | F49: 康乾盛世 | G49: 呼和浩特市实验中学 | H49: 谢湘淼 | I49: 李欣瑶|刘明川|李亚霖 | J49: 1470 | K49: 8 | L49: 二等奖
A50: 35848 | B50: 2B8h6Vup-94-016-k2-017-1-mdW-02-awi | C50: 'NeuroMaster 脑科学人工智能挑战赛项' | D50: 'NeuroMaster火星救援-重返地球' | E50: 初中组 | F50: 大唐盛世 | G50: 呼和浩特市实验中学 | H50: 谢湘淼 | I50: 薛智元|贺一赫|张赫 | J50: 1320 | K50: 9 | L50: 二等奖
A51: 35971 | B51: 2B8h6VuZ-94-016-ci-017-1-ipo-02-zHz | C51: 'NeuroMaster 脑科学人工智能挑战赛项' | D51: 'NeuroMaster火星救援-重返地球' | E51: 初中组 | F51: 司空见惯 | G51: 呼和浩特市实验中学 | H51: 谢湘淼 | I51: 刘子轩|徐怀山|王麒凯 | J51: 1270 | K51: 10 | L51: 二等奖
A52: 41869 | B52: 2B8h6Vuy-94-016-2L-017-1-zHG-02-jT3 | C52: 'NeuroMaster 脑科学人工智能挑战赛项' | D52: 'NeuroMaster火星救援-重返地球' | E52: 初中组 | F52: 这不队 | G52: 安宁市昆钢第一中学 | H52: 罗红萍|李梦厅 | I52: 周欣|姚海源|彭博 | J52: 1220 | K52: 11 | L52: 三等奖
A53: 36693 | B53: 2B8h6VuA-94-016-ox-017-1-3uO-02-b97 | C53: 'NeuroMaster 脑科学人工智能挑战赛项' | D53: 'NeuroMaster火星救援-重返地球' | E53: 初中组 | F53: 五中、康巴什未来、伊金霍洛旗联队 | G53: 北京五中、康巴什未来学校、伊金霍洛旗学校 | H53: 单丹 | I53: 朱恒霆|哈斯达|薛宜 | J53: 1220 | K53: 11 | L53: 三等奖
A54: 32012 | B54: 2B8h6Vm8-94-016-CW-017-1-vjc-02-N3P | C54: 'NeuroMaster 脑科学人工智能挑战赛项' | D54: 'NeuroMaster火星救援-重返地球' | E54: 初中组 | F54: 云中脑控1队 | G54: 首都师范大学附属云岗中学 | H54: 李永松 | I54: 王俊涛|李宇潇|许桐 | J54: 1220 | K54: 11 | L54: 三等奖
A55: 41897 | B55: 2B8h6Vuf-94-016-bh-017-1-krx-02-j8S | C55: 'NeuroMaster 脑科学人工智能挑战赛项' | D55: 'NeuroMaster火星救援-重返地球' | E55: 初中组 | F55: 拐点W | G55: 安宁市昆钢第一中学 | H55: 聂正艳|王丽华 | I55: 罗林|王声睿|杨雯竹 | J55: 1220 | K55: 11 | L55: 三等奖
A56: 34551 | B56: 2B8h6aMM-95-099-fW-100-1-F36-10-7TB | C56: 'NeuroMaster BrainAI' | D56: 'NeuroMaster BrainAI-Martian Rescue' | E56: Middle school | F56: Pui Va Middle School Team one | G56: Pui Va Middle School | H56: 趙起超|陳浩 | I56: HOI WENG IN|HUANG QIJUN|CHEONG INLAM | J56: 1179 | K56: 15 | L56: Third Prize
... A62: 35441 | B62: 2B8h6Vmk-94-016-0D-017-1-2SO-02-3kf | C62: 'NeuroMaster 脑科学人工智能挑战赛项' | D62: 'NeuroMaster火星救援-重返地球' | E62: 初中组 | F62: 空空空 | G62: 准民中 | H62: 高海霞|李永贵 | I62: 蔺宇航|聂雪峰|贾沛谕 | J62: 573 | K62: 21 | L62: 三等奖
A64: 35277 | B64: 2B8h6Vrd-94-016-3B-019-1-MPk-01-8v6 | C64: 'NeuroMaster 脑科学人工智能挑战赛项' | D64: 'NeuroMaster脑机星球' | E64: 小学组 | F64: 圣涵队 | G64: 昆明西南联大研究院附属学校 | H64: 杨可强 | I64: 李杫涵|季和圣 | J64: 1530 | K64: 冠军 | L64: 一等奖(冠军) | M64: 入围总决赛
A65: 35156 | B65: 2B8h6Vd3-94-016-Ei-019-1-3Ki-01-jkA | C65: 'NeuroMaster 脑科学人工智能挑战赛项' | D65: 'NeuroMaster脑机星球' | E65: 小学组 | F65: 仓小梦想之星队 | G65: 杭州市余杭区仓前中心小学 | H65: 曹国鹏|蔡依萍 | I65: 罗飞|魏海权 | J65: 1520 | K65: 亚军 | L65: 一等奖(亚军) | M65: 入围总决赛
A66: 35302 | B66: 2B8h6VdB-94-016-nS-019-1-GQv-01-491 | C66: 'NeuroMaster 脑科学人工智能挑战赛项' | D66: 'NeuroMaster脑机星球' | E66: 小学组 | F66: 龙沛队 | G66: 云南师范大学附属小学呈贡校区 | H66: 杨可强 | I66: 陈沛|朱少龙 | J66: 1435 | K66: 季军 | L66: 一等奖(季军) | M66: 入围总决赛
...

Sheet Super AI超级轨迹赛项
A1: 2024世界机器人大赛北京锦标赛-青少年机器人设计大赛-Super AI超级轨迹赛项获奖名单
A2: 报名编号 | B2: 激活码 | C2: 赛道 | D2: 赛项 | E2: 组别 | F2: 队伍名称 | G2: 申报单位 | H2: 教练信息 | I2: 学生信息 | J2: 比赛分数 | K2: 比赛用时 | L2: 成绩排名 | M2: 奖项 | N2: 备注
A3: 41774 | B3: 2B8h6p4Q-94-020-QO-022-1-1nj-05-eeS | C3: Super AI超级轨迹赛项' | D3: 'Super AI超级轨迹赛-星际穿越' | E3: 小学低年级A组 | F3: 明光逸夫小学先锋队 | G3: 明光市逸夫小学 | H3: 赵巧龙 | I3: 张恒希 | J3: 798 | K3: 62.51 | L3: 1 | M3: 一等奖(冠军) | N3: 入围总决赛
A4: 42179 | B4: 2B8h6p5c-94-020-qB-022-1-tNL-05-JwM | C4: 'Super AI超级轨迹赛项' | D4: 'Super AI超级轨迹赛-星际穿越' | E4: 小学低年级A组 | F4: 高景行 | G4: 中关村一小（党校校区） | H4: 郑华欣 | I4: 高景行 | J4: 795 | K4: 64.44 | L4: 2 | M4: 一等奖(亚军) | N4: 入围总决赛
A5: 41733 | B5: 2B8h6p4Y-94-020-U5-022-1-vv7-05-Glq | C5: 'Super AI超级轨迹赛项' | D5: 'Super AI超级轨迹赛-星际穿越' | E5: 小学低年级A组 | F5: 明光逸夫小学阳光队 | G5: 明光市逸夫小学 | H5: 赵巧龙 | I5: 查帧溯 | J5: 795 | K5: 65.5 | L5: 3 | M5: 一等奖(季军) | N5: 入围总决赛
A6: 41759 | B6: 2B8h6p5z-94-020-LS-022-1-LBH-05-ti6 | C6: 'Super AI超级轨迹赛项' | D6: 'Super AI超级轨迹赛-星际穿越' | E6: 小学低年级A组 | F6: 于梓跃 | G6: 上地实验小学 | H6: 李华尧 | I6: 于梓跃 | J6: 794 | K6: 65.13 | L6: 4 | M6: 一等奖 | N6: 入围总决赛
A7: 41413 | B7: 2B8h6pUu-94-020-cw-022-1-SQA-05-119 | C7: 'Super AI超级轨迹赛项' | D7: 'Super AI超级轨迹赛-星际穿越' | E7: 小学低年级A组 | F7: 天扬战队 | G7: 芜湖市凤鸣实验小学 | H7: 林林 | I7: 章天扬 | J7: 794 | K7: 65.64 | L7: 5 | M7: 一等奖 | N7: 入围总决赛
A8: 27631 | B8: 2B8h6fhU-94-020-bu-022-1-vZ9-05-9yF | C8: 'Super AI超级轨迹赛项' | D8: 'Super AI超级轨迹赛-星际穿越' | E8: 小学低年级A组 | F8: 萍乡城区小学1队 | G8: 江西省萍乡市安源区城区小学 | H8: 邓志华 | I8: 刘鸿志 | J8: 794 | K8: 65.65 | L8: 6 | M8: 一等奖 | N8: 入围总决赛
A9: 41691 | B9: 2B8h6pG8-94-020-nz-022-1-rlP-05-hUh | C9: 'Super AI超级轨迹赛项' | D9: 'Super AI超级轨迹赛-星际穿越' | E9: 小学低年级A组 | F9: 志远战队 | G9: 凤鸣实验小学 | H9: 杨祥 | I9: 王志远 | J9: 794 | K9: 65.77 | L9: 7 | M9: 一等奖 | N9: 入围总决赛
A10: 27639 | B10: 2B8h6fhb-94-020-dW-022-1-q9a-05-8yq | C10: 'Super AI超级轨迹赛项' | D10: 'Super AI超级轨迹赛-星际穿越' | E10: 小学低年级A组 | F10: 萍乡城区小学A队 | G10: 江西省萍乡市安源区城区小学 | H10: 邓志华 | I10: 邓博鑫 | J10: 792 | K10: 67.98 | L10: 8 | M10: 一等奖 | N10: 入围总决赛
A11: 41934 | B11: 2B8h6pUV-94-020-O9-022-1-X37-05-cd4 | C11: 'Super AI超级轨迹赛项' | D11: 'Super AI超级轨迹赛-星际穿越' | E11: 小学低年级A组 | F11: 易公园-零零五 | G11: 科创思维馆 | H11: 白晨星 | I11: 赵宇琪 | J11: 791 | K11: 68.67 | L11: 9 | M11: 一等奖 | N11: 入围总决赛
A12: 41867 | B12: 2B8h6p5b-94-020-jm-022-1-cbW-05-U2o | C12: 'Super AI超级轨迹赛项' | D12: 'Super AI超级轨迹赛-星际穿越' | E12: 小学低年级A组 | F12: 王伊宁 | G12: 中国人民大学附属中学实验小学 | H12: 赵焕振 | I12: 王伊宁 | J12: 791 | K12: 69.71 | L12: 10 | M12: 一等奖 | N12: 入围总决赛
A13: 27670 | B13: 2B8h6fPR-94-020-4W-022-1-OhI-05-Hyk | C13: 'Super AI超级轨迹赛项' | D13: 'Super AI超级轨迹赛-星际穿越' | E13: 小学低年级A组 | F13: 睿趣小天鹅2队 | G13: 合肥睿趣科技培训学校 | H13: 李健 | I13: 石丰宇 | J13: 790 | K13: 69.2 | L13: 11 | M13: 一等奖 | N13: 入围总决赛
A14: 42175 | B14: 2B8h6pUd-94-020-tA-022-1-7Xp-05-VzN | C14: 'Super AI超级轨迹赛项' | D14: 'Super AI超级轨迹赛-星际穿越' | E14: 小学低年级A组 | F14: 睿趣滨湖3队 | G14: 合肥睿趣科技培训学校 | H14: 徐人杰 | I14: 孟成浩 | J14: 790 | K14: 70.07 | L14: 12 | M14: 一等奖 | N14: 入围总决赛
... A21: 41785 | B21: 2B8h6p49-94-020-8Z-022-1-H9z-05-OOR | C21: 'Super AI超级轨迹赛项' | D21: 'Super AI超级轨迹赛-星际穿越' | E21: 小学低年级A组 | F21: 合肥市西园新村小学北校1队 | G21: 合肥市西园新村小学北校安大校区 | H21: 杨结宝 | I21: 李思齐 | J21: 788 | K21: 72.25 | L21: 19 | M21: 一等奖 | N21: 入围总决赛
A22: 42281 | B22: 2B8h6pUk-94-020-Ks-022-1-uSq-05-PiT | C22: 'Super AI超级轨迹赛项' | D22: 'Super AI超级轨迹赛-星际穿越' | E22: 小学低年级A组 | F22: 睿趣花园城3队 | G22: 合肥睿趣科技培训学校 | H22: 宫宇晨 | I22: 曹思源 | J22: 788 | K22: 72.49 | L22: 20 | M22: 二等奖
A23: 28595 | B23: 2B8h6fPg-94-020-HL-022-1-qzG-05-tk7 | C23: 'Super AI超级轨迹赛项' | D23: 'Super AI超级轨迹赛-星际穿越' | E23: 小学低年级A组 | F23: 常州市实验小学 | G23: 常州市爱萝卜机器人科普教育基地 | H23: 唐宁 | I23: 高莯 | J23: 787 | K23: 73.19 | L23: 21 | M23: 二等奖
A24: 27738 | B24: 2B8h6fPm-94-020-Gy-022-1-5uI-05-DL3 | C24: 'Super AI超级轨迹赛项' | D24: 'Super AI超级轨迹赛-星际穿越' | E24: 小学低年级A组 | F24: 睿趣小天鹅3队 | G24: 合肥睿趣科技培训学校 | H24: 贾志成 | I24: 马恩典 | J24: 787 | K24: 73.24 | L24: 22 | M24: 二等奖
A25: 30407 | B25: 2B8h6f7q-94-020-XS-022-1-nGx-05-KqR | C25: 'Super AI超级轨迹赛项' | D25: 'Super AI超级轨迹赛-星际穿越' | E25: 小学低年级A组 | F25: 周鼎晨 | G25: 深中南山创新学校 | H25: 周嘉华 | I25: 周鼎晨 | J25: 787 | K25: 73.71 | L25: 23 | M25: 二等奖
A26: 41925 | B26: 2B8h6pUG-94-020-u5-022-1-Kn7-05-MPO | C26: 'Super AI超级轨迹赛项' | D26: 'Super AI超级轨迹赛-星际穿越' | E26: 小学低年级A组 | F26: 易公园-零零四 | G26: 科创思维馆 | H26: 白晨星 | I26: 李岳杭 | J26: 787 | K26: 73.81 | L26: 24 | M26: 二等奖
A27: 28153 | B27: 2B8h6fPB-94-020-I7-022-1-86t-05-Mkq | C27: 'Super AI超级轨迹赛项' | D27: 'Super AI超级轨迹赛-星际穿越' | E27: 小学低年级A组 | F27: 合肥市奥体小学3队 | G27: 合肥市奥体小学 | H27: 田玉莲 | I27: 王梓荏 | J27: 786 | K27: 73.37 | L27: 25 | M27: 二等奖
A28: 28531 | B28: 2B8h6fPd-94-020-o2-022-1-jTT-05-W3K | C28: 'Super AI超级轨迹赛项' | D28: 'Super AI超级轨迹赛-星际穿越' | E28: 小学低年级A组 | F28: 常州市局前街小学 | G28: 常州市爱萝卜机器人科普教育基地 | H28: 杨健 | I28: 张采怡 | J28: 786 | K28: 74.14 | L28: 26 | M28: 二等奖
A29: 34991 | B29: 2B8h6iGt-94-020-jd-022-1-5O6-05-ElJ | C29: 'Super AI超级轨迹赛项' | D29: 'Super AI超级轨迹赛-星际穿越' | E29: 小学低年级A组 | F29: 星辰队1 | G29: 中国宋庆龄青少年科技文化交流中心 | H29: 程瑞敏 | I29: 张添策 | J29: 786 | K29: 74.17 | L29: 27 | M29: 二等奖
A30: 29958 | B30: 2B8h6fv8-94-020-zk-022-1-lWd-05-FgX | C30: 'Super AI超级轨迹赛项' | D30: 'Super AI超级轨迹赛-星际穿越' | E30: 小学低年级A组 | F30: 孟涵队 | G30: 天津汇智创科课外培训学校 | H30: 孟雅 | I30: 李孟涵 | J30: 786 | K30: 74.52 | L30: 28 | M30: 二等奖
A31: 41775 | B31: 2B8h6p4X-94-020-tR-022-1-mbL-05-AU1 | C31: 'Super AI超级轨迹赛项' | D31: 'Super AI超级轨迹赛-星际穿越' | E31: 小学低年级A组 | F31: 合肥市奥体小学2队 | G31: 合肥市奥体小学 | H31: 田玉莲 | I31: 钱孟琦 | J31: 785 | K31: 74.67 | L31: 29 | M31: 二等奖
A32: 35443 | B32: 2B8h6iGK-94-020-iv-022-1-wbj-05-K0w | C32: 'Super AI超级轨迹赛项' | D32: 'Super AI超级轨迹赛-星际穿越' | E32: 小学低年级A组 | F32: 水果队 | G32: 中国宋庆龄青少年科技文化交流中心 | H32: 王勇睿 | I32: 谭斯怀 | J32: 784 | K32: 75.78 | L32: 30 | M32: 二等奖
A33: 35087 | B33: 2B8h6iGX-94-020-kK-022-1-OXh-05-WqQ | C33: 'Super AI超级轨迹赛项' | D33: 'Super AI超级轨迹赛-星际穿越' | E33: 小学低年级A组 | F33: 熊猫队 | G33: 中国宋庆龄青少年科技文化交流中心 | H33: 冯欣然 | I33: 汤鸣谦 | J33: 783 | K33: 76.82 | L33: 31 | M33: 二等奖
... A129: 27443 | B129: 2B8h6fho-94-020-FT-022-1-3Sy-05-992 | C129: 'Super AI超级轨迹赛项' | D129: 'Super AI超级轨迹赛-星际穿越' | E129: 小学低年级A组 | F129: 史莱克4队 | G129: 史莱克机器人编程中心 | H129: 吕鹤祥 | I129: 刘佳欣 | J129: 100 | K129: 20 | L129: 128 | M129: 三等奖
A131: 43137 | B131: 2B8h6pG4-94-020-Qp-022-1-YsV-05-nIV | C131: 'Super AI超级轨迹赛项' | D131: 'Super AI超级轨迹赛-星际穿越' | E131: 小学低年级B组 | F131: 薛家岛小学6队 | G131: 青岛西海岸新区薛家岛小学 | H131: 闫东 | I131: 贾浩然 | J131: 801 | K131: 58.95 | L131: 1 | M131: 一等奖(冠军) | N131: 入围总决赛
A132: 43868 | B132: 2B8h6pGb-94-020-Fk-022-1-O2W-05-QHV | C132: 'Super AI超级轨迹赛项' | D132: 'Super AI超级轨迹赛-星际穿越' | E132: 小学低年级B组 | F132: 井冈山2队 | G132: 青岛西海岸新区井冈山路小学 | H132: 宋晓龙 | I132: 孙齐 | J132: 797 | K132: 62.89 | L132: 2 | M132: 一等奖(亚军) | N132: 入围总决赛
A133: 43011 | B133: 2B8h6ptj-94-020-e9-022-1-gvv-05-skU | C133: 'Super AI超级轨迹赛项' | D133: 'Super AI超级轨迹赛-星际穿越' | E133: 小学低年级B组 | F133: 嘉定小低九号 | G133: 上海市嘉定区第一中学附属小学 | H133: 蒲思妤 | I133: 隋天怡 | J133: 795 | K133: 65.22 | L133: 3 | M133: 一等奖(季军) | N133: 入围总决赛
A134: 29654 | B134: 2B8h6fvQ-94-020-Wz-022-1-1GY-05-iIw | C134: 'Super AI超级轨迹赛项' | D134: 'Super AI超级轨迹赛-星际穿越' | E134: 小学低年级B组 | F134: 杰瑞六队 | G134: 沈阳市铁西区雏鹰实验小学 | H134: 郭斌 | I134: 韩宸旭 | J134: 790 | K134: 70.48 | L134: 4 | M134: 一等奖 | N134: 入围总决赛
A135: 42751 | B135: 2B8h6pGr-94-020-pF-022-1-yxl-05-gTn | C135: 'Super AI超级轨迹赛项' | D135: 'Super AI超级轨迹赛-星际穿越' | E135: 小学低年级B组 | F135: 虎门图灵2队 | G135: Vipcode少儿编程虎门校区 | H135: 常英杰 | I135: 赖子扬 | J135: 788 | K135: 72.04 | L135: 5 | M135: 一等奖 | N135: 入围总决赛
A136: 42875 | B136: 2B8h6pqP-94-020-ek-022-1-GGQ-05-yKb | C136: 'Super AI超级轨迹赛项' | D136: 'Super AI超级轨迹赛-星际穿越' | E136: 小学低年级B组 | F136: 虎门图灵4队 | G136: Vipcode少儿编程虎门校区 | H136: 常英杰 | I136: 郑倬霖 | J136: 787 | K136: 73.21 | L136: 6 | M136: 一等奖 | N136: 入围总决赛
A137: 43824 | B137: 2B8h6p2i-94-020-ii-022-1-qNw-05-R97 | C137: 'Super AI超级轨迹赛项' | D137: 'Super AI超级轨迹赛-星际穿越' | E137: 小学低年级B组 | F137: 骄阳队 | G137: VIPCODE少儿编程亦庄校区 | H137: 杜臣臣 | I137: 王浩然 | J137: 785 | K137: 75.35 | L137: 7 | M137: 一等奖 | N137: 入围总决赛
A138: 43499 | B138: 2B8h6pAs-94-020-i9-022-1-mer-05-LPv | C138: 'Super AI超级轨迹赛项' | D138: 'Super AI超级轨迹赛-星际穿越' | E138: 小学低年级B组 | F138: VIPCODE大石桥市六队 | G138: 大石桥市钢都中心小学 | H138: 于希峒 | I138: 吕永鑫 | J138: 784 | K138: 76.43 | L138: 8 | M138: 一等奖 | N138: 入围总决赛
A139: 44117 | B139: 2B8h6p29-94-020-Oo-022-1-OfW-05-mfK | C139: 'Super AI超级轨迹赛项' | D139: 'Super AI超级轨迹赛-星际穿越' | E139: 小学低年级B组 | F139: 星辰大海队 | G139: VIPCODE少儿编程亦庄校区 | H139: 杜臣臣 | I139: 齐洲振 | J139: 782 | K139: 77.62 | L139: 9 | M139: 一等奖 | N139: 入围总决赛
A140: 44191 | B140: 2B8h6p2G-94-020-RO-022-1-VYG-05-Gya | C140: 'Super AI超级轨迹赛项' | D140: 'Super AI超级轨迹赛-星际穿越' | E140: 小学低年级B组 | F140: 百育七队 | G140: 临沂市兰山区百育信息技术培训学校 | H140: 黄占杰 | I140: 郝聚俊 | J140: 780 | K140: 79.92 | L140: 10 | M140: 一等奖 | N140: 入围总决赛
A141: 42939 | B141: 2B8h6pL0-94-020-mR-022-1-ZfQ-05-Out | C141: 'Super AI超级轨迹赛项' | D141: 'Super AI超级轨迹赛-星际穿越' | E141: 小学低年级B组 | F141: 小荷才露 | G141: 双鸭山市逸夫小学 | H141: 李潇寒 | I141: 马浩然 | J141: 779 | K141: 80.71 | L141: 11 | M141: 一等奖 | N141: 入围总决赛
A142: 41449 | B142: 2B8h6pqL-94-020-ls-022-1-KOI-05-PMP | C142: 'Super AI超级轨迹赛项' | D142: 'Super AI超级轨迹赛-星际穿越' | E142: 小学低年级B组 | F142: 正宁县科技馆2队 | G142: 正宁县科技馆 | H142: 曹成林 | I142: 曹启玄 | J142: 779 | K142: 81.28 | L142: 12 | M142: 一等奖 | N142: 入围总决赛
...

Sheet AI WILL太空服务机器人挑战赛项
A1: 2024世界机器人大赛北京锦标赛-青少年机器人设计大赛-AI WILL太空服务机器人挑战赛项获奖名单
A2: 报名编号 | B2: 激活码 | C2: 赛道 | D2: 赛项 | E2: 组别 | F2: 队伍名称 | G2: 申报单位 | H2: 教练信息 | I2: 学生信息 | J2: 比赛成绩 | K2: 创意赛成绩 | L2: 成绩排名 | M2: 奖项
A3: 28144 | B3: 2B8h6xOp-94-110-gp-111-1-syg-03-xmp | C3: AI WILL太空服务机器人挑战赛项 | D3: AI WILL太空服务机器人挑战赛 | E3: 高中组 | F3: Robocompass | G3: 南开大学人工智能学院 | H3: 李文宇|段峰 | I3: 孙乃川|尹心雨|郑欣然|史书浚|贾京蕊|王樯 | J3: 1900 | K3: 56 | L3: 1 | M3: 一等奖(冠军)
A4: 28165 | B4: 2B8h6xOW-94-110-L0-111-1-wgh-03-jqj | C4: AI WILL太空服务机器人挑战赛项 | D4: AI WILL太空服务机器人挑战赛 | E4: 高中组 | F4: 津门逐梦 | G4: 南开大学人工智能学院 | H4: 李文宇|段峰 | I4: 王雪辰|陈青骏|徐杨|朱辰涛|茹翔宇|李昂然 | J4: 1800 | K4: 59 | L4: 2 | M4: 一等奖(亚军)
A5: 35993 | B5: 2B8h6axG-94-110-qT-111-1-mPf-03-au5 | C5: AI WILL太空服务机器人挑战赛项 | D5: AI WILL太空服务机器人挑战赛 | E5: 高中组 | F5: 大连八中 | G5: 大连市第八中学 | H5: 孙雨安 | I5: 陈思羽|单琰|潘佳琦|岳欣怡 | J5: 1700 | K5: 69 | L5: 3 | M5: 一等奖(季军)
A6: 28536 | B6: 2B8h6xOZ-94-110-tz-111-1-ZCu-03-RDs | C6: AI WILL太空服务机器人挑战赛项 | D6: AI WILL太空服务机器人挑战赛 | E6: 高中组 | F6: 智胜先锋队 | G6: 嘉兴市青少年机器人协会 | H6: 周涵宇 | I6: 许乐凯|方子宇 | J6: 1600 | K6: 14 | L6: 4 | M6: 二等奖
A7: 35294 | B7: 2B8h6iH2-94-110-1B-111-1-qO3-03-tkp | C7: AI WILL太空服务机器人挑战赛项 | D7: AI WILL太空服务机器人挑战赛 | E7: 高中组 | F7: 智行太空队 | G7: 杭州外国语学校 | H7: 万春彬|吴锦 | I7: 彭立早|褚奕辰|杨赡|周梓翊|华子谦|富宇涵 | J7: 1550 | K7: 74 | L7: 5 | M7: 二等奖
A8: 32172 | B8: 2B8h6xOy-94-110-nb-111-1-8FJ-03-DuZ | C8: AI WILL太空服务机器人挑战赛项 | D8: AI WILL太空服务机器人挑战赛 | E8: 高中组 | F8: 傲世机器人纵队 | G8: 嘉兴市青少年机器人协会 | H8: 周涵宇 | I8: 陈彦皓|张新楠|任颢 | J8: 1500 | K8: 46 | L8: 6 | M8: 二等奖
A9: 30033 | B9: 2B8h6xOc-94-110-Un-111-1-USn-03-A4x | C9: AI WILL太空服务机器人挑战赛项 | D9: AI WILL太空服务机器人挑战赛 | E9: 高中组 | F9: 高新侠1队 | G9: 西安高新第一中学 | H9: 王增怀 | I9: 王子臻|刘怡汝|胡馨月|张馨艺 | J9: 1450 | K9: 59 | L9: 7 | M9: 二等奖
A10: 30146 | B10: 2B8h6xOa-94-110-er-111-1-Pz1-03-VEo | C10: AI WILL太空服务机器人挑战赛项 | D10: AI WILL太空服务机器人挑战赛 | E10: 高中组 | F10: 嘉善技师学院1队 | G10: 嘉善县中等专业学校 | H10: 裘浙东|戴跃江 | I10: 计海亮|王奕辰|钱亿晨 | J10: 1450 | K10: 弃权 | L10: 8 | M10: 二等奖
A11: 30148 | B11: 2B8h6xO9-94-110-tn-111-1-HcO-03-RzC | C11: AI WILL太空服务机器人挑战赛项 | D11: AI WILL太空服务机器人挑战赛 | E11: 高中组 | F11: 嘉善技师学院2队 | G11: 嘉善县中等专业学校 | H11: 裘浙东|冯军 | I11: 芮宇洋|朱笑天|徐佳乐 | J11: 1375 | K11: 弃权 | L11: 9 | M11: 二等奖
A12: 32461 | B12: 2B8h6iH4-94-110-gb-111-1-oO3-03-78S | C12: AI WILL太空服务机器人挑战赛项 | D12: AI WILL太空服务机器人挑战赛 | E12: 高中组 | F12: 破浪队 | G12: 长兴技师学院 | H12: 施晨|马文瑞 | I12: 宫奥|谈佳程|丁柏瑞 | J12: 1175 | K12: 弃权 | L12: 10 | M12: 二等奖
A13: 30571 | B13: 2B8h6xOH-94-110-c1-111-1-D5B-03-jE1 | C13: AI WILL太空服务机器人挑战赛项 | D13: AI WILL太空服务机器人挑战赛 | E13: 高中组 | F13: NK Chilli | G13: 南开大学人工智能学院 | H13: 李文宇 | I13: 谭莹|钟嘉博|孙嘉文|曹式铖|段岚心 | J13: 1050 | K13: 83 | L13: 11 | M13: 二等奖
A14: 30575 | B14: 2B8h6xOQ-94-110-x0-111-1-yZr-03-d8x | C14: AI WILL太空服务机器人挑战赛项 | D14: AI WILL太空服务机器人挑战赛 | E14: 高中组 | F14: 天行者 | G14: 南开大学人工智能学院 | H14: 李文宇 | I14: 陈俊林|胡佳煜|刘浩刚|杜国强|李猛|康宇蘅 | J14: 925 | K14: 63 | L14: 12 | M14: 三等奖
A15: 30110 | B15: 2B8h6xOx-94-110-xm-111-1-qmr-03-CMq | C15: AI WILL太空服务机器人挑战赛项 | D15: AI WILL太空服务机器人挑战赛 | E15: 高中组 | F15: 高新侠2队 | G15: 西安高新第一中学 | H15: 王增怀|韩恭恩 | I15: 夏子渊|杨存轩|刘边锦天 | J15: 775 | K15: 53 | L15: 13 | M15: 三等奖
A16: 32540 | B16: 2B8h6iHG-94-110-tm-111-1-dXT-03-Qvg | C16: AI WILL太空服务机器人挑战赛项 | D16: AI WILL太空服务机器人挑战赛 | E16: 高中组 | F16: 风队 | G16: 长兴技师学院 | H16: 施晨|马文瑞 | I16: 韩佳辉|皇佳豪|卢锦佳 | J16: 750 | K16: 弃权 | L16: 14 | M16: 三等奖
A17: 38753 | B17: 2B8h6oi6-95-113-b3-115-1-Y8i-11-zxM | C17: AI WILL太空服务机器人挑战赛项 | D17: AI WILL太空服务机器人挑战赛 | E17: 高中组 | F17: Future Vision | G17: Future University in Egypt | H17: 1.Amal Safwat Mehanna 2.Ibrahim Ayman Ibrahim Ahmed Tagen | I17: 1.Mostafa Tarek Mohamed Abdelgawad 2.Ahmed Mohamed Abdulsamea Adulsamed Youssef 3.Noureldeen Hatem Nabil Abdelhamid Mostafa 4.Malak Ahmed Mohamed Mohamed Ali Khalaf 5.Zeina Walid Asad Deiab Mousa 6.Farouk Ahmed Fawzy Lelah | J17: 650 | K17: 40 | L17: 15 | M17: Third Prize
A18: 30920 | B18: 2B8h6xOn-94-110-RK-111-1-4ck-03-gpJ | C18: AI WILL太空服务机器人挑战赛项 | D18: AI WILL太空服务机器人挑战赛 | E18: 高中组 | F18: 魔都尚德HISIX | G18: 上海市民办尚德实验学校 | H18: 张静 | I18: 朱冠宇|张兆瑞|苏正昊|李金霏|岳宗光|兰欣卉 | J18: 600 | K18: 49 | L18: 16 | M18: 三等奖
A19: 32385 | B19: 2B8h6xOE-94-110-dV-111-1-OGw-03-bdn | C19: AI WILL太空服务机器人挑战赛项 | D19: AI WILL太空服务机器人挑战赛 | E19: 高中组 | F19: ZUFE | G19: 浙江财经大学 | H19: 张翔 | I19: 王钰|陈正|陈泽慧|姚佳炜|张亿通|童凌霄 | J19: 600 | K19: 63 | L19: 17 | M19: 三等奖
A20: 31828 | B20: 2B8h6iH7-94-110-Ow-111-1-uKH-03-DfB | C20: AI WILL太空服务机器人挑战赛项 | D20: AI WILL太空服务机器人挑战赛 | E20: 高中组 | F20: 博文有礼 | G20: 衢州博文中学 | H20: 张志强 | I20: 李炫斌|胡皓宸 | J20: 500 | K20: 50 | L20: 18 | M20: 三等奖
A21: 36471 | B21: 2B8h6xOG-94-110-24-111-1-LPs-03-StR | C21: AI WILL太空服务机器人挑战赛项 | D21: AI WILL太空服务机器人挑战赛 | E21: 高中组 | F21: 禹航战队 | G21: 杭州市余杭区禹航实验学校 | H21: 邵睿敏|陈春娟 | I21: 连佳睿|杨志坚 | J21: 450 | K21: 30 | L21: 19 | M21: 三等奖
A22: 29232 | B22: 2B8h6xOj-94-110-I0-111-1-TBL-03-zP6 | C22: AI WILL太空服务机器人挑战赛项 | D22: AI WILL太空服务机器人挑战赛 | E22: 高中组 | F22: 凌云战队 | G22: 山东商业职业技术学院 | H22: 刘洋 | I22: 林俊斌|王奕琳 | J22: 375 | K22: 33 | L22: 20 | M22: 三等奖
A23: 31771 | B23: 2B8h6iHh-94-110-Xs-111-1-gNf-03-juY | C23: AI WILL太空服务机器人挑战赛项 | D23: AI WILL太空服务机器人挑战赛 | E23: 高中组 | F23: 张宇队 | G23: 浙江省衢州第二中学 | H23: 张志强 | I23: 张宇 | J23: 350 | K23: 51 | L23: 21 | M23: 三等奖
A24: 35457 | B24: 2B8h6xOB-94-110-kP-111-1-zUZ-03-zrP | C24: AI WILL太空服务机器人挑战赛项 | D24: AI WILL太空服务机器人挑战赛 | E24: 高中组 | F24: 禹航少年 | G24: 杭州市余杭区禹航实验学校 | H24: 邵睿敏|陈春娟 | I24: 南懿轩|杨林娜|江文轩|周墨|吴其睿 | J24: 225 | K24: 54 | L24: 22 | M24: 三等奖

Sheet FIRST系列赛项
A1: 2024世界机器人大赛北京锦标赛-青少年机器人设计大赛-FIRST系列赛项获奖名单
A2: 报名编号 | B2: 激活码 | C2: 赛道 | D2: 赛项 | E2: 组别 | F2: 队伍名称 | G2: 申报单位 | H2: 教练信息 | I2: 学生信息 | J2: 资格赛排名 | K2: 奖项
A3: 35144 | B3: 2B8h6JME-94-026-84-028-1-7Eu-07-kaj | C3: FIRST系列赛项' | D3: 'FIRST国际机器人竞赛-响彻舞台' | E3: 中学组 | F3: Eltynien | G3: UWC USA | H3: 李炳良|邝鸿 | I3: 蔡欣泽|黄敏达|陈益羽|吕宇宸|谭雯心 | J3: 7 | K3: 冠军联盟 | L3: 决 赛
A4: 35472 | B4: 2B8h6JMW-94-026-ha-028-1-qnA-07-KzW | C4: 'FIRST系列赛项' | D4: 'FIRST国际机器人竞赛-响彻舞台' | E4: 中学组 | F4: IronPulse-A队 | G4: 上海市民办平和学校 | H4: 武书昆|金石飞 | I4: 王启丞|司维|董咏麟|周瞳|张思远|周子渊|葛懿泽|王康哲 | J4: 16 | K4: 冠军联盟
A5: 35534 | B5: 2B8h6JMT-94-026-6j-028-1-GQU-07-iZZ | C5: 'FIRST系列赛项' | D5: 'FIRST国际机器人竞赛-响彻舞台' | E5: 中学组 | F5: IronPulse-B队 | G5: 上海市民办平和学校 | H5: 廖梓乐|顾如开 | I5: 吴宥齐|韩依依|夏钟轩|李子晗|汪亭锫|赵紫伊|蒋俊甫 | J5: 16
A6: 34788 | B6: 2B8h6axf-94-026-TJ-028-1-i0z-07-VxN | C6: 'FIRST系列赛项' | D6: 'FIRST国际机器人竞赛-响彻舞台' | E6: 中学组 | F6: 10131 拔萃男书院 B | G6: 拔萃男书院 | H6: 李志刚|吴家明 | I6: 馮朗耀|楊泓韜|彭翊俊|周卓南|鍾健朗|林天鉞 | J6: 24 | K6: 冠军联盟
A7: 34671 | B7: 2B8h6axV-94-026-q6-028-1-Nfy-07-0OT | C7: 'FIRST系列赛项' | D7: 'FIRST国际机器人竞赛-响彻舞台' | E7: 中学组 | F7: 10131 拔萃男书院 A | G7: 拔萃男書院 | H7: 杜恩碩|冯灏一 | I7: 謝易陶|霍柏亨|曾厚熙|胡曉楠|李彥諄|吳昊璋|譚浩瀚 | J7: 24
A8: 34804 | B8: 2B8h6axJ-94-026-Y3-028-1-72k-07-yV9 | C8: 'FIRST系列赛项' | D8: 'FIRST国际机器人竞赛-响彻舞台' | E8: 中学组 | F8: Royal Turtles C | G8: 拔萃男書院 | H8: 邓炽煌|李志刚 | I8: 彭翊俊|譚浩瀚|楊泓韜|周卓南|黃熙程|曾厚熙|王浩灃 | J8: 24
A9: 31287 | B9: 2B8h6Jfc-94-026-4O-028-1-ZZT-07-iFi | C9: 'FIRST系列赛项' | D9: 'FIRST国际机器人竞赛-响彻舞台' | E9: 中学组 | F9: 镇江高职校A队 | G9: 镇江高等职业技术学校 | H9: 季青|张星亮 | I9: 李子昊|苏杨瑞|吴欣原|杜燕翔|宋亚明|纪冉|韩秋实|孙前开 | J9: 21 | K9: 亚军联盟
A10: 31316 | B10: 2B8h6Jff-94-026-LC-028-1-zRz-07-aFL | C10: 'FIRST系列赛项' | D10: 'FIRST国际机器人竞赛-响彻舞台' | E10: 中学组 | F10: 镇江高职校B队 | G10: 镇江高等职业技术学校 | H10: 党丽峰|左文艳 | I10: 邵苏彤|魏兆言|王政扬|高亮琪|张厚一|欧东升|王誉竣|庄明杨 | J10: 21
A11: 33787 | B11: 2B8h6Jfi-94-026-Od-028-1-Gpf-07-MSw | C11: 'FIRST系列赛项' | D11: 'FIRST国际机器人竞赛-响彻舞台' | E11: 中学组 | F11: 镇江高职校C队 | G11: 镇江高等职业技术学校 | H11: 史银花|陆弘宇 | I11: 朱子正|颜铭轩|云献豪|王子旭 | J11: 21
A12: 31389 | B12: 2B8h6Jfv-94-026-3T-028-1-t7X-07-ftl | C12: 'FIRST系列赛项' | D12: 'FIRST国际机器人竞赛-响彻舞台' | E12: 中学组 | F12: 造个机器人-A队 | G12: 造个机器人科普活动中心 | H12: 乔凯|周君 | I12: 游智丞|谢宇轩|周曜阳|李和锦|张骏轩|黄裕纶|王可欣|朱盈佳 | J12: 30 | K12: 亚军联盟
A13: 31413 | B13: 2B8h6Jfh-94-026-nj-028-1-dgo-07-xOm | C13: FIRST系列赛项' | D13: 'FIRST国际机器人竞赛-响彻舞台' | E13: 中学组 | F13: 造个机器人-B队 | G13: 造个机器人科普活动中心 | H13: 林黎 | I13: 庄智宬|赵维元|吴嘉浩|陆子越|刘禹垚|袁语琪|张子姈|张梓裕翔 | J13: 30
A14: 34634 | B14: 2B8h6JfA-94-026-pu-028-1-SQq-07-wlH | C14: 'FIRST系列赛项' | D14: 'FIRST国际机器人竞赛-响彻舞台' | E14: 中学组 | F14: 造个机器人-C队 | G14: 造个机器人科普活动中心 | H14: 谢蒙 | I14: 于淼|傅俊凯|严舒宜|孙康致|唐梓涵|房芊芊|卢飞潼|曹子涵 | J14: 30
A15: 34526 | B15: 2B8h6Jf4-94-026-Bo-028-1-j3R-07-nVH | C15: 'FIRST系列赛项' | D15: 'FIRST国际机器人竞赛-响彻舞台' | E15: 中学组 | F15: Golem 6706 | G15: 深圳市高级中学 | H15: 吴志君 | I15: 丁之雅|秦翊恺|杨凯然|肖辅成|孙梦林|贺子墨 | J15: 1 | K15: 一等奖
A16: 36676 | B16: 2B8h6Jfd-94-026-tB-028-1-uLQ-07-hqj | C16: 'FIRST系列赛项' | D16: 'FIRST国际机器人竞赛-响彻舞台' | E16: 中学组 | F16: 8583 | G16: 深圳市英诺威迅科技教育学校 | H16: 阮富钧|邓城峰 | I16: 胡毅镔|符瑋博|庞羿|赵徐华扬|易堂堂 | J16: 2 | K16: 一等奖
A17: 36229 | B17: 2B8h6iES-94-026-L8-028-1-IWV-07-Ea9 | C17: 'FIRST系列赛项' | D17: 'FIRST国际机器人竞赛-响彻舞台' | E17: 中学组 | F17: 10214A队 | G17: 中国人民大学附属中学 | H17: 苏晓静|何旭国 | I17: 邓昊轩|陈苏韬|叶朝宇|穆一袡|王钰栋|谭起 | J17: 3 | K17: 一等奖
A18: 36242 | B18: 2B8h6JVD-94-026-F0-028-1-dSH-07-u1j | C18: 'FIRST系列赛项' | D18: 'FIRST国际机器人竞赛-响彻舞台' | E18: 中学组 | F18: 10214B队 | G18: 中国人民大学附属中学 | H18: 闫云利|张桃红 | I18: 吕张至珺|郭公耀|刘京琦|宋沛言|曹之睿|张震轩 | J18: 3
A19: 31858 | B19: 2B8h6JIz-94-026-Pl-028-1-qCW-07-e29 | C19: 'FIRST系列赛项' | D19: 'FIRST国际机器人竞赛-响彻舞台' | E19: 中学组 | F19: 9635 - A队 | G19: 广州南沙民心港人子弟学校 | H19: 高升恒 | I19: 褚砚清|陈子洋|郭志谦|何梓毅|赵承锐|林枫|陈辛菲|刘晞彤 | J19: 5 | K19: 一等奖
A20: 31874 | B20: 2B8h6JI2-94-026-6E-028-1-LAe-07-kxB | C20: 'FIRST系列赛项' | D20: 'FIRST国际机器人竞赛-响彻舞台' | E20: 中学组 | F20: 9635 - B队 | G20: 广州南沙民心港人子弟学校 | H20: 高升恒 | I20: 宁嘉和|杨灏珹|刘显龙|林殷彤|梁严匀 | J20: 5
A21: 34765 | B21: 2B8h6Jfn-94-026-Sk-028-1-miO-07-9tr | C21: 'FIRST系列赛项' | D21: 'FIRST国际机器人竞赛-响彻舞台' | E21: 中学组 | F21: FRC5515 蓝色动力 | G21: 上海交通大学附属中学 | H21: 朱乔荣 | I21: 潘依睿|赵浦淑|吴嘉彤|江汇|张嘉欢|吴金鸿|孙晨宸|徐逸达 | J21: 6 | K21: 一等奖
A22: 34780 | B22: 2B8h6Jfm-94-026-kN-028-1-95O-07-vLM | C22: 'FIRST系列赛项' | D22: 'FIRST国际机器人竞赛-响彻舞台' | E22: 中学组 | F22: FRC5515 蓝色动力机器人 | G22: 上海交通大学附属中学 | H22: 朱乔荣 | I22: 陈贞希|吴馨雨|沈誉轩|沈天扬|潘文渊|陈雨桐|苏龚成|朱迁浔 | J22: 6
A23: 36730 | B23: 2B8h6Jfu-94-026-St-028-1-j92-07-DdK | C23: 'FIRST系列赛项' | D23: 'FIRST国际机器人竞赛-响彻舞台' | E23: 中学组 | F23: FRC5515蓝色动力机器人 | G23: 上海交通大学附属中学 | H23: 朱乔荣 | I23: 宋美旺|汤子询|陈清韵|华漪朵|苏疆懿|廖恩泽 | J23: 6
A24: 35144 | B24: 2B8h6JME-94-026-84-028-1-7Eu-07-kaj | C24: FIRST系列赛项' | D24: 'FIRST国际机器人竞赛-响彻舞台' | E24: 中学组 | F24: Eltynien | G24: UWC USA | H24: 李炳良|邝鸿 | I24: 蔡欣泽|黄敏达|陈益羽|吕宇宸|谭雯心 | J24: 7 | K24: 一等奖
A25: 34655 | B25: 2B8h6JMu-94-026-Qx-028-1-lLt-07-ojW | C25: 'FIRST系列赛项' | D25: 'FIRST国际机器人竞赛-响彻舞台' | E25: 中学组 | F25: 复旦附中FRC6907-A | G25: 复旦大学附属中学 | H25: 刘烨|龚泽睿 | I25: 田想|胡新明|陈逸峰|杨竣博|王慕尧|娄铭宸 | J25: 8 | K25: 二等奖
A26: 35904 | B26: 2B8h6JM1-94-026-mw-028-1-AHS-07-hHH | C26: 'FIRST系列赛项' | D26: 'FIRST国际机器人竞赛-响彻舞台' | E26: 中学组 | F26: 复旦附中FRC6907-B | G26: 复旦大学附属中学 | H26: 桑志豪|辛晨东 | I26: 曾品元|杨馨淳|侯越森|赵嘉怡|韩佳欣|戴菡悦 | J26: 8
A27: 35945 | B27: 2B8h6JMB-94-026-qA-028-1-BLj-07-Z5w | C27: 'FIRST系列赛项' | D27: 'FIRST国际机器人竞赛-响彻舞台' | E27: 中学组 | F27: 复旦附中FRC6907-C | G27: 复旦大学附属中学 | H27: 徐子杰|孙忻怡 | I27: 张沛涵|孔彧|胡荻|宓孝同|孙浩然|田第 | J27: 8
A28: 35958 | B28: 2B8h6JMD-94-026-Dp-028-1-RGZ-07-TjT | C28: 'FIRST系列赛项' | D28: 'FIRST国际机器人竞赛-响彻舞台' | E28: 中学组 | F28: 复旦附中FRC6907-D | G28: 复旦大学附属中学 | H28: 吴越|孙迦羽 | I28: 潘欣和|伍嘉义|许仪青|陈丹诏|周欣雨|王若岚 | J28: 8
A29: 35968 | B29: 2B8h6axK-94-026-05-028-1-DsL-07-rNr | C29: 'FIRST系列赛项' | D29: 'FIRST国际机器人竞赛-响彻舞台' | E29: 中学组 | F29: 复旦附中FRC6907-E | G29: 复旦大学附属中学 | H29: 李雨璇|张子程 | I29: 王鹏泽|姚奕宸|吕钰霖 | J29: 8
A30: 29744 | B30: 2B8h6JVR-94-026-7a-028-1-Q98-07-osv | C30: 'FIRST系列赛项' | D30: 'FIRST国际机器人竞赛-响彻舞台' | E30: 中学组 | F30: 上外附中-6487-A队 | G30: 上海外国语大学附属外国语学校 | H30: 宋玉洁|王树杰 | I30: 赵以诺|陈李雍|邓以涵|丁融|龚叶诚|马宇飞|彭子萱|蔡子乐 | J30: 9 | K30: 二等奖
A31: 29862 | B31: 2B8h6JVm-94-026-IU-028-1-Jdb-07-CdX | C31: 'FIRST系列赛项' | D31: 'FIRST国际机器人竞赛-响彻舞台' | E31: 中学组 | F31: 上外附中-6487-B队 | G31: 上海外国语大学附属外国语学校 | H31: 朱皓斌|徐蔚伟 | I31: 贺子程|季浩楠|王孜恒|郑淇匀|张乐源|黄逸霖|顾一洋|朱梦然 | J31: 9
A32: 34054 | B32: 2B8h6inP-94-026-A5-028-1-QI1-07-pjR | C32: 'FIRST系列赛项' | D32: 'FIRST国际机器人竞赛-响彻舞台' | E32: 中学组 | F32: FRC5823 A队 | G32: 深圳中学生联队 | H32: 黎锐权|谌楚羽 | I32: 徐睿铭|徐启宸|容子棋|梁若一|陈李梓妍|雷哲夫 | J32: 10 | K32: 二等奖
A33: 34628 | B33: 2B8h6inw-94-026-OB-028-1-bN7-07-Tua | C33: 'FIRST系列赛项' | D33: 'FIRST国际机器人竞赛-响彻舞台' | E33: 中学组 | F33: FRC5823 B队 | G33: 深圳中学生联队 | H33: 马龙|伍彪 | I33: 胡旭初|何睿钦|朱冠麟|陈晨瑞|李昊轩 | J33: 10
A34: 36789 | B34: 2B8h6JIv-94-026-BT-028-1-Cdv-07-b46 | C34: 'FIRST系列赛项' | D34: 'FIRST国际机器人竞赛-响彻舞台' | E34: 中学组 | F34: Cyber Unicorn-C队 | G34: 深圳市英诺威迅科技教育学校 | H34: 陈衍|梁君榆 | I34: 皮嘉晟|马英桐|吴昱纬|张墨晗|白贺元|张艺腾|杨予同 | J34: 11 | K34: 二等奖
