Workbook

Sheet ENJOY AI系列赛项
A1: 2024世界机器人大赛青少年机器人设计大赛-江西省选拔赛-ENJOY AI系列赛项获奖名单
A2: 报名编号 | B2: 激活码 | C2: 赛道 | D2: 赛项 | E2: 组别 | F2: 队伍名称 | G2: 申报单位 | H2: 教练信息 | I2: 学生信息 | J2: 比赛分数 | K2: 比赛用时 | L2: 成绩排名 | M2: 奖项
A3: 84180 | B3: 2B8hXIwx-217-012-FI-015-1-uqc-01-lVl | C3: ENJOY AI系列赛项' | D3: 'ENJOY AI飞跃太空' | E3: 小学组 | F3: 超级王牌队 | G3: 吉安斯坦星球 | H3: 梁礼纯 | I3: 吴文好 | J3: 790 | K3: 220 | L3: 1 | M3: 一等奖(冠军)
A4: 88159 | B4: 2B8hXIAy-217-012-Dd-015-1-ua7-01-HW8 | C4: 'ENJOY AI系列赛项' | D4: 'ENJOY AI飞跃太空' | E4: 小学组 | F4: StemStar02 | G4: 南昌红谷滩区唐格培训中心 | H4: 罗嗣明 | I4: 王栎泽 | J4: 690 | K4: 357 | L4: 2 | M4: 一等奖(亚军)
A5: 103463 | B5: 2B8hXI2j-217-012-fH-015-1-p6f-01-BGh | C5: 'ENJOY AI系列赛项' | D5: 'ENJOY AI飞跃太空' | E5: 小学组 | F5: 乐趣17队 | G5: 奇思科技 | H5: 秦文杰 | I5: 熊艺涵 | J5: 670 | K5: 320.42 | L5: 3 | M5: 一等奖(季军)
A6: 99417 | B6: 2B8hXI22-217-012-n8-015-1-DWQ-01-wxB | C6: 'ENJOY AI系列赛项' | D6: 'ENJOY AI飞跃太空' | E6: 小学组 | F6: 乐趣一队 | G6: 南昌市光明学校 | H6: 杜影 | I6: 祝川柏 | J6: 610 | K6: 246.45 | L6: 4 | M6: 一等奖
A7: 88176 | B7: 2B8hXIAf-217-012-hV-015-1-Znj-01-WJL | C7: 'ENJOY AI系列赛项' | D7: 'ENJOY AI飞跃太空' | E7: 小学组 | F7: StemStar05 | G7: 南昌红谷滩区唐格培训中心 | H7: 罗嗣明 | I7: 韩孟成 | J7: 610 | K7: 352.49 | L7: 5 | M7: 一等奖
A8: 88151 | B8: 2B8hXIAZ-217-012-57-015-1-FJ6-01-bb3 | C8: 'ENJOY AI系列赛项' | D8: 'ENJOY AI飞跃太空' | E8: 小学组 | F8: StemStar01 | G8: 南昌红谷滩区唐格培训中心 | H8: 罗嗣明 | I8: 张卓楠 | J8: 610 | K8: 360 | L8: 6 | M8: 一等奖
A9: 84587 | B9: 2B8hXIwV-217-012-PC-015-1-RNO-01-C8z | C9: 'ENJOY AI系列赛项' | D9: 'ENJOY AI飞跃太空' | E9: 小学组 | F9: 红烧牛肉面 | G9: 吉安斯坦星球 | H9: 魏蓬勃 | I9: 孙泽熙 | J9: 600 | K9: 256 | L9: 7 | M9: 一等奖
A10: 88169 | B10: 2B8hXIA5-217-012-as-015-1-x8B-01-7AR | C10: 'ENJOY AI系列赛项' | D10: 'ENJOY AI飞跃太空' | E10: 小学组 | F10: StemStar04 | G10: 南昌红谷滩区唐格培训中心 | H10: 罗嗣明 | I10: 吴嘉皓 | J10: 590 | K10: 359 | L10: 8 | M10: 一等奖
A11: 91328 | B11: 2B8hXIwe-217-012-TW-015-1-usX-01-PUZ | C11: 'ENJOY AI系列赛项' | D11: 'ENJOY AI飞跃太空' | E11: 小学组 | F11: 遂川泉江小学李安琪 | G11: 遂川县泉江小学 | H11: 白云 | I11: 李安琪 | J11: 590 | K11: 360 | L11: 9 | M11: 一等奖
A12: 103456 | B12: 2B8hXI2W-217-012-ic-015-1-WTp-01-WzJ | C12: 'ENJOY AI系列赛项' | D12: 'ENJOY AI飞跃太空' | E12: 小学组 | F12: 乐趣16队 | G12: 奇思科技 | H12: 秦文杰 | I12: 高正熙 | J12: 580 | K12: 338.83 | L12: 10 | M12: 一等奖
A13: 96620 | B13: 2B8hXIwt-217-012-c1-015-1-LGB-01-uCK | C13: 'ENJOY AI系列赛项' | D13: 'ENJOY AI飞跃太空' | E13: 小学组 | F13: 飞扬一队07 | G13: 赣州飞扬职业培训学校 | H13: 金峪有 | I13: 李树人 | J13: 570 | K13: 234 | L13: 11 | M13: 一等奖
A14: 91331 | B14: 2B8hXIAv-217-012-5i-015-1-fSk-01-FSZ | C14: 'ENJOY AI系列赛项' | D14: 'ENJOY AI飞跃太空' | E14: 小学组 | F14: 正人红军小学张宇晨 | G14: 遂川县中国工农红军正人红军小学 | H14: 刘招琴 | I14: 张宇晨 | J14: 570 | K14: 323 | L14: 12 | M14: 二等奖
... A90: 113111 | B90: 2B8hXIys-217-012-Pd-015-1-PFD-02-RhW | C90: 'ENJOY AI系列赛项' | D90: 'ENJOY AI飞跃太空' | E90: 初中组 | F90: 勇敢8队 | G90: 赣州市章贡区童芯科技培训中心 | H90: 申昌昱 | I90: 马语萌 | J90: 10 | K90: 150 | L90: 16 | M90: 三等奖
A92: 83516 | B92: 2B8hXfoo-217-012-AL-013-1-9wj-04-fA5 | C92: 'ENJOY AI系列赛项' | D92: 'ENJOY AI运动会闭幕式' | E92: 启蒙组 | F92: 新建启蒙2队 | G92: 乐米粒少儿硅谷 | H92: 邓文君 | I92: 舒煜熙|余楚祺 | J92: =VLOOKUP(I92,[1]启蒙组最终!$E:$K,6,0) -> 720 | K92: =VLOOKUP(I92,[1]启蒙组最终!$E:$K,7,0) -> 149 | L92: 1 | M92: 一等奖(冠军)
A93: 81306 | B93: 2B8hXfov-217-012-tH-013-1-c9A-04-AX3 | C93: 'ENJOY AI系列赛项' | D93: 'ENJOY AI运动会闭幕式' | E93: 启蒙组 | F93: 少年宫启蒙6队 | G93: 乐米粒少儿硅谷 | H93: 覃春用 | I93: 王未|万宴廷 | J93: =VLOOKUP(I93,[1]启蒙组最终!$E:$K,6,0) -> 720 | K93: =VLOOKUP(I93,[1]启蒙组最终!$E:$K,7,0) -> 152.58 | L93: 2 | M93: 一等奖(亚军)
A94: 81252 | B94: 2B8hXfSE-217-012-6c-013-1-8Xj-04-u3l | C94: 'ENJOY AI系列赛项' | D94: 'ENJOY AI运动会闭幕式' | E94: 启蒙组 | F94: 玉泉岛启蒙1队 | G94: 乐米粒少儿硅谷 | H94: 王红艳 | I94: 肖震楠|熊酉睿 | J94: =VLOOKUP(I94,[1]启蒙组最终!$E:$K,6,0) -> 720 | K94: =VLOOKUP(I94,[1]启蒙组最终!$E:$K,7,0) -> 191.47 | L94: 3 | M94: 一等奖(季军)
A95: 91581 | B95: 2B8hXfK6-217-012-2E-013-1-7TS-04-Wdd | C95: 'ENJOY AI系列赛项' | D95: 'ENJOY AI运动会闭幕式' | E95: 启蒙组 | F95: 卡弗创客202410001 | G95: 凤凰机器人编程中心萍乡校区 | H95: 易倩 | I95: 李希|刘梓涵 | J95: =VLOOKUP(I95,[1]启蒙组最终!$E:$K,6,0) -> 720 | K95: =VLOOKUP(I95,[1]启蒙组最终!$E:$K,7,0) -> 302 | L95: 4 | M95: 一等奖
A96: 83420 | B96: 2B8hXfow-217-012-gF-013-1-dy2-04-xSC | C96: 'ENJOY AI系列赛项' | D96: 'ENJOY AI运动会闭幕式' | E96: 启蒙组 | F96: 少年宫启蒙9队 | G96: 乐米粒少儿硅谷 | H96: 涂远婷 | I96: 郭欣语|应帅婧 | J96: =VLOOKUP(I96,[1]启蒙组最终!$E:$K,6,0) -> 710 | K96: =VLOOKUP(I96,[1]启蒙组最终!$E:$K,7,0) -> 177.59 | L96: 5 | M96: 一等奖
A97: 81300 | B97: 2B8hXfSs-217-012-Kr-013-1-edX-04-jfF | C97: 'ENJOY AI系列赛项' | D97: 'ENJOY AI运动会闭幕式' | E97: 启蒙组 | F97: 少年宫启蒙5队 | G97: 乐米粒少儿硅谷 | H97: 覃春用 | I97: 赖一诺|张翊楷 | J97: =VLOOKUP(I97,[1]启蒙组最终!$E:$K,6,0) -> 710 | K97: =VLOOKUP(I97,[1]启蒙组最终!$E:$K,7,0) -> 183.23 | L97: 6 | M97: 一等奖
A98: 83563 | B98: 2B8hXfo9-217-012-VH-013-1-4o1-04-T9r | C98: 'ENJOY AI系列赛项' | D98: 'ENJOY AI运动会闭幕式' | E98: 启蒙组 | F98: 抚州启蒙2队 | G98: 乐米粒少儿硅谷 | H98: 郑梦茜 | I98: 熊一然|周子逸 | J98: =VLOOKUP(I98,[1]启蒙组最终!$E:$K,6,0) -> 700 | K98: =VLOOKUP(I98,[1]启蒙组最终!$E:$K,7,0) -> 173 | L98: 7 | M98: 一等奖
A99: 83452 | B99: 2B8hXfot-217-012-XZ-013-1-Sfm-04-7aN | C99: 'ENJOY AI系列赛项' | D99: 'ENJOY AI运动会闭幕式' | E99: 启蒙组 | F99: 万达启蒙2队 | G99: 乐米粒少儿硅谷 | H99: 吴唯 | I99: 向煜珩|付星辰 | J99: =VLOOKUP(I99,[1]启蒙组最终!$E:$K,6,0) -> 700 | K99: =VLOOKUP(I99,[1]启蒙组最终!$E:$K,7,0) -> 211 | L99: 8 | M99: 一等奖
A100: 83578 | B100: 2B8hXfoj-217-012-Ga-013-1-5TO-04-6PU | C100: 'ENJOY AI系列赛项' | D100: 'ENJOY AI运动会闭幕式' | E100: 启蒙组 | F100: 抚州启蒙4队 | G100: 乐米粒少儿硅谷 | H100: 周莉萍 | I100: 晏辞扬|吴诚宇 | J100: =VLOOKUP(I100,[1]启蒙组最终!$E:$K,6,0) -> 700 | K100: =VLOOKUP(I100,[1]启蒙组最终!$E:$K,7,0) -> 242 | L100: 9 | M100: 一等奖
A101: 81284 | B101: 2B8hXfSr-217-012-aq-013-1-EkY-04-sJv | C101: 'ENJOY AI系列赛项' | D101: 'ENJOY AI运动会闭幕式' | E101: 启蒙组 | F101: 少年宫启蒙3队 | G101: 乐米粒少儿硅谷 | H101: 王浩婷 | I101: 戴以奇|戴以正 | J101: =VLOOKUP(I101,[1]启蒙组最终!$E:$K,6,0) -> 700 | K101: =VLOOKUP(I101,[1]启蒙组最终!$E:$K,7,0) -> 283.82 | L101: 10 | M101: 一等奖
A102: 83529 | B102: 2B8hXfoK-217-012-Ot-013-1-3gs-04-U1p | C102: 'ENJOY AI系列赛项' | D102: 'ENJOY AI运动会闭幕式' | E102: 启蒙组 | F102: 抚州启蒙1队 | G102: 乐米粒少儿硅谷 | H102: 郑梦茜 | I102: 肖宇桐|颜琨朔 | J102: =VLOOKUP(I102,[1]启蒙组最终!$E:$K,6,0) -> 700 | K102: =VLOOKUP(I102,[1]启蒙组最终!$E:$K,7,0) -> 296.44 | L102: 11 | M102: 一等奖
A103: 82930 | B103: 2B8hXfaQ-217-012-hL-013-1-JXJ-04-6V4 | C103: 'ENJOY AI系列赛项' | D103: 'ENJOY AI运动会闭幕式' | E103: 启蒙组 | F103: 厚徳载物队 | G103: 南昌新东方艺术培训学校 | H103: 尹可人 | I103: 杨厚泽|李鋈 | J103: =VLOOKUP(I103,[1]启蒙组最终!$E:$K,6,0) -> 700 | K103: =VLOOKUP(I103,[1]启蒙组最终!$E:$K,7,0) -> 305 | L103: 12 | M103: 一等奖
... A105: 83441 | B105: 2B8hXfoq-217-012-Qz-013-1-n0K-04-nzy | C105: 'ENJOY AI系列赛项' | D105: 'ENJOY AI运动会闭幕式' | E105: 启蒙组 | F105: 万达启蒙1队 | G105: 乐米粒少儿硅谷 | H105: 汤娆梅 | I105: 严奕轩|陈淮成 | J105: =VLOOKUP(I105,[1]启蒙组最终!$E:$K,6,0) -> 700 | K105: =VLOOKUP(I105,[1]启蒙组最终!$E:$K,7,0) -> 311 | L105: 14 | M105: 一等奖
A106: 91685 | B106: 2B8hXf9M-217-012-Rd-013-1-EXo-04-khx | C106: 'ENJOY AI系列赛项' | D106: 'ENJOY AI运动会闭幕式' | E106: 启蒙组 | F106: 卡弗创客2024006 | G106: 凤凰机器人编程中心萍乡校区 | H106: 易希 | I106: 彭子淳|邓逸程 | J106: =VLOOKUP(I106,[1]启蒙组最终!$E:$K,6,0) -> 700 | K106: 317 | L106: 15 | M106: 一等奖
A107: 91537 | B107: 2B8hXfKM-217-012-Bj-013-1-fPa-04-i0O | C107: 'ENJOY AI系列赛项' | D107: 'ENJOY AI运动会闭幕式' | E107: 启蒙组 | F107: 卡弗创客202410009 | G107: 凤凰机器人编程中心萍乡校区 | H107: 曾礼 | I107: 邓铭博|周奕寒 | J107: =VLOOKUP(I107,[1]启蒙组最终!$E:$K,6,0) -> 700 | K107: 318 | L107: 16 | M107: 一等奖
A108: 82919 | B108: 2B8hXfSz-217-012-ZB-013-1-m9T-04-Ecf | C108: 'ENJOY AI系列赛项' | D108: 'ENJOY AI运动会闭幕式' | E108: 启蒙组 | F108: 宸鸣队 | G108: 南昌新东方培训学校 | H108: 王亚军 | I108: 黄槿宸|吴一鸣 | J108: =VLOOKUP(I108,[1]启蒙组最终!$E:$K,6,0) -> 700 | K108: 322 | L108: 17 | M108: 一等奖
A109: 82910 | B109: 2B8hXfae-217-012-Ke-013-1-hFH-04-gO6 | C109: 'ENJOY AI系列赛项' | D109: 'ENJOY AI运动会闭幕式' | E109: 启蒙组 | F109: 雪碧可乐 | G109: 南昌新东方培训学校 | H109: 王亚军 | I109: 刘梓安|陈昊煜 | J109: =VLOOKUP(I109,[1]启蒙组最终!$E:$K,6,0) -> 700 | K109: 325 | L109: 18 | M109: 一等奖
A110: 97935 | B110: 2B8hXf9m-217-012-o4-013-1-LsX-04-dpm | C110: 'ENJOY AI系列赛项' | D110: 'ENJOY AI运动会闭幕式' | E110: 启蒙组 | F110: 知鱼6组 | G110: 万年县第一小学 | H110: 曾芳 | I110: 朱未熙 | J110: =VLOOKUP(I110,[1]启蒙组最终!$E:$K,6,0) -> 700 | K110: 338 | L110: 19 | M110: 二等奖
A111: 97922 | B111: 2B8hXf9n-217-012-43-013-1-GtR-04-Fd0 | C111: 'ENJOY AI系列赛项' | D111: 'ENJOY AI运动会闭幕式' | E111: 启蒙组 | F111: 知鱼5组 | G111: 万年县第一小学 | H111: 杨双萍 | I111: 汪恩汐 | J111: =VLOOKUP(I111,[1]启蒙组最终!$E:$K,6,0) -> 700 | K111: 340 | L111: 20 | M111: 二等奖
A112: 83530 | B112: 2B8hXfaX-217-012-wX-013-1-rPM-04-GfQ | C112: 'ENJOY AI系列赛项' | D112: 'ENJOY AI运动会闭幕式' | E112: 启蒙组 | F112: 童创8队 | G112: 青云谱区第二幼儿园 | H112: 艾灵 | I112: 周子杰|吴泊如 | J112: =VLOOKUP(I112,[1]启蒙组最终!$E:$K,6,0) -> 700 | K112: 347 | L112: 21 | M112: 二等奖
A113: 83658 | B113: 2B8hXfa9-217-012-ri-013-1-TWL-04-yOx | C113: 'ENJOY AI系列赛项' | D113: 'ENJOY AI运动会闭幕式' | E113: 启蒙组 | F113: 童创九队 | G113: 青云谱区第一幼儿园 | H113: 艾灵 | I113: 邹欣钰|张博宸 | J113: =VLOOKUP(I113,[1]启蒙组最终!$E:$K,6,0) -> 700 | K113: 351 | L113: 22 | M113: 二等奖
A114: 83506 | B114: 2B8hXfoS-217-012-hO-013-1-yIh-04-UKq | C114: 'ENJOY AI系列赛项' | D114: 'ENJOY AI运动会闭幕式' | E114: 启蒙组 | F114: 新建启蒙1队 | G114: 乐米粒少儿硅谷 | H114: 邓文君 | I114: 胡泽新|刘清筱 | J114: =VLOOKUP(I114,[1]启蒙组最终!$E:$K,6,0) -> 690 | K114: =VLOOKUP(I114,[1]启蒙组最终!$E:$K,7,0) -> 254.96 | L114: 23 | M114: 二等奖
A115: 83473 | B115: 2B8hXfoI-217-012-2P-013-1-Hu1-04-v3Q | C115: 'ENJOY AI系列赛项' | D115: 'ENJOY AI运动会闭幕式' | E115: 启蒙组 | F115: 万达启蒙3队 | G115: 乐米粒少儿硅谷 | H115: 吴唯 | I115: 邓亦轩|秦正哲 | J115: =VLOOKUP(I115,[1]启蒙组最终!$E:$K,6,0) -> 685 | K115: =VLOOKUP(I115,[1]启蒙组最终!$E:$K,7,0) -> 253.03 | L115: 24 | M115: 二等奖
A116: 91577 | B116: 2B8hXfKi-217-012-Ng-013-1-hZU-04-Sxh | C116: 'ENJOY AI系列赛项' | D116: 'ENJOY AI运动会闭幕式' | E116: 启蒙组 | F116: 卡弗创客202410003 | G116: 凤凰机器人编程中心萍乡校区 | H116: 易倩 | I116: 曾皓文|徐慕妍 | J116: =VLOOKUP(I116,[1]启蒙组最终!$E:$K,6,0) -> 680 | K116: =VLOOKUP(I116,[1]启蒙组最终!$E:$K,7,0) -> 251 | L116: 25 | M116: 二等奖
A117: 81309 | B117: 2B8hXfo7-217-012-3v-013-1-w3t-04-wRv | C117: 'ENJOY AI系列赛项' | D117: 'ENJOY AI运动会闭幕式' | E117: 启蒙组 | F117: 少年宫启蒙7队 | G117: 乐米粒少儿硅谷 | H117: 涂远婷 | I117: 方喜玛|胡钰珏 | J117: =VLOOKUP(I117,[1]启蒙组最终!$E:$K,6,0) -> 680 | K117: =VLOOKUP(I117,[1]启蒙组最终!$E:$K,7,0) -> 264.25 | L117: 26 | M117: 二等奖
A118: 80934 | B118: 2B8hXfSb-217-012-Um-013-1-QFL-04-96D | C118: 'ENJOY AI系列赛项' | D118: 'ENJOY AI运动会闭幕式' | E118: 启蒙组 | F118: 经开启蒙1队 | G118: 乐米粒少儿硅谷 | H118: 肖婷 | I118: 雷锦澄|肖瑾杰 | J118: =VLOOKUP(I118,[1]启蒙组最终!$E:$K,6,0) -> 680 | K118: =VLOOKUP(I118,[1]启蒙组最终!$E:$K,7,0) -> 273.89 | L118: 27 | M118: 二等奖
A119: 91637 | B119: 2B8hXfKT-217-012-U1-013-1-gcz-04-TOH | C119: 'ENJOY AI系列赛项' | D119: 'ENJOY AI运动会闭幕式' | E119: 启蒙组 | F119: 卡弗创客2024005 | G119: 凤凰机器人编程中心萍乡校区 | H119: 易希 | I119: 李文罡|颜易涵 | J119: =VLOOKUP(I119,[1]启蒙组最终!$E:$K,6,0) -> 670 | K119: =VLOOKUP(I119,[1]启蒙组最终!$E:$K,7,0) -> 279 | L119: 28 | M119: 二等奖
A120: 81277 | B120: 2B8hXfS1-217-012-qt-013-1-qDr-04-SdS | C120: 'ENJOY AI系列赛项' | D120: 'ENJOY AI运动会闭幕式' | E120: 启蒙组 | F120: 少年宫启蒙2队 | G120: 乐米粒少儿硅谷 | H120: 王浩婷 | I120: 曹翊博|杨涵睿 | J120: =VLOOKUP(I120,[1]启蒙组最终!$E:$K,6,0) -> 660 | K120: =VLOOKUP(I120,[1]启蒙组最终!$E:$K,7,0) -> 227.73 | L120: 29 | M120: 二等奖
A121: 81290 | B121: 2B8hXfSD-217-012-wf-013-1-kd1-04-N2X | C121: 'ENJOY AI系列赛项' | D121: 'ENJOY AI运动会闭幕式' | E121: 启蒙组 | F121: 少年宫启蒙4队 | G121: 乐米粒少儿硅谷 | H121: 覃春用 | I121: 毛锦航|郭宸希 | J121: =VLOOKUP(I121,[1]启蒙组最终!$E:$K,6,0) -> 660 | K121: =VLOOKUP(I121,[1]启蒙组最终!$E:$K,7,0) -> 248.19 | L121: 30 | M121: 二等奖
A122: 81459 | B122: 2B8hXfoe-217-012-1s-013-1-a49-04-kMO | C122: 'ENJOY AI系列赛项' | D122: 'ENJOY AI运动会闭幕式' | E122: 启蒙组 | F122: 科技萌宝队 | G122: 南昌县莲塘第六学校 | H122: 李琪 | I122: 谢婉柔|姜渝翎 | J122: =VLOOKUP(I122,[1]启蒙组最终!$E:$K,6,0) -> 660 | K122: =VLOOKUP(I122,[1]启蒙组最终!$E:$K,7,0) -> 357.65 | L122: 31 | M122: 二等奖
A123: 83409 | B123: 2B8hXfoz-217-012-wn-013-1-8Eu-04-QO7 | C123: 'ENJOY AI系列赛项' | D123: 'ENJOY AI运动会闭幕式' | E123: 启蒙组 | F123: 少年宫启蒙8队 | G123: 乐米粒少儿硅谷 | H123: 涂远婷 | I123: 唐萌|张弛正 | J123: =VLOOKUP(I123,[1]启蒙组最终!$E:$K,6,0) -> 650 | K123: =VLOOKUP(I123,[1]启蒙组最终!$E:$K,7,0) -> 209.18 | L123: 32 | M123: 二等奖
A124: 81269 | B124: 2B8hXfSm-217-012-SP-013-1-0gi-04-YZ4 | C124: 'ENJOY AI系列赛项' | D124: 'ENJOY AI运动会闭幕式' | E124: 启蒙组 | F124: 少年宫启蒙1队 | G124: 乐米粒少儿硅谷 | H124: 王浩婷 | I124: 伍永桐|钟星言 | J124: =VLOOKUP(I124,[1]启蒙组最终!$E:$K,6,0) -> 650 | K124: =VLOOKUP(I124,[1]启蒙组最终!$E:$K,7,0) -> 237.44 | L124: 33 | M124: 二等奖
A125: 83605 | B125: 2B8hXfoT-217-012-Jn-013-1-0My-04-1gg | C125: 'ENJOY AI系列赛项' | D125: 'ENJOY AI运动会闭幕式' | E125: 启蒙组 | F125: 抚州启蒙5队 | G125: 乐米粒少儿硅谷 | H125: 周莉萍 | I125: 何珹|黄子航 | J125: =VLOOKUP(I125,[1]启蒙组最终!$E:$K,6,0) -> 650 | K125: =VLOOKUP(I125,[1]启蒙组最终!$E:$K,7,0) -> 323.96 | L125: 34 | M125: 二等奖
... A136: 83619 | B136: 2B8hXfoE-217-012-5q-013-1-coC-04-S5H | C136: 'ENJOY AI系列赛项' | D136: 'ENJOY AI运动会闭幕式' | E136: 启蒙组 | F136: 抚州启蒙6队 | G136: 乐米粒少儿硅谷 | H136: 周莉萍 | I136: 张皓珺|李诺澄 | J136: =VLOOKUP(I136,[1]启蒙组最终!$E:$K,6,0) -> 620 | K136: =VLOOKUP(I136,[1]启蒙组最终!$E:$K,7,0) -> 180.5 | L136: 45 | M136: 二等奖
A137: 104017 | B137: 2B8hXf0D-217-012-X3-013-1-WkA-04-neQ | C137: 'ENJOY AI系列赛项' | D137: 'ENJOY AI运动会闭幕式' | E137: 启蒙组 | F137: 宇辰小队 | G137: 吉州区魔克科技培训中心 | H137: 张婷 | I137: 江宇|徐郗辰 | J137: =VLOOKUP(I137,[1]启蒙组最终!$E:$K,6,0) -> 620 | K137: 194 | L137: 46 | M137: 二等奖
A138: 104010 | B138: 2B8hXf0m-217-012-3R-013-1-4Io-04-mXi | C138: 'ENJOY AI系列赛项' | D138: 'ENJOY AI运动会闭幕式' | E138: 启蒙组 | F138: moco飞跃队 | G138: 吉州区魔克科技培训中心 | H138: 钟玉兰 | I138: 刘诤非|邓企越 | J138: =VLOOKUP(I138,[1]启蒙组最终!$E:$K,6,0) -> 620 | K138: 198 | L138: 47 | M138: 二等奖
A139: 86868 | B139: 2B8hXfKt-217-012-Ar-013-1-qzQ-04-oOO | C139: 'ENJOY AI系列赛项' | D139: 'ENJOY AI运动会闭幕式' | E139: 启蒙组 | F139: 乐创五队 | G139: 吉安市吉州区乐创科技培训中心 | H139: 肖桂枫 | I139: 王奕宸|蒋子越 | J139: =VLOOKUP(I139,[1]启蒙组最终!$E:$K,6,0) -> 620 | K139: 211 | L139: 48 | M139: 二等奖
A140: 104014 | B140: 2B8hXf0B-217-012-uc-013-1-Wv9-04-aGj | C140: 'ENJOY AI系列赛项' | D140: 'ENJOY AI运动会闭幕式' | E140: 启蒙组 | F140: 晟辰队 | G140: 吉州区魔克科技培训中心 | H140: 王超 | I140: 钱杞辰|万晨晟 | J140: =VLOOKUP(I140,[1]启蒙组最终!$E:$K,6,0) -> 620 | K140: 238 | L140: 49 | M140: 二等奖
A141: 91615 | B141: 2B8hXfK0-217-012-RT-013-1-r7G-04-coQ | C141: 'ENJOY AI系列赛项' | D141: 'ENJOY AI运动会闭幕式' | E141: 启蒙组 | F141: 卡弗创客101 | G141: 凤凰机器人编程中心萍乡校区 | H141: 张李 | I141: 张晨屹|虞忻诺 | J141: =VLOOKUP(I141,[1]启蒙组最终!$E:$K,6,0) -> 620 | K141: 239 | L141: 50 | M141: 二等奖
A142: 82892 | B142: 2B8hXfar-217-012-et-013-1-8Cb-04-t8O | C142: 'ENJOY AI系列赛项' | D142: 'ENJOY AI运动会闭幕式' | E142: 启蒙组 | F142: 西瓜波波 | G142: 南昌新东方培训学校 | H142: 王亚军 | I142: 戚昱琨|易函 | J142: =VLOOKUP(I142,[1]启蒙组最终!$E:$K,6,0) -> 620 | K142: 242 | L142: 51 | M142: 二等奖
A143: 91604 | B143: 2B8hXfKN-217-012-XY-013-1-8O1-04-Knz | C143: 'ENJOY AI系列赛项' | D143: 'ENJOY AI运动会闭幕式' | E143: 启蒙组 | F143: 卡弗创客202410011 | G143: 凤凰机器人编程中心萍乡校区 | H143: 张李 | I143: 黄修远|何泽杭 | J143: =VLOOKUP(I143,[1]启蒙组最终!$E:$K,6,0) -> 620 | K143: 245 | L143: 52 | M143: 二等奖
A144: 104003 | B144: 2B8hXf0Q-217-012-1u-013-1-uC2-04-Y30 | C144: 'ENJOY AI系列赛项' | D144: 'ENJOY AI运动会闭幕式' | E144: 启蒙组 | F144: 宸熠队 | G144: 吉州区魔克科技培训中心 | H144: 毛红兰 | I144: 钟子熠|欧阳伊宸 | J144: =VLOOKUP(I144,[1]启蒙组最终!$E:$K,6,0) -> 620 | K144: 247 | L144: 53 | M144: 二等奖
A145: 91652 | B145: 2B8hXfKE-217-012-Qy-013-1-e2F-04-kAn | C145: 'ENJOY AI系列赛项' | D145: 'ENJOY AI运动会闭幕式' | E145: 启蒙组 | F145: 卡弗创客2024003 | G145: 凤凰机器人编程中心萍乡校区 | H145: 易希 | I145: 易辰熙|曾星燃 | J145: =VLOOKUP(I145,[1]启蒙组最终!$E:$K,6,0) -> 620 | K145: 252 | L145: 54 | M145: 二等奖
A146: 97898 | B146: 2B8hXf98-217-012-Gv-013-1-TZB-04-HHk | C146: 'ENJOY AI系列赛项' | D146: 'ENJOY AI运动会闭幕式' | E146: 启蒙组 | F146: 知鱼3队 | G146: 万年县第二小学 | H146: 曾芳 | I146: 陈诺 | J146: =VLOOKUP(I146,[1]启蒙组最终!$E:$K,6,0) -> 620 | K146: 236 | L146: 55 | M146: 二等奖
A147: 98060 | B147: 2B8hXfCw-217-012-b5-013-1-b6X-04-saq | C147: 'ENJOY AI系列赛项' | D147: 'ENJOY AI运动会闭幕式' | E147: 启蒙组 | F147: 知鱼13组 | G147: 万年县六零小学 | H147: 黄玲 | I147: 余家乐 | J147: =VLOOKUP(I147,[1]启蒙组最终!$E:$K,6,0) -> 620 | K147: 340 | L147: 56 | M147: 二等奖
A148: 101427 | B148: 2B8hXf9z-217-012-zF-013-1-6Ap-04-C53 | C148: 'ENJOY AI系列赛项' | D148: 'ENJOY AI运动会闭幕式' | E148: 启蒙组 | F148: 辰奕队 | G148: 南昌市育新学校九龙湖新城分校/春田花花幼儿园 | H148: 熊宇翔 | I148: 杨奕承|周辰睿 | J148: =VLOOKUP(I148,[1]启蒙组最终!$E:$K,6,0) -> 615 | K148: =VLOOKUP(I148,[1]启蒙组最终!$E:$K,7,0) -> 243.3 | L148: 57 | M148: 二等奖
A149: 80968 | B149: 2B8hXfSc-217-012-yr-013-1-GBf-04-DNT | C149: 'ENJOY AI系列赛项' | D149: 'ENJOY AI运动会闭幕式' | E149: 启蒙组 | F149: 丽景启蒙1队 | G149: 乐米粒少儿硅谷 | H149: 金紫怡 | I149: 杨安然|姚鉴洋 | J149: =VLOOKUP(I149,[1]启蒙组最终!$E:$K,6,0) -> 610 | K149: =VLOOKUP(I149,[1]启蒙组最终!$E:$K,7,0) -> 307.55 | L149: 58 | M149: 二等奖
A150: 80986 | B150: 2B8hXfSa-217-012-QS-013-1-8yG-04-D8r | C150: 'ENJOY AI系列赛项' | D150: 'ENJOY AI运动会闭幕式' | E150: 启蒙组 | F150: 万科启蒙2队 | G150: 乐米粒少儿硅谷 | H150: 金紫怡 | I150: 曾祉睿|王亦梵 | J150: =VLOOKUP(I150,[1]启蒙组最终!$E:$K,6,0) -> 610 | K150: =VLOOKUP(I150,[1]启蒙组最终!$E:$K,7,0) -> 315.72 | L150: 59 | M150: 二等奖
A151: 81227 | B151: 2B8hXfSp-217-012-s5-013-1-L6G-04-EOY | C151: 'ENJOY AI系列赛项' | D151: 'ENJOY AI运动会闭幕式' | E151: 启蒙组 | F151: 蓝海启蒙1队 | G151: 乐米粒少儿硅谷 | H151: 匡伊 | I151: 罗皓洋|许伯宸 | J151: =VLOOKUP(I151,[1]启蒙组最终!$E:$K,6,0) -> 580 | K151: =VLOOKUP(I151,[1]启蒙组最终!$E:$K,7,0) -> 281.48 | L151: 60 | M151: 三等奖
A152: 81385 | B152: 2B8hXfor-217-012-Dx-013-1-bKF-04-jMY | C152: 'ENJOY AI系列赛项' | D152: 'ENJOY AI运动会闭幕式' | E152: 启蒙组 | F152: 创新者联盟队 | G152: 南昌县莲塘第六学校 | H152: 李琪 | I152: 杨一帆|岳思渂 | J152: =VLOOKUP(I152,[1]启蒙组最终!$E:$K,6,0) -> 580 | K152: =VLOOKUP(I152,[1]启蒙组最终!$E:$K,7,0) -> 360 | L152: 61 | M152: 三等奖
A153: 99515 | B153: 2B8hXf9J-217-012-ed-013-1-547-04-YrE | C153: 'ENJOY AI系列赛项' | D153: 'ENJOY AI运动会闭幕式' | E153: 启蒙组 | F153: moco超人小队 | G153: 吉安市吉州魔克科技培训中心 | H153: 毛红兰 | I153: 陈一洧|朱子辰 | J153: =VLOOKUP(I153,[1]启蒙组最终!$E:$K,6,0) -> 570 | K153: =VLOOKUP(I153,[1]启蒙组最终!$E:$K,7,0) -> 151.39 | L153: 62 | M153: 三等奖
A154: 80919 | B154: 2B8hXfS2-217-012-tG-013-1-7Ah-04-w2Z | C154: 'ENJOY AI系列赛项' | D154: 'ENJOY AI运动会闭幕式' | E154: 启蒙组 | F154: 经开启蒙2队 | G154: 乐米粒少儿硅谷 | H154: 肖婷 | I154: 方泓轩|尧修齐 | J154: =VLOOKUP(I154,[1]启蒙组最终!$E:$K,6,0) -> 565 | K154: =VLOOKUP(I154,[1]启蒙组最终!$E:$K,7,0) -> 333.2 | L154: 63 | M154: 三等奖
A155: 86847 | B155: 2B8hXfKy-217-012-iI-013-1-Y4X-04-zlu | C155: 'ENJOY AI系列赛项' | D155: 'ENJOY AI运动会闭幕式' | E155: 启蒙组 | F155: 乐创二队 | G155: 吉安市吉州区乐创科技培训中心 | H155: 彭小娟 | I155: 胡 昊|陈扬之 | J155: =VLOOKUP(I155,[1]启蒙组最终!$E:$K,6,0) -> 565 | K155: =VLOOKUP(I155,[1]启蒙组最终!$E:$K,7,0) -> 343.29 | L155: 64 | M155: 三等奖
A156: 81258 | B156: 2B8hXfSn-217-012-7I-013-1-CkO-04-pxZ | C156: 'ENJOY AI系列赛项' | D156: 'ENJOY AI运动会闭幕式' | E156: 启蒙组 | F156: 玉泉岛启蒙2队 | G156: 乐米粒少儿硅谷 | H156: 王红艳 | I156: 沈铭暄|江李毅 | J156: =VLOOKUP(I156,[1]启蒙组最终!$E:$K,6,0) -> 560 | K156: =VLOOKUP(I156,[1]启蒙组最终!$E:$K,7,0) -> 336.46 | L156: 65 | M156: 三等奖
A157: 77392 | B157: 2B8hXfaW-217-012-6A-013-1-rgc-04-evR | C157: 'ENJOY AI系列赛项' | D157: 'ENJOY AI运动会闭幕式' | E157: 启蒙组 | F157: 七彩8队 | G157: 奇幻空间科技培训中心 | H157: 谢彩月 | I157: 朱嘉勋|肖宇洋 | J157: =VLOOKUP(I157,[1]启蒙组最终!$E:$K,6,0) -> 520 | K157: =VLOOKUP(I157,[1]启蒙组最终!$E:$K,7,0) -> 357.48 | L157: 66 | M157: 三等奖
A158: 85714 | B158: 2B8hXfaf-217-012-bd-013-1-jRU-04-ajj | C158: 'ENJOY AI系列赛项' | D158: 'ENJOY AI运动会闭幕式' | E158: 启蒙组 | F158: 童创启蒙无敌一队 | G158: 南昌航空大学幼儿园 | H158: 胡志莹 | I158: 王泰然|李若轩 | J158: =VLOOKUP(I158,[1]启蒙组最终!$E:$K,6,0) -> 495 | K158: =VLOOKUP(I158,[1]启蒙组最终!$E:$K,7,0) -> 166.23 | L158: 67 | M158: 三等奖
A159: 89185 | B159: 2B8hXfoF-217-012-h4-013-1-O40-04-dIy | C159: 'ENJOY AI系列赛项' | D159: 'ENJOY AI运动会闭幕式' | E159: 启蒙组 | F159: 易胜队 | G159: 昌南体育中心幼儿园/南昌市青少年宫象湖分部 | H159: 黄艳 | I159: 毛晟权|李亦潇 | J159: =VLOOKUP(I159,[1]启蒙组最终!$E:$K,6,0) -> 495 | K159: =VLOOKUP(I159,[1]启蒙组最终!$E:$K,7,0) -> 360 | L159: 68 | M159: 三等奖
... A173: 87477 | B173: 2B8hXfaJ-217-012-ex-013-1-NWi-04-8iV | C173: 'ENJOY AI系列赛项' | D173: 'ENJOY AI运动会闭幕式' | E173: 启蒙组 | F173: 童创启蒙无敌三组 | G173: 朝阳新城第一幼儿园 | H173: 何涛 | I173: 尹信仁|徐丞择 | J173: =VLOOKUP(I173,[1]启蒙组最终!$E:$K,6,0) -> 405 | K173: =VLOOKUP(I173,[1]启蒙组最终!$E:$K,7,0) -> 302.27 | L173: 82 | M173: 三等奖
A174: 81237 | B174: 2B8hXfSl-217-012-W5-013-1-sNB-04-R6V | C174: 'ENJOY AI系列赛项' | D174: 'ENJOY AI运动会闭幕式' | E174: 启蒙组 | F174: 蓝海启蒙2队 | G174: 乐米粒少儿硅谷 | H174: 匡伊 | I174: 王锦源|张知语 | J174: =VLOOKUP(I174,[1]启蒙组最终!$E:$K,6,0) -> 390 | K174: 359 | L174: 83 | M174: 三等奖
A175: 91250 | B175: 2B8hXf9t-217-012-ra-013-1-Hbn-04-TOR | C175: 'ENJOY AI系列赛项' | D175: 'ENJOY AI运动会闭幕式' | E175: 启蒙组 | F175: 哥斯拉队 | G175: 遂川县荧屏幼儿园 | H175: 刘国琼 | I175: 郭胤承|李泽峰 | J175: =VLOOKUP(I175,[1]启蒙组最终!$E:$K,6,0) -> 390 | K175: =VLOOKUP(I175,[1]启蒙组最终!$E:$K,7,0) -> 360 | L175: 84 | M175: 三等奖
A176: 86245 | B176: 2B8hXfKB-217-012-Ce-013-1-UVq-04-anl | C176: 'ENJOY AI系列赛项' | D176: 'ENJOY AI运动会闭幕式' | E176: 启蒙组 | F176: 涵萱队 | G176: 南昌大学幼儿园 | H176: 徐诗雨 | I176: 周黎萱|罗慕涵 | J176: =VLOOKUP(I176,[1]启蒙组最终!$E:$K,6,0) -> 380 | K176: =VLOOKUP(I176,[1]启蒙组最终!$E:$K,7,0) -> 360 | L176: 85 | M176: 三等奖
A177: 98145 | B177: 2B8hXf0j-217-012-Kk-013-1-FeB-04-cV9 | C177: 'ENJOY AI系列赛项' | D177: 'ENJOY AI运动会闭幕式' | E177: 启蒙组 | F177: 启蒙2组 | G177: 天使亲馨幼儿园 | H177: 刘爱清 | I177: 李泽铠|胡明毅 | J177: =VLOOKUP(I177,[1]启蒙组最终!$E:$K,6,0) -> 340 | K177: =VLOOKUP(I177,[1]启蒙组最终!$E:$K,7,0) -> 360 | L177: 86 | M177: 三等奖
A178: 87326 | B178: 2B8hXfam-217-012-WW-013-1-7kw-04-Bue | C178: 'ENJOY AI系列赛项' | D178: 'ENJOY AI运动会闭幕式' | E178: 启蒙组 | F178: XDF老福山6队 | G178: 南昌新东方艺术培训学校 | H178: 何承孝 | I178: 刘兆|刘熹垚 | J178: =VLOOKUP(I178,[1]启蒙组最终!$E:$K,6,0) -> 325 | K178: =VLOOKUP(I178,[1]启蒙组最终!$E:$K,7,0) -> 360 | L178: 87 | M178: 三等奖
A179: 99631 | B179: 2B8hXf9C-217-012-Qq-013-1-KqD-04-Z4d | C179: 'ENJOY AI系列赛项' | D179: 'ENJOY AI运动会闭幕式' | E179: 启蒙组 | F179: 芷微小队 | G179: 吉安市吉州魔克科技培训中心 | H179: 毛红兰 | I179: 罗知微|陈芷琳 | J179: =VLOOKUP(I179,[1]启蒙组最终!$E:$K,6,0) -> 310 | K179: =VLOOKUP(I179,[1]启蒙组最终!$E:$K,7,0) -> 360 | L179: 88 | M179: 三等奖
A180: 91590 | B180: 2B8hXfKS-217-012-UN-013-1-Az8-04-OTj | C180: 'ENJOY AI系列赛项' | D180: 'ENJOY AI运动会闭幕式' | E180: 启蒙组 | F180: 卡弗创客202410010 | G180: 凤凰机器人编程中心萍乡校区 | H180: 易倩 | I180: 易林璟|刘梓恒 | J180: =VLOOKUP(I180,[1]启蒙组最终!$E:$K,6,0) -> 300 | K180: 118 | L180: 89 | M180: 三等奖
A181: 91628 | B181: 2B8hXfKj-217-012-0S-013-1-Yfw-04-pXz | C181: 'ENJOY AI系列赛项' | D181: 'ENJOY AI运动会闭幕式' | E181: 启蒙组 | F181: 卡弗创客202410012 | G181: 凤凰机器人编程中心萍乡校区 | H181: 张李 | I181: 陈梓锐|王恺宸 | J181: =VLOOKUP(I181,[1]启蒙组最终!$E:$K,6,0) -> 300 | K181: 132 | L181: 90 | M181: 三等奖
A182: 78444 | B182: 2B8hXfa4-217-012-R2-013-1-G3Q-04-TxU | C182: 'ENJOY AI系列赛项' | D182: 'ENJOY AI运动会闭幕式' | E182: 启蒙组 | F182: 奇幻闭幕启蒙组2队 | G182: 九江市浔阳区奇幻培训中心 | H182: 庄先亚 | I182: 唐林立|周琳昀 | J182: =VLOOKUP(I182,[1]启蒙组最终!$E:$K,6,0) -> 300 | K182: 139 | L182: 91 | M182: 三等奖
A183: 82901 | B183: 2B8hXfag-217-012-tj-013-1-jUv-04-cjt | C183: 'ENJOY AI系列赛项' | D183: 'ENJOY AI运动会闭幕式' | E183: 启蒙组 | F183: 程林队 | G183: 南昌新东方培训学校 | H183: 王亚军 | I183: 程一可|刘林轩 | J183: =VLOOKUP(I183,[1]启蒙组最终!$E:$K,6,0) -> 300 | K183: 143 | L183: 92 | M183: 三等奖
A184: 86829 | B184: 2B8hXfKw-217-012-ZW-013-1-oz1-04-soI | C184: 'ENJOY AI系列赛项' | D184: 'ENJOY AI运动会闭幕式' | E184: 启蒙组 | F184: 乐创一队 | G184: 吉安市吉州区乐创科技培训中心 | H184: 彭小娟 | I184: 黄志遥|黄志远 | J184: =VLOOKUP(I184,[1]启蒙组最终!$E:$K,6,0) -> 300 | K184: 145 | L184: 93 | M184: 三等奖
A185: 81435 | B185: 2B8hXfod-217-012-ya-013-1-an3-04-aSO | C185: 'ENJOY AI系列赛项' | D185: 'ENJOY AI运动会闭幕式' | E185: 启蒙组 | F185: 未来科技小先锋队 | G185: 南昌县莲塘第六学校 | H185: 李琪 | I185: 秦夕恩|万幸 | J185: =VLOOKUP(I185,[1]启蒙组最终!$E:$K,6,0) -> 300 | K185: 156 | L185: 94 | M185: 三等奖
A186: 86850 | B186: 2B8hXfKb-217-012-J3-013-1-OBX-04-Hin | C186: 'ENJOY AI系列赛项' | D186: 'ENJOY AI运动会闭幕式' | E186: 启蒙组 | F186: 乐创三队 | G186: 吉安市吉州区乐创科技培训中心 | H186: 肖桂枫 | I186: 肖远恺|刘宇泽 | J186: =VLOOKUP(I186,[1]启蒙组最终!$E:$K,6,0) -> 300 | K186: 168 | L186: 95 | M186: 三等奖
A187: 78454 | B187: 2B8hXfo1-217-012-r5-013-1-Huw-04-ccg | C187: 'ENJOY AI系列赛项' | D187: 'ENJOY AI运动会闭幕式' | E187: 启蒙组 | F187: 炫酷科技侠队 | G187: 南昌县莲塘第六学校 | H187: 李琪 | I187: 涂家豪|张尧 | J187: =VLOOKUP(I187,[1]启蒙组最终!$E:$K,6,0) -> 300 | K187: 177 | L187: 96 | M187: 三等奖
A188: 86860 | B188: 2B8hXfK5-217-012-bT-013-1-usm-04-oZq | C188: 'ENJOY AI系列赛项' | D188: 'ENJOY AI运动会闭幕式' | E188: 启蒙组 | F188: 乐创四队 | G188: 吉安市吉州区乐创科技培训中心 | H188: 彭小娟 | I188: 刘子瑜|范栩丞 | J188: =VLOOKUP(I188,[1]启蒙组最终!$E:$K,6,0) -> 300 | K188: 191 | L188: 97 | M188: 三等奖
A189: 82878 | B189: 2B8hXfas-217-012-Kq-013-1-ctm-04-WIq | C189: 'ENJOY AI系列赛项' | D189: 'ENJOY AI运动会闭幕式' | E189: 启蒙组 | F189: xdf旋风队 | G189: 南昌新东方艺术培训学校 | H189: 樊伟斌 | I189: 谭本儒|伍绵宇 | J189: =VLOOKUP(I189,[1]启蒙组最终!$E:$K,6,0) -> 300 | K189: 242 | L189: 98 | M189: 三等奖
A190: 82883 | B190: 2B8hXfa1-217-012-JY-013-1-wND-04-BlN | C190: 'ENJOY AI系列赛项' | D190: 'ENJOY AI运动会闭幕式' | E190: 启蒙组 | F190: 萝卜快跑 | G190: 南昌新东方培训学校 | H190: 王亚军 | I190: 余孟然|雷博尧 | J190: =VLOOKUP(I190,[1]启蒙组最终!$E:$K,6,0) -> 300 | K190: 259 | L190: 99 | M190: 三等奖
A191: 82904 | B191: 2B8hXfSh-217-012-HG-013-1-QOD-04-SST | C191: 'ENJOY AI系列赛项' | D191: 'ENJOY AI运动会闭幕式' | E191: 启蒙组 | F191: xdf黄李队 | G191: 南昌新东方艺术培训学校 | H191: 樊伟斌 | I191: 李宸熠|黄瑄菱 | J191: =VLOOKUP(I191,[1]启蒙组最终!$E:$K,6,0) -> 300 | K191: 269 | L191: 100 | M191: 三等奖
... A203: 97978 | B203: 2B8hXf9D-217-012-Xp-013-1-m6T-04-RM7 | C203: 'ENJOY AI系列赛项' | D203: 'ENJOY AI运动会闭幕式' | E203: 启蒙组 | F203: 知鱼10组 | G203: 万年县第二小学 | H203: 曾芳 | I203: 汪祉骞 | J203: =VLOOKUP(I203,[1]启蒙组最终!$E:$K,6,0) -> 300 | K203: 351 | L203: 112 | M203: 三等奖
A204: 98002 | B204: 2B8hXfCv-217-012-ON-013-1-wZ9-04-NqN | C204: 'ENJOY AI系列赛项' | D204: 'ENJOY AI运动会闭幕式' | E204: 启蒙组 | F204: 知鱼11组 | G204: 万年县第一小学 | H204: 黄玲 | I204: 方驹白 | J204: =VLOOKUP(I204,[1]启蒙组最终!$E:$K,6,0) -> 300 | K204: =VLOOKUP(I204,[1]启蒙组最终!$E:$K,7,0) -> 360 | L204: 113 | M204: 三等奖
A205: 86235 | B205: 2B8hXfK3-217-012-uE-013-1-lU8-04-WEJ | C205: 'ENJOY AI系列赛项' | D205: 'ENJOY AI运动会闭幕式' | E205: 启蒙组 | F205: 桐轩队 | G205: 南昌吉的堡都会园 | H205: 徐诗雨 | I205: 任桐|梅以轩 | J205: =VLOOKUP(I205,[1]启蒙组最终!$E:$K,6,0) -> 290 | K205: =VLOOKUP(I205,[1]启蒙组最终!$E:$K,7,0) -> 147.92 | L205: 114 | M205: 三等奖
A206: 80972 | B206: 2B8hXfSM-217-012-H1-013-1-lzU-04-fOF | C206: 'ENJOY AI系列赛项' | D206: 'ENJOY AI运动会闭幕式' | E206: 启蒙组 | F206: 丽景启蒙2队 | G206: 乐米粒少儿硅谷 | H206: 金紫怡 | I206: 黄正一|陈籽轶 | J206: =VLOOKUP(I206,[1]启蒙组最终!$E:$K,6,0) -> 270 | K206: =VLOOKUP(I206,[1]启蒙组最终!$E:$K,7,0) -> 163.04 | L206: 115 | M206: 三等奖
A207: 80991 | B207: 2B8hXfSK-217-012-cJ-013-1-Y8z-04-7hA | C207: 'ENJOY AI系列赛项' | D207: 'ENJOY AI运动会闭幕式' | E207: 启蒙组 | F207: 万科启蒙3队 | G207: 乐米粒少儿硅谷 | H207: 黄婕 | I207: 陈诗远|彭婧桐 | J207: =VLOOKUP(I207,[1]启蒙组最终!$E:$K,6,0) -> 270 | K207: =VLOOKUP(I207,[1]启蒙组最终!$E:$K,7,0) -> 168.31 | L207: 116 | M207: 三等奖
A208: 89401 | B208: 2B8hXfKD-217-012-DJ-013-1-k7u-04-Jw6 | C208: 'ENJOY AI系列赛项' | D208: 'ENJOY AI运动会闭幕式' | E208: 启蒙组 | F208: 超人队 | G208: 博佳机器人俱乐部 | H208: 王瑶 | I208: 万易鑫|高雨旭 | J208: =VLOOKUP(I208,[1]启蒙组最终!$E:$K,6,0) -> 260 | K208: =VLOOKUP(I208,[1]启蒙组最终!$E:$K,7,0) -> 180 | L208: 117 | M208: 三等奖
A209: 87344 | B209: 2B8hXfau-217-012-Rk-013-1-PNf-04-m7V | C209: 'ENJOY AI系列赛项' | D209: 'ENJOY AI运动会闭幕式' | E209: 启蒙组 | F209: XDF老福山7队 | G209: 南昌新东方艺术培训学校 | H209: 何承孝 | I209: 余煋原|龚玺 | J209: =VLOOKUP(I209,[1]启蒙组最终!$E:$K,6,0) -> 70 | K209: =VLOOKUP(I209,[1]启蒙组最终!$E:$K,7,0) -> 180 | L209: 118 | M209: 三等奖
A211: 92157 | B211: 2B8hXfEY-217-012-VC-013-1-Vwb-01-jMJ | C211: 'ENJOY AI系列赛项' | D211: 'ENJOY AI运动会闭幕式' | E211: 小学组 | F211: 火焰号冲冲冲 | G211: 壹加壹机器人智力开发中心 | H211: 张双杰 | I211: 傅奕澄 | J211: =VLOOKUP(I211,[1]Sheet2!$C:$I,6,0) -> 980 | K211: =VLOOKUP(I211,[1]Sheet2!$C:$I,7,0) -> 287 | L211: 1 | M211: 一等奖(冠军)
A212: 80710 | B212: 2B8hXfQy-217-012-XH-013-1-3mb-01-sFl | C212: 'ENJOY AI系列赛项' | D212: 'ENJOY AI运动会闭幕式' | E212: 小学组 | F212: 丽景小学1队 | G212: 乐米粒少儿硅谷 | H212: 黄宇 | I212: 周皓 | J212: =VLOOKUP(I212,[1]Sheet2!$C:$I,6,0) -> 940 | K212: =VLOOKUP(I212,[1]Sheet2!$C:$I,7,0) -> 270.78 | L212: 2 | M212: 一等奖(亚军)
...
