Workbook

Sheet ENJOY AI系列赛项
A1: 2024世界机器人大赛青少年机器人设计大赛-江西省选拔赛-ENJOY AI系列赛项获奖名单
A2: 报名编号 | B2: 激活码 | C2: 赛道 | D2: 赛项 | E2: 组别 | F2: 队伍名称 | G2: 申报单位 | H2: 教练信息 | I2: 学生信息 | J2: 比赛分数 | K2: 比赛用时 | L2: 成绩排名 | M2: 奖项
A3: 84180 | B3: 2B8hXIwx-217-012-FI-015-1-uqc-01-lVl | C3: ENJOY AI系列赛项' | D3: 'ENJOY AI飞跃太空' | E3: 小学组 | F3: 超级王牌队 | G3: 吉安斯坦星球 | H3: 梁礼纯 | I3: 吴文好 | J3: 790 | K3: 220 | L3: 1 | M3: 一等奖(冠军)
A4: 88159 | B4: 2B8hXIAy-217-012-Dd-015-1-ua7-01-HW8 | C4: 'ENJOY AI系列赛项' | D4: 'ENJOY AI飞跃太空' | E4: 小学组 | F4: StemStar02 | G4: 南昌红谷滩区唐格培训中心 | H4: 罗嗣明 | I4: 王栎泽 | J4: 690 | K4: 357 | L4: 2 | M4: 一等奖(亚军)
A5: 103463 | B5: 2B8hXI2j-217-012-fH-015-1-p6f-01-BGh | C5: 'ENJOY AI系列赛项' | D5: 'ENJOY AI飞跃太空' | E5: 小学组 | F5: 乐趣17队 | G5: 奇思科技 | H5: 秦文杰 | I5: 熊艺涵 | J5: 670 | K5: 320.42 | L5: 3 | M5: 一等奖(季军)
A6: 99417 | B6: 2B8hXI22-217-012-n8-015-1-DWQ-01-wxB | C6: 'ENJOY AI系列赛项' | D6: 'ENJOY AI飞跃太空' | E6: 小学组 | F6: 乐趣一队 | G6: 南昌市光明学校 | H6: 杜影 | I6: 祝川柏 | J6: 610 | K6: 246.45 | L6: 4 | M6: 一等奖
A7: 88176 | B7: 2B8hXIAf-217-012-hV-015-1-Znj-01-WJL | C7: 'ENJOY AI系列赛项' | D7: 'ENJOY AI飞跃太空' | E7: 小学组 | F7: StemStar05 | G7: 南昌红谷滩区唐格培训中心 | H7: 罗嗣明 | I7: 韩孟成 | J7: 610 | K7: 352.49 | L7: 5 | M7: 一等奖
A8: 88151 | B8: 2B8hXIAZ-217-012-57-015-1-FJ6-01-bb3 | C8: 'ENJOY AI系列赛项' | D8: 'ENJOY AI飞跃太空' | E8: 小学组 | F8: StemStar01 | G8: 南昌红谷滩区唐格培训中心 | H8: 罗嗣明 | I8: 张卓楠 | J8: 610 | K8: 360 | L8: 6 | M8: 一等奖
A9: 84587 | B9: 2B8hXIwV-217-012-PC-015-1-RNO-01-C8z | C9: 'ENJOY AI系列赛项' | D9: 'ENJOY AI飞跃太空' | E9: 小学组 | F9: 红烧牛肉面 | G9: 吉安斯坦星球 | H9: 魏蓬勃 | I9: 孙泽熙 | J9: 600 | K9: 256 | L9: 7 | M9: 一等奖
A10: 88169 | B10: 2B8hXIA5-217-012-as-015-1-x8B-01-7AR | C10: 'ENJOY AI系列赛项' | D10: 'ENJOY AI飞跃太空' | E10: 小学组 | F10: StemStar04 | G10: 南昌红谷滩区唐格培训中心 | H10: 罗嗣明 | I10: 吴嘉皓 | J10: 590 | K10: 359 | L10: 8 | M10: 一等奖
A11: 91328 | B11: 2B8hXIwe-217-012-TW-015-1-usX-01-PUZ | C11: 'ENJOY AI系列赛项' | D11: 'ENJOY AI飞跃太空' | E11: 小学组 | F11: 遂川泉江小学李安琪 | G11: 遂川县泉江小学 | H11: 白云 | I11: 李安琪 | J11: 590 | K11: 360 | L11: 9 | M11: 一等奖
A12: 103456 | B12: 2B8hXI2W-217-012-ic-015-1-WTp-01-WzJ | C12: 'ENJOY AI系列赛项' | D12: 'ENJOY AI飞跃太空' | E12: 小学组 | F12: 乐趣16队 | G12: 奇思科技 | H12: 秦文杰 | I12: 高正熙 | J12: 580 | K12: 338.83 | L12: 10 | M12: 一等奖
A13: 96620 | B13: 2B8hXIwt-217-012-c1-015-1-LGB-01-uCK | C13: 'ENJOY AI系列赛项' | D13: 'ENJOY AI飞跃太空' | E13: 小学组 | F13: 飞扬一队07 | G13: 赣州飞扬职业培训学校 | H13: 金峪有 | I13: 李树人 | J13: 570 | K13: 234 | L13: 11 | M13: 一等奖
A14: 91331 | B14: 2B8hXIAv-217-012-5i-015-1-fSk-01-FSZ | C14: 'ENJOY AI系列赛项' | D14: 'ENJOY AI飞跃太空' | E14: 小学组 | F14: 正人红军小学张宇晨 | G14: 遂川县中国工农红军正人红军小学 | H14: 刘招琴 | I14: 张宇晨 | J14: 570 | K14: 323 | L14: 12 | M14: 二等奖
... A90: 113111 | B90: 2B8hXIys-217-012-Pd-015-1-PFD-02-RhW | C90: 'ENJOY AI系列赛项' | D90: 'ENJOY AI飞跃太空' | E90: 初中组 | F90: 勇敢8队 | G90: 赣州市章贡区童芯科技培训中心 | H90: 申昌昱 | I90: 马语萌 | J90: 10 | K90: 150 | L90: 16 | M90: 三等奖
A92: 83516 | B92: 2B8hXfoo-217-012-AL-013-1-9wj-04-fA5 | C92: 'ENJOY AI系列赛项' | D92: 'ENJOY AI运动会闭幕式' | E92: 启蒙组 | F92: 新建启蒙2队 | G92: 乐米粒少儿硅谷 | H92: 邓文君 | I92: 舒煜熙|余楚祺 | J92: =VLOOKUP(I92,[1]启蒙组最终!$E:$K,6,0) -> 720 | K92: =VLOOKUP(I92,[1]启蒙组最终!$E:$K,7,0) -> 149 | L92: 1 | M92: 一等奖(冠军)
A93: 81306 | B93: 2B8hXfov-217-012-tH-013-1-c9A-04-AX3 | C93: 'ENJOY AI系列赛项' | D93: 'ENJOY AI运动会闭幕式' | E93: 启蒙组 | F93: 少年宫启蒙6队 | G93: 乐米粒少儿硅谷 | H93: 覃春用 | I93: 王未|万宴廷 | J93: =VLOOKUP(I93,[1]启蒙组最终!$E:$K,6,0) -> 720 | K93: =VLOOKUP(I93,[1]启蒙组最终!$E:$K,7,0) -> 152.58 | L93: 2 | M93: 一等奖(亚军)
A94: 81252 | B94: 2B8hXfSE-217-012-6c-013-1-8Xj-04-u3l | C94: 'ENJOY AI系列赛项' | D94: 'ENJOY AI运动会闭幕式' | E94: 启蒙组 | F94: 玉泉岛启蒙1队 | G94: 乐米粒少儿硅谷 | H94: 王红艳 | I94: 肖震楠|熊酉睿 | J94: =VLOOKUP(I94,[1]启蒙组最终!$E:$K,6,0) -> 720 | K94: =VLOOKUP(I94,[1]启蒙组最终!$E:$K,7,0) -> 191.47 | L94: 3 | M94: 一等奖(季军)
A95: 91581 | B95: 2B8hXfK6-217-012-2E-013-1-7TS-04-Wdd | C95: 'ENJOY AI系列赛项' | D95: 'ENJOY AI运动会闭幕式' | E95: 启蒙组 | F95: 卡弗创客202410001 | G95: 凤凰机器人编程中心萍乡校区 | H95: 易倩 | I95: 李希|刘梓涵 | J95: =VLOOKUP(I95,[1]启蒙组最终!$E:$K,6,0) -> 720 | K95: =VLOOKUP(I95,[1]启蒙组最终!$E:$K,7,0) -> 302 | L95: 4 | M95: 一等奖
A96: 83420 | B96: 2B8hXfow-217-012-gF-013-1-dy2-04-xSC | C96: 'ENJOY AI系列赛项' | D96: 'ENJOY AI运动会闭幕式' | E96: 启蒙组 | F96: 少年宫启蒙9队 | G96: 乐米粒少儿硅谷 | H96: 涂远婷 | I96: 郭欣语|应帅婧 | J96: =VLOOKUP(I96,[1]启蒙组最终!$E:$K,6,0) -> 710 | K96: =VLOOKUP(I96,[1]启蒙组最终!$E:$K,7,0) -> 177.59 | L96: 5 | M96: 一等奖
A97: 81300 | B97: 2B8hXfSs-217-012-Kr-013-1-edX-04-jfF | C97: 'ENJOY AI系列赛项' | D97: 'ENJOY AI运动会闭幕式' | E97: 启蒙组 | F97: 少年宫启蒙5队 | G97: 乐米粒少儿硅谷 | H97: 覃春用 | I97: 赖一诺|张翊楷 | J97: =VLOOKUP(I97,[1]启蒙组最终!$E:$K,6,0) -> 710 | K97: =VLOOKUP(I97,[1]启蒙组最终!$E:$K,7,0) -> 183.23 | L97: 6 | M97: 一等奖
A98: 83563 | B98: 2B8hXfo9-217-012-VH-013-1-4o1-04-T9r | C98: 'ENJOY AI系列赛项' | D98: 'ENJOY AI运动会闭幕式' | E98: 启蒙组 | F98: 抚州启蒙2队 | G98: 乐米粒少儿硅谷 | H98: 郑梦茜 | I98: 熊一然|周子逸 | J98: =VLOOKUP(I98,[1]启蒙组最终!$E:$K,6,0) -> 700 | K98: =VLOOKUP(I98,[1]启蒙组最终!$E:$K,7,0) -> 173 | L98: 7 | M98: 一等奖
A99: 83452 | B99: 2B8hXfot-217-012-XZ-013-1-Sfm-04-7aN | C99: 'ENJOY AI系列赛项' | D99: 'ENJOY AI运动会闭幕式' | E99: 启蒙组 | F99: 万达启蒙2队 | G99: 乐米粒少儿硅谷 | H99: 吴唯 | I99: 向煜珩|付星辰 | J99: =VLOOKUP(I99,[1]启蒙组最终!$E:$K,6,0) -> 700 | K99: =VLOOKUP(I99,[1]启蒙组最终!$E:$K,7,0) -> 211 | L99: 8 | M99: 一等奖
A100: 83578 | B100: 2B8hXfoj-217-012-Ga-013-1-5TO-04-6PU | C100: 'ENJOY AI系列赛项' | D100: 'ENJOY AI运动会闭幕式' | E100: 启蒙组 | F100: 抚州启蒙4队 | G100: 乐米粒少儿硅谷 | H100: 周莉萍 | I100: 晏辞扬|吴诚宇 | J100: =VLOOKUP(I100,[1]启蒙组最终!$E:$K,6,0) -> 700 | K100: =VLOOKUP(I100,[1]启蒙组最终!$E:$K,7,0) -> 242 | L100: 9 | M100: 一等奖
A101: 81284 | B101: 2B8hXfSr-217-012-aq-013-1-EkY-04-sJv | C101: 'ENJOY AI系列赛项' | D101: 'ENJOY AI运动会闭幕式' | E101: 启蒙组 | F101: 少年宫启蒙3队 | G101: 乐米粒少儿硅谷 | H101: 王浩婷 | I101: 戴以奇|戴以正 | J101: =VLOOKUP(I101,[1]启蒙组最终!$E:$K,6,0) -> 700 | K101: =VLOOKUP(I101,[1]启蒙组最终!$E:$K,7,0) -> 283.82 | L101: 10 | M101: 一等奖
A102: 83529 | B102: 2B8hXfoK-217-012-Ot-013-1-3gs-04-U1p | C102: 'ENJOY AI系列赛项' | D102: 'ENJOY AI运动会闭幕式' | E102: 启蒙组 | F102: 抚州启蒙1队 | G102: 乐米粒少儿硅谷 | H102: 郑梦茜 | I102: 肖宇桐|颜琨朔 | J102: =VLOOKUP(I102,[1]启蒙组最终!$E:$K,6,0) -> 700 | K102: =VLOOKUP(I102,[1]启蒙组最终!$E:$K,7,0) -> 296.44 | L102: 11 | M102: 一等奖
A103: 82930 | B103: 2B8hXfaQ-217-012-hL-013-1-JXJ-04-6V4 | C103: 'ENJOY AI系列赛项' | D103: 'ENJOY AI运动会闭幕式' | E103: 启蒙组 | F103: 厚徳载物队 | G103: 南昌新东方艺术培训学校 | H103: 尹可人 | I103: 杨厚泽|李鋈 | J103: =VLOOKUP(I103,[1]启蒙组最终!$E:$K,6,0) -> 700 | K103: =VLOOKUP(I103,[1]启蒙组最终!$E:$K,7,0) -> 305 | L103: 12 | M103: 一等奖
... A105: 83441 | B105: 2B8hXfoq-217-012-Qz-013-1-n0K-04-nzy | C105: 'ENJOY AI系列赛项' | D105: 'ENJOY AI运动会闭幕式' | E105: 启蒙组 | F105: 万达启蒙1队 | G105: 乐米粒少儿硅谷 | H105: 汤娆梅 | I105: 严奕轩|陈淮成 | J105: =VLOOKUP(I105,[1]启蒙组最终!$E:$K,6,0) -> 700 | K105: =VLOOKUP(I105,[1]启蒙组最终!$E:$K,7,0) -> 311 | L105: 14 | M105: 一等奖
A106: 91685 | B106: 2B8hXf9M-217-012-Rd-013-1-EXo-04-khx | C106: 'ENJOY AI系列赛项' | D106: 'ENJOY AI运动会闭幕式' | E106: 启蒙组 | F106: 卡弗创客2024006 | G106: 凤凰机器人编程中心萍乡校区 | H106: 易希 | I106: 彭子淳|邓逸程 | J106: =VLOOKUP(I106,[1]启蒙组最终!$E:$K,6,0) -> 700 | K106: 317 | L106: 15 | M106: 一等奖
A107: 91537 | B107: 2B8hXfKM-217-012-Bj-013-1-fPa-04-i0O | C107: 'ENJOY AI系列赛项' | D107: 'ENJOY AI运动会闭幕式' | E107: 启蒙组 | F107: 卡弗创客202410009 | G107: 凤凰机器人编程中心萍乡校区 | H107: 曾礼 | I107: 邓铭博|周奕寒 | J107: =VLOOKUP(I107,[1]启蒙组最终!$E:$K,6,0) -> 700 | K107: 318 | L107: 16 | M107: 一等奖
A108: 82919 | B108: 2B8hXfSz-217-012-ZB-013-1-m9T-04-Ecf | C108: 'ENJOY AI系列赛项' | D108: 'ENJOY AI运动会闭幕式' | E108: 启蒙组 | F108: 宸鸣队 | G108: 南昌新东方培训学校 | H108: 王亚军 | I108: 黄槿宸|吴一鸣 | J108: =VLOOKUP(I108,[1]启蒙组最终!$E:$K,6,0) -> 700 | K108: 322 | L108: 17 | M108: 一等奖
A109: 82910 | B109: 2B8hXfae-217-012-Ke-013-1-hFH-04-gO6 | C109: 'ENJOY AI系列赛项' | D109: 'ENJOY AI运动会闭幕式' | E109: 启蒙组 | F109: 雪碧可乐 | G109: 南昌新东方培训学校 | H109: 王亚军 | I109: 刘梓安|陈昊煜 | J109: =VLOOKUP(I109,[1]启蒙组最终!$E:$K,6,0) -> 700 | K109: 325 | L109: 18 | M109: 一等奖
A110: 97935 | B110: 2B8hXf9m-217-012-o4-013-1-LsX-04-dpm | C110: 'ENJOY AI系列赛项' | D110: 'ENJOY AI运动会闭幕式' | E110: 启蒙组 | F110: 知鱼6组 | G110: 万年县第一小学 | H110: 曾芳 | I110: 朱未熙 | J110: =VLOOKUP(I110,[1]启蒙组最终!$E:$K,6,0) -> 700 | K110: 338 | L110: 19 | M110: 二等奖
A111: 97922 | B111: 2B8hXf9n-217-012-43-013-1-GtR-04-Fd0 | C111: 'ENJOY AI系列赛项' | D111: 'ENJOY AI运动会闭幕式' | E111: 启蒙组 | F111: 知鱼5组 | G111: 万年县第一小学 | H111: 杨双萍 | I111: 汪恩汐 | J111: =VLOOKUP(I111,[1]启蒙组最终!$E:$K,6,0) -> 700 | K111: 340 | L111: 20 | M111: 二等奖
A112: 83530 | B112: 2B8hXfaX-217-012-wX-013-1-rPM-04-GfQ | C112: 'ENJOY AI系列赛项' | D112: 'ENJOY AI运动会闭幕式' | E112: 启蒙组 | F112: 童创8队 | G112: 青云谱区第二幼儿园 | H112: 艾灵 | I112: 周子杰|吴泊如 | J112: =VLOOKUP(I112,[1]启蒙组最终!$E:$K,6,0) -> 700 | K112: 347 | L112: 21 | M112: 二等奖
A113: 83658 | B113: 2B8hXfa9-217-012-ri-013-1-TWL-04-yOx | C113: 'ENJOY AI系列赛项' | D113: 'ENJOY AI运动会闭幕式' | E113: 启蒙组 | F113: 童创九队 | G113: 青云谱区第一幼儿园 | H113: 艾灵 | I113: 邹欣钰|张博宸 | J113: =VLOOKUP(I113,[1]启蒙组最终!$E:$K,6,0) -> 700 | K113: 351 | L113: 22 | M113: 二等奖
A114: 83506 | B114: 2B8hXfoS-217-012-hO-013-1-yIh-04-UKq | C114: 'ENJOY AI系列赛项' | D114: 'ENJOY AI运动会闭幕式' | E114: 启蒙组 | F114: 新建启蒙1队 | G114: 乐米粒少儿硅谷 | H114: 邓文君 | I114: 胡泽新|刘清筱 | J114: =VLOOKUP(I114,[1]启蒙组最终!$E:$K,6,0) -> 690 | K114: =VLOOKUP(I114,[1]启蒙组最终!$E:$K,7,0) -> 254.96 | L114: 23 | M114: 二等奖
A115: 83473 | B115: 2B8hXfoI-217-012-2P-013-1-Hu1-04-v3Q | C115: 'ENJOY AI系列赛项' | D115: 'ENJOY AI运动会闭幕式' | E115: 启蒙组 | F115: 万达启蒙3队 | G115: 乐米粒少儿硅谷 | H115: 吴唯 | I115: 邓亦轩|秦正哲 | J115: =VLOOKUP(I115,[1]启蒙组最终!$E:$K,6,0) -> 685 | K115: =VLOOKUP(I115,[1]启蒙组最终!$E:$K,7,0) -> 253.03 | L115: 24 | M115: 二等奖
A116: 91577 | B116: 2B8hXfKi-217-012-Ng-013-1-hZU-04-Sxh | C116: 'ENJOY AI系列赛项' | D116: 'ENJOY AI运动会闭幕式' | E116: 启蒙组 | F116: 卡弗创客202410003 | G116: 凤凰机器人编程中心萍乡校区 | H116: 易倩 | I116: 曾皓文|徐慕妍 | J116: =VLOOKUP(I116,[1]启蒙组最终!$E:$K,6,0) -> 680 | K116: =VLOOKUP(I116,[1]启蒙组最终!$E:$K,7,0) -> 251 | L116: 25 | M116: 二等奖
A117: 81309 | B117: 2B8hXfo7-217-012-3v-013-1-w3t-04-wRv | C117: 'ENJOY AI系列赛项' | D117: 'ENJOY AI运动会闭幕式' | E117: 启蒙组 | F117: 少年宫启蒙7队 | G117: 乐米粒少儿硅谷 | H117: 涂远婷 | I117: 方喜玛|胡钰珏 | J117: =VLOOKUP(I117,[1]启蒙组最终!$E:$K,6,0) -> 680 | K117: =VLOOKUP(I117,[1]启蒙组最终!$E:$K,7,0) -> 264.25 | L117: 26 | M117: 二等奖
...
