Workbook

Sheet TAI挑战赛项
A1: 2024世界机器人大赛青少年机器人设计大赛-河南省选拔赛-TAI挑战赛项获奖名单
A2: 报名编号 | B2: 激活码 | C2: 赛道 | D2: 赛项 | E2: 组别 | F2: 队伍名称 | G2: 教练信息 | H2: 学生信息 | I2: 比赛分数 | J2: 比赛用时 | K2: 成绩排名 | L2: 奖项
A3: 126076 | B3: =VLOOKUP(A3,[1]河南!$A:$T,2,0) -> 2B8haLpQ-279-033-Hq-034-1-lS7-01-pQl | C3: TAI挑战赛项 | D3: TAI智慧城市挑战赛' | E3: 小学组 | F3: 乐创6队 | G3: 李梦飞 | H3: 徐祎杨|张煜程 | I3: 240 | J3: 180 | K3: 1 | L3: 一等奖(冠军)
A4: 117931 | B4: =VLOOKUP(A4,[1]河南!$A:$T,2,0) -> 2B8haL96-279-033-wN-034-1-hD8-01-HEA | C4: TAI挑战赛项 | D4: 'TAI智慧城市挑战赛' | E4: 小学组 | F4: 灵动强者 | G4: 迟威威 | H4: 乔子轩|高嘉泽 | I4: 210 | J4: 175.5 | K4: 2 | L4: 一等奖(亚军)
A5: 122139 | B5: =VLOOKUP(A5,[1]河南!$A:$T,2,0) -> 2B8haL91-279-033-UO-034-1-hGI-01-8S4 | C5: TAI挑战赛项 | D5: 'TAI智慧城市挑战赛' | E5: 小学组 | F5: 9688A | G5: 刘波 | H5: 马旭尧|马子轩 | I5: 205 | J5: 180 | K5: 3 | L5: 一等奖(季军)
A6: 125872 | B6: =VLOOKUP(A6,[1]河南!$A:$T,2,0) -> 2B8haL9O-279-033-fx-034-1-52S-01-IMg | C6: TAI挑战赛项 | D6: 'TAI智慧城市挑战赛' | E6: 小学组 | F6: 酷和泽博队 | G6: 马文贺 | H6: 宋煜泽|魏棛博 | I6: 200 | J6: 167 | K6: 4 | L6: 一等奖
A7: 125763 | B7: =VLOOKUP(A7,[1]河南!$A:$T,2,0) -> 2B8haL9N-279-033-cU-034-1-itW-01-9wv | C7: TAI挑战赛项 | D7: 'TAI智慧城市挑战赛' | E7: 小学组 | F7: 酷和响浚队 | G7: 张值 | H7: 李响|黄浚壹 | I7: 190 | J7: 171 | K7: 5 | L7: 一等奖
A8: 125380 | B8: =VLOOKUP(A8,[1]河南!$A:$T,2,0) -> 2B8haLCx-279-033-rZ-034-1-InV-01-tj8 | C8: TAI挑战赛项 | D8: 'TAI智慧城市挑战赛' | E8: 小学组 | F8: 创思维三队 | G8: 郝晓敏 | H8: 张政佶|杨皓宸 | I8: 190 | J8: 180 | K8: 6 | L8: 一等奖
A9: 124437 | B9: =VLOOKUP(A9,[1]河南!$A:$T,2,0) -> 2B8haLCA-279-033-Ds-034-1-IKj-01-RHG | C9: TAI挑战赛项 | D9: 'TAI智慧城市挑战赛' | E9: 小学组 | F9: 学生路小学1队 | G9: 付军明 | H9: 郭子歆|尹旭尧 | I9: 185 | J9: 180 | K9: 7 | L9: 一等奖
A10: 127987 | B10: =VLOOKUP(A10,[1]河南!$A:$T,2,0) -> 2B8haLNE-279-033-mQ-034-1-nzM-01-U98 | C10: TAI挑战赛项 | D10: 'TAI智慧城市挑战赛' | E10: 小学组 | F10: 苏州乐创75队 | G10: 李平泽 | H10: 龚晓成|朱泽允 | I10: 185 | J10: 180 | K10: 8 | L10: 一等奖
A11: 121709 | B11: =VLOOKUP(A11,[1]河南!$A:$T,2,0) -> 2B8haL9R-279-033-9K-034-1-EId-01-TRI | C11: TAI挑战赛项 | D11: 'TAI智慧城市挑战赛' | E11: 小学组 | F11: 常春藤小学组三组 | G11: 郭方 | H11: 刘忠源 | I11: 180 | J11: 147 | K11: 9 | L11: 二等奖
A12: 122436 | B12: =VLOOKUP(A12,[1]河南!$A:$T,2,0) -> 2B8haL9g-279-033-sv-034-1-pCA-01-Wmu | C12: TAI挑战赛项 | D12: 'TAI智慧城市挑战赛' | E12: 小学组 | F12: 9688C | G12: 刘波 | H12: 孙湛壹|余尚骏 | I12: 180 | J12: 178 | K12: 10 | L12: 二等奖
A13: 125414 | B13: =VLOOKUP(A13,[1]河南!$A:$T,2,0) -> 2B8haLCa-279-033-YH-034-1-3rQ-01-lFw | C13: TAI挑战赛项 | D13: 'TAI智慧城市挑战赛' | E13: 小学组 | F13: 创思维四队 | G13: 郝晓敏 | H13: 张可航|穆彦瑾 | I13: 180 | J13: 178 | K13: 11 | L13: 二等奖
A14: 125064 | B14: =VLOOKUP(A14,[1]河南!$A:$T,2,0) -> 2B8haLCd-279-033-Y5-034-1-KgN-01-3sh | C14: TAI挑战赛项 | D14: 'TAI智慧城市挑战赛' | E14: 小学组 | F14: 悦创1队 | G14: 岳峻巍 | H14: 金鑫垚|李涵宇 | I14: 160 | J14: 145.96 | K14: 12 | L14: 二等奖
... A53: 124570 | B53: =VLOOKUP(A53,[1]河南!$A:$T,2,0) -> 2B8haLCr-279-033-Iv-034-1-8Ry-01-Lgl | C53: TAI挑战赛项 | D53: 'TAI智慧城市挑战赛' | E53: 小学组 | F53: 悦创3队 | G53: 郑钰琦 | H53: 韩锦硕|刘硕 | I53: 5 | J53: 23.48 | K53: 51 | L53: 三等奖
A55: 报名编号 | B55: 激活码 | C55: 赛道 | D55: 赛项 | E55: 组别 | F55: 队伍名称 | G55: 教练信息 | H55: 学生信息 | I55: 比赛分数 | J55: 比赛用时 | K55: 成绩排名 | L55: 奖项
A56: 119643 | B56: =VLOOKUP(A56,[1]河南!$A:$T,2,0) -> 2B8haL0U-279-033-iY-034-1-K0t-02-7wO | C56: TAI挑战赛项 | D56: 'TAI智慧城市挑战赛' | E56: 初中组 | F56: 剑锋所指 | G56: 李馨 | H56: 吕冠宇|李想|杜余庆 | I56: 180 | J56: 163 | K56: 1 | L56: 一等奖(冠军)
A57: 118103 | B57: =VLOOKUP(A57,[1]河南!$A:$T,2,0) -> 2B8haL0G-279-033-XY-034-1-Peh-02-h8h | C57: TAI挑战赛项 | D57: 'TAI智慧城市挑战赛' | E57: 初中组 | F57: 灵动火箭队 | G57: 迟威威 | H57: 杨议|秦琦 | I57: 175 | J57: 175 | K57: 2 | L57: 一等奖(亚军)
A58: 117855 | B58: =VLOOKUP(A58,[1]河南!$A:$T,2,0) -> 2B8haLp1-279-033-3R-034-1-woD-02-rYq | C58: TAI挑战赛项 | D58: 'TAI智慧城市挑战赛' | E58: 初中组 | F58: 勇往直前二队 | G58: 宋天天 | H58: 张博恩|高铭浩 | I58: 165 | J58: 180 | K58: 3 | L58: 一等奖(季军)
A59: 126063 | B59: 2B8haL0Q-279-033-30-034-1-H8u-02-5Y8 | C59: TAI挑战赛项 | D59: 'TAI智慧城市挑战赛' | E59: 初中组 | F59: 郑州四中文华学校 | G59: 赵航 | H59: 田照岳|宋承锴 | I59: 165 | J59: 156.17 | K59: 4 | L59: 二等奖
A60: 118510 | B60: =VLOOKUP(A60,[1]河南!$A:$T,2,0) -> 2B8haLpF-279-033-jy-034-1-gXL-02-bUB | C60: TAI挑战赛项 | D60: 'TAI智慧城市挑战赛' | E60: 初中组 | F60: 奋勇争先 | G60: 鲁俊莉 | H60: 史博远|苗艺阳 | I60: 160 | J60: 141 | K60: 5 | L60: 二等奖
A61: 126062 | B61: =VLOOKUP(A61,[1]河南!$A:$T,2,0) -> 2B8haL0a-279-033-pw-034-1-FbB-02-JNx | C61: TAI挑战赛项 | D61: 'TAI智慧城市挑战赛' | E61: 初中组 | F61: 阳光少年团 | G61: 阎智玲 | H61: 李泽轩|王辰睿 | I61: 150 | J61: 103 | K61: 6 | L61: 二等奖
A62: 118959 | B62: =VLOOKUP(A62,[1]河南!$A:$T,2,0) -> 2B8haL0Z-279-033-DH-034-1-aBa-02-7G8 | C62: TAI挑战赛项 | D62: 'TAI智慧城市挑战赛' | E62: 初中组 | F62: 放飞梦想 | G62: 鲁俊莉 | H62: 杨家贺|冯皓翔 | I62: 130 | J62: 180 | K62: 7 | L62: 二等奖
A63: 123957 | B63: =VLOOKUP(A63,[1]河南!$A:$T,2,0) -> 2B8haL0x-279-033-Rb-034-1-lhC-02-ON3 | C63: TAI挑战赛项 | D63: 'TAI智慧城市挑战赛' | E63: 初中组 | F63: 昱博科创冠军队 | G63: 宋保安 | H63: 于子航 | I63: 115 | J63: 108 | K63: 8 | L63: 二等奖
A64: 119044 | B64: =VLOOKUP(A64,[1]河南!$A:$T,2,0) -> 2B8haL0A-279-033-Ed-034-1-1KD-02-GHX | C64: TAI挑战赛项 | D64: 'TAI智慧城市挑战赛' | E64: 初中组 | F64: 奋发有为 | G64: 鲁俊莉 | H64: 周晨熙|张瑞祥|刘奕辰 | I64: 105 | J64: 106 | K64: 9 | L64: 三等奖
A65: 118593 | B65: =VLOOKUP(A65,[1]河南!$A:$T,2,0) -> 2B8haLpg-279-033-JL-034-1-s2B-02-X0R | C65: TAI挑战赛项 | D65: 'TAI智慧城市挑战赛' | E65: 初中组 | F65: 刀锋队 | G65: 支昌泰 | H65: 王天瞳|张峻豪 | I65: 100 | J65: 102 | K65: 10 | L65: 三等奖
A66: 118546 | B66: =VLOOKUP(A66,[1]河南!$A:$T,2,0) -> 2B8haL0P-279-033-rZ-034-1-8iZ-02-Q6i | C66: TAI挑战赛项 | D66: 'TAI智慧城市挑战赛' | E66: 初中组 | F66: 白元一中 | G66: 李馨 | H66: 张泽凡|张鹏程|张子晨 | I66: 60 | J66: 121 | K66: 11 | L66: 三等奖
A67: 117819 | B67: =VLOOKUP(A67,[1]河南!$A:$T,2,0) -> 2B8haLpm-279-033-XC-034-1-JBS-02-4vh | C67: TAI挑战赛项 | D67: 'TAI智慧城市挑战赛' | E67: 初中组 | F67: 梓栎队 | G67: 支昌泰 | H67: 申梓栎 | I67: 55 | J67: 110.3 | K67: 12 | L67: 三等奖
A68: 125430 | B68: =VLOOKUP(A68,[1]河南!$A:$T,2,0) -> 2B8haL0q-279-033-K1-034-1-xKJ-02-rBz | C68: TAI挑战赛项 | D68: 'TAI智慧城市挑战赛' | E68: 初中组 | F68: 酷和智宇队 | G68: 张值 | H68: 袁德宇|李程智 | I68: 30 | J68: 50 | K68: 13 | L68: 三等奖
A69: 121699 | B69: =VLOOKUP(A69,[1]河南!$A:$T,2,0) -> 2B8haL0M-279-033-cN-034-1-wOH-02-ThX | C69: TAI挑战赛项 | D69: 'TAI智慧城市挑战赛' | E69: 初中组 | F69: 常春藤初中组 | G69: 孙艳敏 | H69: 姬浩文|刘浩林 | I69: 20 | J69: 37 | K69: 14 | L69: 三等奖
A71: 120843 | B71: =VLOOKUP(A71,[1]河南!$A:$T,2,0) -> 2B8haLOZ-279-033-XA-034-1-ysD-03-BXb | C71: TAI挑战赛项 | D71: 'TAI智慧城市挑战赛' | E71: 高中组 | F71: 新乡一中1队 | G71: 柴俊强 | H71: 杨子墨|买禄涵 | I71: 175 | J71: 180 | K71: 1 | L71: 一等奖
A72: 123242 | B72: =VLOOKUP(A72,[1]河南!$A:$T,2,0) -> 2B8haL03-279-033-Gf-034-1-ec8-03-Xgy | C72: TAI挑战赛项 | D72: 'TAI智慧城市挑战赛' | E72: 高中组 | F72: 新乡一中2队 | G72: 王蔚冲 | H72: 刘宇昂|于一弓 | I72: 165 | J72: 117 | K72: 2 | L72: 二等奖
... A77: 123231 | B77: =VLOOKUP(A77,[1]河南!$A:$T,2,0) -> 2B8haL0m-279-033-hh-034-1-h9N-03-M3S | C77: TAI挑战赛项 | D77: 'TAI智慧城市挑战赛' | E77: 高中组 | F77: 新乡一中1队 | G77: 柴俊强 | H77: 丁闻轩|郭宸铭 | I77: 80 | J77: 116 | K77: 7 | L77: 三等奖
A79: 报名编号 | B79: 激活码 | C79: 赛道 | D79: 赛项 | F79: 队伍名称 | G79: 教练信息 | H79: 学生信息 | J79: 胜负场次 | K79: 排名 | L79: 奖项
A80: 121745 | B80: =VLOOKUP(A80,[1]河南!$A:$T,2,0) -> 2B8haLjO-279-033-FH-035-1-Hth-01-2ZM | C80: TAI挑战赛项 | D80: 'TAI抢滩登陆对抗赛' | E80: 小学A组 | F80: 酷和宥羽队 | G80: 李少猛 | H80: 潘宥心|郭羽宸 | J80: 9 | K80: 1 | L80: 一等奖(冠军)
A81: 121374 | B81: =VLOOKUP(A81,[1]河南!$A:$T,2,0) -> 2B8haLj6-279-033-DV-035-1-ppW-01-uv4 | C81: TAI挑战赛项 | D81: 'TAI抢滩登陆对抗赛' | E81: 小学A组 | F81: 酷和奕栋队 | G81: 李少猛 | H81: 朱奕昊|孙栋哲 | J81: 7 | K81: 2 | L81: 一等奖(亚军)
A82: 124303 | B82: =VLOOKUP(A82,[1]河南!$A:$T,2,0) -> 2B8haLHU-279-033-K7-035-1-9kT-01-vvY | C82: TAI挑战赛项 | D82: 'TAI抢滩登陆对抗赛' | E82: 小学A组 | F82: 团结街小学13队 | G82: 何华 | H82: 徐梓睿|赵岳垚 | J82: 6 | K82: 3 | L82: 一等奖(季军)
A83: 121322 | B83: =VLOOKUP(A83,[1]河南!$A:$T,2,0) -> 2B8haLji-279-033-d6-035-1-GGo-01-Jmu | C83: TAI挑战赛项 | D83: 'TAI抢滩登陆对抗赛' | E83: 小学A组 | F83: 酷和锦瑞队 | G83: 李少猛 | H83: 陈锦翰|宋瑞毅 | J83: 5 | K83: 4 | L83: 一等奖
A84: 120374 | B84: =VLOOKUP(A84,[1]河南!$A:$T,2,0) -> 2B8haLjf-279-033-Dw-035-1-PuT-01-naT | C84: TAI挑战赛项 | D84: 'TAI抢滩登陆对抗赛' | E84: 小学A组 | F84: 四中3队 | G84: 谢世宝 | H84: 赵子墨|赵子猷 | J84: 5 | K84: 5 | L84: 一等奖
A85: 122909 | B85: =VLOOKUP(A85,[1]河南!$A:$T,2,0) -> 2B8haLW6-279-033-Hm-035-1-RfJ-01-XmC | C85: TAI挑战赛项 | D85: 'TAI抢滩登陆对抗赛' | E85: 小学A组 | F85: 壹号机器人37队 | G85: 马群政 | H85: 时瑜辰|张艺泷 | J85: 4 | K85: 6 | L85: 一等奖
A86: 122907 | B86: =VLOOKUP(A86,[1]河南!$A:$T,2,0) -> 2B8haLlU-279-033-Sn-035-1-077-01-5gH | C86: TAI挑战赛项 | D86: 'TAI抢滩登陆对抗赛' | E86: 小学A组 | F86: 壹号机器人23队 | G86: 马群政 | H86: 李锦龙|侯权晁 | J86: 4 | K86: 7 | L86: 一等奖
A87: 124291 | B87: =VLOOKUP(A87,[1]河南!$A:$T,2,0) -> 2B8haLQM-279-033-Fe-035-1-5mT-01-DDy | C87: TAI挑战赛项 | D87: 'TAI抢滩登陆对抗赛' | E87: 小学A组 | F87: 悦创7队 | G87: 王高淦 | H87: 欧阳米夏|范明博 | J87: 4 | K87: 8 | L87: 一等奖
A88: 124265 | B88: =VLOOKUP(A88,[1]河南!$A:$T,2,0) -> 2B8haLTF-279-033-qf-035-1-f8c-01-rwY | C88: TAI挑战赛项 | D88: 'TAI抢滩登陆对抗赛' | E88: 小学A组 | F88: 团结街小学8队 | G88: 朱慧娟 | H88: 王一舟|王梓淇 | J88: 3 | K88: 9 | L88: 一等奖
A89: 118362 | B89: =VLOOKUP(A89,[1]河南!$A:$T,2,0) -> 2B8haLW2-279-033-kO-035-1-lai-01-z76 | C89: TAI挑战赛项 | D89: 'TAI抢滩登陆对抗赛' | E89: 小学A组 | F89: 韦毛队 | G89: 李玉飞 | H89: 韦子航|毛晧田 | J89: 3 | K89: 10 | L89: 一等奖
A90: 124225 | B90: =VLOOKUP(A90,[1]河南!$A:$T,2,0) -> 2B8haLT8-279-033-GV-035-1-frs-01-TtK | C90: TAI挑战赛项 | D90: 'TAI抢滩登陆对抗赛' | E90: 小学A组 | F90: 团结街小学1队 | G90: 申彬华 | H90: 白瑾瑜|李思齐 | J90: 3 | K90: 11 | L90: 一等奖
A91: 124313 | B91: =VLOOKUP(A91,[1]河南!$A:$T,2,0) -> 2B8haLH4-279-033-yK-035-1-Qn6-01-BfI | C91: TAI挑战赛项 | D91: 'TAI抢滩登陆对抗赛' | E91: 小学A组 | F91: 团结街小学14队 | G91: 郝小侃 | H91: 段煜骄|张露文 | J91: 3 | K91: 12 | L91: 二等奖
... A140: 122568 | B140: =VLOOKUP(A140,[1]河南!$A:$T,2,0) -> 2B8haLYQ-279-033-Er-035-1-rks-01-VRZ | C140: TAI挑战赛项 | D140: 'TAI抢滩登陆对抗赛' | E140: 小学A组 | F140: LK14 | G140: 齐晓月 | H140: 李婧菲|王子涵 | J140: 0 | K140: 61 | L140: 三等奖
A141: 12300 | B141: 2B8haLW2-279-033-kO-035-1-lai-01-z76 | C141: TAI挑战赛项 | D141: 'TAI抢滩登陆对抗赛' | E141: 小学A组 | F141: LK19 | G141: 刘波 | H141: 金芊孜 | J141: 0 | K141: 62 | L141: 三等奖
A142: 122399 | B142: =VLOOKUP(A142,[1]河南!$A:$T,2,0) -> 2B8haLlW-279-033-Ot-035-1-xOo-01-QqW | C142: TAI挑战赛项 | D142: 'TAI抢滩登陆对抗赛' | E142: 小学A组 | F142: 壹号机器人19队 | G142: 马群政 | H142: 蓝晨硕|曹宸硕 | J142: 0 | K142: 63 | L142: 三等奖
A143: 121415 | B143: =VLOOKUP(A143,[1]河南!$A:$T,2,0) -> 2B8haLj9-279-033-sQ-035-1-xNP-01-NqQ | C143: TAI挑战赛项 | D143: 'TAI抢滩登陆对抗赛' | E143: 小学A组 | F143: 酷和家佳队 | G143: 李少猛 | H143: 刘家瑜|时佳骏 | J143: 0 | K143: 64 | L143: 三等奖
A144: 120423 | B144: =VLOOKUP(A144,[1]河南!$A:$T,2,0) -> 2B8haLYz-279-033-0O-035-1-f56-01-2Ma | C144: TAI挑战赛项 | D144: 'TAI抢滩登陆对抗赛' | E144: 小学A组 | F144: 希锐队 | G144: 梁爽 | H144: 宋晨希|许凯锐 | J144: 0 | K144: 65 | L144: 三等奖
A145: 124544 | B145: =VLOOKUP(A145,[1]河南!$A:$T,2,0) -> 2B8haLTf-279-033-D5-035-1-sQI-01-s4c | C145: TAI挑战赛项 | D145: 'TAI抢滩登陆对抗赛' | E145: 小学A组 | F145: 向阳队 | G145: 王银孟 | H145: 孔霖泽|赵逸航 | J145: 0 | K145: 66 | L145: 三等奖
A146: 126689 | B146: =VLOOKUP(A146,[1]河南!$A:$T,2,0) -> 2B8haL8X-279-033-TK-035-1-kp6-01-dHw | C146: TAI挑战赛项 | D146: 'TAI抢滩登陆对抗赛' | E146: 小学A组 | F146: 双语3队 | G146: 李文静 | H146: 席昊柠|张润枫 | J146: 0 | K146: 67 | L146: 三等奖
A147: 125103 | B147: =VLOOKUP(A147,[1]河南!$A:$T,2,0) -> 2B8haLT0-279-033-am-035-1-o8P-01-hsh | C147: TAI挑战赛项 | D147: 'TAI抢滩登陆对抗赛' | E147: 小学A组 | F147: 大白老师超厉害队 | G147: 胡泽光 | H147: 刘凯瑞|王先丰 | J147: 0 | K147: 68 | L147: 三等奖
A148: 122415 | B148: =VLOOKUP(A148,[1]河南!$A:$T,2,0) -> 2B8haLWs-279-033-g0-035-1-4Nn-01-dMO | C148: TAI挑战赛项 | D148: 'TAI抢滩登陆对抗赛' | E148: 小学A组 | F148: 壹号机器人34队 | G148: 马群政 | H148: 王一辰|齐信迪 | J148: 0 | K148: 69 | L148: 三等奖
A149: 122843 | B149: =VLOOKUP(A149,[1]河南!$A:$T,2,0) -> 2B8haLWc-279-033-IZ-035-1-ZKl-01-3BO | C149: TAI挑战赛项 | D149: 'TAI抢滩登陆对抗赛' | E149: 小学A组 | F149: 壹号机器人4队 | G149: 马群政 | H149: 石家骏|时文蔚 | J149: 0 | K149: 70 | L149: 三等奖
A150: 122450 | B150: =VLOOKUP(A150,[1]河南!$A:$T,2,0) -> 2B8haLYX-279-033-Wd-035-1-Bpe-01-KHx | C150: TAI挑战赛项 | D150: 'TAI抢滩登陆对抗赛' | E150: 小学A组 | F150: LK15 | G150: 刘波 | H150: 张一晨|王艺雯 | J150: 0 | K150: 71 | L150: 三等奖
A151: 125330 | B151: =VLOOKUP(A151,[1]河南!$A:$T,2,0) -> 2B8haLQf-279-033-hA-035-1-Plz-01-fFP | C151: TAI挑战赛项 | D151: 'TAI抢滩登陆对抗赛' | E151: 小学A组 | F151: 悦创6队 | G151: 郑钰琦 | H151: 孙艺涵|刘政豪 | J151: 0 | K151: 72 | L151: 三等奖
A153: 126289 | B153: =VLOOKUP(A153,[1]河南!$A:$T,2,0) -> 2B8haLQj-279-033-BH-035-1-Uwk-01-VTv | C153: TAI挑战赛项 | D153: 'TAI抢滩登陆对抗赛' | E153: 小学B组 | F153: 皓特教育二组 | G153: 郭丽 | H153: 朱锐龙|王杨硕 | J153: 8 | K153: 1 | L153: 一等奖(冠军)
A154: 126418 | B154: =VLOOKUP(A154,[1]河南!$A:$T,2,0) -> 2B8haLQR-279-033-Lv-035-1-VoQ-01-Udg | C154: TAI挑战赛项 | D154: 'TAI抢滩登陆对抗赛' | E154: 小学B组 | F154: 皓特教育四组 | G154: 郭丽 | H154: 赵艺冉|王瑜 | J154: 6 | K154: 2 | L154: 一等奖(亚军)
... A159: 124742 | B159: =VLOOKUP(A159,[1]河南!$A:$T,2,0) -> 2B8haLQ5-279-033-1m-035-1-a5w-01-FTz | C159: TAI挑战赛项 | D159: 'TAI抢滩登陆对抗赛' | E159: 小学B组 | F159: 丰泽园小学6队 | G159: 李红玲 | H159: 史宸赫|王博宇 | J159: 4 | K159: 7 | L159: 一等奖
A160: 133287 | B160: 2B8haLRO-279-033-L4-035-1-Fss-01-ccS | C160: TAI挑战赛项 | D160: 'TAI抢滩登陆对抗赛' | E160: 小学B组 | F160: 志远一组 | G160: 孟令兵 | H160: 李瀚隆|朱子墨 | J160: 4 | K160: 8 | L160: 一等奖
A161: 134360 | B161: 2B8haLEZ-279-033-06-035-1-LAK-01-dhp | C161: TAI挑战赛项 | D161: 'TAI抢滩登陆对抗赛' | E161: 小学B组 | F161: 姜果 | G161: 吉才能 | H161: 姜孝铭|陈梓祎 | J161: 4 | K161: 9 | L161: 一等奖
A162: 134096 | B162: 2B8haLEA-279-033-jq-035-1-Od4-01-HcK | C162: TAI挑战赛项 | D162: 'TAI抢滩登陆对抗赛' | E162: 小学B组 | F162: 丰和小组 | G162: 邓明彬 | H162: 夏正瀚|刘思安 | J162: 4 | K162: 10 | L162: 一等奖
A163: 133881 | B163: 2B8haL8N-279-033-qd-035-1-cLb-01-jzg | C163: TAI挑战赛项 | D163: 'TAI抢滩登陆对抗赛' | E163: 小学B组 | F163: 和谐战队 | G163: 刘太艳 | H163: 宋昌泰|楚建旭 | J163: 4 | K163: 11 | L163: 一等奖
A164: 134299 | B164: 2B8haL8F-279-033-Dt-035-1-B06-01-4KD | C164: TAI挑战赛项 | D164: 'TAI抢滩登陆对抗赛' | E164: 小学B组 | F164: 飞腾队 | G164: 张春森 | H164: 王茗凯|张智辉 | J164: 4 | K164: 12 | L164: 一等奖
A165: 131419 | B165: 2B8haLnr-279-033-ii-035-1-u77-01-nEu | C165: TAI挑战赛项 | D165: 'TAI抢滩登陆对抗赛' | E165: 小学B组 | F165: 这不简单 | G165: 周俊力 | H165: 周艺珵|李锴 | J165: 4 | K165: 13 | L165: 一等奖
A166: 124228 | B166: =VLOOKUP(A166,[1]河南!$A:$T,2,0) -> 2B8haLHV-279-033-93-035-1-agR-01-lVu | C166: TAI挑战赛项 | D166: 'TAI抢滩登陆对抗赛' | E166: 小学B组 | F166: 映湖路小学1队 | G166: 王稳稳 | H166: 王艺霖|薛歆瑶 | J166: 4 | K166: 14 | L166: 一等奖
A167: 124407 | B167: =VLOOKUP(A167,[1]河南!$A:$T,2,0) -> 2B8haLH0-279-033-F6-035-1-xDS-01-exc | C167: TAI挑战赛项 | D167: 'TAI抢滩登陆对抗赛' | E167: 小学B组 | F167: 环城南路第一小学2队 | G167: 刘欣 | H167: 赵均益|谢锦蕊 | J167: 3 | K167: 15 | L167: 一等奖
A168: 122276 | B168: =VLOOKUP(A168,[1]河南!$A:$T,2,0) -> 2B8haLWo-279-033-rb-035-1-S1l-01-hkw | C168: TAI挑战赛项 | D168: 'TAI抢滩登陆对抗赛' | E168: 小学B组 | F168: 壹号机器人9队 | G168: 马群政 | H168: 李天赐|王正则 | J168: 3 | K168: 16 | L168: 一等奖
A169: 122875 | B169: =VLOOKUP(A169,[1]河南!$A:$T,2,0) -> 2B8haLWQ-279-033-nn-035-1-gyx-01-XwF | C169: TAI挑战赛项 | D169: 'TAI抢滩登陆对抗赛' | E169: 小学B组 | F169: 壹号机器人16队 | G169: 马群政 | H169: 高懿林|张天恒 | J169: 3 | K169: 17 | L169: 一等奖
A170: 122965 | B170: 2B8haLWy-279-033-1H-035-1-3Ap-01-O6I | C170: TAI挑战赛项 | D170: 'TAI抢滩登陆对抗赛' | E170: 小学B组 | F170: 壹号机器人12队 | G170: 马群政 | H170: 阚彬源|王俊杰 | J170: 3 | K170: 18 | L170: 一等奖
A171: 120184 | B171: =VLOOKUP(A171,[1]河南!$A:$T,2,0) -> 2B8haLjt-279-033-8v-035-1-quO-01-3kO | C171: TAI挑战赛项 | D171: 'TAI抢滩登陆对抗赛' | E171: 小学B组 | F171: 四中2队 | G171: 谢世宝 | H171: 闫植夏 | J171: 3 | K171: 19 | L171: 二等奖
A172: 124443 | B172: =VLOOKUP(A172,[1]河南!$A:$T,2,0) -> 2B8haLHH-279-033-Qy-035-1-B5T-01-fXI | C172: TAI挑战赛项 | D172: 'TAI抢滩登陆对抗赛' | E172: 小学B组 | F172: 环城南路第一小学4队 | G172: 秦园园 | H172: 郑允浩|常瑾昊 | J172: 3 | K172: 20 | L172: 二等奖
A173: 124480 | B173: =VLOOKUP(A173,[1]河南!$A:$T,2,0) -> 2B8haLHm-279-033-gF-035-1-74Z-01-jeJ | C173: TAI挑战赛项 | D173: 'TAI抢滩登陆对抗赛' | E173: 小学B组 | F173: 凤鸣队 | G173: 刘欣 | H173: 张鹤|贾婧恬 | J173: 3 | K173: 21 | L173: 二等奖
A174: 125936 | B174: =VLOOKUP(A174,[1]河南!$A:$T,2,0) -> 2B8haLQ9-279-033-I0-035-1-yDD-01-TSa | C174: TAI挑战赛项 | D174: 'TAI抢滩登陆对抗赛' | E174: 小学B组 | F174: 丰泽园小学7队 | G174: 付艳利 | H174: 朱泽坤|周金阳 | J174: 3 | K174: 22 | L174: 二等奖
A175: 125971 | B175: =VLOOKUP(A175,[1]河南!$A:$T,2,0) -> 2B8haLjE-279-033-OD-035-1-6q1-01-tbq | C175: TAI挑战赛项 | D175: 'TAI抢滩登陆对抗赛' | E175: 小学B组 | F175: 涛源 | G175: 苗紫涵 | H175: 李闻涛|刘晋源 | J175: 3 | K175: 23 | L175: 二等奖
A176: 122921 | B176: =VLOOKUP(A176,[1]河南!$A:$T,2,0) -> 2B8haLlN-279-033-4m-035-1-PEH-01-G9C | C176: TAI挑战赛项 | D176: 'TAI抢滩登陆对抗赛' | E176: 小学B组 | F176: 壹号机器人20队 | G176: 马群政 | H176: 何航旭|胡乙辰 | J176: 3 | K176: 24 | L176: 二等奖
A177: 122269 | B177: =VLOOKUP(A177,[1]河南!$A:$T,2,0) -> 2B8haLlx-279-033-QR-035-1-0Fr-01-Qxt | C177: TAI挑战赛项 | D177: 'TAI抢滩登陆对抗赛' | E177: 小学B组 | F177: 壹号机器人25队 | G177: 马群政 | H177: 查昱辰|郭茂宸 | J177: 3 | K177: 25 | L177: 二等奖
A178: 122489 | B178: =VLOOKUP(A178,[1]河南!$A:$T,2,0) -> 2B8haLYC-279-033-Y7-035-1-cjp-01-Nyq | C178: TAI挑战赛项 | D178: 'TAI抢滩登陆对抗赛' | E178: 小学B组 | F178: LK17 | G178: 辛慧 | H178: 程锡蕊|李承运 | J178: 2 | K178: 26 | L178: 二等奖
A179: 124246 | B179: =VLOOKUP(A179,[1]河南!$A:$T,2,0) -> 2B8haLHX-279-033-d2-035-1-wic-01-gd0 | C179: TAI挑战赛项 | D179: 'TAI抢滩登陆对抗赛' | E179: 小学B组 | F179: 映湖路小学3队 | G179: 王晨兵 | H179: 宋雨苀|李晟硕 | J179: 2 | K179: 27 | L179: 二等奖
A180: 124395 | B180: =VLOOKUP(A180,[1]河南!$A:$T,2,0) -> 2B8haLHK-279-033-eu-035-1-RKJ-01-K9v | C180: TAI挑战赛项 | D180: 'TAI抢滩登陆对抗赛' | E180: 小学B组 | F180: 环城南路第一小学1队 | G180: 秦园园 | H180: 闫泽贤|毕源辰 | J180: 2 | K180: 28 | L180: 二等奖
A181: 125992 | B181: =VLOOKUP(A181,[1]河南!$A:$T,2,0) -> 2B8haLjn-279-033-2p-035-1-EfE-01-dtT | C181: TAI挑战赛项 | D181: 'TAI抢滩登陆对抗赛' | E181: 小学B组 | F181: 璐豪 | G181: 苗紫涵 | H181: 陈宛璐|叶子豪 | J181: 2 | K181: 29 | L181: 二等奖
A182: 124430 | B182: =VLOOKUP(A182,[1]河南!$A:$T,2,0) -> 2B8haLHO-279-033-iQ-035-1-YVq-01-GiK | C182: TAI挑战赛项 | D182: 'TAI抢滩登陆对抗赛' | E182: 小学B组 | F182: 环城南路第一小学3队 | G182: 王亚慧 | H182: 姜镒博|贠昊君 | J182: 2 | K182: 30 | L182: 二等奖
A183: 122964 | B183: =VLOOKUP(A183,[1]河南!$A:$T,2,0) -> 2B8haLl9-279-033-PY-035-1-wt9-01-WBg | C183: TAI挑战赛项 | D183: 'TAI抢滩登陆对抗赛' | E183: 小学B组 | F183: 壹号机器人28队 | G183: 马群政 | H183: 孙梓诚|李晟睿 | J183: 2 | K183: 31 | L183: 二等奖
A184: 133126 | B184: 2B8haLRz-279-033-Sj-035-1-eAf-01-tdK | C184: TAI挑战赛项 | D184: 'TAI抢滩登陆对抗赛' | E184: 小学B组 | F184: 德州瓦力一队 | G184: 李春娜 | H184: 闫浩文|王佳昕 | J184: 2 | K184: 32 | L184: 二等奖
A185: 132542 | B185: 2B8haLnB-279-033-xO-035-1-Wxh-01-E35 | C185: TAI挑战赛项 | D185: 'TAI抢滩登陆对抗赛' | E185: 小学B组 | F185: 砥砺前行队 | G185: 余明恒 | H185: 徐梓桐|舒照轩 | J185: 2 | K185: 33 | L185: 二等奖
A186: 133206 | B186: 2B8haLnS-279-033-Kl-035-1-oPQ-01-Ox9 | C186: TAI挑战赛项 | D186: 'TAI抢滩登陆对抗赛' | E186: 小学B组 | F186: 银河队 | G186: 肖博轩 | H186: 冯宇轩|柳辰林 | J186: 2 | K186: 34 | L186: 二等奖
A187: 130002 | B187: =VLOOKUP(A187,[1]河南!$A:$T,2,0) -> 2B8haLnI-279-033-UD-035-1-65R-01-mQs | C187: TAI挑战赛项 | D187: 'TAI抢滩登陆对抗赛' | E187: 小学B组 | F187: 瓦力二队 | G187: 王力 | H187: 胥紫珊|姚俊宇 | J187: 2 | K187: 35 | L187: 二等奖
A188: 129055 | B188: =VLOOKUP(A188,[1]河南!$A:$T,2,0) -> 2B8haLnG-279-033-Ra-035-1-LXV-01-kA9 | C188: TAI挑战赛项 | D188: 'TAI抢滩登陆对抗赛' | E188: 小学B组 | F188: 瓦力一队 | G188: 王力 | H188: 张芯语|李潇然 | J188: 2 | K188: 36 | L188: 二等奖
A189: 134152 | B189: 2B8haLnE-279-033-vF-035-1-7zQ-01-d5j | C189: TAI挑战赛项 | D189: 'TAI抢滩登陆对抗赛' | E189: 小学B组 | F189: 火焰战队 | G189: 苗晓林 | H189: 王源|朱森博 | J189: 2 | K189: 37 | L189: 二等奖
A190: 134378 | B190: 2B8haLnL-279-033-MP-035-1-3rF-01-Oxw | C190: TAI挑战赛项 | D190: 'TAI抢滩登陆对抗赛' | E190: 小学B组 | F190: 蓁山梦想队 | G190: 霍勇 | H190: 张宸源|刘允皓 | J190: 2 | K190: 38 | L190: 二等奖
A191: 134181 | B191: 2B8haLRd-279-033-9c-035-1-Pwx-01-BVk | C191: TAI挑战赛项 | D191: 'TAI抢滩登陆对抗赛' | E191: 小学B组 | F191: 心圣 | G191: 吉才能 | H191: 罗心悦|项圣伦 | J191: 2 | K191: 39 | L191: 二等奖
A192: 134368 | B192: 2B8haLEx-279-033-OU-035-1-LNU-01-OAj | C192: TAI挑战赛项 | D192: 'TAI抢滩登陆对抗赛' | E192: 小学B组 | F192: 向潼 | G192: 吉才能 | H192: 向本瑞|蒋易潼 | J192: 2 | K192: 40 | L192: 二等奖
A193: 134179 | B193: 2B8haLEq-279-033-Ix-035-1-OJJ-01-3KM | C193: TAI挑战赛项 | D193: 'TAI抢滩登陆对抗赛' | E193: 小学B组 | F193: 海底小纵队 | G193: 邓明彬 | H193: 李沐晨|卜奕彤 | J193: 2 | K193: 41 | L193: 二等奖
A194: 131316 | B194: 2B8haLnn-279-033-5U-035-1-kRv-01-GBO | C194: TAI挑战赛项 | D194: 'TAI抢滩登陆对抗赛' | E194: 小学B组 | F194: 光速队 | G194: 陈碧波 | H194: 周梓杨|邹文皓 | J194: 2 | K194: 42 | L194: 二等奖
A195: 133826 | B195: 2B8haL8J-279-033-8l-035-1-wa0-01-JOl | C195: TAI挑战赛项 | D195: 'TAI抢滩登陆对抗赛' | E195: 小学B组 | F195: 超越战队 | G195: 刘太艳 | H195: 林嘉成|王梓成 | J195: 2 | K195: 43 | L195: 二等奖
A196: 133845 | B196: 2B8haL8S-279-033-V2-035-1-jSU-01-IMX | C196: TAI挑战赛项 | D196: 'TAI抢滩登陆对抗赛' | E196: 小学B组 | F196: 必胜战队 | G196: 梁荣娟 | H196: 王传玺|董温馨 | J196: 2 | K196: 44 | L196: 二等奖
A197: 134290 | B197: 2B8haLnW-279-033-HO-035-1-eHH-01-1T7 | C197: TAI挑战赛项 | D197: 'TAI抢滩登陆对抗赛' | E197: 小学B组 | F197: 欢乐队 | G197: 张正菊 | H197: 臧亚萩|周子宸 | J197: 2 | K197: 45 | L197: 二等奖
A198: 134326 | B198: 2B8haLni-279-033-XC-035-1-pqW-01-Jnk | C198: TAI挑战赛项 | D198: 'TAI抢滩登陆对抗赛' | E198: 小学B组 | F198: 多邦队 | G198: 曾祥栋 | H198: 杜昕芮|梁广浩 | J198: 2 | K198: 46 | L198: 二等奖
...
