Workbook

Sheet TAI挑战赛项
A1: 2024世界机器人大赛青少年机器人设计大赛-河南省选拔赛-TAI挑战赛项获奖名单
A2: 报名编号 | B2: 激活码 | C2: 赛道 | D2: 赛项 | E2: 组别 | F2: 队伍名称 | G2: 教练信息 | H2: 学生信息 | I2: 比赛分数 | J2: 比赛用时 | K2: 成绩排名 | L2: 奖项
A3: 126076 | B3: =VLOOKUP(A3,[1]河南!$A:$T,2,0) -> 2B8haLpQ-279-033-Hq-034-1-lS7-01-pQl | C3: TAI挑战赛项 | D3: TAI智慧城市挑战赛' | E3: 小学组 | F3: 乐创6队 | G3: 李梦飞 | H3: 徐祎杨|张煜程 | I3: 240 | J3: 180 | K3: 1 | L3: 一等奖(冠军)
A4: 117931 | B4: =VLOOKUP(A4,[1]河南!$A:$T,2,0) -> 2B8haL96-279-033-wN-034-1-hD8-01-HEA | C4: TAI挑战赛项 | D4: 'TAI智慧城市挑战赛' | E4: 小学组 | F4: 灵动强者 | G4: 迟威威 | H4: 乔子轩|高嘉泽 | I4: 210 | J4: 175.5 | K4: 2 | L4: 一等奖(亚军)
A5: 122139 | B5: =VLOOKUP(A5,[1]河南!$A:$T,2,0) -> 2B8haL91-279-033-UO-034-1-hGI-01-8S4 | C5: TAI挑战赛项 | D5: 'TAI智慧城市挑战赛' | E5: 小学组 | F5: 9688A | G5: 刘波 | H5: 马旭尧|马子轩 | I5: 205 | J5: 180 | K5: 3 | L5: 一等奖(季军)
A6: 125872 | B6: =VLOOKUP(A6,[1]河南!$A:$T,2,0) -> 2B8haL9O-279-033-fx-034-1-52S-01-IMg | C6: TAI挑战赛项 | D6: 'TAI智慧城市挑战赛' | E6: 小学组 | F6: 酷和泽博队 | G6: 马文贺 | H6: 宋煜泽|魏棛博 | I6: 200 | J6: 167 | K6: 4 | L6: 一等奖
A7: 125763 | B7: =VLOOKUP(A7,[1]河南!$A:$T,2,0) -> 2B8haL9N-279-033-cU-034-1-itW-01-9wv | C7: TAI挑战赛项 | D7: 'TAI智慧城市挑战赛' | E7: 小学组 | F7: 酷和响浚队 | G7: 张值 | H7: 李响|黄浚壹 | I7: 190 | J7: 171 | K7: 5 | L7: 一等奖
A8: 125380 | B8: =VLOOKUP(A8,[1]河南!$A:$T,2,0) -> 2B8haLCx-279-033-rZ-034-1-InV-01-tj8 | C8: TAI挑战赛项 | D8: 'TAI智慧城市挑战赛' | E8: 小学组 | F8: 创思维三队 | G8: 郝晓敏 | H8: 张政佶|杨皓宸 | I8: 190 | J8: 180 | K8: 6 | L8: 一等奖
A9: 124437 | B9: =VLOOKUP(A9,[1]河南!$A:$T,2,0) -> 2B8haLCA-279-033-Ds-034-1-IKj-01-RHG | C9: TAI挑战赛项 | D9: 'TAI智慧城市挑战赛' | E9: 小学组 | F9: 学生路小学1队 | G9: 付军明 | H9: 郭子歆|尹旭尧 | I9: 185 | J9: 180 | K9: 7 | L9: 一等奖
A10: 127987 | B10: =VLOOKUP(A10,[1]河南!$A:$T,2,0) -> 2B8haLNE-279-033-mQ-034-1-nzM-01-U98 | C10: TAI挑战赛项 | D10: 'TAI智慧城市挑战赛' | E10: 小学组 | F10: 苏州乐创75队 | G10: 李平泽 | H10: 龚晓成|朱泽允 | I10: 185 | J10: 180 | K10: 8 | L10: 一等奖
A11: 121709 | B11: =VLOOKUP(A11,[1]河南!$A:$T,2,0) -> 2B8haL9R-279-033-9K-034-1-EId-01-TRI | C11: TAI挑战赛项 | D11: 'TAI智慧城市挑战赛' | E11: 小学组 | F11: 常春藤小学组三组 | G11: 郭方 | H11: 刘忠源 | I11: 180 | J11: 147 | K11: 9 | L11: 二等奖
A12: 122436 | B12: =VLOOKUP(A12,[1]河南!$A:$T,2,0) -> 2B8haL9g-279-033-sv-034-1-pCA-01-Wmu | C12: TAI挑战赛项 | D12: 'TAI智慧城市挑战赛' | E12: 小学组 | F12: 9688C | G12: 刘波 | H12: 孙湛壹|余尚骏 | I12: 180 | J12: 178 | K12: 10 | L12: 二等奖
A13: 125414 | B13: =VLOOKUP(A13,[1]河南!$A:$T,2,0) -> 2B8haLCa-279-033-YH-034-1-3rQ-01-lFw | C13: TAI挑战赛项 | D13: 'TAI智慧城市挑战赛' | E13: 小学组 | F13: 创思维四队 | G13: 郝晓敏 | H13: 张可航|穆彦瑾 | I13: 180 | J13: 178 | K13: 11 | L13: 二等奖
A14: 125064 | B14: =VLOOKUP(A14,[1]河南!$A:$T,2,0) -> 2B8haLCd-279-033-Y5-034-1-KgN-01-3sh | C14: TAI挑战赛项 | D14: 'TAI智慧城市挑战赛' | E14: 小学组 | F14: 悦创1队 | G14: 岳峻巍 | H14: 金鑫垚|李涵宇 | I14: 160 | J14: 145.96 | K14: 12 | L14: 二等奖
... A53: 124570 | B53: =VLOOKUP(A53,[1]河南!$A:$T,2,0) -> 2B8haLCr-279-033-Iv-034-1-8Ry-01-Lgl | C53: TAI挑战赛项 | D53: 'TAI智慧城市挑战赛' | E53: 小学组 | F53: 悦创3队 | G53: 郑钰琦 | H53: 韩锦硕|刘硕 | I53: 5 | J53: 23.48 | K53: 51 | L53: 三等奖
A55: 报名编号 | B55: 激活码 | C55: 赛道 | D55: 赛项 | E55: 组别 | F55: 队伍名称 | G55: 教练信息 | H55: 学生信息 | I55: 比赛分数 | J55: 比赛用时 | K55: 成绩排名 | L55: 奖项
A56: 119643 | B56: =VLOOKUP(A56,[1]河南!$A:$T,2,0) -> 2B8haL0U-279-033-iY-034-1-K0t-02-7wO | C56: TAI挑战赛项 | D56: 'TAI智慧城市挑战赛' | E56: 初中组 | F56: 剑锋所指 | G56: 李馨 | H56: 吕冠宇|李想|杜余庆 | I56: 180 | J56: 163 | K56: 1 | L56: 一等奖(冠军)
A57: 118103 | B57: =VLOOKUP(A57,[1]河南!$A:$T,2,0) -> 2B8haL0G-279-033-XY-034-1-Peh-02-h8h | C57: TAI挑战赛项 | D57: 'TAI智慧城市挑战赛' | E57: 初中组 | F57: 灵动火箭队 | G57: 迟威威 | H57: 杨议|秦琦 | I57: 175 | J57: 175 | K57: 2 | L57: 一等奖(亚军)
A58: 117855 | B58: =VLOOKUP(A58,[1]河南!$A:$T,2,0) -> 2B8haLp1-279-033-3R-034-1-woD-02-rYq | C58: TAI挑战赛项 | D58: 'TAI智慧城市挑战赛' | E58: 初中组 | F58: 勇往直前二队 | G58: 宋天天 | H58: 张博恩|高铭浩 | I58: 165 | J58: 180 | K58: 3 | L58: 一等奖(季军)
A59: 126063 | B59: 2B8haL0Q-279-033-30-034-1-H8u-02-5Y8 | C59: TAI挑战赛项 | D59: 'TAI智慧城市挑战赛' | E59: 初中组 | F59: 郑州四中文华学校 | G59: 赵航 | H59: 田照岳|宋承锴 | I59: 165 | J59: 156.17 | K59: 4 | L59: 二等奖
A60: 118510 | B60: =VLOOKUP(A60,[1]河南!$A:$T,2,0) -> 2B8haLpF-279-033-jy-034-1-gXL-02-bUB | C60: TAI挑战赛项 | D60: 'TAI智慧城市挑战赛' | E60: 初中组 | F60: 奋勇争先 | G60: 鲁俊莉 | H60: 史博远|苗艺阳 | I60: 160 | J60: 141 | K60: 5 | L60: 二等奖
A61: 126062 | B61: =VLOOKUP(A61,[1]河南!$A:$T,2,0) -> 2B8haL0a-279-033-pw-034-1-FbB-02-JNx | C61: TAI挑战赛项 | D61: 'TAI智慧城市挑战赛' | E61: 初中组 | F61: 阳光少年团 | G61: 阎智玲 | H61: 李泽轩|王辰睿 | I61: 150 | J61: 103 | K61: 6 | L61: 二等奖
A62: 118959 | B62: =VLOOKUP(A62,[1]河南!$A:$T,2,0) -> 2B8haL0Z-279-033-DH-034-1-aBa-02-7G8 | C62: TAI挑战赛项 | D62: 'TAI智慧城市挑战赛' | E62: 初中组 | F62: 放飞梦想 | G62: 鲁俊莉 | H62: 杨家贺|冯皓翔 | I62: 130 | J62: 180 | K62: 7 | L62: 二等奖
A63: 123957 | B63: =VLOOKUP(A63,[1]河南!$A:$T,2,0) -> 2B8haL0x-279-033-Rb-034-1-lhC-02-ON3 | C63: TAI挑战赛项 | D63: 'TAI智慧城市挑战赛' | E63: 初中组 | F63: 昱博科创冠军队 | G63: 宋保安 | H63: 于子航 | I63: 115 | J63: 108 | K63: 8 | L63: 二等奖
A64: 119044 | B64: =VLOOKUP(A64,[1]河南!$A:$T,2,0) -> 2B8haL0A-279-033-Ed-034-1-1KD-02-GHX | C64: TAI挑战赛项 | D64: 'TAI智慧城市挑战赛' | E64: 初中组 | F64: 奋发有为 | G64: 鲁俊莉 | H64: 周晨熙|张瑞祥|刘奕辰 | I64: 105 | J64: 106 | K64: 9 | L64: 三等奖
A65: 118593 | B65: =VLOOKUP(A65,[1]河南!$A:$T,2,0) -> 2B8haLpg-279-033-JL-034-1-s2B-02-X0R | C65: TAI挑战赛项 | D65: 'TAI智慧城市挑战赛' | E65: 初中组 | F65: 刀锋队 | G65: 支昌泰 | H65: 王天瞳|张峻豪 | I65: 100 | J65: 102 | K65: 10 | L65: 三等奖
A66: 118546 | B66: =VLOOKUP(A66,[1]河南!$A:$T,2,0) -> 2B8haL0P-279-033-rZ-034-1-8iZ-02-Q6i | C66: TAI挑战赛项 | D66: 'TAI智慧城市挑战赛' | E66: 初中组 | F66: 白元一中 | G66: 李馨 | H66: 张泽凡|张鹏程|张子晨 | I66: 60 | J66: 121 | K66: 11 | L66: 三等奖
A67: 117819 | B67: =VLOOKUP(A67,[1]河南!$A:$T,2,0) -> 2B8haLpm-279-033-XC-034-1-JBS-02-4vh | C67: TAI挑战赛项 | D67: 'TAI智慧城市挑战赛' | E67: 初中组 | F67: 梓栎队 | G67: 支昌泰 | H67: 申梓栎 | I67: 55 | J67: 110.3 | K67: 12 | L67: 三等奖
A68: 125430 | B68: =VLOOKUP(A68,[1]河南!$A:$T,2,0) -> 2B8haL0q-279-033-K1-034-1-xKJ-02-rBz | C68: TAI挑战赛项 | D68: 'TAI智慧城市挑战赛' | E68: 初中组 | F68: 酷和智宇队 | G68: 张值 | H68: 袁德宇|李程智 | I68: 30 | J68: 50 | K68: 13 | L68: 三等奖
A69: 121699 | B69: =VLOOKUP(A69,[1]河南!$A:$T,2,0) -> 2B8haL0M-279-033-cN-034-1-wOH-02-ThX | C69: TAI挑战赛项 | D69: 'TAI智慧城市挑战赛' | E69: 初中组 | F69: 常春藤初中组 | G69: 孙艳敏 | H69: 姬浩文|刘浩林 | I69: 20 | J69: 37 | K69: 14 | L69: 三等奖
A71: 120843 | B71: =VLOOKUP(A71,[1]河南!$A:$T,2,0) -> 2B8haLOZ-279-033-XA-034-1-ysD-03-BXb | C71: TAI挑战赛项 | D71: 'TAI智慧城市挑战赛' | E71: 高中组 | F71: 新乡一中1队 | G71: 柴俊强 | H71: 杨子墨|买禄涵 | I71: 175 | J71: 180 | K71: 1 | L71: 一等奖
A72: 123242 | B72: =VLOOKUP(A72,[1]河南!$A:$T,2,0) -> 2B8haL03-279-033-Gf-034-1-ec8-03-Xgy | C72: TAI挑战赛项 | D72: 'TAI智慧城市挑战赛' | E72: 高中组 | F72: 新乡一中2队 | G72: 王蔚冲 | H72: 刘宇昂|于一弓 | I72: 165 | J72: 117 | K72: 2 | L72: 二等奖
... A77: 123231 | B77: =VLOOKUP(A77,[1]河南!$A:$T,2,0) -> 2B8haL0m-279-033-hh-034-1-h9N-03-M3S | C77: TAI挑战赛项 | D77: 'TAI智慧城市挑战赛' | E77: 高中组 | F77: 新乡一中1队 | G77: 柴俊强 | H77: 丁闻轩|郭宸铭 | I77: 80 | J77: 116 | K77: 7 | L77: 三等奖
A79: 报名编号 | B79: 激活码 | C79: 赛道 | D79: 赛项 | F79: 队伍名称 | G79: 教练信息 | H79: 学生信息 | J79: 胜负场次 | K79: 排名 | L79: 奖项
A80: 121745 | B80: =VLOOKUP(A80,[1]河南!$A:$T,2,0) -> 2B8haLjO-279-033-FH-035-1-Hth-01-2ZM | C80: TAI挑战赛项 | D80: 'TAI抢滩登陆对抗赛' | E80: 小学A组 | F80: 酷和宥羽队 | G80: 李少猛 | H80: 潘宥心|郭羽宸 | J80: 9 | K80: 1 | L80: 一等奖(冠军)
A81: 121374 | B81: =VLOOKUP(A81,[1]河南!$A:$T,2,0) -> 2B8haLj6-279-033-DV-035-1-ppW-01-uv4 | C81: TAI挑战赛项 | D81: 'TAI抢滩登陆对抗赛' | E81: 小学A组 | F81: 酷和奕栋队 | G81: 李少猛 | H81: 朱奕昊|孙栋哲 | J81: 7 | K81: 2 | L81: 一等奖(亚军)
A82: 124303 | B82: =VLOOKUP(A82,[1]河南!$A:$T,2,0) -> 2B8haLHU-279-033-K7-035-1-9kT-01-vvY | C82: TAI挑战赛项 | D82: 'TAI抢滩登陆对抗赛' | E82: 小学A组 | F82: 团结街小学13队 | G82: 何华 | H82: 徐梓睿|赵岳垚 | J82: 6 | K82: 3 | L82: 一等奖(季军)
A83: 121322 | B83: =VLOOKUP(A83,[1]河南!$A:$T,2,0) -> 2B8haLji-279-033-d6-035-1-GGo-01-Jmu | C83: TAI挑战赛项 | D83: 'TAI抢滩登陆对抗赛' | E83: 小学A组 | F83: 酷和锦瑞队 | G83: 李少猛 | H83: 陈锦翰|宋瑞毅 | J83: 5 | K83: 4 | L83: 一等奖
A84: 120374 | B84: =VLOOKUP(A84,[1]河南!$A:$T,2,0) -> 2B8haLjf-279-033-Dw-035-1-PuT-01-naT | C84: TAI挑战赛项 | D84: 'TAI抢滩登陆对抗赛' | E84: 小学A组 | F84: 四中3队 | G84: 谢世宝 | H84: 赵子墨|赵子猷 | J84: 5 | K84: 5 | L84: 一等奖
A85: 122909 | B85: =VLOOKUP(A85,[1]河南!$A:$T,2,0) -> 2B8haLW6-279-033-Hm-035-1-RfJ-01-XmC | C85: TAI挑战赛项 | D85: 'TAI抢滩登陆对抗赛' | E85: 小学A组 | F85: 壹号机器人37队 | G85: 马群政 | H85: 时瑜辰|张艺泷 | J85: 4 | K85: 6 | L85: 一等奖
...
